{"text_format":"1","workbook":"xlsx","n_sheets":12,"sheets":["必ずお読み下さい","総体入力","男一覧","女一覧","男個表","女個表","ﾘﾚｰ個表","部員名簿","登録データ貼付","競技者マスタ（NANS）","競技者マスタ（上陸）","使いません"],"not_rendered":{"charts":0,"images":0,"macros":1,"external_links":0,"defined_names":9,"comments":0,"pivot_tables":0},"unopened":[],"bounds":{"document_bytes":16777216,"sheet_cells":100000,"rows_first":2000,"rows_last":500,"rows_between":2000,"halvings":0,"cell_chars":16384,"cell_head_chars":4096},"cells_cut":0,"cells_raw":0,"read":"whole","date_system":"1900"}

{"sheet":"必ずお読み下さい","index":0,"n_rows":48,"n_cols":11,"rows_kept":48,"cut":false,"hidden":false,"merged":[[0,0,0,4],[4,2,4,4],[15,2,15,4],[17,2,17,4],[47,2,47,4],[29,2,29,4],[16,2,16,4],[18,2,18,4],[19,2,19,4],[23,2,23,4],[24,2,24,4],[49,2,49,4],[5,3,6,3],[38,2,38,4],[41,2,41,4],[42,2,42,4],[45,2,45,4],[46,2,46,4],[31,2,31,4],[32,2,32,4],[33,2,33,4],[34,2,34,4],[35,2,35,4],[25,2,25,4],[28,1,28,4],[30,2,30,4]]}
["必ず全部読んで下さい！"]
["市総体申込書の作成について"]
[]
[null,"最初に"]
[null,null,"　昨年度から陸連への登録手続きが変わったり，クラブチームの参加が始まるなど，いろいろと変化があります。申込ファイルもいろいろ対応させていますので，不具合が出るかもしれません。このページをしっかり読んで，間違わずに入力してください。この後に行われる「全県総体」や「通信大会」の申込と共通する点も多くありますので，どうかよろしくお願いいたします。"]
[null,null,null,"地域クラブの場合は、下にクラブ名を入力してください。"]
[null,null,null,null,null,null,null,null,1,{"$f":"IF(I7=1,\"中学校\",IF(I7=2,\"地域クラブ\",\"\"))","v":"中学校"}]
[null,null,null,"↓",null,null,null,null,null,"一覧表用","個表用"]
[null,null,null,null,"←正式名称",null,null,null,20,{"$f":"IF($I$9=20,\"\",VLOOKUP($I$9,部員名簿!$U$8:$AC$34,6,FALSE))","v":""},{"$f":"IF($I$9=20,\"\",VLOOKUP($I$9,部員名簿!U8:AC35,2,FALSE))","v":""}]
[null,null,null,null,"←略称",null,null,null,null,{"$f":"IF(D9=\"\",\"\",D9)","v":""},{"$f":"D10","v":0}]
[]
[]
[]
[null,null,"　"]
[null,null,"　申込書完成までの流れ"]
[null,null,"　　①JAAF-STARTで登録し、ダウンロードしたCSVファイルを開いて、登録データ貼付シートに『値』\n　　　で貼り付ける。"]
[null,null,"　　　貼り付けるデータは、トップページ→会員情報確認→登録状況→現在の所属団体一覧と進み、\n　　自分が所属管理する団体名（『〇〇中学校』など）をクリック。ワンタイムパスワードの発行確認など　　\n　が行われるので、送信して確認して入力する。\n　　画面が表示されたら下にスクロールして、『加入団体参加者情報.CSVファイルダウンロード』ボタン\n　をクリックする。"]
[null,null,"　　②総体入力シートで、校長名（代表名）、監督名、市総体に出場する選手の№、種目を入力する。\n　　　すでに入力済みのところもありますが、間違いがないか確認してください。"]
[null,null,"　　③総体の一覧表、個表、リレー個表をカラー印刷する。（すべてＡ４版になっています）\n　　　一覧表に職印をもらってプログラム編成会議に持参する。"]
[null,null,"　　④ファイル名の【学校名】のところを自校名またはクラブ名に書き換えて情報処理担当者に提出する。（プロ編当日に直接持参でも可）提出締め切りはプログラム編成会議の日。\n\n　　　　　　　　　送　付　先　　： 秋田市立桜中学校　伊藤賢悦\n　　　　　　　　 送付先アドレス： ken.6.2.6.i@gmail.com"]
[]
[]
[null,"１．部員情報を入力する"]
[null,null,"・「登録データ貼付」シートに，JAAF-STARTのHPからダウンロードした部員のデータを貼り付ける。"]
[null,null,"・漢字氏名の文字揃えは行いません。"]
[null,null,"・氏名のフリガナや英字表記は，陸連登録時に入力したものなので大丈夫だと思いますが，一度確認しておいてください。\n　　例：ｱｷﾀ ｹﾝﾀﾛｳ　　AKITA Kentarou"]
[null,null,"・生年月日は、西暦です。これが入力されていないと、登録することができません。数字は半角でお願いします。"]
[]
[null,"３．市総体の入力をする（男女それぞれお願いします）"]
[null,null,"・学校名は、一覧表用です。「秋田市立秋田東中学校」のように入力されているはずです。"]
[null,null,"・監督氏名、校長氏名（代表者氏名）を入力して下さい。"]
[null,null,"・学校名の略称は個表に記載される学校名です。（上で選択した学校名が入っています）"]
[null,null,"・出場選手の「登録ナンバー」（４桁）を入力します。入力用に、最初に作成した申込書を印刷しておくと楽になると思います。入力すると、学校名（チーム名）、氏名、フリガナ、学年が表示されます。"]
[null,null,"・出場選手の出場種目を選択します。個人種目とリレー種目を忘れないで下さい。リストボックス内からの選択ですので表示されたものが間違いないかどうか確認をして下さい。\n　今年は一人２種目（リレーを除く）、１種目につき２名まで出場可能です。"]
[null,null,"・リレーメンバーの抽出をします。男女それぞれ「低学年リレー抽出」「共通リレー抽出」ボタンを押して下さい。リレーへの出場選手が３人以下または７人以上選択されているときは、ボタンを押しても抽出作業を行いません。下の方にリレーメンバーの一覧ができあがります。もし間違いがある場合は出場種目の確認をして下さい。リレー出場についてずれている可能性があります。"]
[null,null,"・もし、入力作業中に選手の入力ミスを見つけたり、選手の変更などをした場合には、必ず抽出をやり直してください。"]
[]
[null,"４．一覧表の確認"]
[null,null,"・男子一覧シートを表示し、入力内容に間違いがないかどうか確認して下さい。一覧表はＡ4にしました。印刷する際には用紙サイズの間違いがないようにご注意下さい。女子一覧も同様に確認してください。"]
[]
[null,"５．個表の作成（個人種目・リレー）"]
[null,null,"・入力シートのデータが個表に反映されているはずです。ここでも間違いがないかどうか確認をお願いします。"]
[null,null,"・公式記録をもっている選手には、記録を入力してください。"]
[]
[null,"６．印刷する"]
[null,null,"・一覧表、個表、リレー個表を印刷します。それぞれのシートに印刷ボタンを用意しました。クリックするだけで印刷が可能ですが、今使っているコンピュータで「標準で使うプリンタ」として設定されているプリンタで印刷されます。つまり印刷する際にプリンタの選択ができません。十分ご注意下さい。カラー印刷が必要です(女子)。"]
[null,null,"・用紙サイズは一覧表、個表関係ともにA4になります。"]
[null,null,"・個人の第２種目の個票を印刷し忘れることのないように気を付けてください。また、印刷した個票と、一覧表の申込を照らし合わせ、忘れることがないよう、よろしくお願いします。"]

{"sheet":"総体入力","index":1,"n_rows":160,"n_cols":22,"rows_kept":160,"cut":false,"hidden":false,"merged":[[81,1,82,1],[77,2,77,3],[77,11,77,12],[82,5,83,5],[79,11,81,12],[5,1,6,1],[1,2,1,3],[1,11,1,12],[6,5,7,5],[3,11,5,12]]}
["市総体男子"]
[null,null,"一覧表用データ",null,null,null,null,null,null,null,null,"個表用データ",null,null,"女子の入力は下の方にあります。"]
[null,null,"学校名",{"$f":"IF(必ずお読み下さい!I7=1,必ずお読み下さい!J9,IF(必ずお読み下さい!I7=2,必ずお読み下さい!J10,\"\"))","v":""},null,null,null,null,null,null,null,{"$f":"IF(必ずお読み下さい!I7=1,\"学校名（略称）\",IF(必ずお読み下さい!I7=2,\"チーム名（略称）\",\"\"))","v":"学校名（略称）"},{"$f":"IF(必ずお読み下さい!I7=1,必ずお読み下さい!K9,IF(必ずお読み下さい!I7=2,必ずお読み下さい!K10,\"\"))","v":""},null,"↓"]
[null,null,"監督氏名",null,"※",null,null,null,null,null,null,"※の項目は必ず入力してください。\n入力の内容については「必ずお読み下さい」を参照して下さい。"]
[null,null,{"$f":"IF(必ずお読み下さい!I7=1,\"校長名\",IF(必ずお読み下さい!I7=2,\"代表者名\",\"\"))","v":"校長名"},null,"※"]
[null,"引率・監督の特例を適用した場合入力→","引率者"]
[null,null,"代理監督氏名",null,null,"出場するリレーのみ抽出ボタンを押す"]
[]
[]
[null,"通年№","学校名","氏　　　名","学年","フ　リ　ガ　ナ","氏名英語表記","個人種目１","個人種目２","リレー種目","個人種目１","個人種目２","リレー種目"]
[1,null,{"$f":"IF(B11=\"\",\"\",$M$3)","v":""},{"$f":"IF($B11=\"\",\"\",VLOOKUP($B11,部員名簿!$A$5:$G$103,3,FALSE))","v":""},{"$f":"IF($B11=\"\",\"\",VLOOKUP($B11,部員名簿!$A$5:$G$103,6,FALSE))","v":""},{"$f":"IF($B11=\"\",\"\",VLOOKUP($B11,部員名簿!$A$5:$G$103,4,FALSE))","v":""},{"$f":"IF($B11=\"\",\"\",VLOOKUP($B11,部員名簿!$A$5:$G$103,5,FALSE))","v":""},{"$f":"IF(K11=\"\",\"\",VLOOKUP(K11,$Q$11:$R$29,2,FALSE))","v":""},{"$f":"IF(L11=\"\",\"\",VLOOKUP(L11,$Q$11:$R$29,2,FALSE))","v":""},{"$f":"IF(M11=\"\",\"\",VLOOKUP(M11,$S$11:$T$13,2,FALSE))","v":""},null,null,null,null,null,null,"１年１００ｍ",1,"低学年４×１００ｍＲ",21,null,"花輪第一"]
[2,null,"",{"$f":"IF($B12=\"\",\"\",VLOOKUP($B12,部員名簿!$A$5:$G$103,3,FALSE))","v":""},{"$f":"IF($B12=\"\",\"\",VLOOKUP($B12,部員名簿!$A$5:$G$103,6,FALSE))","v":""},{"$f":"IF($B12=\"\",\"\",VLOOKUP($B12,部員名簿!$A$5:$G$103,4,FALSE))","v":""},{"$f":"IF($B12=\"\",\"\",VLOOKUP($B12,部員名簿!$A$5:$G$103,5,FALSE))","v":""},{"$f":"IF(K12=\"\",\"\",VLOOKUP(K12,$Q$11:$R$29,2,FALSE))","v":""},{"$f":"IF(L12=\"\",\"\",VLOOKUP(L12,$Q$11:$R$29,2,FALSE))","v":""},{"$f":"IF(M12=\"\",\"\",VLOOKUP(M12,$S$11:$T$13,2,FALSE))","v":""},null,null,null,null,null,null,"２年１００ｍ",2,"共通４×１００ｍＲ",22,null,"花輪第二"]
[3,null,"",{"$f":"IF($B13=\"\",\"\",VLOOKUP($B13,部員名簿!$A$5:$G$103,3,FALSE))","v":""},{"$f":"IF($B13=\"\",\"\",VLOOKUP($B13,部員名簿!$A$5:$G$103,6,FALSE))","v":""},{"$f":"IF($B13=\"\",\"\",VLOOKUP($B13,部員名簿!$A$5:$G$103,4,FALSE))","v":""},{"$f":"IF($B13=\"\",\"\",VLOOKUP($B13,部員名簿!$A$5:$G$103,5,FALSE))","v":""},"","","",null,null,null,null,null,null,"３年１００ｍ",3,null,23,null,"市立十和田"]
[4,null,"",{"$f":"IF($B14=\"\",\"\",VLOOKUP($B14,部員名簿!$A$5:$G$103,3,FALSE))","v":""},{"$f":"IF($B14=\"\",\"\",VLOOKUP($B14,部員名簿!$A$5:$G$103,6,FALSE))","v":""},{"$f":"IF($B14=\"\",\"\",VLOOKUP($B14,部員名簿!$A$5:$G$103,4,FALSE))","v":""},{"$f":"IF($B14=\"\",\"\",VLOOKUP($B14,部員名簿!$A$5:$G$103,5,FALSE))","v":""},"","","",null,null,null,null,null,null,"共通２００ｍ",4,null,null,null,"尾去沢"]
[5,null,"",{"$f":"IF($B15=\"\",\"\",VLOOKUP($B15,部員名簿!$A$5:$G$103,3,FALSE))","v":""},{"$f":"IF($B15=\"\",\"\",VLOOKUP($B15,部員名簿!$A$5:$G$103,6,FALSE))","v":""},{"$f":"IF($B15=\"\",\"\",VLOOKUP($B15,部員名簿!$A$5:$G$103,4,FALSE))","v":""},{"$f":"IF($B15=\"\",\"\",VLOOKUP($B15,部員名簿!$A$5:$G$103,5,FALSE))","v":""},"","","",null,null,null,null,null,null,"共通４００ｍ",5,null,null,null,"八幡平"]
[6,null,"",{"$f":"IF($B16=\"\",\"\",VLOOKUP($B16,部員名簿!$A$5:$G$103,3,FALSE))","v":""},{"$f":"IF($B16=\"\",\"\",VLOOKUP($B16,部員名簿!$A$5:$G$103,6,FALSE))","v":""},{"$f":"IF($B16=\"\",\"\",VLOOKUP($B16,部員名簿!$A$5:$G$103,4,FALSE))","v":""},{"$f":"IF($B16=\"\",\"\",VLOOKUP($B16,部員名簿!$A$5:$G$103,5,FALSE))","v":""},"","","",null,null,null,null,null,null,"共通８００ｍ",6,null,null,null,"小坂"]
[7,null,"",{"$f":"IF($B17=\"\",\"\",VLOOKUP($B17,部員名簿!$A$5:$G$103,3,FALSE))","v":""},{"$f":"IF($B17=\"\",\"\",VLOOKUP($B17,部員名簿!$A$5:$G$103,6,FALSE))","v":""},{"$f":"IF($B17=\"\",\"\",VLOOKUP($B17,部員名簿!$A$5:$G$103,4,FALSE))","v":""},{"$f":"IF($B17=\"\",\"\",VLOOKUP($B17,部員名簿!$A$5:$G$103,5,FALSE))","v":""},"","","",null,null,null,null,null,null,"１年１５００ｍ",7,null,null,null,"町立十和田"]
[8,null,"",{"$f":"IF($B18=\"\",\"\",VLOOKUP($B18,部員名簿!$A$5:$G$103,3,FALSE))","v":""},{"$f":"IF($B18=\"\",\"\",VLOOKUP($B18,部員名簿!$A$5:$G$103,6,FALSE))","v":""},{"$f":"IF($B18=\"\",\"\",VLOOKUP($B18,部員名簿!$A$5:$G$103,4,FALSE))","v":""},{"$f":"IF($B18=\"\",\"\",VLOOKUP($B18,部員名簿!$A$5:$G$103,5,FALSE))","v":""},"","","",null,null,null,null,null,null,"２・３年１５００ｍ",8,"否",null,null,"大館第一"]
[9,null,"",{"$f":"IF($B19=\"\",\"\",VLOOKUP($B19,部員名簿!$A$5:$G$103,3,FALSE))","v":""},{"$f":"IF($B19=\"\",\"\",VLOOKUP($B19,部員名簿!$A$5:$G$103,6,FALSE))","v":""},{"$f":"IF($B19=\"\",\"\",VLOOKUP($B19,部員名簿!$A$5:$G$103,4,FALSE))","v":""},{"$f":"IF($B19=\"\",\"\",VLOOKUP($B19,部員名簿!$A$5:$G$103,5,FALSE))","v":""},"","","",null,null,null,null,null,null,"共通３０００ｍ",9,null,null,null,"大館第二"]
[10,null,"",{"$f":"IF($B20=\"\",\"\",VLOOKUP($B20,部員名簿!$A$5:$G$103,3,FALSE))","v":""},{"$f":"IF($B20=\"\",\"\",VLOOKUP($B20,部員名簿!$A$5:$G$103,6,FALSE))","v":""},{"$f":"IF($B20=\"\",\"\",VLOOKUP($B20,部員名簿!$A$5:$G$103,4,FALSE))","v":""},{"$f":"IF($B20=\"\",\"\",VLOOKUP($B20,部員名簿!$A$5:$G$103,5,FALSE))","v":""},"","","",null,null,null,null,null,null,"共通１１０ｍＨ",10,null,null,null,"下川沿"]
[11,null,"",{"$f":"IF($B21=\"\",\"\",VLOOKUP($B21,部員名簿!$A$5:$G$103,3,FALSE))","v":""},{"$f":"IF($B21=\"\",\"\",VLOOKUP($B21,部員名簿!$A$5:$G$103,6,FALSE))","v":""},{"$f":"IF($B21=\"\",\"\",VLOOKUP($B21,部員名簿!$A$5:$G$103,4,FALSE))","v":""},{"$f":"IF($B21=\"\",\"\",VLOOKUP($B21,部員名簿!$A$5:$G$103,5,FALSE))","v":""},"","","",null,null,null,null,null,null,"共通走高跳",11,null,null,null,"大館南"]
[12,null,"",{"$f":"IF($B22=\"\",\"\",VLOOKUP($B22,部員名簿!$A$5:$G$103,3,FALSE))","v":""},{"$f":"IF($B22=\"\",\"\",VLOOKUP($B22,部員名簿!$A$5:$G$103,6,FALSE))","v":""},{"$f":"IF($B22=\"\",\"\",VLOOKUP($B22,部員名簿!$A$5:$G$103,4,FALSE))","v":""},{"$f":"IF($B22=\"\",\"\",VLOOKUP($B22,部員名簿!$A$5:$G$103,5,FALSE))","v":""},"","","",null,null,null,null,null,null,"共通棒高跳",12,null,null,null,"成章"]
[13,null,"",{"$f":"IF($B23=\"\",\"\",VLOOKUP($B23,部員名簿!$A$5:$G$103,3,FALSE))","v":""},{"$f":"IF($B23=\"\",\"\",VLOOKUP($B23,部員名簿!$A$5:$G$103,6,FALSE))","v":""},{"$f":"IF($B23=\"\",\"\",VLOOKUP($B23,部員名簿!$A$5:$G$103,4,FALSE))","v":""},{"$f":"IF($B23=\"\",\"\",VLOOKUP($B23,部員名簿!$A$5:$G$103,5,FALSE))","v":""},"","","",null,null,null,null,null,null,"共通走幅跳",13,null,null,null,"花岡"]
[14,null,"",{"$f":"IF($B24=\"\",\"\",VLOOKUP($B24,部員名簿!$A$5:$G$103,3,FALSE))","v":""},{"$f":"IF($B24=\"\",\"\",VLOOKUP($B24,部員名簿!$A$5:$G$103,6,FALSE))","v":""},{"$f":"IF($B24=\"\",\"\",VLOOKUP($B24,部員名簿!$A$5:$G$103,4,FALSE))","v":""},{"$f":"IF($B24=\"\",\"\",VLOOKUP($B24,部員名簿!$A$5:$G$103,5,FALSE))","v":""},"","","",null,null,null,null,null,null,"共通砲丸投",14,null,null,null,"矢立"]
[15,null,"",{"$f":"IF($B25=\"\",\"\",VLOOKUP($B25,部員名簿!$A$5:$G$103,3,FALSE))","v":""},{"$f":"IF($B25=\"\",\"\",VLOOKUP($B25,部員名簿!$A$5:$G$103,6,FALSE))","v":""},{"$f":"IF($B25=\"\",\"\",VLOOKUP($B25,部員名簿!$A$5:$G$103,4,FALSE))","v":""},{"$f":"IF($B25=\"\",\"\",VLOOKUP($B25,部員名簿!$A$5:$G$103,5,FALSE))","v":""},"","","",null,null,null,null,null,null,"共通四種競技",15,null,null,null,"大館東"]
[16,null,"",{"$f":"IF($B26=\"\",\"\",VLOOKUP($B26,部員名簿!$A$5:$G$103,3,FALSE))","v":""},{"$f":"IF($B26=\"\",\"\",VLOOKUP($B26,部員名簿!$A$5:$G$103,6,FALSE))","v":""},{"$f":"IF($B26=\"\",\"\",VLOOKUP($B26,部員名簿!$A$5:$G$103,4,FALSE))","v":""},{"$f":"IF($B26=\"\",\"\",VLOOKUP($B26,部員名簿!$A$5:$G$103,5,FALSE))","v":""},"","","",null,null,null,null,null,null,"奨励１００ｍ",16,null,null,null,"鷹巣"]
[17,null,"",{"$f":"IF($B27=\"\",\"\",VLOOKUP($B27,部員名簿!$A$5:$G$103,3,FALSE))","v":""},{"$f":"IF($B27=\"\",\"\",VLOOKUP($B27,部員名簿!$A$5:$G$103,6,FALSE))","v":""},{"$f":"IF($B27=\"\",\"\",VLOOKUP($B27,部員名簿!$A$5:$G$103,4,FALSE))","v":""},{"$f":"IF($B27=\"\",\"\",VLOOKUP($B27,部員名簿!$A$5:$G$103,5,FALSE))","v":""},"","","",null,null,null,null,null,null,"奨励１５００ｍ",17,null,null,null,"鷹巣南"]
[18,null,"",{"$f":"IF($B28=\"\",\"\",VLOOKUP($B28,部員名簿!$A$5:$G$103,3,FALSE))","v":""},{"$f":"IF($B28=\"\",\"\",VLOOKUP($B28,部員名簿!$A$5:$G$103,6,FALSE))","v":""},{"$f":"IF($B28=\"\",\"\",VLOOKUP($B28,部員名簿!$A$5:$G$103,4,FALSE))","v":""},{"$f":"IF($B28=\"\",\"\",VLOOKUP($B28,部員名簿!$A$5:$G$103,5,FALSE))","v":""},"","","",null,null,null,null,null,null,"奨励走幅跳",18,null,null,null,"比内"]
[19,null,"",{"$f":"IF($B29=\"\",\"\",VLOOKUP($B29,部員名簿!$A$5:$G$103,3,FALSE))","v":""},{"$f":"IF($B29=\"\",\"\",VLOOKUP($B29,部員名簿!$A$5:$G$103,6,FALSE))","v":""},{"$f":"IF($B29=\"\",\"\",VLOOKUP($B29,部員名簿!$A$5:$G$103,4,FALSE))","v":""},{"$f":"IF($B29=\"\",\"\",VLOOKUP($B29,部員名簿!$A$5:$G$103,5,FALSE))","v":""},"","","",null,null,null,null,null,null,null,19,null,null,null,"森吉"]
[20,null,"",{"$f":"IF($B30=\"\",\"\",VLOOKUP($B30,部員名簿!$A$5:$G$103,3,FALSE))","v":""},{"$f":"IF($B30=\"\",\"\",VLOOKUP($B30,部員名簿!$A$5:$G$103,6,FALSE))","v":""},{"$f":"IF($B30=\"\",\"\",VLOOKUP($B30,部員名簿!$A$5:$G$103,4,FALSE))","v":""},{"$f":"IF($B30=\"\",\"\",VLOOKUP($B30,部員名簿!$A$5:$G$103,5,FALSE))","v":""},"","","",null,null,null,null,null,null,null,null,null,null,null,"阿仁"]
[21,null,"",{"$f":"IF($B31=\"\",\"\",VLOOKUP($B31,部員名簿!$A$5:$G$103,3,FALSE))","v":""},{"$f":"IF($B31=\"\",\"\",VLOOKUP($B31,部員名簿!$A$5:$G$103,6,FALSE))","v":""},{"$f":"IF($B31=\"\",\"\",VLOOKUP($B31,部員名簿!$A$5:$G$103,4,FALSE))","v":""},{"$f":"IF($B31=\"\",\"\",VLOOKUP($B31,部員名簿!$A$5:$G$103,5,FALSE))","v":""},"","","",null,null,null,null,null,null,null,null,null,null,null,"田代"]
[22,null,"",{"$f":"IF($B32=\"\",\"\",VLOOKUP($B32,部員名簿!$A$5:$G$103,3,FALSE))","v":""},{"$f":"IF($B32=\"\",\"\",VLOOKUP($B32,部員名簿!$A$5:$G$103,6,FALSE))","v":""},{"$f":"IF($B32=\"\",\"\",VLOOKUP($B32,部員名簿!$A$5:$G$103,4,FALSE))","v":""},{"$f":"IF($B32=\"\",\"\",VLOOKUP($B32,部員名簿!$A$5:$G$103,5,FALSE))","v":""},"","","",null,null,null,null,null,null,null,null,null,null,null,"合川"]
[23,null,"",{"$f":"IF($B33=\"\",\"\",VLOOKUP($B33,部員名簿!$A$5:$G$103,3,FALSE))","v":""},{"$f":"IF($B33=\"\",\"\",VLOOKUP($B33,部員名簿!$A$5:$G$103,6,FALSE))","v":""},{"$f":"IF($B33=\"\",\"\",VLOOKUP($B33,部員名簿!$A$5:$G$103,4,FALSE))","v":""},{"$f":"IF($B33=\"\",\"\",VLOOKUP($B33,部員名簿!$A$5:$G$103,5,FALSE))","v":""},"","","",null,null,null,null,null,null,null,null,null,null,null,"上小阿仁"]
[24,null,"",{"$f":"IF($B34=\"\",\"\",VLOOKUP($B34,部員名簿!$A$5:$G$103,3,FALSE))","v":""},{"$f":"IF($B34=\"\",\"\",VLOOKUP($B34,部員名簿!$A$5:$G$103,6,FALSE))","v":""},{"$f":"IF($B34=\"\",\"\",VLOOKUP($B34,部員名簿!$A$5:$G$103,4,FALSE))","v":""},{"$f":"IF($B34=\"\",\"\",VLOOKUP($B34,部員名簿!$A$5:$G$103,5,FALSE))","v":""},"","","",null,null,null,null,null,null,null,null,null,null,null,"能代第一"]
[25,null,"",{"$f":"IF($B35=\"\",\"\",VLOOKUP($B35,部員名簿!$A$5:$G$103,3,FALSE))","v":""},{"$f":"IF($B35=\"\",\"\",VLOOKUP($B35,部員名簿!$A$5:$G$103,6,FALSE))","v":""},{"$f":"IF($B35=\"\",\"\",VLOOKUP($B35,部員名簿!$A$5:$G$103,4,FALSE))","v":""},{"$f":"IF($B35=\"\",\"\",VLOOKUP($B35,部員名簿!$A$5:$G$103,5,FALSE))","v":""},"","","",null,null,null,null,null,null,null,null,null,null,null,"能代第二"]
[26,null,"",{"$f":"IF($B36=\"\",\"\",VLOOKUP($B36,部員名簿!$A$5:$G$103,3,FALSE))","v":""},{"$f":"IF($B36=\"\",\"\",VLOOKUP($B36,部員名簿!$A$5:$G$103,6,FALSE))","v":""},{"$f":"IF($B36=\"\",\"\",VLOOKUP($B36,部員名簿!$A$5:$G$103,4,FALSE))","v":""},{"$f":"IF($B36=\"\",\"\",VLOOKUP($B36,部員名簿!$A$5:$G$103,5,FALSE))","v":""},"","","",null,null,null,null,null,null,null,null,null,null,null,"能代東"]
[27,null,"",{"$f":"IF($B37=\"\",\"\",VLOOKUP($B37,部員名簿!$A$5:$G$103,3,FALSE))","v":""},{"$f":"IF($B37=\"\",\"\",VLOOKUP($B37,部員名簿!$A$5:$G$103,6,FALSE))","v":""},{"$f":"IF($B37=\"\",\"\",VLOOKUP($B37,部員名簿!$A$5:$G$103,4,FALSE))","v":""},{"$f":"IF($B37=\"\",\"\",VLOOKUP($B37,部員名簿!$A$5:$G$103,5,FALSE))","v":""},"","","",null,null,null,null,null,null,null,null,null,null,null,"東雲"]
[28,null,"",{"$f":"IF($B38=\"\",\"\",VLOOKUP($B38,部員名簿!$A$5:$G$103,3,FALSE))","v":""},{"$f":"IF($B38=\"\",\"\",VLOOKUP($B38,部員名簿!$A$5:$G$103,6,FALSE))","v":""},{"$f":"IF($B38=\"\",\"\",VLOOKUP($B38,部員名簿!$A$5:$G$103,4,FALSE))","v":""},{"$f":"IF($B38=\"\",\"\",VLOOKUP($B38,部員名簿!$A$5:$G$103,5,FALSE))","v":""},"","","",null,null,null,null,null,null,null,null,null,null,null,"能代南"]
[29,null,"",{"$f":"IF($B39=\"\",\"\",VLOOKUP($B39,部員名簿!$A$5:$G$103,3,FALSE))","v":""},{"$f":"IF($B39=\"\",\"\",VLOOKUP($B39,部員名簿!$A$5:$G$103,6,FALSE))","v":""},{"$f":"IF($B39=\"\",\"\",VLOOKUP($B39,部員名簿!$A$5:$G$103,4,FALSE))","v":""},{"$f":"IF($B39=\"\",\"\",VLOOKUP($B39,部員名簿!$A$5:$G$103,5,FALSE))","v":""},"","","",null,null,null,null,null,null,null,null,null,null,null,"常盤"]
[30,null,"",{"$f":"IF($B40=\"\",\"\",VLOOKUP($B40,部員名簿!$A$5:$G$103,3,FALSE))","v":""},{"$f":"IF($B40=\"\",\"\",VLOOKUP($B40,部員名簿!$A$5:$G$103,6,FALSE))","v":""},{"$f":"IF($B40=\"\",\"\",VLOOKUP($B40,部員名簿!$A$5:$G$103,4,FALSE))","v":""},{"$f":"IF($B40=\"\",\"\",VLOOKUP($B40,部員名簿!$A$5:$G$103,5,FALSE))","v":""},"","","",null,null,null,null,null,null,null,null,null,null,null,"琴丘"]
[31,null,"",{"$f":"IF($B41=\"\",\"\",VLOOKUP($B41,部員名簿!$A$5:$G$103,3,FALSE))","v":""},{"$f":"IF($B41=\"\",\"\",VLOOKUP($B41,部員名簿!$A$5:$G$103,6,FALSE))","v":""},{"$f":"IF($B41=\"\",\"\",VLOOKUP($B41,部員名簿!$A$5:$G$103,4,FALSE))","v":""},{"$f":"IF($B41=\"\",\"\",VLOOKUP($B41,部員名簿!$A$5:$G$103,5,FALSE))","v":""},"","",{"$f":"IF(M41=\"\",\"\",VLOOKUP(M41,$S$11:$T$13,2,FALSE))","v":""},null,null,null,null,null,null,null,null,null,null,null,"二ツ井"]
[32,null,"",{"$f":"IF($B42=\"\",\"\",VLOOKUP($B42,部員名簿!$A$5:$G$103,3,FALSE))","v":""},{"$f":"IF($B42=\"\",\"\",VLOOKUP($B42,部員名簿!$A$5:$G$103,6,FALSE))","v":""},{"$f":"IF($B42=\"\",\"\",VLOOKUP($B42,部員名簿!$A$5:$G$103,4,FALSE))","v":""},{"$f":"IF($B42=\"\",\"\",VLOOKUP($B42,部員名簿!$A$5:$G$103,5,FALSE))","v":""},"","","",null,null,null,null,null,null,null,null,null,null,null,"八森"]
[33,null,"",{"$f":"IF($B43=\"\",\"\",VLOOKUP($B43,部員名簿!$A$5:$G$103,3,FALSE))","v":""},{"$f":"IF($B43=\"\",\"\",VLOOKUP($B43,部員名簿!$A$5:$G$103,6,FALSE))","v":""},{"$f":"IF($B43=\"\",\"\",VLOOKUP($B43,部員名簿!$A$5:$G$103,4,FALSE))","v":""},{"$f":"IF($B43=\"\",\"\",VLOOKUP($B43,部員名簿!$A$5:$G$103,5,FALSE))","v":""},{"$f":"IF(K43=\"\",\"\",VLOOKUP(K43,$Q$11:$R$29,2,FALSE))","v":""},{"$f":"IF(L43=\"\",\"\",VLOOKUP(L43,$Q$11:$R$29,2,FALSE))","v":""},""]
[34,null,"",{"$f":"IF($B44=\"\",\"\",VLOOKUP($B44,部員名簿!$A$5:$G$103,3,FALSE))","v":""},{"$f":"IF($B44=\"\",\"\",VLOOKUP($B44,部員名簿!$A$5:$G$103,6,FALSE))","v":""},{"$f":"IF($B44=\"\",\"\",VLOOKUP($B44,部員名簿!$A$5:$G$103,4,FALSE))","v":""},{"$f":"IF($B44=\"\",\"\",VLOOKUP($B44,部員名簿!$A$5:$G$103,5,FALSE))","v":""},"","",""]
[35,null,"",{"$f":"IF($B45=\"\",\"\",VLOOKUP($B45,部員名簿!$A$5:$G$103,3,FALSE))","v":""},{"$f":"IF($B45=\"\",\"\",VLOOKUP($B45,部員名簿!$A$5:$G$103,6,FALSE))","v":""},{"$f":"IF($B45=\"\",\"\",VLOOKUP($B45,部員名簿!$A$5:$G$103,4,FALSE))","v":""},{"$f":"IF($B45=\"\",\"\",VLOOKUP($B45,部員名簿!$A$5:$G$103,5,FALSE))","v":""},"","",""]
[36,null,"",{"$f":"IF($B46=\"\",\"\",VLOOKUP($B46,部員名簿!$A$5:$G$103,3,FALSE))","v":""},{"$f":"IF($B46=\"\",\"\",VLOOKUP($B46,部員名簿!$A$5:$G$103,6,FALSE))","v":""},{"$f":"IF($B46=\"\",\"\",VLOOKUP($B46,部員名簿!$A$5:$G$103,4,FALSE))","v":""},{"$f":"IF($B46=\"\",\"\",VLOOKUP($B46,部員名簿!$A$5:$G$103,5,FALSE))","v":""},"","",""]
[37,null,"",{"$f":"IF($B47=\"\",\"\",VLOOKUP($B47,部員名簿!$A$5:$G$103,3,FALSE))","v":""},{"$f":"IF($B47=\"\",\"\",VLOOKUP($B47,部員名簿!$A$5:$G$103,6,FALSE))","v":""},{"$f":"IF($B47=\"\",\"\",VLOOKUP($B47,部員名簿!$A$5:$G$103,4,FALSE))","v":""},{"$f":"IF($B47=\"\",\"\",VLOOKUP($B47,部員名簿!$A$5:$G$103,5,FALSE))","v":""},"","",""]
[38,null,"",{"$f":"IF($B48=\"\",\"\",VLOOKUP($B48,部員名簿!$A$5:$G$103,3,FALSE))","v":""},{"$f":"IF($B48=\"\",\"\",VLOOKUP($B48,部員名簿!$A$5:$G$103,6,FALSE))","v":""},{"$f":"IF($B48=\"\",\"\",VLOOKUP($B48,部員名簿!$A$5:$G$103,4,FALSE))","v":""},{"$f":"IF($B48=\"\",\"\",VLOOKUP($B48,部員名簿!$A$5:$G$103,5,FALSE))","v":""},"","","",null,null,null,null,null,null,"低リレー",{"$f":"COUNTIF($J$11:$J$51,21)","v":0}]
[39,null,"",{"$f":"IF($B49=\"\",\"\",VLOOKUP($B49,部員名簿!$A$5:$G$103,3,FALSE))","v":""},{"$f":"IF($B49=\"\",\"\",VLOOKUP($B49,部員名簿!$A$5:$G$103,6,FALSE))","v":""},{"$f":"IF($B49=\"\",\"\",VLOOKUP($B49,部員名簿!$A$5:$G$103,4,FALSE))","v":""},{"$f":"IF($B49=\"\",\"\",VLOOKUP($B49,部員名簿!$A$5:$G$103,5,FALSE))","v":""},"","",""]
[40,null,"",{"$f":"IF($B50=\"\",\"\",VLOOKUP($B50,部員名簿!$A$5:$G$103,3,FALSE))","v":""},{"$f":"IF($B50=\"\",\"\",VLOOKUP($B50,部員名簿!$A$5:$G$103,6,FALSE))","v":""},{"$f":"IF($B50=\"\",\"\",VLOOKUP($B50,部員名簿!$A$5:$G$103,4,FALSE))","v":""},{"$f":"IF($B50=\"\",\"\",VLOOKUP($B50,部員名簿!$A$5:$G$103,5,FALSE))","v":""},"","","",null,null,null,null,null,null,"共通リレー",{"$f":"COUNTIF($J$11:$J$51,22)","v":0}]
[41,null,"",{"$f":"IF($B51=\"\",\"\",VLOOKUP($B51,部員名簿!$A$5:$G$103,3,FALSE))","v":""},{"$f":"IF($B51=\"\",\"\",VLOOKUP($B51,部員名簿!$A$5:$G$103,6,FALSE))","v":""},{"$f":"IF($B51=\"\",\"\",VLOOKUP($B51,部員名簿!$A$5:$G$103,4,FALSE))","v":""},{"$f":"IF($B51=\"\",\"\",VLOOKUP($B51,部員名簿!$A$5:$G$103,5,FALSE))","v":""},"","",""]
[null,null,null,null,null,null,null,null,null,null,null,null,null,null,null,null,null,null,null,null,null,"山本"]
[null,null,null,null,null,null,null,null,null,null,null,null,null,null,null,null,null,null,null,null,null,"藤里"]
[null,null,null,null,null,null,null,null,null,null,null,null,null,null,null,null,null,null,null,null,null,"八竜"]
[null,null,null,null,null,null,null,null,null,null,null,null,null,null,null,null,null,null,null,null,null,"峰浜"]
[null,null,null,null,null,null,null,null,null,null,null,null,null,null,null,null,null,null,null,null,null,"秋田東"]
[null,"低学年４×１００ｍＲ",null,null,null,null,null,null,null,null,null,null,null,null,null,null,null,null,null,null,null,"秋田南"]
[null,null,null,null,null,null,null,null,null,null,null,null,null,null,null,null,null,null,null,null,null,"山王"]
[null,null,null,null,null,null,null,null,null,null,null,null,null,null,null,null,null,null,null,null,null,"土崎"]
[null,null,null,null,null,null,null,null,null,null,null,null,null,null,null,null,null,null,null,null,null,"将軍野"]
[null,null,null,null,null,null,null,null,null,null,null,null,null,null,null,null,null,null,null,null,null,"秋田西"]
[null,null,null,null,null,null,null,null,null,null,null,null,null,null,null,null,null,null,null,null,null,"太平"]
[null,null,null,null,null,null,null,null,null,null,null,null,null,null,null,null,null,null,null,null,null,"外旭川"]
[null,null,null,null,null,null,null,null,null,null,null,null,null,null,null,null,null,null,null,null,null,"秋田北"]
[null,"共通４×1００ｍＲ",null,null,null,null,null,null,null,null,null,null,null,null,null,null,null,null,null,null,null,"上新城"]
[null,null,null,null,null,null,null,null,null,null,null,null,null,null,null,null,null,null,null,null,null,"豊岩"]
[null,null,null,null,null,null,null,null,null,null,null,null,null,null,null,null,null,null,null,null,null,"城南"]
[null,null,null,null,null,null,null,null,null,null,null,null,null,null,null,null,null,null,null,null,null,"下北手"]
[null,null,null,null,null,null,null,null,null,null,null,null,null,null,null,null,null,null,null,null,null,"下浜"]
[null,null,null,null,null,null,null,null,null,null,null,null,null,null,null,null,null,null,null,null,null,"城東"]
[null,null,null,null,null,null,null,null,null,null,null,null,null,null,null,null,null,null,null,null,null,"泉"]
[null,null,null,null,null,null,null,null,null,null,null,null,null,null,null,null,null,null,null,null,null,"御野場"]
[null,null,null,null,null,null,null,null,null,null,null,null,null,null,null,null,null,null,null,null,null,"勝平"]
[null,null,null,null,null,null,null,null,null,null,null,null,null,null,null,null,null,null,null,null,null,"飯島"]
[null,null,null,null,null,null,null,null,null,null,null,null,null,null,null,null,null,null,null,null,null,"桜"]
[null,null,null,null,null,null,null,null,null,null,null,null,null,null,null,null,null,null,null,null,null,"御所野学院"]
["市総体女子",null,null,null,null,null,null,null,null,null,null,null,null,null,null,null,null,null,null,null,null,"秋田大附属"]
[null,null,"一覧表用データ",null,null,null,null,null,null,null,null,"個表用データ",null,null,null,null,null,null,null,null,null,"聖霊"]
[null,null,"学校名",{"$f":"IF(D3=\"\",\"\",D3)","v":""},null,null,null,null,null,null,null,{"$f":"L3","v":"学校名（略称）"},{"$f":"IF(M3=\"\",\"\",M3)","v":""},null,null,null,null,null,null,null,null,"秋田聾"]
[null,null,"監督氏名",null,"※",null,null,null,null,null,null,"※の項目は必ず入力してください。\n入力の内容については「必ずお読み下さい」を参照して下さい。",null,null,null,null,null,null,null,null,null,"男鹿南"]
[null,null,{"$f":"C5","v":"校長名"},{"$f":"IF(D5=\"\",\"\",D5)","v":""},"※",null,null,null,null,null,null,null,null,null,null,null,null,null,null,null,null,"五里合"]
[null,"引率・監督の特例を適用した場合入力→","引率者",null,null,null,null,null,null,null,null,null,null,null,null,null,null,null,null,null,null,"男鹿北"]
[null,null,"代理監督氏名",null,null,"出場するリレーのみ抽出ボタンを押す",null,null,null,null,null,null,null,null,null,null,null,null,null,null,null,"男鹿東"]
[null,null,null,null,null,null,null,null,null,null,null,null,null,null,null,null,null,null,null,null,null,"五城目第一"]
[null,null,null,null,null,null,null,null,null,null,null,null,null,null,null,null,null,null,null,null,null,"八郎潟"]
[null,"通年№","学校名","氏　　　名","学年","フ　リ　ガ　ナ","氏名英語表記","個人種目１","個人種目２","リレー種目","個人種目１","個人種目２","リレー種目",null,null,null,null,null,null,null,null,"天王"]
[1,null,{"$f":"IF(B87=\"\",\"\",$M$79)","v":""},{"$f":"IF($B87=\"\",\"\",VLOOKUP($B87,部員名簿!$A$5:$G$103,3,FALSE))","v":""},{"$f":"IF($B87=\"\",\"\",VLOOKUP($B87,部員名簿!$A$5:$G$103,6,FALSE))","v":""},{"$f":"IF($B87=\"\",\"\",VLOOKUP($B87,部員名簿!$A$5:$G$103,4,FALSE))","v":""},{"$f":"IF($B87=\"\",\"\",VLOOKUP($B87,部員名簿!$A$5:$G$103,5,FALSE))","v":""},{"$f":"IF(K87=\"\",\"\",VLOOKUP(K87,$Q$87:$R$102,2,FALSE))","v":""},{"$f":"IF(L87=\"\",\"\",VLOOKUP(L87,$Q$87:$R$102,2,FALSE))","v":""},{"$f":"IF(M87=\"\",\"\",VLOOKUP(M87,$S$87:$T$89,2,FALSE))","v":""},null,null,null,null,null,null,"１年１００ｍ",31,"低学年４×１００ｍＲ",51,null,"天王南"]
[2,null,"",{"$f":"IF($B88=\"\",\"\",VLOOKUP($B88,部員名簿!$A$5:$G$103,3,FALSE))","v":""},{"$f":"IF($B88=\"\",\"\",VLOOKUP($B88,部員名簿!$A$5:$G$103,6,FALSE))","v":""},{"$f":"IF($B88=\"\",\"\",VLOOKUP($B88,部員名簿!$A$5:$G$103,4,FALSE))","v":""},{"$f":"IF($B88=\"\",\"\",VLOOKUP($B88,部員名簿!$A$5:$G$103,5,FALSE))","v":""},{"$f":"IF(K88=\"\",\"\",VLOOKUP(K88,$Q$87:$R$102,2,FALSE))","v":""},{"$f":"IF(L88=\"\",\"\",VLOOKUP(L88,$Q$87:$R$102,2,FALSE))","v":""},{"$f":"IF(M88=\"\",\"\",VLOOKUP(M88,$S$87:$T$89,2,FALSE))","v":""},null,null,null,null,null,null,"２年１００ｍ",32,"共通４×１００ｍＲ",52,null,"払戸"]
[3,null,"",{"$f":"IF($B89=\"\",\"\",VLOOKUP($B89,部員名簿!$A$5:$G$103,3,FALSE))","v":""},{"$f":"IF($B89=\"\",\"\",VLOOKUP($B89,部員名簿!$A$5:$G$103,6,FALSE))","v":""},{"$f":"IF($B89=\"\",\"\",VLOOKUP($B89,部員名簿!$A$5:$G$103,4,FALSE))","v":""},{"$f":"IF($B89=\"\",\"\",VLOOKUP($B89,部員名簿!$A$5:$G$103,5,FALSE))","v":""},"","","",null,null,null,null,null,null,"３年１００ｍ",33,null,53,null,"潟西"]
[4,null,"",{"$f":"IF($B90=\"\",\"\",VLOOKUP($B90,部員名簿!$A$5:$G$103,3,FALSE))","v":""},{"$f":"IF($B90=\"\",\"\",VLOOKUP($B90,部員名簿!$A$5:$G$103,6,FALSE))","v":""},{"$f":"IF($B90=\"\",\"\",VLOOKUP($B90,部員名簿!$A$5:$G$103,4,FALSE))","v":""},{"$f":"IF($B90=\"\",\"\",VLOOKUP($B90,部員名簿!$A$5:$G$103,5,FALSE))","v":""},"","","",null,null,null,null,null,null,"共通２００ｍ",34,null,null,null,"井川"]
[5,null,"",{"$f":"IF($B91=\"\",\"\",VLOOKUP($B91,部員名簿!$A$5:$G$103,3,FALSE))","v":""},{"$f":"IF($B91=\"\",\"\",VLOOKUP($B91,部員名簿!$A$5:$G$103,6,FALSE))","v":""},{"$f":"IF($B91=\"\",\"\",VLOOKUP($B91,部員名簿!$A$5:$G$103,4,FALSE))","v":""},{"$f":"IF($B91=\"\",\"\",VLOOKUP($B91,部員名簿!$A$5:$G$103,5,FALSE))","v":""},"","","",null,null,null,null,null,null,"共通８００ｍ",35,null,null,null,"大潟"]
[6,null,"",{"$f":"IF($B92=\"\",\"\",VLOOKUP($B92,部員名簿!$A$5:$G$103,3,FALSE))","v":""},{"$f":"IF($B92=\"\",\"\",VLOOKUP($B92,部員名簿!$A$5:$G$103,6,FALSE))","v":""},{"$f":"IF($B92=\"\",\"\",VLOOKUP($B92,部員名簿!$A$5:$G$103,4,FALSE))","v":""},{"$f":"IF($B92=\"\",\"\",VLOOKUP($B92,部員名簿!$A$5:$G$103,5,FALSE))","v":""},"","","",null,null,null,null,null,null,"１年１５００ｍ",36,null,null,null,"羽城"]
[7,null,"",{"$f":"IF($B93=\"\",\"\",VLOOKUP($B93,部員名簿!$A$5:$G$103,3,FALSE))","v":""},{"$f":"IF($B93=\"\",\"\",VLOOKUP($B93,部員名簿!$A$5:$G$103,6,FALSE))","v":""},{"$f":"IF($B93=\"\",\"\",VLOOKUP($B93,部員名簿!$A$5:$G$103,4,FALSE))","v":""},{"$f":"IF($B93=\"\",\"\",VLOOKUP($B93,部員名簿!$A$5:$G$103,5,FALSE))","v":""},"","","",null,null,null,null,null,null,"２・３年１５００ｍ",37,null,null,null,"岩見三内"]
[8,null,"",{"$f":"IF($B94=\"\",\"\",VLOOKUP($B94,部員名簿!$A$5:$G$103,3,FALSE))","v":""},{"$f":"IF($B94=\"\",\"\",VLOOKUP($B94,部員名簿!$A$5:$G$103,6,FALSE))","v":""},{"$f":"IF($B94=\"\",\"\",VLOOKUP($B94,部員名簿!$A$5:$G$103,4,FALSE))","v":""},{"$f":"IF($B94=\"\",\"\",VLOOKUP($B94,部員名簿!$A$5:$G$103,5,FALSE))","v":""},"","","",null,null,null,null,null,null,"共通１００ｍＨ",38,null,null,null,"河辺"]
[9,null,"",{"$f":"IF($B95=\"\",\"\",VLOOKUP($B95,部員名簿!$A$5:$G$103,3,FALSE))","v":""},{"$f":"IF($B95=\"\",\"\",VLOOKUP($B95,部員名簿!$A$5:$G$103,6,FALSE))","v":""},{"$f":"IF($B95=\"\",\"\",VLOOKUP($B95,部員名簿!$A$5:$G$103,4,FALSE))","v":""},{"$f":"IF($B95=\"\",\"\",VLOOKUP($B95,部員名簿!$A$5:$G$103,5,FALSE))","v":""},"","","",null,null,null,null,null,null,"共通走高跳",39,null,null,null,"雄和"]
[10,null,"",{"$f":"IF($B96=\"\",\"\",VLOOKUP($B96,部員名簿!$A$5:$G$103,3,FALSE))","v":""},{"$f":"IF($B96=\"\",\"\",VLOOKUP($B96,部員名簿!$A$5:$G$103,6,FALSE))","v":""},{"$f":"IF($B96=\"\",\"\",VLOOKUP($B96,部員名簿!$A$5:$G$103,4,FALSE))","v":""},{"$f":"IF($B96=\"\",\"\",VLOOKUP($B96,部員名簿!$A$5:$G$103,5,FALSE))","v":""},"","","",null,null,null,null,null,null,"共通走幅跳",40,null,null,null,"大正寺"]
[11,null,"",{"$f":"IF($B97=\"\",\"\",VLOOKUP($B97,部員名簿!$A$5:$G$103,3,FALSE))","v":""},{"$f":"IF($B97=\"\",\"\",VLOOKUP($B97,部員名簿!$A$5:$G$103,6,FALSE))","v":""},{"$f":"IF($B97=\"\",\"\",VLOOKUP($B97,部員名簿!$A$5:$G$103,4,FALSE))","v":""},{"$f":"IF($B97=\"\",\"\",VLOOKUP($B97,部員名簿!$A$5:$G$103,5,FALSE))","v":""},"","","",null,null,null,null,null,null,"共通砲丸投",41,null,null,null,"本荘北"]
[12,null,"",{"$f":"IF($B98=\"\",\"\",VLOOKUP($B98,部員名簿!$A$5:$G$103,3,FALSE))","v":""},{"$f":"IF($B98=\"\",\"\",VLOOKUP($B98,部員名簿!$A$5:$G$103,6,FALSE))","v":""},{"$f":"IF($B98=\"\",\"\",VLOOKUP($B98,部員名簿!$A$5:$G$103,4,FALSE))","v":""},{"$f":"IF($B98=\"\",\"\",VLOOKUP($B98,部員名簿!$A$5:$G$103,5,FALSE))","v":""},"","","",null,null,null,null,null,null,"共通四種競技",42,null,null,null,"本荘南"]
[13,null,"",{"$f":"IF($B99=\"\",\"\",VLOOKUP($B99,部員名簿!$A$5:$G$103,3,FALSE))","v":""},{"$f":"IF($B99=\"\",\"\",VLOOKUP($B99,部員名簿!$A$5:$G$103,6,FALSE))","v":""},{"$f":"IF($B99=\"\",\"\",VLOOKUP($B99,部員名簿!$A$5:$G$103,4,FALSE))","v":""},{"$f":"IF($B99=\"\",\"\",VLOOKUP($B99,部員名簿!$A$5:$G$103,5,FALSE))","v":""},"","","",null,null,null,null,null,null,"奨励１００ｍ",43,null,null,null,"石沢"]
[14,null,"",{"$f":"IF($B100=\"\",\"\",VLOOKUP($B100,部員名簿!$A$5:$G$103,3,FALSE))","v":""},{"$f":"IF($B100=\"\",\"\",VLOOKUP($B100,部員名簿!$A$5:$G$103,6,FALSE))","v":""},{"$f":"IF($B100=\"\",\"\",VLOOKUP($B100,部員名簿!$A$5:$G$103,4,FALSE))","v":""},{"$f":"IF($B100=\"\",\"\",VLOOKUP($B100,部員名簿!$A$5:$G$103,5,FALSE))","v":""},"","","",null,null,null,null,null,null,"奨励８００ｍ",44,null,null,null,"仁賀保"]
[15,null,"",{"$f":"IF($B101=\"\",\"\",VLOOKUP($B101,部員名簿!$A$5:$G$103,3,FALSE))","v":""},{"$f":"IF($B101=\"\",\"\",VLOOKUP($B101,部員名簿!$A$5:$G$103,6,FALSE))","v":""},{"$f":"IF($B101=\"\",\"\",VLOOKUP($B101,部員名簿!$A$5:$G$103,4,FALSE))","v":""},{"$f":"IF($B101=\"\",\"\",VLOOKUP($B101,部員名簿!$A$5:$G$103,5,FALSE))","v":""},"","","",null,null,null,null,null,null,"奨励走幅跳",45,null,null,null,"釜ヶ台"]
[16,null,"",{"$f":"IF($B102=\"\",\"\",VLOOKUP($B102,部員名簿!$A$5:$G$103,3,FALSE))","v":""},{"$f":"IF($B102=\"\",\"\",VLOOKUP($B102,部員名簿!$A$5:$G$103,6,FALSE))","v":""},{"$f":"IF($B102=\"\",\"\",VLOOKUP($B102,部員名簿!$A$5:$G$103,4,FALSE))","v":""},{"$f":"IF($B102=\"\",\"\",VLOOKUP($B102,部員名簿!$A$5:$G$103,5,FALSE))","v":""},"","","",null,null,null,null,null,null,"オープン１５００ｍ",46,null,null,null,"金浦"]
[17,null,"",{"$f":"IF($B103=\"\",\"\",VLOOKUP($B103,部員名簿!$A$5:$G$103,3,FALSE))","v":""},{"$f":"IF($B103=\"\",\"\",VLOOKUP($B103,部員名簿!$A$5:$G$103,6,FALSE))","v":""},{"$f":"IF($B103=\"\",\"\",VLOOKUP($B103,部員名簿!$A$5:$G$103,4,FALSE))","v":""},{"$f":"IF($B103=\"\",\"\",VLOOKUP($B103,部員名簿!$A$5:$G$103,5,FALSE))","v":""},"","","",null,null,null,null,null,null,null,47,null,null,null,"象潟"]
[18,null,"",{"$f":"IF($B104=\"\",\"\",VLOOKUP($B104,部員名簿!$A$5:$G$103,3,FALSE))","v":""},{"$f":"IF($B104=\"\",\"\",VLOOKUP($B104,部員名簿!$A$5:$G$103,6,FALSE))","v":""},{"$f":"IF($B104=\"\",\"\",VLOOKUP($B104,部員名簿!$A$5:$G$103,4,FALSE))","v":""},{"$f":"IF($B104=\"\",\"\",VLOOKUP($B104,部員名簿!$A$5:$G$103,5,FALSE))","v":""},"","","",null,null,null,null,null,null,null,null,null,null,null,"矢島"]
[19,null,"",{"$f":"IF($B105=\"\",\"\",VLOOKUP($B105,部員名簿!$A$5:$G$103,3,FALSE))","v":""},{"$f":"IF($B105=\"\",\"\",VLOOKUP($B105,部員名簿!$A$5:$G$103,6,FALSE))","v":""},{"$f":"IF($B105=\"\",\"\",VLOOKUP($B105,部員名簿!$A$5:$G$103,4,FALSE))","v":""},{"$f":"IF($B105=\"\",\"\",VLOOKUP($B105,部員名簿!$A$5:$G$103,5,FALSE))","v":""},"","","",null,null,null,null,null,null,null,null,null,null,null,"岩城"]
[20,null,"",{"$f":"IF($B106=\"\",\"\",VLOOKUP($B106,部員名簿!$A$5:$G$103,3,FALSE))","v":""},{"$f":"IF($B106=\"\",\"\",VLOOKUP($B106,部員名簿!$A$5:$G$103,6,FALSE))","v":""},{"$f":"IF($B106=\"\",\"\",VLOOKUP($B106,部員名簿!$A$5:$G$103,4,FALSE))","v":""},{"$f":"IF($B106=\"\",\"\",VLOOKUP($B106,部員名簿!$A$5:$G$103,5,FALSE))","v":""},"","","",null,null,null,null,null,null,null,null,null,null,null,"由利"]
[21,null,"",{"$f":"IF($B107=\"\",\"\",VLOOKUP($B107,部員名簿!$A$5:$G$103,3,FALSE))","v":""},{"$f":"IF($B107=\"\",\"\",VLOOKUP($B107,部員名簿!$A$5:$G$103,6,FALSE))","v":""},{"$f":"IF($B107=\"\",\"\",VLOOKUP($B107,部員名簿!$A$5:$G$103,4,FALSE))","v":""},{"$f":"IF($B107=\"\",\"\",VLOOKUP($B107,部員名簿!$A$5:$G$103,5,FALSE))","v":""},"","","",null,null,null,null,null,null,null,null,null,null,null,"大内"]
[22,null,"",{"$f":"IF($B108=\"\",\"\",VLOOKUP($B108,部員名簿!$A$5:$G$103,3,FALSE))","v":""},{"$f":"IF($B108=\"\",\"\",VLOOKUP($B108,部員名簿!$A$5:$G$103,6,FALSE))","v":""},{"$f":"IF($B108=\"\",\"\",VLOOKUP($B108,部員名簿!$A$5:$G$103,4,FALSE))","v":""},{"$f":"IF($B108=\"\",\"\",VLOOKUP($B108,部員名簿!$A$5:$G$103,5,FALSE))","v":""},"","","",null,null,null,null,null,null,null,null,null,null,null,"出羽"]
[23,null,"",{"$f":"IF($B109=\"\",\"\",VLOOKUP($B109,部員名簿!$A$5:$G$103,3,FALSE))","v":""},{"$f":"IF($B109=\"\",\"\",VLOOKUP($B109,部員名簿!$A$5:$G$103,6,FALSE))","v":""},{"$f":"IF($B109=\"\",\"\",VLOOKUP($B109,部員名簿!$A$5:$G$103,4,FALSE))","v":""},{"$f":"IF($B109=\"\",\"\",VLOOKUP($B109,部員名簿!$A$5:$G$103,5,FALSE))","v":""},"","","",null,null,null,null,null,null,null,null,null,null,null,"西目"]
[24,null,"",{"$f":"IF($B110=\"\",\"\",VLOOKUP($B110,部員名簿!$A$5:$G$103,3,FALSE))","v":""},{"$f":"IF($B110=\"\",\"\",VLOOKUP($B110,部員名簿!$A$5:$G$103,6,FALSE))","v":""},{"$f":"IF($B110=\"\",\"\",VLOOKUP($B110,部員名簿!$A$5:$G$103,4,FALSE))","v":""},{"$f":"IF($B110=\"\",\"\",VLOOKUP($B110,部員名簿!$A$5:$G$103,5,FALSE))","v":""},"","","",null,null,null,null,null,null,null,null,null,null,null,"鳥海"]
[25,null,"",{"$f":"IF($B111=\"\",\"\",VLOOKUP($B111,部員名簿!$A$5:$G$103,3,FALSE))","v":""},{"$f":"IF($B111=\"\",\"\",VLOOKUP($B111,部員名簿!$A$5:$G$103,6,FALSE))","v":""},{"$f":"IF($B111=\"\",\"\",VLOOKUP($B111,部員名簿!$A$5:$G$103,4,FALSE))","v":""},{"$f":"IF($B111=\"\",\"\",VLOOKUP($B111,部員名簿!$A$5:$G$103,5,FALSE))","v":""},"","","",null,null,null,null,null,null,null,null,null,null,null,"東由利"]
[26,null,"",{"$f":"IF($B112=\"\",\"\",VLOOKUP($B112,部員名簿!$A$5:$G$103,3,FALSE))","v":""},{"$f":"IF($B112=\"\",\"\",VLOOKUP($B112,部員名簿!$A$5:$G$103,6,FALSE))","v":""},{"$f":"IF($B112=\"\",\"\",VLOOKUP($B112,部員名簿!$A$5:$G$103,4,FALSE))","v":""},{"$f":"IF($B112=\"\",\"\",VLOOKUP($B112,部員名簿!$A$5:$G$103,5,FALSE))","v":""},"","","",null,null,null,null,null,null,null,null,null,null,null,"大曲"]
[27,null,"",{"$f":"IF($B113=\"\",\"\",VLOOKUP($B113,部員名簿!$A$5:$G$103,3,FALSE))","v":""},{"$f":"IF($B113=\"\",\"\",VLOOKUP($B113,部員名簿!$A$5:$G$103,6,FALSE))","v":""},{"$f":"IF($B113=\"\",\"\",VLOOKUP($B113,部員名簿!$A$5:$G$103,4,FALSE))","v":""},{"$f":"IF($B113=\"\",\"\",VLOOKUP($B113,部員名簿!$A$5:$G$103,5,FALSE))","v":""},"","","",null,null,null,null,null,null,null,null,null,null,null,"大曲西"]
[28,null,"",{"$f":"IF($B114=\"\",\"\",VLOOKUP($B114,部員名簿!$A$5:$G$103,3,FALSE))","v":""},{"$f":"IF($B114=\"\",\"\",VLOOKUP($B114,部員名簿!$A$5:$G$103,6,FALSE))","v":""},{"$f":"IF($B114=\"\",\"\",VLOOKUP($B114,部員名簿!$A$5:$G$103,4,FALSE))","v":""},{"$f":"IF($B114=\"\",\"\",VLOOKUP($B114,部員名簿!$A$5:$G$103,5,FALSE))","v":""},"","","",null,null,null,null,null,null,null,null,null,null,null,"大曲南"]
[29,null,"",{"$f":"IF($B115=\"\",\"\",VLOOKUP($B115,部員名簿!$A$5:$G$103,3,FALSE))","v":""},{"$f":"IF($B115=\"\",\"\",VLOOKUP($B115,部員名簿!$A$5:$G$103,6,FALSE))","v":""},{"$f":"IF($B115=\"\",\"\",VLOOKUP($B115,部員名簿!$A$5:$G$103,4,FALSE))","v":""},{"$f":"IF($B115=\"\",\"\",VLOOKUP($B115,部員名簿!$A$5:$G$103,5,FALSE))","v":""},"","","",null,null,null,null,null,null,null,null,null,null,null,"平和"]
[30,null,"",{"$f":"IF($B116=\"\",\"\",VLOOKUP($B116,部員名簿!$A$5:$G$103,3,FALSE))","v":""},{"$f":"IF($B116=\"\",\"\",VLOOKUP($B116,部員名簿!$A$5:$G$103,6,FALSE))","v":""},{"$f":"IF($B116=\"\",\"\",VLOOKUP($B116,部員名簿!$A$5:$G$103,4,FALSE))","v":""},{"$f":"IF($B116=\"\",\"\",VLOOKUP($B116,部員名簿!$A$5:$G$103,5,FALSE))","v":""},"","","",null,null,null,null,null,null,null,null,null,null,null,"西仙北東"]
[31,null,"",{"$f":"IF($B117=\"\",\"\",VLOOKUP($B117,部員名簿!$A$5:$G$103,3,FALSE))","v":""},{"$f":"IF($B117=\"\",\"\",VLOOKUP($B117,部員名簿!$A$5:$G$103,6,FALSE))","v":""},{"$f":"IF($B117=\"\",\"\",VLOOKUP($B117,部員名簿!$A$5:$G$103,4,FALSE))","v":""},{"$f":"IF($B117=\"\",\"\",VLOOKUP($B117,部員名簿!$A$5:$G$103,5,FALSE))","v":""},"","",{"$f":"IF(M117=\"\",\"\",VLOOKUP(M117,$S$87:$T$89,2,FALSE))","v":""},null,null,null,null,null,null,null,null,null,null,null,"西仙北西"]
[32,null,"",{"$f":"IF($B118=\"\",\"\",VLOOKUP($B118,部員名簿!$A$5:$G$103,3,FALSE))","v":""},{"$f":"IF($B118=\"\",\"\",VLOOKUP($B118,部員名簿!$A$5:$G$103,6,FALSE))","v":""},{"$f":"IF($B118=\"\",\"\",VLOOKUP($B118,部員名簿!$A$5:$G$103,4,FALSE))","v":""},{"$f":"IF($B118=\"\",\"\",VLOOKUP($B118,部員名簿!$A$5:$G$103,5,FALSE))","v":""},"","","",null,null,null,null,null,null,null,null,null,null,null,"角館"]
[33,null,"",{"$f":"IF($B119=\"\",\"\",VLOOKUP($B119,部員名簿!$A$5:$G$103,3,FALSE))","v":""},{"$f":"IF($B119=\"\",\"\",VLOOKUP($B119,部員名簿!$A$5:$G$103,6,FALSE))","v":""},{"$f":"IF($B119=\"\",\"\",VLOOKUP($B119,部員名簿!$A$5:$G$103,4,FALSE))","v":""},{"$f":"IF($B119=\"\",\"\",VLOOKUP($B119,部員名簿!$A$5:$G$103,5,FALSE))","v":""},{"$f":"IF(K119=\"\",\"\",VLOOKUP(K119,$Q$87:$R$102,2,FALSE))","v":""},"",""]
[34,null,"",{"$f":"IF($B120=\"\",\"\",VLOOKUP($B120,部員名簿!$A$5:$G$103,3,FALSE))","v":""},{"$f":"IF($B120=\"\",\"\",VLOOKUP($B120,部員名簿!$A$5:$G$103,6,FALSE))","v":""},{"$f":"IF($B120=\"\",\"\",VLOOKUP($B120,部員名簿!$A$5:$G$103,4,FALSE))","v":""},{"$f":"IF($B120=\"\",\"\",VLOOKUP($B120,部員名簿!$A$5:$G$103,5,FALSE))","v":""},"","","",null,null,null,null,null,null,"低リレー",{"$f":"COUNTIF($J$87:$J$123,51)","v":0}]
[35,null,"",{"$f":"IF($B121=\"\",\"\",VLOOKUP($B121,部員名簿!$A$5:$G$103,3,FALSE))","v":""},{"$f":"IF($B121=\"\",\"\",VLOOKUP($B121,部員名簿!$A$5:$G$103,6,FALSE))","v":""},{"$f":"IF($B121=\"\",\"\",VLOOKUP($B121,部員名簿!$A$5:$G$103,4,FALSE))","v":""},{"$f":"IF($B121=\"\",\"\",VLOOKUP($B121,部員名簿!$A$5:$G$103,5,FALSE))","v":""},"","",""]
[36,null,"",{"$f":"IF($B122=\"\",\"\",VLOOKUP($B122,部員名簿!$A$5:$G$103,3,FALSE))","v":""},{"$f":"IF($B122=\"\",\"\",VLOOKUP($B122,部員名簿!$A$5:$G$103,6,FALSE))","v":""},{"$f":"IF($B122=\"\",\"\",VLOOKUP($B122,部員名簿!$A$5:$G$103,4,FALSE))","v":""},{"$f":"IF($B122=\"\",\"\",VLOOKUP($B122,部員名簿!$A$5:$G$103,5,FALSE))","v":""},"","","",null,null,null,null,null,null,"共通リレー",{"$f":"COUNTIF($J$87:$J$123,52)","v":0}]
[37,null,"",{"$f":"IF($B123=\"\",\"\",VLOOKUP($B123,部員名簿!$A$5:$G$103,3,FALSE))","v":""},{"$f":"IF($B123=\"\",\"\",VLOOKUP($B123,部員名簿!$A$5:$G$103,6,FALSE))","v":""},{"$f":"IF($B123=\"\",\"\",VLOOKUP($B123,部員名簿!$A$5:$G$103,4,FALSE))","v":""},{"$f":"IF($B123=\"\",\"\",VLOOKUP($B123,部員名簿!$A$5:$G$103,5,FALSE))","v":""},"","",""]
[null,null,null,null,null,null,null,null,null,null,null,null,null,null,null,null,null,null,null,null,null,"六郷"]
[null,null,null,null,null,null,null,null,null,null,null,null,null,null,null,null,null,null,null,null,null,"中仙"]
[null,null,null,null,null,null,null,null,null,null,null,null,null,null,null,null,null,null,null,null,null,"豊成"]
[null,null,null,null,null,null,null,null,null,null,null,null,null,null,null,null,null,null,null,null,null,"生保内"]
[null,null,null,null,null,null,null,null,null,null,null,null,null,null,null,null,null,null,null,null,null,"神代"]
[null,"低学年４×１００ｍＲ",null,null,null,null,null,null,null,null,null,null,null,null,null,null,null,null,null,null,null,"協和"]
[null,null,null,null,null,null,null,null,null,null,null,null,null,null,null,null,null,null,null,null,null,"太田"]
[null,null,null,null,null,null,null,null,null,null,null,null,null,null,null,null,null,null,null,null,null,"南外"]
[null,null,null,null,null,null,null,null,null,null,null,null,null,null,null,null,null,null,null,null,null,"仙北"]
[null,null,null,null,null,null,null,null,null,null,null,null,null,null,null,null,null,null,null,null,null,"西明寺"]
[null,null,null,null,null,null,null,null,null,null,null,null,null,null,null,null,null,null,null,null,null,"檜木内"]
[null,null,null,null,null,null,null,null,null,null,null,null,null,null,null,null,null,null,null,null,null,"千畑"]
[null,null,null,null,null,null,null,null,null,null,null,null,null,null,null,null,null,null,null,null,null,"仙南"]
[null,"共通４×1００ｍＲ",null,null,null,null,null,null,null,null,null,null,null,null,null,null,null,null,null,null,null,"鳳"]
[null,null,null,null,null,null,null,null,null,null,null,null,null,null,null,null,null,null,null,null,null,"横手西"]
[null,null,null,null,null,null,null,null,null,null,null,null,null,null,null,null,null,null,null,null,null,"金沢"]
[null,null,null,null,null,null,null,null,null,null,null,null,null,null,null,null,null,null,null,null,null,"横手南"]
[null,null,null,null,null,null,null,null,null,null,null,null,null,null,null,null,null,null,null,null,null,"増田"]
[null,null,null,null,null,null,null,null,null,null,null,null,null,null,null,null,null,null,null,null,null,"平鹿"]
[null,null,null,null,null,null,null,null,null,null,null,null,null,null,null,null,null,null,null,null,null,"雄物川"]
[null,null,null,null,null,null,null,null,null,null,null,null,null,null,null,null,null,null,null,null,null,"大森"]
[null,null,null,null,null,null,null,null,null,null,null,null,null,null,null,null,null,null,null,null,null,"十文字"]
[null,null,null,null,null,null,null,null,null,null,null,null,null,null,null,null,null,null,null,null,null,"十文字西"]
[null,null,null,null,null,null,null,null,null,null,null,null,null,null,null,null,null,null,null,null,null,"山内"]
[null,null,null,null,null,null,null,null,null,null,null,null,null,null,null,null,null,null,null,null,null,"大雄"]
[null,null,null,null,null,null,null,null,null,null,null,null,null,null,null,null,null,null,null,null,null,"横手清陵学院"]
[null,null,null,null,null,null,null,null,null,null,null,null,null,null,null,null,null,null,null,null,null,"湯沢北"]
[null,null,null,null,null,null,null,null,null,null,null,null,null,null,null,null,null,null,null,null,null,"山田"]
[null,null,null,null,null,null,null,null,null,null,null,null,null,null,null,null,null,null,null,null,null,"須川"]
[null,null,null,null,null,null,null,null,null,null,null,null,null,null,null,null,null,null,null,null,null,"湯沢南"]
[null,null,null,null,null,null,null,null,null,null,null,null,null,null,null,null,null,null,null,null,null,"稲川"]
[null,null,null,null,null,null,null,null,null,null,null,null,null,null,null,null,null,null,null,null,null,"雄勝"]
[null,null,null,null,null,null,null,null,null,null,null,null,null,null,null,null,null,null,null,null,null,"三輪"]
[null,null,null,null,null,null,null,null,null,null,null,null,null,null,null,null,null,null,null,null,null,"高瀬"]
[null,null,null,null,null,null,null,null,null,null,null,null,null,null,null,null,null,null,null,null,null,"羽後"]
[null,null,null,null,null,null,null,null,null,null,null,null,null,null,null,null,null,null,null,null,null,"東成瀬"]
[null,null,null,null,null,null,null,null,null,null,null,null,null,null,null,null,null,null,null,null,null,"皆瀬"]

{"sheet":"男一覧","index":2,"n_rows":77,"n_cols":46,"rows_kept":77,"cut":false,"hidden":false,"merged":[[0,0,0,23],[50,1,50,22],[60,2,61,3],[2,25,2,26],[0,26,1,26],[56,9,56,13],[52,12,52,20],[56,2,56,5],[56,14,56,20],[1,2,1,11],[2,21,2,22],[52,10,52,11],[48,0,48,13],[2,2,2,11],[47,15,47,22],[2,15,2,18],[2,19,2,20],[52,1,52,7]]}
[{"$f":"\"第\"&部員名簿!A116&\"回　秋田市中学校総合体育大会　陸上競技大会　参加申込書一覧[男子]\"","v":"第74回　秋田市中学校総合体育大会　陸上競技大会　参加申込書一覧[男子]"}]
[null,"学校名(",{"$f":"IF(B53=\"\",\"\",B53)","v":""},null,null,null,null,null,null,null,null,null,")"]
[null,"監督名(",{"$f":"IF(総体入力!D4=\"\",\"\",総体入力!D4)","v":""},null,null,null,null,null,null,null,null,null,")",null,null,"参加人数（",null,null,null,{"$f":"IF(COUNTA(総体入力!B11:B51)=0,\"\",COUNTA(総体入力!B11:B51))","v":""},null,"）名"]
["ナンバー\nカード","氏　　名","フリガナ","学年","１年\n100","２年\n100","３年\n100","共通\n200","共通\n400","共通\n800","１年\n1500","２３年\n1500","共通\n3000","共通\n110H","共通\n走高","共通\n棒高","共通\n走幅","共通\n砲丸","共通\n四種","低\n400R","共通\n400R","奨励\n100","奨励\n1500","奨励\n走幅"]
[{"$f":"IF(総体入力!B11=\"\",\"\",総体入力!B11)","v":""},{"$f":"IF(総体入力!D11=\"\",\"\",総体入力!D11)","v":""},{"$f":"IF(総体入力!F11=\"\",\"\",総体入力!F11)","v":""},{"$f":"IF(総体入力!E11=\"\",\"\",総体入力!E11)","v":""},{"$f":"IF(OR(総体入力!$H11=1,総体入力!$I11=1),\"○\",\"\")","v":""},{"$f":"IF(OR(総体入力!$H11=2,総体入力!$I11=2),\"○\",\"\")","v":""},{"$f":"IF(OR(総体入力!$H11=3,総体入力!$I11=3),\"○\",\"\")","v":""},{"$f":"IF(OR(総体入力!$H11=4,総体入力!$I11=4),\"○\",\"\")","v":""},{"$f":"IF(OR(総体入力!$H11=5,総体入力!$I11=5),\"○\",\"\")","v":""},{"$f":"IF(OR(総体入力!$H11=6,総体入力!$I11=6),\"○\",\"\")","v":""},{"$f":"IF(OR(総体入力!$H11=7,総体入力!$I11=7),\"○\",\"\")","v":""},{"$f":"IF(OR(総体入力!$H11=8,総体入力!$I11=8),\"○\",\"\")","v":""},{"$f":"IF(OR(総体入力!$H11=9,総体入力!$I11=9),\"○\",\"\")","v":""},{"$f":"IF(OR(総体入力!$H11=10,総体入力!$I11=10),\"○\",\"\")","v":""},{"$f":"IF(OR(総体入力!$H11=11,総体入力!$I11=11),\"○\",\"\")","v":""},{"$f":"IF(OR(総体入力!$H11=12,総体入力!$I11=12),\"○\",\"\")","v":""},{"$f":"IF(OR(総体入力!$H11=13,総体入力!$I11=13),\"○\",\"\")","v":""},{"$f":"IF(OR(総体入力!$H11=14,総体入力!$I11=14),\"○\",\"\")","v":""},{"$f":"IF(OR(総体入力!$H11=15,総体入力!$I11=15),\"○\",\"\")","v":""},{"$f":"IF(総体入力!$J11=21,\"○\",\"\")","v":""},{"$f":"IF(総体入力!$J11=22,\"○\",\"\")","v":""},{"$f":"IF(OR(総体入力!$H11=16,総体入力!$I11=16),\"○\",\"\")","v":""},{"$f":"IF(OR(総体入力!$H11=17,総体入力!$I11=17),\"○\",\"\")","v":""},{"$f":"IF(OR(総体入力!$H11=18,総体入力!$I11=18),\"○\",\"\")","v":""},{"$f":"IF(総体入力!N11=\"\",\"\",総体入力!N11)","v":""},null,null,null,null,null,null,null,null,null,null,null,null,null,null,null,null,null,null,null,null,"○"]
[{"$f":"IF(総体入力!B12=\"\",\"\",総体入力!B12)","v":""},{"$f":"IF(総体入力!D12=\"\",\"\",総体入力!D12)","v":""},{"$f":"IF(総体入力!F12=\"\",\"\",総体入力!F12)","v":""},{"$f":"IF(総体入力!E12=\"\",\"\",総体入力!E12)","v":""},{"$f":"IF(OR(総体入力!$H12=1,総体入力!$I12=1),\"○\",\"\")","v":""},{"$f":"IF(OR(総体入力!$H12=2,総体入力!$I12=2),\"○\",\"\")","v":""},{"$f":"IF(OR(総体入力!$H12=3,総体入力!$I12=3),\"○\",\"\")","v":""},{"$f":"IF(OR(総体入力!$H12=4,総体入力!$I12=4),\"○\",\"\")","v":""},{"$f":"IF(OR(総体入力!$H12=5,総体入力!$I12=5),\"○\",\"\")","v":""},{"$f":"IF(OR(総体入力!$H12=6,総体入力!$I12=6),\"○\",\"\")","v":""},{"$f":"IF(OR(総体入力!$H12=7,総体入力!$I12=7),\"○\",\"\")","v":""},{"$f":"IF(OR(総体入力!$H12=8,総体入力!$I12=8),\"○\",\"\")","v":""},{"$f":"IF(OR(総体入力!$H12=9,総体入力!$I12=9),\"○\",\"\")","v":""},{"$f":"IF(OR(総体入力!$H12=10,総体入力!$I12=10),\"○\",\"\")","v":""},{"$f":"IF(OR(総体入力!$H12=11,総体入力!$I12=11),\"○\",\"\")","v":""},{"$f":"IF(OR(総体入力!$H12=12,総体入力!$I12=12),\"○\",\"\")","v":""},{"$f":"IF(OR(総体入力!$H12=13,総体入力!$I12=13),\"○\",\"\")","v":""},{"$f":"IF(OR(総体入力!$H12=14,総体入力!$I12=14),\"○\",\"\")","v":""},{"$f":"IF(OR(総体入力!$H12=15,総体入力!$I12=15),\"○\",\"\")","v":""},{"$f":"IF(総体入力!$J12=21,\"○\",\"\")","v":""},{"$f":"IF(総体入力!$J12=22,\"○\",\"\")","v":""},{"$f":"IF(OR(総体入力!$H12=16,総体入力!$I12=16),\"○\",\"\")","v":""},{"$f":"IF(OR(総体入力!$H12=17,総体入力!$I12=17),\"○\",\"\")","v":""},{"$f":"IF(OR(総体入力!$H12=18,総体入力!$I12=18),\"○\",\"\")","v":""},{"$f":"IF(総体入力!N12=\"\",\"\",総体入力!N12)","v":""}]
[{"$f":"IF(総体入力!B13=\"\",\"\",総体入力!B13)","v":""},{"$f":"IF(総体入力!D13=\"\",\"\",総体入力!D13)","v":""},{"$f":"IF(総体入力!F13=\"\",\"\",総体入力!F13)","v":""},{"$f":"IF(総体入力!E13=\"\",\"\",総体入力!E13)","v":""},{"$f":"IF(OR(総体入力!$H13=1,総体入力!$I13=1),\"○\",\"\")","v":""},{"$f":"IF(OR(総体入力!$H13=2,総体入力!$I13=2),\"○\",\"\")","v":""},{"$f":"IF(OR(総体入力!$H13=3,総体入力!$I13=3),\"○\",\"\")","v":""},{"$f":"IF(OR(総体入力!$H13=4,総体入力!$I13=4),\"○\",\"\")","v":""},{"$f":"IF(OR(総体入力!$H13=5,総体入力!$I13=5),\"○\",\"\")","v":""},{"$f":"IF(OR(総体入力!$H13=6,総体入力!$I13=6),\"○\",\"\")","v":""},{"$f":"IF(OR(総体入力!$H13=7,総体入力!$I13=7),\"○\",\"\")","v":""},{"$f":"IF(OR(総体入力!$H13=8,総体入力!$I13=8),\"○\",\"\")","v":""},{"$f":"IF(OR(総体入力!$H13=9,総体入力!$I13=9),\"○\",\"\")","v":""},{"$f":"IF(OR(総体入力!$H13=10,総体入力!$I13=10),\"○\",\"\")","v":""},{"$f":"IF(OR(総体入力!$H13=11,総体入力!$I13=11),\"○\",\"\")","v":""},{"$f":"IF(OR(総体入力!$H13=12,総体入力!$I13=12),\"○\",\"\")","v":""},{"$f":"IF(OR(総体入力!$H13=13,総体入力!$I13=13),\"○\",\"\")","v":""},{"$f":"IF(OR(総体入力!$H13=14,総体入力!$I13=14),\"○\",\"\")","v":""},{"$f":"IF(OR(総体入力!$H13=15,総体入力!$I13=15),\"○\",\"\")","v":""},{"$f":"IF(総体入力!$J13=21,\"○\",\"\")","v":""},{"$f":"IF(総体入力!$J13=22,\"○\",\"\")","v":""},{"$f":"IF(OR(総体入力!$H13=16,総体入力!$I13=16),\"○\",\"\")","v":""},{"$f":"IF(OR(総体入力!$H13=17,総体入力!$I13=17),\"○\",\"\")","v":""},{"$f":"IF(OR(総体入力!$H13=18,総体入力!$I13=18),\"○\",\"\")","v":""},{"$f":"IF(総体入力!N13=\"\",\"\",総体入力!N13)","v":""}]
[{"$f":"IF(総体入力!B14=\"\",\"\",総体入力!B14)","v":""},{"$f":"IF(総体入力!D14=\"\",\"\",総体入力!D14)","v":""},{"$f":"IF(総体入力!F14=\"\",\"\",総体入力!F14)","v":""},{"$f":"IF(総体入力!E14=\"\",\"\",総体入力!E14)","v":""},{"$f":"IF(OR(総体入力!$H14=1,総体入力!$I14=1),\"○\",\"\")","v":""},{"$f":"IF(OR(総体入力!$H14=2,総体入力!$I14=2),\"○\",\"\")","v":""},{"$f":"IF(OR(総体入力!$H14=3,総体入力!$I14=3),\"○\",\"\")","v":""},{"$f":"IF(OR(総体入力!$H14=4,総体入力!$I14=4),\"○\",\"\")","v":""},{"$f":"IF(OR(総体入力!$H14=5,総体入力!$I14=5),\"○\",\"\")","v":""},{"$f":"IF(OR(総体入力!$H14=6,総体入力!$I14=6),\"○\",\"\")","v":""},{"$f":"IF(OR(総体入力!$H14=7,総体入力!$I14=7),\"○\",\"\")","v":""},{"$f":"IF(OR(総体入力!$H14=8,総体入力!$I14=8),\"○\",\"\")","v":""},{"$f":"IF(OR(総体入力!$H14=9,総体入力!$I14=9),\"○\",\"\")","v":""},{"$f":"IF(OR(総体入力!$H14=10,総体入力!$I14=10),\"○\",\"\")","v":""},{"$f":"IF(OR(総体入力!$H14=11,総体入力!$I14=11),\"○\",\"\")","v":""},{"$f":"IF(OR(総体入力!$H14=12,総体入力!$I14=12),\"○\",\"\")","v":""},{"$f":"IF(OR(総体入力!$H14=13,総体入力!$I14=13),\"○\",\"\")","v":""},{"$f":"IF(OR(総体入力!$H14=14,総体入力!$I14=14),\"○\",\"\")","v":""},{"$f":"IF(OR(総体入力!$H14=15,総体入力!$I14=15),\"○\",\"\")","v":""},{"$f":"IF(総体入力!$J14=21,\"○\",\"\")","v":""},{"$f":"IF(総体入力!$J14=22,\"○\",\"\")","v":""},{"$f":"IF(OR(総体入力!$H14=16,総体入力!$I14=16),\"○\",\"\")","v":""},{"$f":"IF(OR(総体入力!$H14=17,総体入力!$I14=17),\"○\",\"\")","v":""},{"$f":"IF(OR(総体入力!$H14=18,総体入力!$I14=18),\"○\",\"\")","v":""},{"$f":"IF(総体入力!N14=\"\",\"\",総体入力!N14)","v":""}]
[{"$f":"IF(総体入力!B15=\"\",\"\",総体入力!B15)","v":""},{"$f":"IF(総体入力!D15=\"\",\"\",総体入力!D15)","v":""},{"$f":"IF(総体入力!F15=\"\",\"\",総体入力!F15)","v":""},{"$f":"IF(総体入力!E15=\"\",\"\",総体入力!E15)","v":""},{"$f":"IF(OR(総体入力!$H15=1,総体入力!$I15=1),\"○\",\"\")","v":""},{"$f":"IF(OR(総体入力!$H15=2,総体入力!$I15=2),\"○\",\"\")","v":""},{"$f":"IF(OR(総体入力!$H15=3,総体入力!$I15=3),\"○\",\"\")","v":""},{"$f":"IF(OR(総体入力!$H15=4,総体入力!$I15=4),\"○\",\"\")","v":""},{"$f":"IF(OR(総体入力!$H15=5,総体入力!$I15=5),\"○\",\"\")","v":""},{"$f":"IF(OR(総体入力!$H15=6,総体入力!$I15=6),\"○\",\"\")","v":""},{"$f":"IF(OR(総体入力!$H15=7,総体入力!$I15=7),\"○\",\"\")","v":""},{"$f":"IF(OR(総体入力!$H15=8,総体入力!$I15=8),\"○\",\"\")","v":""},{"$f":"IF(OR(総体入力!$H15=9,総体入力!$I15=9),\"○\",\"\")","v":""},{"$f":"IF(OR(総体入力!$H15=10,総体入力!$I15=10),\"○\",\"\")","v":""},{"$f":"IF(OR(総体入力!$H15=11,総体入力!$I15=11),\"○\",\"\")","v":""},{"$f":"IF(OR(総体入力!$H15=12,総体入力!$I15=12),\"○\",\"\")","v":""},{"$f":"IF(OR(総体入力!$H15=13,総体入力!$I15=13),\"○\",\"\")","v":""},{"$f":"IF(OR(総体入力!$H15=14,総体入力!$I15=14),\"○\",\"\")","v":""},{"$f":"IF(OR(総体入力!$H15=15,総体入力!$I15=15),\"○\",\"\")","v":""},{"$f":"IF(総体入力!$J15=21,\"○\",\"\")","v":""},{"$f":"IF(総体入力!$J15=22,\"○\",\"\")","v":""},{"$f":"IF(OR(総体入力!$H15=16,総体入力!$I15=16),\"○\",\"\")","v":""},{"$f":"IF(OR(総体入力!$H15=17,総体入力!$I15=17),\"○\",\"\")","v":""},{"$f":"IF(OR(総体入力!$H15=18,総体入力!$I15=18),\"○\",\"\")","v":""},{"$f":"IF(総体入力!N15=\"\",\"\",総体入力!N15)","v":""}]
[{"$f":"IF(総体入力!B16=\"\",\"\",総体入力!B16)","v":""},{"$f":"IF(総体入力!D16=\"\",\"\",総体入力!D16)","v":""},{"$f":"IF(総体入力!F16=\"\",\"\",総体入力!F16)","v":""},{"$f":"IF(総体入力!E16=\"\",\"\",総体入力!E16)","v":""},{"$f":"IF(OR(総体入力!$H16=1,総体入力!$I16=1),\"○\",\"\")","v":""},{"$f":"IF(OR(総体入力!$H16=2,総体入力!$I16=2),\"○\",\"\")","v":""},{"$f":"IF(OR(総体入力!$H16=3,総体入力!$I16=3),\"○\",\"\")","v":""},{"$f":"IF(OR(総体入力!$H16=4,総体入力!$I16=4),\"○\",\"\")","v":""},{"$f":"IF(OR(総体入力!$H16=5,総体入力!$I16=5),\"○\",\"\")","v":""},{"$f":"IF(OR(総体入力!$H16=6,総体入力!$I16=6),\"○\",\"\")","v":""},{"$f":"IF(OR(総体入力!$H16=7,総体入力!$I16=7),\"○\",\"\")","v":""},{"$f":"IF(OR(総体入力!$H16=8,総体入力!$I16=8),\"○\",\"\")","v":""},{"$f":"IF(OR(総体入力!$H16=9,総体入力!$I16=9),\"○\",\"\")","v":""},{"$f":"IF(OR(総体入力!$H16=10,総体入力!$I16=10),\"○\",\"\")","v":""},{"$f":"IF(OR(総体入力!$H16=11,総体入力!$I16=11),\"○\",\"\")","v":""},{"$f":"IF(OR(総体入力!$H16=12,総体入力!$I16=12),\"○\",\"\")","v":""},{"$f":"IF(OR(総体入力!$H16=13,総体入力!$I16=13),\"○\",\"\")","v":""},{"$f":"IF(OR(総体入力!$H16=14,総体入力!$I16=14),\"○\",\"\")","v":""},{"$f":"IF(OR(総体入力!$H16=15,総体入力!$I16=15),\"○\",\"\")","v":""},{"$f":"IF(総体入力!$J16=21,\"○\",\"\")","v":""},{"$f":"IF(総体入力!$J16=22,\"○\",\"\")","v":""},{"$f":"IF(OR(総体入力!$H16=16,総体入力!$I16=16),\"○\",\"\")","v":""},{"$f":"IF(OR(総体入力!$H16=17,総体入力!$I16=17),\"○\",\"\")","v":""},{"$f":"IF(OR(総体入力!$H16=18,総体入力!$I16=18),\"○\",\"\")","v":""},{"$f":"IF(総体入力!N16=\"\",\"\",総体入力!N16)","v":""}]
[{"$f":"IF(総体入力!B17=\"\",\"\",総体入力!B17)","v":""},{"$f":"IF(総体入力!D17=\"\",\"\",総体入力!D17)","v":""},{"$f":"IF(総体入力!F17=\"\",\"\",総体入力!F17)","v":""},{"$f":"IF(総体入力!E17=\"\",\"\",総体入力!E17)","v":""},{"$f":"IF(OR(総体入力!$H17=1,総体入力!$I17=1),\"○\",\"\")","v":""},{"$f":"IF(OR(総体入力!$H17=2,総体入力!$I17=2),\"○\",\"\")","v":""},{"$f":"IF(OR(総体入力!$H17=3,総体入力!$I17=3),\"○\",\"\")","v":""},{"$f":"IF(OR(総体入力!$H17=4,総体入力!$I17=4),\"○\",\"\")","v":""},{"$f":"IF(OR(総体入力!$H17=5,総体入力!$I17=5),\"○\",\"\")","v":""},{"$f":"IF(OR(総体入力!$H17=6,総体入力!$I17=6),\"○\",\"\")","v":""},{"$f":"IF(OR(総体入力!$H17=7,総体入力!$I17=7),\"○\",\"\")","v":""},{"$f":"IF(OR(総体入力!$H17=8,総体入力!$I17=8),\"○\",\"\")","v":""},{"$f":"IF(OR(総体入力!$H17=9,総体入力!$I17=9),\"○\",\"\")","v":""},{"$f":"IF(OR(総体入力!$H17=10,総体入力!$I17=10),\"○\",\"\")","v":""},{"$f":"IF(OR(総体入力!$H17=11,総体入力!$I17=11),\"○\",\"\")","v":""},{"$f":"IF(OR(総体入力!$H17=12,総体入力!$I17=12),\"○\",\"\")","v":""},{"$f":"IF(OR(総体入力!$H17=13,総体入力!$I17=13),\"○\",\"\")","v":""},{"$f":"IF(OR(総体入力!$H17=14,総体入力!$I17=14),\"○\",\"\")","v":""},{"$f":"IF(OR(総体入力!$H17=15,総体入力!$I17=15),\"○\",\"\")","v":""},{"$f":"IF(総体入力!$J17=21,\"○\",\"\")","v":""},{"$f":"IF(総体入力!$J17=22,\"○\",\"\")","v":""},{"$f":"IF(OR(総体入力!$H17=16,総体入力!$I17=16),\"○\",\"\")","v":""},{"$f":"IF(OR(総体入力!$H17=17,総体入力!$I17=17),\"○\",\"\")","v":""},{"$f":"IF(OR(総体入力!$H17=18,総体入力!$I17=18),\"○\",\"\")","v":""},{"$f":"IF(総体入力!N17=\"\",\"\",総体入力!N17)","v":""}]
[{"$f":"IF(総体入力!B18=\"\",\"\",総体入力!B18)","v":""},{"$f":"IF(総体入力!D18=\"\",\"\",総体入力!D18)","v":""},{"$f":"IF(総体入力!F18=\"\",\"\",総体入力!F18)","v":""},{"$f":"IF(総体入力!E18=\"\",\"\",総体入力!E18)","v":""},{"$f":"IF(OR(総体入力!$H18=1,総体入力!$I18=1),\"○\",\"\")","v":""},{"$f":"IF(OR(総体入力!$H18=2,総体入力!$I18=2),\"○\",\"\")","v":""},{"$f":"IF(OR(総体入力!$H18=3,総体入力!$I18=3),\"○\",\"\")","v":""},{"$f":"IF(OR(総体入力!$H18=4,総体入力!$I18=4),\"○\",\"\")","v":""},{"$f":"IF(OR(総体入力!$H18=5,総体入力!$I18=5),\"○\",\"\")","v":""},{"$f":"IF(OR(総体入力!$H18=6,総体入力!$I18=6),\"○\",\"\")","v":""},{"$f":"IF(OR(総体入力!$H18=7,総体入力!$I18=7),\"○\",\"\")","v":""},{"$f":"IF(OR(総体入力!$H18=8,総体入力!$I18=8),\"○\",\"\")","v":""},{"$f":"IF(OR(総体入力!$H18=9,総体入力!$I18=9),\"○\",\"\")","v":""},{"$f":"IF(OR(総体入力!$H18=10,総体入力!$I18=10),\"○\",\"\")","v":""},{"$f":"IF(OR(総体入力!$H18=11,総体入力!$I18=11),\"○\",\"\")","v":""},{"$f":"IF(OR(総体入力!$H18=12,総体入力!$I18=12),\"○\",\"\")","v":""},{"$f":"IF(OR(総体入力!$H18=13,総体入力!$I18=13),\"○\",\"\")","v":""},{"$f":"IF(OR(総体入力!$H18=14,総体入力!$I18=14),\"○\",\"\")","v":""},{"$f":"IF(OR(総体入力!$H18=15,総体入力!$I18=15),\"○\",\"\")","v":""},{"$f":"IF(総体入力!$J18=21,\"○\",\"\")","v":""},{"$f":"IF(総体入力!$J18=22,\"○\",\"\")","v":""},{"$f":"IF(OR(総体入力!$H18=16,総体入力!$I18=16),\"○\",\"\")","v":""},{"$f":"IF(OR(総体入力!$H18=17,総体入力!$I18=17),\"○\",\"\")","v":""},{"$f":"IF(OR(総体入力!$H18=18,総体入力!$I18=18),\"○\",\"\")","v":""},{"$f":"IF(総体入力!N18=\"\",\"\",総体入力!N18)","v":""}]
[{"$f":"IF(総体入力!B19=\"\",\"\",総体入力!B19)","v":""},{"$f":"IF(総体入力!D19=\"\",\"\",総体入力!D19)","v":""},{"$f":"IF(総体入力!F19=\"\",\"\",総体入力!F19)","v":""},{"$f":"IF(総体入力!E19=\"\",\"\",総体入力!E19)","v":""},{"$f":"IF(OR(総体入力!$H19=1,総体入力!$I19=1),\"○\",\"\")","v":""},{"$f":"IF(OR(総体入力!$H19=2,総体入力!$I19=2),\"○\",\"\")","v":""},{"$f":"IF(OR(総体入力!$H19=3,総体入力!$I19=3),\"○\",\"\")","v":""},{"$f":"IF(OR(総体入力!$H19=4,総体入力!$I19=4),\"○\",\"\")","v":""},{"$f":"IF(OR(総体入力!$H19=5,総体入力!$I19=5),\"○\",\"\")","v":""},{"$f":"IF(OR(総体入力!$H19=6,総体入力!$I19=6),\"○\",\"\")","v":""},{"$f":"IF(OR(総体入力!$H19=7,総体入力!$I19=7),\"○\",\"\")","v":""},{"$f":"IF(OR(総体入力!$H19=8,総体入力!$I19=8),\"○\",\"\")","v":""},{"$f":"IF(OR(総体入力!$H19=9,総体入力!$I19=9),\"○\",\"\")","v":""},{"$f":"IF(OR(総体入力!$H19=10,総体入力!$I19=10),\"○\",\"\")","v":""},{"$f":"IF(OR(総体入力!$H19=11,総体入力!$I19=11),\"○\",\"\")","v":""},{"$f":"IF(OR(総体入力!$H19=12,総体入力!$I19=12),\"○\",\"\")","v":""},{"$f":"IF(OR(総体入力!$H19=13,総体入力!$I19=13),\"○\",\"\")","v":""},{"$f":"IF(OR(総体入力!$H19=14,総体入力!$I19=14),\"○\",\"\")","v":""},{"$f":"IF(OR(総体入力!$H19=15,総体入力!$I19=15),\"○\",\"\")","v":""},{"$f":"IF(総体入力!$J19=21,\"○\",\"\")","v":""},{"$f":"IF(総体入力!$J19=22,\"○\",\"\")","v":""},{"$f":"IF(OR(総体入力!$H19=16,総体入力!$I19=16),\"○\",\"\")","v":""},{"$f":"IF(OR(総体入力!$H19=17,総体入力!$I19=17),\"○\",\"\")","v":""},{"$f":"IF(OR(総体入力!$H19=18,総体入力!$I19=18),\"○\",\"\")","v":""},{"$f":"IF(総体入力!N19=\"\",\"\",総体入力!N19)","v":""}]
[{"$f":"IF(総体入力!B20=\"\",\"\",総体入力!B20)","v":""},{"$f":"IF(総体入力!D20=\"\",\"\",総体入力!D20)","v":""},{"$f":"IF(総体入力!F20=\"\",\"\",総体入力!F20)","v":""},{"$f":"IF(総体入力!E20=\"\",\"\",総体入力!E20)","v":""},{"$f":"IF(OR(総体入力!$H20=1,総体入力!$I20=1),\"○\",\"\")","v":""},{"$f":"IF(OR(総体入力!$H20=2,総体入力!$I20=2),\"○\",\"\")","v":""},{"$f":"IF(OR(総体入力!$H20=3,総体入力!$I20=3),\"○\",\"\")","v":""},{"$f":"IF(OR(総体入力!$H20=4,総体入力!$I20=4),\"○\",\"\")","v":""},{"$f":"IF(OR(総体入力!$H20=5,総体入力!$I20=5),\"○\",\"\")","v":""},{"$f":"IF(OR(総体入力!$H20=6,総体入力!$I20=6),\"○\",\"\")","v":""},{"$f":"IF(OR(総体入力!$H20=7,総体入力!$I20=7),\"○\",\"\")","v":""},{"$f":"IF(OR(総体入力!$H20=8,総体入力!$I20=8),\"○\",\"\")","v":""},{"$f":"IF(OR(総体入力!$H20=9,総体入力!$I20=9),\"○\",\"\")","v":""},{"$f":"IF(OR(総体入力!$H20=10,総体入力!$I20=10),\"○\",\"\")","v":""},{"$f":"IF(OR(総体入力!$H20=11,総体入力!$I20=11),\"○\",\"\")","v":""},{"$f":"IF(OR(総体入力!$H20=12,総体入力!$I20=12),\"○\",\"\")","v":""},{"$f":"IF(OR(総体入力!$H20=13,総体入力!$I20=13),\"○\",\"\")","v":""},{"$f":"IF(OR(総体入力!$H20=14,総体入力!$I20=14),\"○\",\"\")","v":""},{"$f":"IF(OR(総体入力!$H20=15,総体入力!$I20=15),\"○\",\"\")","v":""},{"$f":"IF(総体入力!$J20=21,\"○\",\"\")","v":""},{"$f":"IF(総体入力!$J20=22,\"○\",\"\")","v":""},{"$f":"IF(OR(総体入力!$H20=16,総体入力!$I20=16),\"○\",\"\")","v":""},{"$f":"IF(OR(総体入力!$H20=17,総体入力!$I20=17),\"○\",\"\")","v":""},{"$f":"IF(OR(総体入力!$H20=18,総体入力!$I20=18),\"○\",\"\")","v":""},{"$f":"IF(総体入力!N20=\"\",\"\",総体入力!N20)","v":""}]
[{"$f":"IF(総体入力!B21=\"\",\"\",総体入力!B21)","v":""},{"$f":"IF(総体入力!D21=\"\",\"\",総体入力!D21)","v":""},{"$f":"IF(総体入力!F21=\"\",\"\",総体入力!F21)","v":""},{"$f":"IF(総体入力!E21=\"\",\"\",総体入力!E21)","v":""},{"$f":"IF(OR(総体入力!$H21=1,総体入力!$I21=1),\"○\",\"\")","v":""},{"$f":"IF(OR(総体入力!$H21=2,総体入力!$I21=2),\"○\",\"\")","v":""},{"$f":"IF(OR(総体入力!$H21=3,総体入力!$I21=3),\"○\",\"\")","v":""},{"$f":"IF(OR(総体入力!$H21=4,総体入力!$I21=4),\"○\",\"\")","v":""},{"$f":"IF(OR(総体入力!$H21=5,総体入力!$I21=5),\"○\",\"\")","v":""},{"$f":"IF(OR(総体入力!$H21=6,総体入力!$I21=6),\"○\",\"\")","v":""},{"$f":"IF(OR(総体入力!$H21=7,総体入力!$I21=7),\"○\",\"\")","v":""},{"$f":"IF(OR(総体入力!$H21=8,総体入力!$I21=8),\"○\",\"\")","v":""},{"$f":"IF(OR(総体入力!$H21=9,総体入力!$I21=9),\"○\",\"\")","v":""},{"$f":"IF(OR(総体入力!$H21=10,総体入力!$I21=10),\"○\",\"\")","v":""},{"$f":"IF(OR(総体入力!$H21=11,総体入力!$I21=11),\"○\",\"\")","v":""},{"$f":"IF(OR(総体入力!$H21=12,総体入力!$I21=12),\"○\",\"\")","v":""},{"$f":"IF(OR(総体入力!$H21=13,総体入力!$I21=13),\"○\",\"\")","v":""},{"$f":"IF(OR(総体入力!$H21=14,総体入力!$I21=14),\"○\",\"\")","v":""},{"$f":"IF(OR(総体入力!$H21=15,総体入力!$I21=15),\"○\",\"\")","v":""},{"$f":"IF(総体入力!$J21=21,\"○\",\"\")","v":""},{"$f":"IF(総体入力!$J21=22,\"○\",\"\")","v":""},{"$f":"IF(OR(総体入力!$H21=16,総体入力!$I21=16),\"○\",\"\")","v":""},{"$f":"IF(OR(総体入力!$H21=17,総体入力!$I21=17),\"○\",\"\")","v":""},{"$f":"IF(OR(総体入力!$H21=18,総体入力!$I21=18),\"○\",\"\")","v":""},{"$f":"IF(総体入力!N21=\"\",\"\",総体入力!N21)","v":""}]
[{"$f":"IF(総体入力!B22=\"\",\"\",総体入力!B22)","v":""},{"$f":"IF(総体入力!D22=\"\",\"\",総体入力!D22)","v":""},{"$f":"IF(総体入力!F22=\"\",\"\",総体入力!F22)","v":""},{"$f":"IF(総体入力!E22=\"\",\"\",総体入力!E22)","v":""},{"$f":"IF(OR(総体入力!$H22=1,総体入力!$I22=1),\"○\",\"\")","v":""},{"$f":"IF(OR(総体入力!$H22=2,総体入力!$I22=2),\"○\",\"\")","v":""},{"$f":"IF(OR(総体入力!$H22=3,総体入力!$I22=3),\"○\",\"\")","v":""},{"$f":"IF(OR(総体入力!$H22=4,総体入力!$I22=4),\"○\",\"\")","v":""},{"$f":"IF(OR(総体入力!$H22=5,総体入力!$I22=5),\"○\",\"\")","v":""},{"$f":"IF(OR(総体入力!$H22=6,総体入力!$I22=6),\"○\",\"\")","v":""},{"$f":"IF(OR(総体入力!$H22=7,総体入力!$I22=7),\"○\",\"\")","v":""},{"$f":"IF(OR(総体入力!$H22=8,総体入力!$I22=8),\"○\",\"\")","v":""},{"$f":"IF(OR(総体入力!$H22=9,総体入力!$I22=9),\"○\",\"\")","v":""},{"$f":"IF(OR(総体入力!$H22=10,総体入力!$I22=10),\"○\",\"\")","v":""},{"$f":"IF(OR(総体入力!$H22=11,総体入力!$I22=11),\"○\",\"\")","v":""},{"$f":"IF(OR(総体入力!$H22=12,総体入力!$I22=12),\"○\",\"\")","v":""},{"$f":"IF(OR(総体入力!$H22=13,総体入力!$I22=13),\"○\",\"\")","v":""},{"$f":"IF(OR(総体入力!$H22=14,総体入力!$I22=14),\"○\",\"\")","v":""},{"$f":"IF(OR(総体入力!$H22=15,総体入力!$I22=15),\"○\",\"\")","v":""},{"$f":"IF(総体入力!$J22=21,\"○\",\"\")","v":""},{"$f":"IF(総体入力!$J22=22,\"○\",\"\")","v":""},{"$f":"IF(OR(総体入力!$H22=16,総体入力!$I22=16),\"○\",\"\")","v":""},{"$f":"IF(OR(総体入力!$H22=17,総体入力!$I22=17),\"○\",\"\")","v":""},{"$f":"IF(OR(総体入力!$H22=18,総体入力!$I22=18),\"○\",\"\")","v":""},{"$f":"IF(総体入力!N22=\"\",\"\",総体入力!N22)","v":""}]
[{"$f":"IF(総体入力!B23=\"\",\"\",総体入力!B23)","v":""},{"$f":"IF(総体入力!D23=\"\",\"\",総体入力!D23)","v":""},{"$f":"IF(総体入力!F23=\"\",\"\",総体入力!F23)","v":""},{"$f":"IF(総体入力!E23=\"\",\"\",総体入力!E23)","v":""},{"$f":"IF(OR(総体入力!$H23=1,総体入力!$I23=1),\"○\",\"\")","v":""},{"$f":"IF(OR(総体入力!$H23=2,総体入力!$I23=2),\"○\",\"\")","v":""},{"$f":"IF(OR(総体入力!$H23=3,総体入力!$I23=3),\"○\",\"\")","v":""},{"$f":"IF(OR(総体入力!$H23=4,総体入力!$I23=4),\"○\",\"\")","v":""},{"$f":"IF(OR(総体入力!$H23=5,総体入力!$I23=5),\"○\",\"\")","v":""},{"$f":"IF(OR(総体入力!$H23=6,総体入力!$I23=6),\"○\",\"\")","v":""},{"$f":"IF(OR(総体入力!$H23=7,総体入力!$I23=7),\"○\",\"\")","v":""},{"$f":"IF(OR(総体入力!$H23=8,総体入力!$I23=8),\"○\",\"\")","v":""},{"$f":"IF(OR(総体入力!$H23=9,総体入力!$I23=9),\"○\",\"\")","v":""},{"$f":"IF(OR(総体入力!$H23=10,総体入力!$I23=10),\"○\",\"\")","v":""},{"$f":"IF(OR(総体入力!$H23=11,総体入力!$I23=11),\"○\",\"\")","v":""},{"$f":"IF(OR(総体入力!$H23=12,総体入力!$I23=12),\"○\",\"\")","v":""},{"$f":"IF(OR(総体入力!$H23=13,総体入力!$I23=13),\"○\",\"\")","v":""},{"$f":"IF(OR(総体入力!$H23=14,総体入力!$I23=14),\"○\",\"\")","v":""},{"$f":"IF(OR(総体入力!$H23=15,総体入力!$I23=15),\"○\",\"\")","v":""},{"$f":"IF(総体入力!$J23=21,\"○\",\"\")","v":""},{"$f":"IF(総体入力!$J23=22,\"○\",\"\")","v":""},{"$f":"IF(OR(総体入力!$H23=16,総体入力!$I23=16),\"○\",\"\")","v":""},{"$f":"IF(OR(総体入力!$H23=17,総体入力!$I23=17),\"○\",\"\")","v":""},{"$f":"IF(OR(総体入力!$H23=18,総体入力!$I23=18),\"○\",\"\")","v":""},{"$f":"IF(総体入力!N23=\"\",\"\",総体入力!N23)","v":""}]
[{"$f":"IF(総体入力!B24=\"\",\"\",総体入力!B24)","v":""},{"$f":"IF(総体入力!D24=\"\",\"\",総体入力!D24)","v":""},{"$f":"IF(総体入力!F24=\"\",\"\",総体入力!F24)","v":""},{"$f":"IF(総体入力!E24=\"\",\"\",総体入力!E24)","v":""},{"$f":"IF(OR(総体入力!$H24=1,総体入力!$I24=1),\"○\",\"\")","v":""},{"$f":"IF(OR(総体入力!$H24=2,総体入力!$I24=2),\"○\",\"\")","v":""},{"$f":"IF(OR(総体入力!$H24=3,総体入力!$I24=3),\"○\",\"\")","v":""},{"$f":"IF(OR(総体入力!$H24=4,総体入力!$I24=4),\"○\",\"\")","v":""},{"$f":"IF(OR(総体入力!$H24=5,総体入力!$I24=5),\"○\",\"\")","v":""},{"$f":"IF(OR(総体入力!$H24=6,総体入力!$I24=6),\"○\",\"\")","v":""},{"$f":"IF(OR(総体入力!$H24=7,総体入力!$I24=7),\"○\",\"\")","v":""},{"$f":"IF(OR(総体入力!$H24=8,総体入力!$I24=8),\"○\",\"\")","v":""},{"$f":"IF(OR(総体入力!$H24=9,総体入力!$I24=9),\"○\",\"\")","v":""},{"$f":"IF(OR(総体入力!$H24=10,総体入力!$I24=10),\"○\",\"\")","v":""},{"$f":"IF(OR(総体入力!$H24=11,総体入力!$I24=11),\"○\",\"\")","v":""},{"$f":"IF(OR(総体入力!$H24=12,総体入力!$I24=12),\"○\",\"\")","v":""},{"$f":"IF(OR(総体入力!$H24=13,総体入力!$I24=13),\"○\",\"\")","v":""},{"$f":"IF(OR(総体入力!$H24=14,総体入力!$I24=14),\"○\",\"\")","v":""},{"$f":"IF(OR(総体入力!$H24=15,総体入力!$I24=15),\"○\",\"\")","v":""},{"$f":"IF(総体入力!$J24=21,\"○\",\"\")","v":""},{"$f":"IF(総体入力!$J24=22,\"○\",\"\")","v":""},{"$f":"IF(OR(総体入力!$H24=16,総体入力!$I24=16),\"○\",\"\")","v":""},{"$f":"IF(OR(総体入力!$H24=17,総体入力!$I24=17),\"○\",\"\")","v":""},{"$f":"IF(OR(総体入力!$H24=18,総体入力!$I24=18),\"○\",\"\")","v":""},{"$f":"IF(総体入力!N24=\"\",\"\",総体入力!N24)","v":""}]
[{"$f":"IF(総体入力!B25=\"\",\"\",総体入力!B25)","v":""},{"$f":"IF(総体入力!D25=\"\",\"\",総体入力!D25)","v":""},{"$f":"IF(総体入力!F25=\"\",\"\",総体入力!F25)","v":""},{"$f":"IF(総体入力!E25=\"\",\"\",総体入力!E25)","v":""},{"$f":"IF(OR(総体入力!$H25=1,総体入力!$I25=1),\"○\",\"\")","v":""},{"$f":"IF(OR(総体入力!$H25=2,総体入力!$I25=2),\"○\",\"\")","v":""},{"$f":"IF(OR(総体入力!$H25=3,総体入力!$I25=3),\"○\",\"\")","v":""},{"$f":"IF(OR(総体入力!$H25=4,総体入力!$I25=4),\"○\",\"\")","v":""},{"$f":"IF(OR(総体入力!$H25=5,総体入力!$I25=5),\"○\",\"\")","v":""},{"$f":"IF(OR(総体入力!$H25=6,総体入力!$I25=6),\"○\",\"\")","v":""},{"$f":"IF(OR(総体入力!$H25=7,総体入力!$I25=7),\"○\",\"\")","v":""},{"$f":"IF(OR(総体入力!$H25=8,総体入力!$I25=8),\"○\",\"\")","v":""},{"$f":"IF(OR(総体入力!$H25=9,総体入力!$I25=9),\"○\",\"\")","v":""},{"$f":"IF(OR(総体入力!$H25=10,総体入力!$I25=10),\"○\",\"\")","v":""},{"$f":"IF(OR(総体入力!$H25=11,総体入力!$I25=11),\"○\",\"\")","v":""},{"$f":"IF(OR(総体入力!$H25=12,総体入力!$I25=12),\"○\",\"\")","v":""},{"$f":"IF(OR(総体入力!$H25=13,総体入力!$I25=13),\"○\",\"\")","v":""},{"$f":"IF(OR(総体入力!$H25=14,総体入力!$I25=14),\"○\",\"\")","v":""},{"$f":"IF(OR(総体入力!$H25=15,総体入力!$I25=15),\"○\",\"\")","v":""},{"$f":"IF(総体入力!$J25=21,\"○\",\"\")","v":""},{"$f":"IF(総体入力!$J25=22,\"○\",\"\")","v":""},{"$f":"IF(OR(総体入力!$H25=16,総体入力!$I25=16),\"○\",\"\")","v":""},{"$f":"IF(OR(総体入力!$H25=17,総体入力!$I25=17),\"○\",\"\")","v":""},{"$f":"IF(OR(総体入力!$H25=18,総体入力!$I25=18),\"○\",\"\")","v":""},{"$f":"IF(総体入力!N25=\"\",\"\",総体入力!N25)","v":""}]
[{"$f":"IF(総体入力!B26=\"\",\"\",総体入力!B26)","v":""},{"$f":"IF(総体入力!D26=\"\",\"\",総体入力!D26)","v":""},{"$f":"IF(総体入力!F26=\"\",\"\",総体入力!F26)","v":""},{"$f":"IF(総体入力!E26=\"\",\"\",総体入力!E26)","v":""},{"$f":"IF(OR(総体入力!$H26=1,総体入力!$I26=1),\"○\",\"\")","v":""},{"$f":"IF(OR(総体入力!$H26=2,総体入力!$I26=2),\"○\",\"\")","v":""},{"$f":"IF(OR(総体入力!$H26=3,総体入力!$I26=3),\"○\",\"\")","v":""},{"$f":"IF(OR(総体入力!$H26=4,総体入力!$I26=4),\"○\",\"\")","v":""},{"$f":"IF(OR(総体入力!$H26=5,総体入力!$I26=5),\"○\",\"\")","v":""},{"$f":"IF(OR(総体入力!$H26=6,総体入力!$I26=6),\"○\",\"\")","v":""},{"$f":"IF(OR(総体入力!$H26=7,総体入力!$I26=7),\"○\",\"\")","v":""},{"$f":"IF(OR(総体入力!$H26=8,総体入力!$I26=8),\"○\",\"\")","v":""},{"$f":"IF(OR(総体入力!$H26=9,総体入力!$I26=9),\"○\",\"\")","v":""},{"$f":"IF(OR(総体入力!$H26=10,総体入力!$I26=10),\"○\",\"\")","v":""},{"$f":"IF(OR(総体入力!$H26=11,総体入力!$I26=11),\"○\",\"\")","v":""},{"$f":"IF(OR(総体入力!$H26=12,総体入力!$I26=12),\"○\",\"\")","v":""},{"$f":"IF(OR(総体入力!$H26=13,総体入力!$I26=13),\"○\",\"\")","v":""},{"$f":"IF(OR(総体入力!$H26=14,総体入力!$I26=14),\"○\",\"\")","v":""},{"$f":"IF(OR(総体入力!$H26=15,総体入力!$I26=15),\"○\",\"\")","v":""},{"$f":"IF(総体入力!$J26=21,\"○\",\"\")","v":""},{"$f":"IF(総体入力!$J26=22,\"○\",\"\")","v":""},{"$f":"IF(OR(総体入力!$H26=16,総体入力!$I26=16),\"○\",\"\")","v":""},{"$f":"IF(OR(総体入力!$H26=17,総体入力!$I26=17),\"○\",\"\")","v":""},{"$f":"IF(OR(総体入力!$H26=18,総体入力!$I26=18),\"○\",\"\")","v":""},{"$f":"IF(総体入力!N26=\"\",\"\",総体入力!N26)","v":""}]
[{"$f":"IF(総体入力!B27=\"\",\"\",総体入力!B27)","v":""},{"$f":"IF(総体入力!D27=\"\",\"\",総体入力!D27)","v":""},{"$f":"IF(総体入力!F27=\"\",\"\",総体入力!F27)","v":""},{"$f":"IF(総体入力!E27=\"\",\"\",総体入力!E27)","v":""},{"$f":"IF(OR(総体入力!$H27=1,総体入力!$I27=1),\"○\",\"\")","v":""},{"$f":"IF(OR(総体入力!$H27=2,総体入力!$I27=2),\"○\",\"\")","v":""},{"$f":"IF(OR(総体入力!$H27=3,総体入力!$I27=3),\"○\",\"\")","v":""},{"$f":"IF(OR(総体入力!$H27=4,総体入力!$I27=4),\"○\",\"\")","v":""},{"$f":"IF(OR(総体入力!$H27=5,総体入力!$I27=5),\"○\",\"\")","v":""},{"$f":"IF(OR(総体入力!$H27=6,総体入力!$I27=6),\"○\",\"\")","v":""},{"$f":"IF(OR(総体入力!$H27=7,総体入力!$I27=7),\"○\",\"\")","v":""},{"$f":"IF(OR(総体入力!$H27=8,総体入力!$I27=8),\"○\",\"\")","v":""},{"$f":"IF(OR(総体入力!$H27=9,総体入力!$I27=9),\"○\",\"\")","v":""},{"$f":"IF(OR(総体入力!$H27=10,総体入力!$I27=10),\"○\",\"\")","v":""},{"$f":"IF(OR(総体入力!$H27=11,総体入力!$I27=11),\"○\",\"\")","v":""},{"$f":"IF(OR(総体入力!$H27=12,総体入力!$I27=12),\"○\",\"\")","v":""},{"$f":"IF(OR(総体入力!$H27=13,総体入力!$I27=13),\"○\",\"\")","v":""},{"$f":"IF(OR(総体入力!$H27=14,総体入力!$I27=14),\"○\",\"\")","v":""},{"$f":"IF(OR(総体入力!$H27=15,総体入力!$I27=15),\"○\",\"\")","v":""},{"$f":"IF(総体入力!$J27=21,\"○\",\"\")","v":""},{"$f":"IF(総体入力!$J27=22,\"○\",\"\")","v":""},{"$f":"IF(OR(総体入力!$H27=16,総体入力!$I27=16),\"○\",\"\")","v":""},{"$f":"IF(OR(総体入力!$H27=17,総体入力!$I27=17),\"○\",\"\")","v":""},{"$f":"IF(OR(総体入力!$H27=18,総体入力!$I27=18),\"○\",\"\")","v":""},{"$f":"IF(総体入力!N27=\"\",\"\",総体入力!N27)","v":""}]
[{"$f":"IF(総体入力!B28=\"\",\"\",総体入力!B28)","v":""},{"$f":"IF(総体入力!D28=\"\",\"\",総体入力!D28)","v":""},{"$f":"IF(総体入力!F28=\"\",\"\",総体入力!F28)","v":""},{"$f":"IF(総体入力!E28=\"\",\"\",総体入力!E28)","v":""},{"$f":"IF(OR(総体入力!$H28=1,総体入力!$I28=1),\"○\",\"\")","v":""},{"$f":"IF(OR(総体入力!$H28=2,総体入力!$I28=2),\"○\",\"\")","v":""},{"$f":"IF(OR(総体入力!$H28=3,総体入力!$I28=3),\"○\",\"\")","v":""},{"$f":"IF(OR(総体入力!$H28=4,総体入力!$I28=4),\"○\",\"\")","v":""},{"$f":"IF(OR(総体入力!$H28=5,総体入力!$I28=5),\"○\",\"\")","v":""},{"$f":"IF(OR(総体入力!$H28=6,総体入力!$I28=6),\"○\",\"\")","v":""},{"$f":"IF(OR(総体入力!$H28=7,総体入力!$I28=7),\"○\",\"\")","v":""},{"$f":"IF(OR(総体入力!$H28=8,総体入力!$I28=8),\"○\",\"\")","v":""},{"$f":"IF(OR(総体入力!$H28=9,総体入力!$I28=9),\"○\",\"\")","v":""},{"$f":"IF(OR(総体入力!$H28=10,総体入力!$I28=10),\"○\",\"\")","v":""},{"$f":"IF(OR(総体入力!$H28=11,総体入力!$I28=11),\"○\",\"\")","v":""},{"$f":"IF(OR(総体入力!$H28=12,総体入力!$I28=12),\"○\",\"\")","v":""},{"$f":"IF(OR(総体入力!$H28=13,総体入力!$I28=13),\"○\",\"\")","v":""},{"$f":"IF(OR(総体入力!$H28=14,総体入力!$I28=14),\"○\",\"\")","v":""},{"$f":"IF(OR(総体入力!$H28=15,総体入力!$I28=15),\"○\",\"\")","v":""},{"$f":"IF(総体入力!$J28=21,\"○\",\"\")","v":""},{"$f":"IF(総体入力!$J28=22,\"○\",\"\")","v":""},{"$f":"IF(OR(総体入力!$H28=16,総体入力!$I28=16),\"○\",\"\")","v":""},{"$f":"IF(OR(総体入力!$H28=17,総体入力!$I28=17),\"○\",\"\")","v":""},{"$f":"IF(OR(総体入力!$H28=18,総体入力!$I28=18),\"○\",\"\")","v":""},{"$f":"IF(総体入力!N28=\"\",\"\",総体入力!N28)","v":""}]
[{"$f":"IF(総体入力!B29=\"\",\"\",総体入力!B29)","v":""},{"$f":"IF(総体入力!D29=\"\",\"\",総体入力!D29)","v":""},{"$f":"IF(総体入力!F29=\"\",\"\",総体入力!F29)","v":""},{"$f":"IF(総体入力!E29=\"\",\"\",総体入力!E29)","v":""},{"$f":"IF(OR(総体入力!$H29=1,総体入力!$I29=1),\"○\",\"\")","v":""},{"$f":"IF(OR(総体入力!$H29=2,総体入力!$I29=2),\"○\",\"\")","v":""},{"$f":"IF(OR(総体入力!$H29=3,総体入力!$I29=3),\"○\",\"\")","v":""},{"$f":"IF(OR(総体入力!$H29=4,総体入力!$I29=4),\"○\",\"\")","v":""},{"$f":"IF(OR(総体入力!$H29=5,総体入力!$I29=5),\"○\",\"\")","v":""},{"$f":"IF(OR(総体入力!$H29=6,総体入力!$I29=6),\"○\",\"\")","v":""},{"$f":"IF(OR(総体入力!$H29=7,総体入力!$I29=7),\"○\",\"\")","v":""},{"$f":"IF(OR(総体入力!$H29=8,総体入力!$I29=8),\"○\",\"\")","v":""},{"$f":"IF(OR(総体入力!$H29=9,総体入力!$I29=9),\"○\",\"\")","v":""},{"$f":"IF(OR(総体入力!$H29=10,総体入力!$I29=10),\"○\",\"\")","v":""},{"$f":"IF(OR(総体入力!$H29=11,総体入力!$I29=11),\"○\",\"\")","v":""},{"$f":"IF(OR(総体入力!$H29=12,総体入力!$I29=12),\"○\",\"\")","v":""},{"$f":"IF(OR(総体入力!$H29=13,総体入力!$I29=13),\"○\",\"\")","v":""},{"$f":"IF(OR(総体入力!$H29=14,総体入力!$I29=14),\"○\",\"\")","v":""},{"$f":"IF(OR(総体入力!$H29=15,総体入力!$I29=15),\"○\",\"\")","v":""},{"$f":"IF(総体入力!$J29=21,\"○\",\"\")","v":""},{"$f":"IF(総体入力!$J29=22,\"○\",\"\")","v":""},{"$f":"IF(OR(総体入力!$H29=16,総体入力!$I29=16),\"○\",\"\")","v":""},{"$f":"IF(OR(総体入力!$H29=17,総体入力!$I29=17),\"○\",\"\")","v":""},{"$f":"IF(OR(総体入力!$H29=18,総体入力!$I29=18),\"○\",\"\")","v":""},{"$f":"IF(総体入力!N29=\"\",\"\",総体入力!N29)","v":""}]
[{"$f":"IF(総体入力!B30=\"\",\"\",総体入力!B30)","v":""},{"$f":"IF(総体入力!D30=\"\",\"\",総体入力!D30)","v":""},{"$f":"IF(総体入力!F30=\"\",\"\",総体入力!F30)","v":""},{"$f":"IF(総体入力!E30=\"\",\"\",総体入力!E30)","v":""},{"$f":"IF(OR(総体入力!$H30=1,総体入力!$I30=1),\"○\",\"\")","v":""},{"$f":"IF(OR(総体入力!$H30=2,総体入力!$I30=2),\"○\",\"\")","v":""},{"$f":"IF(OR(総体入力!$H30=3,総体入力!$I30=3),\"○\",\"\")","v":""},{"$f":"IF(OR(総体入力!$H30=4,総体入力!$I30=4),\"○\",\"\")","v":""},{"$f":"IF(OR(総体入力!$H30=5,総体入力!$I30=5),\"○\",\"\")","v":""},{"$f":"IF(OR(総体入力!$H30=6,総体入力!$I30=6),\"○\",\"\")","v":""},{"$f":"IF(OR(総体入力!$H30=7,総体入力!$I30=7),\"○\",\"\")","v":""},{"$f":"IF(OR(総体入力!$H30=8,総体入力!$I30=8),\"○\",\"\")","v":""},{"$f":"IF(OR(総体入力!$H30=9,総体入力!$I30=9),\"○\",\"\")","v":""},{"$f":"IF(OR(総体入力!$H30=10,総体入力!$I30=10),\"○\",\"\")","v":""},{"$f":"IF(OR(総体入力!$H30=11,総体入力!$I30=11),\"○\",\"\")","v":""},{"$f":"IF(OR(総体入力!$H30=12,総体入力!$I30=12),\"○\",\"\")","v":""},{"$f":"IF(OR(総体入力!$H30=13,総体入力!$I30=13),\"○\",\"\")","v":""},{"$f":"IF(OR(総体入力!$H30=14,総体入力!$I30=14),\"○\",\"\")","v":""},{"$f":"IF(OR(総体入力!$H30=15,総体入力!$I30=15),\"○\",\"\")","v":""},{"$f":"IF(総体入力!$J30=21,\"○\",\"\")","v":""},{"$f":"IF(総体入力!$J30=22,\"○\",\"\")","v":""},{"$f":"IF(OR(総体入力!$H30=16,総体入力!$I30=16),\"○\",\"\")","v":""},{"$f":"IF(OR(総体入力!$H30=17,総体入力!$I30=17),\"○\",\"\")","v":""},{"$f":"IF(OR(総体入力!$H30=18,総体入力!$I30=18),\"○\",\"\")","v":""},{"$f":"IF(総体入力!N30=\"\",\"\",総体入力!N30)","v":""}]
[{"$f":"IF(総体入力!B31=\"\",\"\",総体入力!B31)","v":""},{"$f":"IF(総体入力!D31=\"\",\"\",総体入力!D31)","v":""},{"$f":"IF(総体入力!F31=\"\",\"\",総体入力!F31)","v":""},{"$f":"IF(総体入力!E31=\"\",\"\",総体入力!E31)","v":""},{"$f":"IF(OR(総体入力!$H31=1,総体入力!$I31=1),\"○\",\"\")","v":""},{"$f":"IF(OR(総体入力!$H31=2,総体入力!$I31=2),\"○\",\"\")","v":""},{"$f":"IF(OR(総体入力!$H31=3,総体入力!$I31=3),\"○\",\"\")","v":""},{"$f":"IF(OR(総体入力!$H31=4,総体入力!$I31=4),\"○\",\"\")","v":""},{"$f":"IF(OR(総体入力!$H31=5,総体入力!$I31=5),\"○\",\"\")","v":""},{"$f":"IF(OR(総体入力!$H31=6,総体入力!$I31=6),\"○\",\"\")","v":""},{"$f":"IF(OR(総体入力!$H31=7,総体入力!$I31=7),\"○\",\"\")","v":""},{"$f":"IF(OR(総体入力!$H31=8,総体入力!$I31=8),\"○\",\"\")","v":""},{"$f":"IF(OR(総体入力!$H31=9,総体入力!$I31=9),\"○\",\"\")","v":""},{"$f":"IF(OR(総体入力!$H31=10,総体入力!$I31=10),\"○\",\"\")","v":""},{"$f":"IF(OR(総体入力!$H31=11,総体入力!$I31=11),\"○\",\"\")","v":""},{"$f":"IF(OR(総体入力!$H31=12,総体入力!$I31=12),\"○\",\"\")","v":""},{"$f":"IF(OR(総体入力!$H31=13,総体入力!$I31=13),\"○\",\"\")","v":""},{"$f":"IF(OR(総体入力!$H31=14,総体入力!$I31=14),\"○\",\"\")","v":""},{"$f":"IF(OR(総体入力!$H31=15,総体入力!$I31=15),\"○\",\"\")","v":""},{"$f":"IF(総体入力!$J31=21,\"○\",\"\")","v":""},{"$f":"IF(総体入力!$J31=22,\"○\",\"\")","v":""},{"$f":"IF(OR(総体入力!$H31=16,総体入力!$I31=16),\"○\",\"\")","v":""},{"$f":"IF(OR(総体入力!$H31=17,総体入力!$I31=17),\"○\",\"\")","v":""},{"$f":"IF(OR(総体入力!$H31=18,総体入力!$I31=18),\"○\",\"\")","v":""},{"$f":"IF(総体入力!N31=\"\",\"\",総体入力!N31)","v":""}]
[{"$f":"IF(総体入力!B32=\"\",\"\",総体入力!B32)","v":""},{"$f":"IF(総体入力!D32=\"\",\"\",総体入力!D32)","v":""},{"$f":"IF(総体入力!F32=\"\",\"\",総体入力!F32)","v":""},{"$f":"IF(総体入力!E32=\"\",\"\",総体入力!E32)","v":""},{"$f":"IF(OR(総体入力!$H32=1,総体入力!$I32=1),\"○\",\"\")","v":""},{"$f":"IF(OR(総体入力!$H32=2,総体入力!$I32=2),\"○\",\"\")","v":""},{"$f":"IF(OR(総体入力!$H32=3,総体入力!$I32=3),\"○\",\"\")","v":""},{"$f":"IF(OR(総体入力!$H32=4,総体入力!$I32=4),\"○\",\"\")","v":""},{"$f":"IF(OR(総体入力!$H32=5,総体入力!$I32=5),\"○\",\"\")","v":""},{"$f":"IF(OR(総体入力!$H32=6,総体入力!$I32=6),\"○\",\"\")","v":""},{"$f":"IF(OR(総体入力!$H32=7,総体入力!$I32=7),\"○\",\"\")","v":""},{"$f":"IF(OR(総体入力!$H32=8,総体入力!$I32=8),\"○\",\"\")","v":""},{"$f":"IF(OR(総体入力!$H32=9,総体入力!$I32=9),\"○\",\"\")","v":""},{"$f":"IF(OR(総体入力!$H32=10,総体入力!$I32=10),\"○\",\"\")","v":""},{"$f":"IF(OR(総体入力!$H32=11,総体入力!$I32=11),\"○\",\"\")","v":""},{"$f":"IF(OR(総体入力!$H32=12,総体入力!$I32=12),\"○\",\"\")","v":""},{"$f":"IF(OR(総体入力!$H32=13,総体入力!$I32=13),\"○\",\"\")","v":""},{"$f":"IF(OR(総体入力!$H32=14,総体入力!$I32=14),\"○\",\"\")","v":""},{"$f":"IF(OR(総体入力!$H32=15,総体入力!$I32=15),\"○\",\"\")","v":""},{"$f":"IF(総体入力!$J32=21,\"○\",\"\")","v":""},{"$f":"IF(総体入力!$J32=22,\"○\",\"\")","v":""},{"$f":"IF(OR(総体入力!$H32=16,総体入力!$I32=16),\"○\",\"\")","v":""},{"$f":"IF(OR(総体入力!$H32=17,総体入力!$I32=17),\"○\",\"\")","v":""},{"$f":"IF(OR(総体入力!$H32=18,総体入力!$I32=18),\"○\",\"\")","v":""},{"$f":"IF(総体入力!N32=\"\",\"\",総体入力!N32)","v":""}]
[{"$f":"IF(総体入力!B33=\"\",\"\",総体入力!B33)","v":""},{"$f":"IF(総体入力!D33=\"\",\"\",総体入力!D33)","v":""},{"$f":"IF(総体入力!F33=\"\",\"\",総体入力!F33)","v":""},{"$f":"IF(総体入力!E33=\"\",\"\",総体入力!E33)","v":""},{"$f":"IF(OR(総体入力!$H33=1,総体入力!$I33=1),\"○\",\"\")","v":""},{"$f":"IF(OR(総体入力!$H33=2,総体入力!$I33=2),\"○\",\"\")","v":""},{"$f":"IF(OR(総体入力!$H33=3,総体入力!$I33=3),\"○\",\"\")","v":""},{"$f":"IF(OR(総体入力!$H33=4,総体入力!$I33=4),\"○\",\"\")","v":""},{"$f":"IF(OR(総体入力!$H33=5,総体入力!$I33=5),\"○\",\"\")","v":""},{"$f":"IF(OR(総体入力!$H33=6,総体入力!$I33=6),\"○\",\"\")","v":""},{"$f":"IF(OR(総体入力!$H33=7,総体入力!$I33=7),\"○\",\"\")","v":""},{"$f":"IF(OR(総体入力!$H33=8,総体入力!$I33=8),\"○\",\"\")","v":""},{"$f":"IF(OR(総体入力!$H33=9,総体入力!$I33=9),\"○\",\"\")","v":""},{"$f":"IF(OR(総体入力!$H33=10,総体入力!$I33=10),\"○\",\"\")","v":""},{"$f":"IF(OR(総体入力!$H33=11,総体入力!$I33=11),\"○\",\"\")","v":""},{"$f":"IF(OR(総体入力!$H33=12,総体入力!$I33=12),\"○\",\"\")","v":""},{"$f":"IF(OR(総体入力!$H33=13,総体入力!$I33=13),\"○\",\"\")","v":""},{"$f":"IF(OR(総体入力!$H33=14,総体入力!$I33=14),\"○\",\"\")","v":""},{"$f":"IF(OR(総体入力!$H33=15,総体入力!$I33=15),\"○\",\"\")","v":""},{"$f":"IF(総体入力!$J33=21,\"○\",\"\")","v":""},{"$f":"IF(総体入力!$J33=22,\"○\",\"\")","v":""},{"$f":"IF(OR(総体入力!$H33=16,総体入力!$I33=16),\"○\",\"\")","v":""},{"$f":"IF(OR(総体入力!$H33=17,総体入力!$I33=17),\"○\",\"\")","v":""},{"$f":"IF(OR(総体入力!$H33=18,総体入力!$I33=18),\"○\",\"\")","v":""},{"$f":"IF(総体入力!N33=\"\",\"\",総体入力!N33)","v":""}]
[{"$f":"IF(総体入力!B34=\"\",\"\",総体入力!B34)","v":""},{"$f":"IF(総体入力!D34=\"\",\"\",総体入力!D34)","v":""},{"$f":"IF(総体入力!F34=\"\",\"\",総体入力!F34)","v":""},{"$f":"IF(総体入力!E34=\"\",\"\",総体入力!E34)","v":""},{"$f":"IF(OR(総体入力!$H34=1,総体入力!$I34=1),\"○\",\"\")","v":""},{"$f":"IF(OR(総体入力!$H34=2,総体入力!$I34=2),\"○\",\"\")","v":""},{"$f":"IF(OR(総体入力!$H34=3,総体入力!$I34=3),\"○\",\"\")","v":""},{"$f":"IF(OR(総体入力!$H34=4,総体入力!$I34=4),\"○\",\"\")","v":""},{"$f":"IF(OR(総体入力!$H34=5,総体入力!$I34=5),\"○\",\"\")","v":""},{"$f":"IF(OR(総体入力!$H34=6,総体入力!$I34=6),\"○\",\"\")","v":""},{"$f":"IF(OR(総体入力!$H34=7,総体入力!$I34=7),\"○\",\"\")","v":""},{"$f":"IF(OR(総体入力!$H34=8,総体入力!$I34=8),\"○\",\"\")","v":""},{"$f":"IF(OR(総体入力!$H34=9,総体入力!$I34=9),\"○\",\"\")","v":""},{"$f":"IF(OR(総体入力!$H34=10,総体入力!$I34=10),\"○\",\"\")","v":""},{"$f":"IF(OR(総体入力!$H34=11,総体入力!$I34=11),\"○\",\"\")","v":""},{"$f":"IF(OR(総体入力!$H34=12,総体入力!$I34=12),\"○\",\"\")","v":""},{"$f":"IF(OR(総体入力!$H34=13,総体入力!$I34=13),\"○\",\"\")","v":""},{"$f":"IF(OR(総体入力!$H34=14,総体入力!$I34=14),\"○\",\"\")","v":""},{"$f":"IF(OR(総体入力!$H34=15,総体入力!$I34=15),\"○\",\"\")","v":""},{"$f":"IF(総体入力!$J34=21,\"○\",\"\")","v":""},{"$f":"IF(総体入力!$J34=22,\"○\",\"\")","v":""},{"$f":"IF(OR(総体入力!$H34=16,総体入力!$I34=16),\"○\",\"\")","v":""},{"$f":"IF(OR(総体入力!$H34=17,総体入力!$I34=17),\"○\",\"\")","v":""},{"$f":"IF(OR(総体入力!$H34=18,総体入力!$I34=18),\"○\",\"\")","v":""},{"$f":"IF(総体入力!N34=\"\",\"\",総体入力!N34)","v":""}]
[{"$f":"IF(総体入力!B35=\"\",\"\",総体入力!B35)","v":""},{"$f":"IF(総体入力!D35=\"\",\"\",総体入力!D35)","v":""},{"$f":"IF(総体入力!F35=\"\",\"\",総体入力!F35)","v":""},{"$f":"IF(総体入力!E35=\"\",\"\",総体入力!E35)","v":""},{"$f":"IF(OR(総体入力!$H35=1,総体入力!$I35=1),\"○\",\"\")","v":""},{"$f":"IF(OR(総体入力!$H35=2,総体入力!$I35=2),\"○\",\"\")","v":""},{"$f":"IF(OR(総体入力!$H35=3,総体入力!$I35=3),\"○\",\"\")","v":""},{"$f":"IF(OR(総体入力!$H35=4,総体入力!$I35=4),\"○\",\"\")","v":""},{"$f":"IF(OR(総体入力!$H35=5,総体入力!$I35=5),\"○\",\"\")","v":""},{"$f":"IF(OR(総体入力!$H35=6,総体入力!$I35=6),\"○\",\"\")","v":""},{"$f":"IF(OR(総体入力!$H35=7,総体入力!$I35=7),\"○\",\"\")","v":""},{"$f":"IF(OR(総体入力!$H35=8,総体入力!$I35=8),\"○\",\"\")","v":""},{"$f":"IF(OR(総体入力!$H35=9,総体入力!$I35=9),\"○\",\"\")","v":""},{"$f":"IF(OR(総体入力!$H35=10,総体入力!$I35=10),\"○\",\"\")","v":""},{"$f":"IF(OR(総体入力!$H35=11,総体入力!$I35=11),\"○\",\"\")","v":""},{"$f":"IF(OR(総体入力!$H35=12,総体入力!$I35=12),\"○\",\"\")","v":""},{"$f":"IF(OR(総体入力!$H35=13,総体入力!$I35=13),\"○\",\"\")","v":""},{"$f":"IF(OR(総体入力!$H35=14,総体入力!$I35=14),\"○\",\"\")","v":""},{"$f":"IF(OR(総体入力!$H35=15,総体入力!$I35=15),\"○\",\"\")","v":""},{"$f":"IF(総体入力!$J35=21,\"○\",\"\")","v":""},{"$f":"IF(総体入力!$J35=22,\"○\",\"\")","v":""},{"$f":"IF(OR(総体入力!$H35=16,総体入力!$I35=16),\"○\",\"\")","v":""},{"$f":"IF(OR(総体入力!$H35=17,総体入力!$I35=17),\"○\",\"\")","v":""},{"$f":"IF(OR(総体入力!$H35=18,総体入力!$I35=18),\"○\",\"\")","v":""},{"$f":"IF(総体入力!N35=\"\",\"\",総体入力!N35)","v":""}]
[{"$f":"IF(総体入力!B36=\"\",\"\",総体入力!B36)","v":""},{"$f":"IF(総体入力!D36=\"\",\"\",総体入力!D36)","v":""},{"$f":"IF(総体入力!F36=\"\",\"\",総体入力!F36)","v":""},{"$f":"IF(総体入力!E36=\"\",\"\",総体入力!E36)","v":""},{"$f":"IF(OR(総体入力!$H36=1,総体入力!$I36=1),\"○\",\"\")","v":""},{"$f":"IF(OR(総体入力!$H36=2,総体入力!$I36=2),\"○\",\"\")","v":""},{"$f":"IF(OR(総体入力!$H36=3,総体入力!$I36=3),\"○\",\"\")","v":""},{"$f":"IF(OR(総体入力!$H36=4,総体入力!$I36=4),\"○\",\"\")","v":""},{"$f":"IF(OR(総体入力!$H36=5,総体入力!$I36=5),\"○\",\"\")","v":""},{"$f":"IF(OR(総体入力!$H36=6,総体入力!$I36=6),\"○\",\"\")","v":""},{"$f":"IF(OR(総体入力!$H36=7,総体入力!$I36=7),\"○\",\"\")","v":""},{"$f":"IF(OR(総体入力!$H36=8,総体入力!$I36=8),\"○\",\"\")","v":""},{"$f":"IF(OR(総体入力!$H36=9,総体入力!$I36=9),\"○\",\"\")","v":""},{"$f":"IF(OR(総体入力!$H36=10,総体入力!$I36=10),\"○\",\"\")","v":""},{"$f":"IF(OR(総体入力!$H36=11,総体入力!$I36=11),\"○\",\"\")","v":""},{"$f":"IF(OR(総体入力!$H36=12,総体入力!$I36=12),\"○\",\"\")","v":""},{"$f":"IF(OR(総体入力!$H36=13,総体入力!$I36=13),\"○\",\"\")","v":""},{"$f":"IF(OR(総体入力!$H36=14,総体入力!$I36=14),\"○\",\"\")","v":""},{"$f":"IF(OR(総体入力!$H36=15,総体入力!$I36=15),\"○\",\"\")","v":""},{"$f":"IF(総体入力!$J36=21,\"○\",\"\")","v":""},{"$f":"IF(総体入力!$J36=22,\"○\",\"\")","v":""},{"$f":"IF(OR(総体入力!$H36=16,総体入力!$I36=16),\"○\",\"\")","v":""},{"$f":"IF(OR(総体入力!$H36=17,総体入力!$I36=17),\"○\",\"\")","v":""},{"$f":"IF(OR(総体入力!$H36=18,総体入力!$I36=18),\"○\",\"\")","v":""},{"$f":"IF(総体入力!N36=\"\",\"\",総体入力!N36)","v":""}]
[{"$f":"IF(総体入力!B37=\"\",\"\",総体入力!B37)","v":""},{"$f":"IF(総体入力!D37=\"\",\"\",総体入力!D37)","v":""},{"$f":"IF(総体入力!F37=\"\",\"\",総体入力!F37)","v":""},{"$f":"IF(総体入力!E37=\"\",\"\",総体入力!E37)","v":""},{"$f":"IF(OR(総体入力!$H37=1,総体入力!$I37=1),\"○\",\"\")","v":""},{"$f":"IF(OR(総体入力!$H37=2,総体入力!$I37=2),\"○\",\"\")","v":""},{"$f":"IF(OR(総体入力!$H37=3,総体入力!$I37=3),\"○\",\"\")","v":""},{"$f":"IF(OR(総体入力!$H37=4,総体入力!$I37=4),\"○\",\"\")","v":""},{"$f":"IF(OR(総体入力!$H37=5,総体入力!$I37=5),\"○\",\"\")","v":""},{"$f":"IF(OR(総体入力!$H37=6,総体入力!$I37=6),\"○\",\"\")","v":""},{"$f":"IF(OR(総体入力!$H37=7,総体入力!$I37=7),\"○\",\"\")","v":""},{"$f":"IF(OR(総体入力!$H37=8,総体入力!$I37=8),\"○\",\"\")","v":""},{"$f":"IF(OR(総体入力!$H37=9,総体入力!$I37=9),\"○\",\"\")","v":""},{"$f":"IF(OR(総体入力!$H37=10,総体入力!$I37=10),\"○\",\"\")","v":""},{"$f":"IF(OR(総体入力!$H37=11,総体入力!$I37=11),\"○\",\"\")","v":""},{"$f":"IF(OR(総体入力!$H37=12,総体入力!$I37=12),\"○\",\"\")","v":""},{"$f":"IF(OR(総体入力!$H37=13,総体入力!$I37=13),\"○\",\"\")","v":""},{"$f":"IF(OR(総体入力!$H37=14,総体入力!$I37=14),\"○\",\"\")","v":""},{"$f":"IF(OR(総体入力!$H37=15,総体入力!$I37=15),\"○\",\"\")","v":""},{"$f":"IF(総体入力!$J37=21,\"○\",\"\")","v":""},{"$f":"IF(総体入力!$J37=22,\"○\",\"\")","v":""},{"$f":"IF(OR(総体入力!$H37=16,総体入力!$I37=16),\"○\",\"\")","v":""},{"$f":"IF(OR(総体入力!$H37=17,総体入力!$I37=17),\"○\",\"\")","v":""},{"$f":"IF(OR(総体入力!$H37=18,総体入力!$I37=18),\"○\",\"\")","v":""},{"$f":"IF(総体入力!N37=\"\",\"\",総体入力!N37)","v":""}]
[{"$f":"IF(総体入力!B38=\"\",\"\",総体入力!B38)","v":""},{"$f":"IF(総体入力!D38=\"\",\"\",総体入力!D38)","v":""},{"$f":"IF(総体入力!F38=\"\",\"\",総体入力!F38)","v":""},{"$f":"IF(総体入力!E38=\"\",\"\",総体入力!E38)","v":""},{"$f":"IF(OR(総体入力!$H38=1,総体入力!$I38=1),\"○\",\"\")","v":""},{"$f":"IF(OR(総体入力!$H38=2,総体入力!$I38=2),\"○\",\"\")","v":""},{"$f":"IF(OR(総体入力!$H38=3,総体入力!$I38=3),\"○\",\"\")","v":""},{"$f":"IF(OR(総体入力!$H38=4,総体入力!$I38=4),\"○\",\"\")","v":""},{"$f":"IF(OR(総体入力!$H38=5,総体入力!$I38=5),\"○\",\"\")","v":""},{"$f":"IF(OR(総体入力!$H38=6,総体入力!$I38=6),\"○\",\"\")","v":""},{"$f":"IF(OR(総体入力!$H38=7,総体入力!$I38=7),\"○\",\"\")","v":""},{"$f":"IF(OR(総体入力!$H38=8,総体入力!$I38=8),\"○\",\"\")","v":""},{"$f":"IF(OR(総体入力!$H38=9,総体入力!$I38=9),\"○\",\"\")","v":""},{"$f":"IF(OR(総体入力!$H38=10,総体入力!$I38=10),\"○\",\"\")","v":""},{"$f":"IF(OR(総体入力!$H38=11,総体入力!$I38=11),\"○\",\"\")","v":""},{"$f":"IF(OR(総体入力!$H38=12,総体入力!$I38=12),\"○\",\"\")","v":""},{"$f":"IF(OR(総体入力!$H38=13,総体入力!$I38=13),\"○\",\"\")","v":""},{"$f":"IF(OR(総体入力!$H38=14,総体入力!$I38=14),\"○\",\"\")","v":""},{"$f":"IF(OR(総体入力!$H38=15,総体入力!$I38=15),\"○\",\"\")","v":""},{"$f":"IF(総体入力!$J38=21,\"○\",\"\")","v":""},{"$f":"IF(総体入力!$J38=22,\"○\",\"\")","v":""},{"$f":"IF(OR(総体入力!$H38=16,総体入力!$I38=16),\"○\",\"\")","v":""},{"$f":"IF(OR(総体入力!$H38=17,総体入力!$I38=17),\"○\",\"\")","v":""},{"$f":"IF(OR(総体入力!$H38=18,総体入力!$I38=18),\"○\",\"\")","v":""},{"$f":"IF(総体入力!N38=\"\",\"\",総体入力!N38)","v":""}]
[{"$f":"IF(総体入力!B39=\"\",\"\",総体入力!B39)","v":""},{"$f":"IF(総体入力!D39=\"\",\"\",総体入力!D39)","v":""},{"$f":"IF(総体入力!F39=\"\",\"\",総体入力!F39)","v":""},{"$f":"IF(総体入力!E39=\"\",\"\",総体入力!E39)","v":""},{"$f":"IF(OR(総体入力!$H39=1,総体入力!$I39=1),\"○\",\"\")","v":""},{"$f":"IF(OR(総体入力!$H39=2,総体入力!$I39=2),\"○\",\"\")","v":""},{"$f":"IF(OR(総体入力!$H39=3,総体入力!$I39=3),\"○\",\"\")","v":""},{"$f":"IF(OR(総体入力!$H39=4,総体入力!$I39=4),\"○\",\"\")","v":""},{"$f":"IF(OR(総体入力!$H39=5,総体入力!$I39=5),\"○\",\"\")","v":""},{"$f":"IF(OR(総体入力!$H39=6,総体入力!$I39=6),\"○\",\"\")","v":""},{"$f":"IF(OR(総体入力!$H39=7,総体入力!$I39=7),\"○\",\"\")","v":""},{"$f":"IF(OR(総体入力!$H39=8,総体入力!$I39=8),\"○\",\"\")","v":""},{"$f":"IF(OR(総体入力!$H39=9,総体入力!$I39=9),\"○\",\"\")","v":""},{"$f":"IF(OR(総体入力!$H39=10,総体入力!$I39=10),\"○\",\"\")","v":""},{"$f":"IF(OR(総体入力!$H39=11,総体入力!$I39=11),\"○\",\"\")","v":""},{"$f":"IF(OR(総体入力!$H39=12,総体入力!$I39=12),\"○\",\"\")","v":""},{"$f":"IF(OR(総体入力!$H39=13,総体入力!$I39=13),\"○\",\"\")","v":""},{"$f":"IF(OR(総体入力!$H39=14,総体入力!$I39=14),\"○\",\"\")","v":""},{"$f":"IF(OR(総体入力!$H39=15,総体入力!$I39=15),\"○\",\"\")","v":""},{"$f":"IF(総体入力!$J39=21,\"○\",\"\")","v":""},{"$f":"IF(総体入力!$J39=22,\"○\",\"\")","v":""},{"$f":"IF(OR(総体入力!$H39=16,総体入力!$I39=16),\"○\",\"\")","v":""},{"$f":"IF(OR(総体入力!$H39=17,総体入力!$I39=17),\"○\",\"\")","v":""},{"$f":"IF(OR(総体入力!$H39=18,総体入力!$I39=18),\"○\",\"\")","v":""},{"$f":"IF(総体入力!N39=\"\",\"\",総体入力!N39)","v":""}]
[{"$f":"IF(総体入力!B40=\"\",\"\",総体入力!B40)","v":""},{"$f":"IF(総体入力!D40=\"\",\"\",総体入力!D40)","v":""},{"$f":"IF(総体入力!F40=\"\",\"\",総体入力!F40)","v":""},{"$f":"IF(総体入力!E40=\"\",\"\",総体入力!E40)","v":""},{"$f":"IF(OR(総体入力!$H40=1,総体入力!$I40=1),\"○\",\"\")","v":""},{"$f":"IF(OR(総体入力!$H40=2,総体入力!$I40=2),\"○\",\"\")","v":""},{"$f":"IF(OR(総体入力!$H40=3,総体入力!$I40=3),\"○\",\"\")","v":""},{"$f":"IF(OR(総体入力!$H40=4,総体入力!$I40=4),\"○\",\"\")","v":""},{"$f":"IF(OR(総体入力!$H40=5,総体入力!$I40=5),\"○\",\"\")","v":""},{"$f":"IF(OR(総体入力!$H40=6,総体入力!$I40=6),\"○\",\"\")","v":""},{"$f":"IF(OR(総体入力!$H40=7,総体入力!$I40=7),\"○\",\"\")","v":""},{"$f":"IF(OR(総体入力!$H40=8,総体入力!$I40=8),\"○\",\"\")","v":""},{"$f":"IF(OR(総体入力!$H40=9,総体入力!$I40=9),\"○\",\"\")","v":""},{"$f":"IF(OR(総体入力!$H40=10,総体入力!$I40=10),\"○\",\"\")","v":""},{"$f":"IF(OR(総体入力!$H40=11,総体入力!$I40=11),\"○\",\"\")","v":""},{"$f":"IF(OR(総体入力!$H40=12,総体入力!$I40=12),\"○\",\"\")","v":""},{"$f":"IF(OR(総体入力!$H40=13,総体入力!$I40=13),\"○\",\"\")","v":""},{"$f":"IF(OR(総体入力!$H40=14,総体入力!$I40=14),\"○\",\"\")","v":""},{"$f":"IF(OR(総体入力!$H40=15,総体入力!$I40=15),\"○\",\"\")","v":""},{"$f":"IF(総体入力!$J40=21,\"○\",\"\")","v":""},{"$f":"IF(総体入力!$J40=22,\"○\",\"\")","v":""},{"$f":"IF(OR(総体入力!$H40=16,総体入力!$I40=16),\"○\",\"\")","v":""},{"$f":"IF(OR(総体入力!$H40=17,総体入力!$I40=17),\"○\",\"\")","v":""},{"$f":"IF(OR(総体入力!$H40=18,総体入力!$I40=18),\"○\",\"\")","v":""},{"$f":"IF(総体入力!N40=\"\",\"\",総体入力!N40)","v":""}]
[{"$f":"IF(総体入力!B41=\"\",\"\",総体入力!B41)","v":""},{"$f":"IF(総体入力!D41=\"\",\"\",総体入力!D41)","v":""},{"$f":"IF(総体入力!F41=\"\",\"\",総体入力!F41)","v":""},{"$f":"IF(総体入力!E41=\"\",\"\",総体入力!E41)","v":""},{"$f":"IF(OR(総体入力!$H41=1,総体入力!$I41=1),\"○\",\"\")","v":""},{"$f":"IF(OR(総体入力!$H41=2,総体入力!$I41=2),\"○\",\"\")","v":""},{"$f":"IF(OR(総体入力!$H41=3,総体入力!$I41=3),\"○\",\"\")","v":""},{"$f":"IF(OR(総体入力!$H41=4,総体入力!$I41=4),\"○\",\"\")","v":""},{"$f":"IF(OR(総体入力!$H41=5,総体入力!$I41=5),\"○\",\"\")","v":""},{"$f":"IF(OR(総体入力!$H41=6,総体入力!$I41=6),\"○\",\"\")","v":""},{"$f":"IF(OR(総体入力!$H41=7,総体入力!$I41=7),\"○\",\"\")","v":""},{"$f":"IF(OR(総体入力!$H41=8,総体入力!$I41=8),\"○\",\"\")","v":""},{"$f":"IF(OR(総体入力!$H41=9,総体入力!$I41=9),\"○\",\"\")","v":""},{"$f":"IF(OR(総体入力!$H41=10,総体入力!$I41=10),\"○\",\"\")","v":""},{"$f":"IF(OR(総体入力!$H41=11,総体入力!$I41=11),\"○\",\"\")","v":""},{"$f":"IF(OR(総体入力!$H41=12,総体入力!$I41=12),\"○\",\"\")","v":""},{"$f":"IF(OR(総体入力!$H41=13,総体入力!$I41=13),\"○\",\"\")","v":""},{"$f":"IF(OR(総体入力!$H41=14,総体入力!$I41=14),\"○\",\"\")","v":""},{"$f":"IF(OR(総体入力!$H41=15,総体入力!$I41=15),\"○\",\"\")","v":""},{"$f":"IF(総体入力!$J41=21,\"○\",\"\")","v":""},{"$f":"IF(総体入力!$J41=22,\"○\",\"\")","v":""},{"$f":"IF(OR(総体入力!$H41=16,総体入力!$I41=16),\"○\",\"\")","v":""},{"$f":"IF(OR(総体入力!$H41=17,総体入力!$I41=17),\"○\",\"\")","v":""},{"$f":"IF(OR(総体入力!$H41=18,総体入力!$I41=18),\"○\",\"\")","v":""},{"$f":"IF(総体入力!N41=\"\",\"\",総体入力!N41)","v":""}]
[{"$f":"IF(総体入力!B42=\"\",\"\",総体入力!B42)","v":""},{"$f":"IF(総体入力!D42=\"\",\"\",総体入力!D42)","v":""},{"$f":"IF(総体入力!F42=\"\",\"\",総体入力!F42)","v":""},{"$f":"IF(総体入力!E42=\"\",\"\",総体入力!E42)","v":""},{"$f":"IF(OR(総体入力!$H42=1,総体入力!$I42=1),\"○\",\"\")","v":""},{"$f":"IF(OR(総体入力!$H42=2,総体入力!$I42=2),\"○\",\"\")","v":""},{"$f":"IF(OR(総体入力!$H42=3,総体入力!$I42=3),\"○\",\"\")","v":""},{"$f":"IF(OR(総体入力!$H42=4,総体入力!$I42=4),\"○\",\"\")","v":""},{"$f":"IF(OR(総体入力!$H42=5,総体入力!$I42=5),\"○\",\"\")","v":""},{"$f":"IF(OR(総体入力!$H42=6,総体入力!$I42=6),\"○\",\"\")","v":""},{"$f":"IF(OR(総体入力!$H42=7,総体入力!$I42=7),\"○\",\"\")","v":""},{"$f":"IF(OR(総体入力!$H42=8,総体入力!$I42=8),\"○\",\"\")","v":""},{"$f":"IF(OR(総体入力!$H42=9,総体入力!$I42=9),\"○\",\"\")","v":""},{"$f":"IF(OR(総体入力!$H42=10,総体入力!$I42=10),\"○\",\"\")","v":""},{"$f":"IF(OR(総体入力!$H42=11,総体入力!$I42=11),\"○\",\"\")","v":""},{"$f":"IF(OR(総体入力!$H42=12,総体入力!$I42=12),\"○\",\"\")","v":""},{"$f":"IF(OR(総体入力!$H42=13,総体入力!$I42=13),\"○\",\"\")","v":""},{"$f":"IF(OR(総体入力!$H42=14,総体入力!$I42=14),\"○\",\"\")","v":""},{"$f":"IF(OR(総体入力!$H42=15,総体入力!$I42=15),\"○\",\"\")","v":""},{"$f":"IF(総体入力!$J42=21,\"○\",\"\")","v":""},{"$f":"IF(総体入力!$J42=22,\"○\",\"\")","v":""},{"$f":"IF(OR(総体入力!$H42=16,総体入力!$I42=16),\"○\",\"\")","v":""},{"$f":"IF(OR(総体入力!$H42=17,総体入力!$I42=17),\"○\",\"\")","v":""},{"$f":"IF(OR(総体入力!$H42=18,総体入力!$I42=18),\"○\",\"\")","v":""},{"$f":"IF(総体入力!N42=\"\",\"\",総体入力!N42)","v":""}]
[{"$f":"IF(総体入力!B43=\"\",\"\",総体入力!B43)","v":""},{"$f":"IF(総体入力!D43=\"\",\"\",総体入力!D43)","v":""},{"$f":"IF(総体入力!F43=\"\",\"\",総体入力!F43)","v":""},{"$f":"IF(総体入力!E43=\"\",\"\",総体入力!E43)","v":""},{"$f":"IF(OR(総体入力!$H43=1,総体入力!$I43=1),\"○\",\"\")","v":""},{"$f":"IF(OR(総体入力!$H43=2,総体入力!$I43=2),\"○\",\"\")","v":""},{"$f":"IF(OR(総体入力!$H43=3,総体入力!$I43=3),\"○\",\"\")","v":""},{"$f":"IF(OR(総体入力!$H43=4,総体入力!$I43=4),\"○\",\"\")","v":""},{"$f":"IF(OR(総体入力!$H43=5,総体入力!$I43=5),\"○\",\"\")","v":""},{"$f":"IF(OR(総体入力!$H43=6,総体入力!$I43=6),\"○\",\"\")","v":""},{"$f":"IF(OR(総体入力!$H43=7,総体入力!$I43=7),\"○\",\"\")","v":""},{"$f":"IF(OR(総体入力!$H43=8,総体入力!$I43=8),\"○\",\"\")","v":""},{"$f":"IF(OR(総体入力!$H43=9,総体入力!$I43=9),\"○\",\"\")","v":""},{"$f":"IF(OR(総体入力!$H43=10,総体入力!$I43=10),\"○\",\"\")","v":""},{"$f":"IF(OR(総体入力!$H43=11,総体入力!$I43=11),\"○\",\"\")","v":""},{"$f":"IF(OR(総体入力!$H43=12,総体入力!$I43=12),\"○\",\"\")","v":""},{"$f":"IF(OR(総体入力!$H43=13,総体入力!$I43=13),\"○\",\"\")","v":""},{"$f":"IF(OR(総体入力!$H43=14,総体入力!$I43=14),\"○\",\"\")","v":""},{"$f":"IF(OR(総体入力!$H43=15,総体入力!$I43=15),\"○\",\"\")","v":""},{"$f":"IF(総体入力!$J43=21,\"○\",\"\")","v":""},{"$f":"IF(総体入力!$J43=22,\"○\",\"\")","v":""},{"$f":"IF(OR(総体入力!$H43=16,総体入力!$I43=16),\"○\",\"\")","v":""},{"$f":"IF(OR(総体入力!$H43=17,総体入力!$I43=17),\"○\",\"\")","v":""},{"$f":"IF(OR(総体入力!$H43=18,総体入力!$I43=18),\"○\",\"\")","v":""},{"$f":"IF(総体入力!N43=\"\",\"\",総体入力!N43)","v":""}]
[{"$f":"IF(総体入力!B44=\"\",\"\",総体入力!B44)","v":""},{"$f":"IF(総体入力!D44=\"\",\"\",総体入力!D44)","v":""},{"$f":"IF(総体入力!F44=\"\",\"\",総体入力!F44)","v":""},{"$f":"IF(総体入力!E44=\"\",\"\",総体入力!E44)","v":""},{"$f":"IF(OR(総体入力!$H44=1,総体入力!$I44=1),\"○\",\"\")","v":""},{"$f":"IF(OR(総体入力!$H44=2,総体入力!$I44=2),\"○\",\"\")","v":""},{"$f":"IF(OR(総体入力!$H44=3,総体入力!$I44=3),\"○\",\"\")","v":""},{"$f":"IF(OR(総体入力!$H44=4,総体入力!$I44=4),\"○\",\"\")","v":""},{"$f":"IF(OR(総体入力!$H44=5,総体入力!$I44=5),\"○\",\"\")","v":""},{"$f":"IF(OR(総体入力!$H44=6,総体入力!$I44=6),\"○\",\"\")","v":""},{"$f":"IF(OR(総体入力!$H44=7,総体入力!$I44=7),\"○\",\"\")","v":""},{"$f":"IF(OR(総体入力!$H44=8,総体入力!$I44=8),\"○\",\"\")","v":""},{"$f":"IF(OR(総体入力!$H44=9,総体入力!$I44=9),\"○\",\"\")","v":""},{"$f":"IF(OR(総体入力!$H44=10,総体入力!$I44=10),\"○\",\"\")","v":""},{"$f":"IF(OR(総体入力!$H44=11,総体入力!$I44=11),\"○\",\"\")","v":""},{"$f":"IF(OR(総体入力!$H44=12,総体入力!$I44=12),\"○\",\"\")","v":""},{"$f":"IF(OR(総体入力!$H44=13,総体入力!$I44=13),\"○\",\"\")","v":""},{"$f":"IF(OR(総体入力!$H44=14,総体入力!$I44=14),\"○\",\"\")","v":""},{"$f":"IF(OR(総体入力!$H44=15,総体入力!$I44=15),\"○\",\"\")","v":""},{"$f":"IF(総体入力!$J44=21,\"○\",\"\")","v":""},{"$f":"IF(総体入力!$J44=22,\"○\",\"\")","v":""},{"$f":"IF(OR(総体入力!$H44=16,総体入力!$I44=16),\"○\",\"\")","v":""},{"$f":"IF(OR(総体入力!$H44=17,総体入力!$I44=17),\"○\",\"\")","v":""},{"$f":"IF(OR(総体入力!$H44=18,総体入力!$I44=18),\"○\",\"\")","v":""},{"$f":"IF(総体入力!N44=\"\",\"\",総体入力!N44)","v":""}]
[{"$f":"IF(総体入力!B45=\"\",\"\",総体入力!B45)","v":""},{"$f":"IF(総体入力!D45=\"\",\"\",総体入力!D45)","v":""},{"$f":"IF(総体入力!F45=\"\",\"\",総体入力!F45)","v":""},{"$f":"IF(総体入力!E45=\"\",\"\",総体入力!E45)","v":""},{"$f":"IF(OR(総体入力!$H45=1,総体入力!$I45=1),\"○\",\"\")","v":""},{"$f":"IF(OR(総体入力!$H45=2,総体入力!$I45=2),\"○\",\"\")","v":""},{"$f":"IF(OR(総体入力!$H45=3,総体入力!$I45=3),\"○\",\"\")","v":""},{"$f":"IF(OR(総体入力!$H45=4,総体入力!$I45=4),\"○\",\"\")","v":""},{"$f":"IF(OR(総体入力!$H45=5,総体入力!$I45=5),\"○\",\"\")","v":""},{"$f":"IF(OR(総体入力!$H45=6,総体入力!$I45=6),\"○\",\"\")","v":""},{"$f":"IF(OR(総体入力!$H45=7,総体入力!$I45=7),\"○\",\"\")","v":""},{"$f":"IF(OR(総体入力!$H45=8,総体入力!$I45=8),\"○\",\"\")","v":""},{"$f":"IF(OR(総体入力!$H45=9,総体入力!$I45=9),\"○\",\"\")","v":""},{"$f":"IF(OR(総体入力!$H45=10,総体入力!$I45=10),\"○\",\"\")","v":""},{"$f":"IF(OR(総体入力!$H45=11,総体入力!$I45=11),\"○\",\"\")","v":""},{"$f":"IF(OR(総体入力!$H45=12,総体入力!$I45=12),\"○\",\"\")","v":""},{"$f":"IF(OR(総体入力!$H45=13,総体入力!$I45=13),\"○\",\"\")","v":""},{"$f":"IF(OR(総体入力!$H45=14,総体入力!$I45=14),\"○\",\"\")","v":""},{"$f":"IF(OR(総体入力!$H45=15,総体入力!$I45=15),\"○\",\"\")","v":""},{"$f":"IF(総体入力!$J45=21,\"○\",\"\")","v":""},{"$f":"IF(総体入力!$J45=22,\"○\",\"\")","v":""},{"$f":"IF(OR(総体入力!$H45=16,総体入力!$I45=16),\"○\",\"\")","v":""},{"$f":"IF(OR(総体入力!$H45=17,総体入力!$I45=17),\"○\",\"\")","v":""},{"$f":"IF(OR(総体入力!$H45=18,総体入力!$I45=18),\"○\",\"\")","v":""},{"$f":"IF(総体入力!N45=\"\",\"\",総体入力!N45)","v":""}]
[{"$f":"IF(総体入力!B46=\"\",\"\",総体入力!B46)","v":""},{"$f":"IF(総体入力!D46=\"\",\"\",総体入力!D46)","v":""},{"$f":"IF(総体入力!F46=\"\",\"\",総体入力!F46)","v":""},{"$f":"IF(総体入力!E46=\"\",\"\",総体入力!E46)","v":""},{"$f":"IF(OR(総体入力!$H46=1,総体入力!$I46=1),\"○\",\"\")","v":""},{"$f":"IF(OR(総体入力!$H46=2,総体入力!$I46=2),\"○\",\"\")","v":""},{"$f":"IF(OR(総体入力!$H46=3,総体入力!$I46=3),\"○\",\"\")","v":""},{"$f":"IF(OR(総体入力!$H46=4,総体入力!$I46=4),\"○\",\"\")","v":""},{"$f":"IF(OR(総体入力!$H46=5,総体入力!$I46=5),\"○\",\"\")","v":""},{"$f":"IF(OR(総体入力!$H46=6,総体入力!$I46=6),\"○\",\"\")","v":""},{"$f":"IF(OR(総体入力!$H46=7,総体入力!$I46=7),\"○\",\"\")","v":""},{"$f":"IF(OR(総体入力!$H46=8,総体入力!$I46=8),\"○\",\"\")","v":""},{"$f":"IF(OR(総体入力!$H46=9,総体入力!$I46=9),\"○\",\"\")","v":""},{"$f":"IF(OR(総体入力!$H46=10,総体入力!$I46=10),\"○\",\"\")","v":""},{"$f":"IF(OR(総体入力!$H46=11,総体入力!$I46=11),\"○\",\"\")","v":""},{"$f":"IF(OR(総体入力!$H46=12,総体入力!$I46=12),\"○\",\"\")","v":""},{"$f":"IF(OR(総体入力!$H46=13,総体入力!$I46=13),\"○\",\"\")","v":""},{"$f":"IF(OR(総体入力!$H46=14,総体入力!$I46=14),\"○\",\"\")","v":""},{"$f":"IF(OR(総体入力!$H46=15,総体入力!$I46=15),\"○\",\"\")","v":""},{"$f":"IF(総体入力!$J46=21,\"○\",\"\")","v":""},{"$f":"IF(総体入力!$J46=22,\"○\",\"\")","v":""},{"$f":"IF(OR(総体入力!$H46=16,総体入力!$I46=16),\"○\",\"\")","v":""},{"$f":"IF(OR(総体入力!$H46=17,総体入力!$I46=17),\"○\",\"\")","v":""},{"$f":"IF(OR(総体入力!$H46=18,総体入力!$I46=18),\"○\",\"\")","v":""},{"$f":"IF(総体入力!N46=\"\",\"\",総体入力!N46)","v":""}]
[{"$f":"IF(総体入力!B47=\"\",\"\",総体入力!B47)","v":""},{"$f":"IF(総体入力!D47=\"\",\"\",総体入力!D47)","v":""},{"$f":"IF(総体入力!F47=\"\",\"\",総体入力!F47)","v":""},{"$f":"IF(総体入力!E47=\"\",\"\",総体入力!E47)","v":""},{"$f":"IF(OR(総体入力!$H47=1,総体入力!$I47=1),\"○\",\"\")","v":""},{"$f":"IF(OR(総体入力!$H47=2,総体入力!$I47=2),\"○\",\"\")","v":""},{"$f":"IF(OR(総体入力!$H47=3,総体入力!$I47=3),\"○\",\"\")","v":""},{"$f":"IF(OR(総体入力!$H47=4,総体入力!$I47=4),\"○\",\"\")","v":""},{"$f":"IF(OR(総体入力!$H47=5,総体入力!$I47=5),\"○\",\"\")","v":""},{"$f":"IF(OR(総体入力!$H47=6,総体入力!$I47=6),\"○\",\"\")","v":""},{"$f":"IF(OR(総体入力!$H47=7,総体入力!$I47=7),\"○\",\"\")","v":""},{"$f":"IF(OR(総体入力!$H47=8,総体入力!$I47=8),\"○\",\"\")","v":""},{"$f":"IF(OR(総体入力!$H47=9,総体入力!$I47=9),\"○\",\"\")","v":""},{"$f":"IF(OR(総体入力!$H47=10,総体入力!$I47=10),\"○\",\"\")","v":""},{"$f":"IF(OR(総体入力!$H47=11,総体入力!$I47=11),\"○\",\"\")","v":""},{"$f":"IF(OR(総体入力!$H47=12,総体入力!$I47=12),\"○\",\"\")","v":""},{"$f":"IF(OR(総体入力!$H47=13,総体入力!$I47=13),\"○\",\"\")","v":""},{"$f":"IF(OR(総体入力!$H47=14,総体入力!$I47=14),\"○\",\"\")","v":""},{"$f":"IF(OR(総体入力!$H47=15,総体入力!$I47=15),\"○\",\"\")","v":""},{"$f":"IF(総体入力!$J47=21,\"○\",\"\")","v":""},{"$f":"IF(総体入力!$J47=22,\"○\",\"\")","v":""},{"$f":"IF(OR(総体入力!$H47=16,総体入力!$I47=16),\"○\",\"\")","v":""},{"$f":"IF(OR(総体入力!$H47=17,総体入力!$I47=17),\"○\",\"\")","v":""},{"$f":"IF(OR(総体入力!$H47=18,総体入力!$I47=18),\"○\",\"\")","v":""},{"$f":"IF(総体入力!N47=\"\",\"\",総体入力!N47)","v":""}]
[{"$f":"IF(総体入力!B48=\"\",\"\",総体入力!B48)","v":""},{"$f":"IF(総体入力!D48=\"\",\"\",総体入力!D48)","v":""},{"$f":"IF(総体入力!F48=\"\",\"\",総体入力!F48)","v":""},{"$f":"IF(総体入力!E48=\"\",\"\",総体入力!E48)","v":""},{"$f":"IF(OR(総体入力!$H48=1,総体入力!$I48=1),\"○\",\"\")","v":""},{"$f":"IF(OR(総体入力!$H48=2,総体入力!$I48=2),\"○\",\"\")","v":""},{"$f":"IF(OR(総体入力!$H48=3,総体入力!$I48=3),\"○\",\"\")","v":""},{"$f":"IF(OR(総体入力!$H48=4,総体入力!$I48=4),\"○\",\"\")","v":""},{"$f":"IF(OR(総体入力!$H48=5,総体入力!$I48=5),\"○\",\"\")","v":""},{"$f":"IF(OR(総体入力!$H48=6,総体入力!$I48=6),\"○\",\"\")","v":""},{"$f":"IF(OR(総体入力!$H48=7,総体入力!$I48=7),\"○\",\"\")","v":""},{"$f":"IF(OR(総体入力!$H48=8,総体入力!$I48=8),\"○\",\"\")","v":""},{"$f":"IF(OR(総体入力!$H48=9,総体入力!$I48=9),\"○\",\"\")","v":""},{"$f":"IF(OR(総体入力!$H48=10,総体入力!$I48=10),\"○\",\"\")","v":""},{"$f":"IF(OR(総体入力!$H48=11,総体入力!$I48=11),\"○\",\"\")","v":""},{"$f":"IF(OR(総体入力!$H48=12,総体入力!$I48=12),\"○\",\"\")","v":""},{"$f":"IF(OR(総体入力!$H48=13,総体入力!$I48=13),\"○\",\"\")","v":""},{"$f":"IF(OR(総体入力!$H48=14,総体入力!$I48=14),\"○\",\"\")","v":""},{"$f":"IF(OR(総体入力!$H48=15,総体入力!$I48=15),\"○\",\"\")","v":""},{"$f":"IF(総体入力!$J48=21,\"○\",\"\")","v":""},{"$f":"IF(総体入力!$J48=22,\"○\",\"\")","v":""},{"$f":"IF(OR(総体入力!$H48=16,総体入力!$I48=16),\"○\",\"\")","v":""},{"$f":"IF(OR(総体入力!$H48=17,総体入力!$I48=17),\"○\",\"\")","v":""},{"$f":"IF(OR(総体入力!$H48=18,総体入力!$I48=18),\"○\",\"\")","v":""},{"$f":"IF(総体入力!N48=\"\",\"\",総体入力!N48)","v":""}]
[{"$f":"IF(総体入力!B49=\"\",\"\",総体入力!B49)","v":""},{"$f":"IF(総体入力!D49=\"\",\"\",総体入力!D49)","v":""},{"$f":"IF(総体入力!F49=\"\",\"\",総体入力!F49)","v":""},{"$f":"IF(総体入力!E49=\"\",\"\",総体入力!E49)","v":""},{"$f":"IF(OR(総体入力!$H49=1,総体入力!$I49=1),\"○\",\"\")","v":""},{"$f":"IF(OR(総体入力!$H49=2,総体入力!$I49=2),\"○\",\"\")","v":""},{"$f":"IF(OR(総体入力!$H49=3,総体入力!$I49=3),\"○\",\"\")","v":""},{"$f":"IF(OR(総体入力!$H49=4,総体入力!$I49=4),\"○\",\"\")","v":""},{"$f":"IF(OR(総体入力!$H49=5,総体入力!$I49=5),\"○\",\"\")","v":""},{"$f":"IF(OR(総体入力!$H49=6,総体入力!$I49=6),\"○\",\"\")","v":""},{"$f":"IF(OR(総体入力!$H49=7,総体入力!$I49=7),\"○\",\"\")","v":""},{"$f":"IF(OR(総体入力!$H49=8,総体入力!$I49=8),\"○\",\"\")","v":""},{"$f":"IF(OR(総体入力!$H49=9,総体入力!$I49=9),\"○\",\"\")","v":""},{"$f":"IF(OR(総体入力!$H49=10,総体入力!$I49=10),\"○\",\"\")","v":""},{"$f":"IF(OR(総体入力!$H49=11,総体入力!$I49=11),\"○\",\"\")","v":""},{"$f":"IF(OR(総体入力!$H49=12,総体入力!$I49=12),\"○\",\"\")","v":""},{"$f":"IF(OR(総体入力!$H49=13,総体入力!$I49=13),\"○\",\"\")","v":""},{"$f":"IF(OR(総体入力!$H49=14,総体入力!$I49=14),\"○\",\"\")","v":""},{"$f":"IF(OR(総体入力!$H49=15,総体入力!$I49=15),\"○\",\"\")","v":""},{"$f":"IF(総体入力!$J49=21,\"○\",\"\")","v":""},{"$f":"IF(総体入力!$J49=22,\"○\",\"\")","v":""},{"$f":"IF(OR(総体入力!$H49=16,総体入力!$I49=16),\"○\",\"\")","v":""},{"$f":"IF(OR(総体入力!$H49=17,総体入力!$I49=17),\"○\",\"\")","v":""},{"$f":"IF(OR(総体入力!$H49=18,総体入力!$I49=18),\"○\",\"\")","v":""},{"$f":"IF(総体入力!N49=\"\",\"\",総体入力!N49)","v":""}]
[{"$f":"IF(総体入力!B50=\"\",\"\",総体入力!B50)","v":""},{"$f":"IF(総体入力!D50=\"\",\"\",総体入力!D50)","v":""},{"$f":"IF(総体入力!F50=\"\",\"\",総体入力!F50)","v":""},{"$f":"IF(総体入力!E50=\"\",\"\",総体入力!E50)","v":""},{"$f":"IF(OR(総体入力!$H50=1,総体入力!$I50=1),\"○\",\"\")","v":""},{"$f":"IF(OR(総体入力!$H50=2,総体入力!$I50=2),\"○\",\"\")","v":""},{"$f":"IF(OR(総体入力!$H50=3,総体入力!$I50=3),\"○\",\"\")","v":""},{"$f":"IF(OR(総体入力!$H50=4,総体入力!$I50=4),\"○\",\"\")","v":""},{"$f":"IF(OR(総体入力!$H50=5,総体入力!$I50=5),\"○\",\"\")","v":""},{"$f":"IF(OR(総体入力!$H50=6,総体入力!$I50=6),\"○\",\"\")","v":""},{"$f":"IF(OR(総体入力!$H50=7,総体入力!$I50=7),\"○\",\"\")","v":""},{"$f":"IF(OR(総体入力!$H50=8,総体入力!$I50=8),\"○\",\"\")","v":""},{"$f":"IF(OR(総体入力!$H50=9,総体入力!$I50=9),\"○\",\"\")","v":""},{"$f":"IF(OR(総体入力!$H50=10,総体入力!$I50=10),\"○\",\"\")","v":""},{"$f":"IF(OR(総体入力!$H50=11,総体入力!$I50=11),\"○\",\"\")","v":""},{"$f":"IF(OR(総体入力!$H50=12,総体入力!$I50=12),\"○\",\"\")","v":""},{"$f":"IF(OR(総体入力!$H50=13,総体入力!$I50=13),\"○\",\"\")","v":""},{"$f":"IF(OR(総体入力!$H50=14,総体入力!$I50=14),\"○\",\"\")","v":""},{"$f":"IF(OR(総体入力!$H50=15,総体入力!$I50=15),\"○\",\"\")","v":""},{"$f":"IF(総体入力!$J50=21,\"○\",\"\")","v":""},{"$f":"IF(総体入力!$J50=22,\"○\",\"\")","v":""},{"$f":"IF(OR(総体入力!$H50=16,総体入力!$I50=16),\"○\",\"\")","v":""},{"$f":"IF(OR(総体入力!$H50=17,総体入力!$I50=17),\"○\",\"\")","v":""},{"$f":"IF(OR(総体入力!$H50=18,総体入力!$I50=18),\"○\",\"\")","v":""},{"$f":"IF(総体入力!N50=\"\",\"\",総体入力!N50)","v":""}]
[{"$f":"IF(総体入力!B51=\"\",\"\",総体入力!B51)","v":""},{"$f":"IF(総体入力!D51=\"\",\"\",総体入力!D51)","v":""},{"$f":"IF(総体入力!F51=\"\",\"\",総体入力!F51)","v":""},{"$f":"IF(総体入力!E51=\"\",\"\",総体入力!E51)","v":""},{"$f":"IF(OR(総体入力!$H51=1,総体入力!$I51=1),\"○\",\"\")","v":""},{"$f":"IF(OR(総体入力!$H51=2,総体入力!$I51=2),\"○\",\"\")","v":""},{"$f":"IF(OR(総体入力!$H51=3,総体入力!$I51=3),\"○\",\"\")","v":""},{"$f":"IF(OR(総体入力!$H51=4,総体入力!$I51=4),\"○\",\"\")","v":""},{"$f":"IF(OR(総体入力!$H51=5,総体入力!$I51=5),\"○\",\"\")","v":""},{"$f":"IF(OR(総体入力!$H51=6,総体入力!$I51=6),\"○\",\"\")","v":""},{"$f":"IF(OR(総体入力!$H51=7,総体入力!$I51=7),\"○\",\"\")","v":""},{"$f":"IF(OR(総体入力!$H51=8,総体入力!$I51=8),\"○\",\"\")","v":""},{"$f":"IF(OR(総体入力!$H51=9,総体入力!$I51=9),\"○\",\"\")","v":""},{"$f":"IF(OR(総体入力!$H51=10,総体入力!$I51=10),\"○\",\"\")","v":""},{"$f":"IF(OR(総体入力!$H51=11,総体入力!$I51=11),\"○\",\"\")","v":""},{"$f":"IF(OR(総体入力!$H51=12,総体入力!$I51=12),\"○\",\"\")","v":""},{"$f":"IF(OR(総体入力!$H51=13,総体入力!$I51=13),\"○\",\"\")","v":""},{"$f":"IF(OR(総体入力!$H51=14,総体入力!$I51=14),\"○\",\"\")","v":""},{"$f":"IF(OR(総体入力!$H51=15,総体入力!$I51=15),\"○\",\"\")","v":""},{"$f":"IF(総体入力!$J51=21,\"○\",\"\")","v":""},{"$f":"IF(総体入力!$J51=22,\"○\",\"\")","v":""},{"$f":"IF(OR(総体入力!$H51=16,総体入力!$I51=16),\"○\",\"\")","v":""},{"$f":"IF(OR(総体入力!$H51=17,総体入力!$I51=17),\"○\",\"\")","v":""},{"$f":"IF(OR(総体入力!$H51=18,総体入力!$I51=18),\"○\",\"\")","v":""},{"$f":"IF(総体入力!N51=\"\",\"\",総体入力!N51)","v":""}]
[]
[]
[null,null,null,null,null,null,null,null,null,null,null,null,null,null,null,{"$f":"IF(C2=\"\",\"令和　　年　　月　　日\",TODAY())","v":"令和　　年　　月　　日"}]
["　秋田市中学校体育連盟 会 長　佐々木　正宜 様"]
[]
[null,{"$f":"IF(必ずお読み下さい!I7=1,\"　上記の生徒は要項に照らし適格者であり，学校代表としてもふさわしく，また，保護者の同意を得ておりますので，大会への参加を申し込みいたします。\",IF(必ずお読み下さい!I7=2,\"　上記の生徒は要項に照らし適格者であり，保護者の同意を得ておりますので，大会への参加を申し込みいたします。\",\"　上記の生徒は要項に照らし適格者であり，学校代表としてもふさわしく，また，保護者の同意を得ておりますので，大会への参加を申し込みいたします。\"))","v":"　上記の生徒は要項に照らし適格者であり，学校代表としてもふさわしく，また，保護者の同意を得ておりますので，大会への参加を申し込みいたします。"}]
[]
[null,{"$f":"IF(総体入力!D3=\"\",\"\",総体入力!D3)","v":""},null,null,null,null,null,null,null,null,{"$f":"IF(必ずお読み下さい!I7=1,\"校長\",IF(必ずお読み下さい!I7=2,\"代表\",\"\"))","v":"校長"},null,{"$f":"IF(総体入力!D5=\"\",\"\",総体入力!D5)","v":""},null,null,null,null,null,null,null,null,"印"]
[]
[null,"※引率・監督者の特例を適用する場合は氏名を記入"]
[]
[null,"（引率者氏名",{"$f":"IF(総体入力!D6=\"\",\"\",総体入力!D6)","v":""},null,null,null,"）",null,null,"（代理監督者氏名",null,null,null,null,{"$f":"IF(総体入力!D7=\"\",\"\",総体入力!D7)","v":""},null,null,null,null,null,null,"）"]
[]
["※　男子は黒で記入すること。"]
[]
[null,null,"エラーチェック",null,"１年\n100","２年\n100","３年\n100","共通\n200","共通\n400","共通\n800","１年\n1500","２３年\n1500","共通\n3000","共通\n110H","共通\n走高","共通\n棒高","共通\n走幅","共通\n砲丸","共通\n四種","低\n400R","共通\n400R","奨励\n100","奨励\n1500","奨励\n走幅"]
[null,null,null,null,{"$f":"IF(E65>2,\"×\",\"○\")","v":"○"},{"$f":"IF(F65>2,\"×\",\"○\")","v":"○"},"○","○","○","○","○","○","○","○","○","○","○","○","○",{"$f":"IF(T65>6,\"×\",\"○\")","v":"○"},{"$f":"IF(U65>6,\"×\",\"○\")","v":"○"},"○","○","○"]
[null,null,null,null,"各種目○ならok。×の場合は人数が超過している。"]
[]
[null,null,null,null,{"$f":"COUNTIF(E$5:E$36,\"○\")","v":0},{"$f":"COUNTIF(F$5:F$36,\"○\")","v":0},0,0,0,0,0,0,0,0,0,0,0,0,0,0,0,0,0,0]
[]
[]
[]
[]
[]
[]
[]
[]
[{"$f":"TODAY()","v":"2025-05-15"}]
[{"$f":"YEAR(A74)","v":2025}]
["第",{"$f":"A75-1951","v":74},"回　秋田市中学校総合体育大会　陸上競技大会　参加申込書一覧〔男子〕"]
[null,null,"回　秋田市中学校総合体育大会　陸上競技大会　参加申込書一覧〔女子〕"]

{"sheet":"女一覧","index":3,"n_rows":65,"n_cols":46,"rows_kept":65,"cut":false,"hidden":false,"merged":[[56,2,57,3],[52,2,52,5],[52,7,52,11],[48,9,48,10],[52,12,52,18],[48,11,48,18],[54,0,54,21],[48,1,48,7],[43,13,43,20],[46,1,46,20],[0,0,0,21],[2,13,2,16],[2,17,2,18],[2,2,2,9],[1,2,1,9],[44,0,44,9],[2,19,2,20]]}
[{"$f":"\"第\"&部員名簿!A116&\"回　秋田市中学校総合体育大会　陸上競技大会　参加申込書一覧[女子]\"","v":"第74回　秋田市中学校総合体育大会　陸上競技大会　参加申込書一覧[女子]"}]
[null,"学校名(",{"$f":"IF(B49=\"\",\"\",B49)","v":""},null,null,null,null,null,null,null,")"]
[null,"監督名(",{"$f":"IF(総体入力!D80=\"\",\"\",総体入力!D80)","v":""},null,null,null,null,null,null,null,")",null,null,"参加人数（",null,null,null,{"$f":"IF(COUNTA(総体入力!B87:B123)=0,\"\",COUNTA(総体入力!B87:B123))","v":""},null,"）名"]
["ナンバー\nカード","氏    名","フリガナ","学年","１年\n100","２年\n100","３年\n100","共通\n200","共通\n800","１年\n1500","23年\n1500","共通\n100H","共通\n走高","共通\n走幅","共通\n砲丸","共通\n四種","低\n400R","共通\n400R","奨励\n100","奨励\n800","奨励\n走幅","ｵｰﾌﾟﾝ\n1500"]
[{"$f":"IF(総体入力!B87=\"\",\"\",総体入力!B87)","v":""},{"$f":"IF(総体入力!D87=\"\",\"\",総体入力!D87)","v":""},{"$f":"IF(総体入力!F87=\"\",\"\",総体入力!F87)","v":""},{"$f":"IF(総体入力!E87=\"\",\"\",総体入力!E87)","v":""},{"$f":"IF(OR(総体入力!$H87=31,総体入力!$I87=31),\"○\",\"\")","v":""},{"$f":"IF(OR(総体入力!$H87=32,総体入力!$I87=32),\"○\",\"\")","v":""},{"$f":"IF(OR(総体入力!$H87=33,総体入力!$I87=33),\"○\",\"\")","v":""},{"$f":"IF(OR(総体入力!$H87=34,総体入力!$I87=34),\"○\",\"\")","v":""},{"$f":"IF(OR(総体入力!$H87=35,総体入力!$I87=35),\"○\",\"\")","v":""},{"$f":"IF(OR(総体入力!$H87=36,総体入力!$I87=36),\"○\",\"\")","v":""},{"$f":"IF(OR(総体入力!$H87=37,総体入力!$I87=37),\"○\",\"\")","v":""},{"$f":"IF(OR(総体入力!$H87=38,総体入力!$I87=38),\"○\",\"\")","v":""},{"$f":"IF(OR(総体入力!$H87=39,総体入力!$I87=39),\"○\",\"\")","v":""},{"$f":"IF(OR(総体入力!$H87=40,総体入力!$I87=40),\"○\",\"\")","v":""},{"$f":"IF(OR(総体入力!$H87=41,総体入力!$I87=41),\"○\",\"\")","v":""},{"$f":"IF(OR(総体入力!$H87=42,総体入力!$I87=42),\"○\",\"\")","v":""},{"$f":"IF(総体入力!$J87=51,\"○\",\"\")","v":""},{"$f":"IF(総体入力!$J87=52,\"○\",\"\")","v":""},{"$f":"IF(OR(総体入力!$H87=43,総体入力!$I87=43),\"○\",\"\")","v":""},{"$f":"IF(OR(総体入力!$H87=44,総体入力!$I87=44),\"○\",\"\")","v":""},{"$f":"IF(OR(総体入力!$H87=45,総体入力!$I87=45),\"○\",\"\")","v":""},{"$f":"IF(OR(総体入力!$H87=46,総体入力!$I87=46),\"○\",\"\")","v":""},null,null,null,null,null,null,null,null,null,null,null,null,null,null,null,null,null,null,null,null,null,null,null,"○"]
[{"$f":"IF(総体入力!B88=\"\",\"\",総体入力!B88)","v":""},{"$f":"IF(総体入力!D88=\"\",\"\",総体入力!D88)","v":""},{"$f":"IF(総体入力!F88=\"\",\"\",総体入力!F88)","v":""},{"$f":"IF(総体入力!E88=\"\",\"\",総体入力!E88)","v":""},{"$f":"IF(OR(総体入力!$H88=31,総体入力!$I88=31),\"○\",\"\")","v":""},{"$f":"IF(OR(総体入力!$H88=32,総体入力!$I88=32),\"○\",\"\")","v":""},{"$f":"IF(OR(総体入力!$H88=33,総体入力!$I88=33),\"○\",\"\")","v":""},{"$f":"IF(OR(総体入力!$H88=34,総体入力!$I88=34),\"○\",\"\")","v":""},{"$f":"IF(OR(総体入力!$H88=35,総体入力!$I88=35),\"○\",\"\")","v":""},{"$f":"IF(OR(総体入力!$H88=36,総体入力!$I88=36),\"○\",\"\")","v":""},{"$f":"IF(OR(総体入力!$H88=37,総体入力!$I88=37),\"○\",\"\")","v":""},{"$f":"IF(OR(総体入力!$H88=38,総体入力!$I88=38),\"○\",\"\")","v":""},{"$f":"IF(OR(総体入力!$H88=39,総体入力!$I88=39),\"○\",\"\")","v":""},{"$f":"IF(OR(総体入力!$H88=40,総体入力!$I88=40),\"○\",\"\")","v":""},{"$f":"IF(OR(総体入力!$H88=41,総体入力!$I88=41),\"○\",\"\")","v":""},{"$f":"IF(OR(総体入力!$H88=42,総体入力!$I88=42),\"○\",\"\")","v":""},{"$f":"IF(総体入力!$J88=51,\"○\",\"\")","v":""},{"$f":"IF(総体入力!$J88=52,\"○\",\"\")","v":""},{"$f":"IF(OR(総体入力!$H88=43,総体入力!$I88=43),\"○\",\"\")","v":""},{"$f":"IF(OR(総体入力!$H88=44,総体入力!$I88=44),\"○\",\"\")","v":""},{"$f":"IF(OR(総体入力!$H88=45,総体入力!$I88=45),\"○\",\"\")","v":""},{"$f":"IF(OR(総体入力!$H88=46,総体入力!$I88=46),\"○\",\"\")","v":""}]
[{"$f":"IF(総体入力!B89=\"\",\"\",総体入力!B89)","v":""},{"$f":"IF(総体入力!D89=\"\",\"\",総体入力!D89)","v":""},{"$f":"IF(総体入力!F89=\"\",\"\",総体入力!F89)","v":""},{"$f":"IF(総体入力!E89=\"\",\"\",総体入力!E89)","v":""},{"$f":"IF(OR(総体入力!$H89=31,総体入力!$I89=31),\"○\",\"\")","v":""},{"$f":"IF(OR(総体入力!$H89=32,総体入力!$I89=32),\"○\",\"\")","v":""},{"$f":"IF(OR(総体入力!$H89=33,総体入力!$I89=33),\"○\",\"\")","v":""},{"$f":"IF(OR(総体入力!$H89=34,総体入力!$I89=34),\"○\",\"\")","v":""},{"$f":"IF(OR(総体入力!$H89=35,総体入力!$I89=35),\"○\",\"\")","v":""},{"$f":"IF(OR(総体入力!$H89=36,総体入力!$I89=36),\"○\",\"\")","v":""},{"$f":"IF(OR(総体入力!$H89=37,総体入力!$I89=37),\"○\",\"\")","v":""},{"$f":"IF(OR(総体入力!$H89=38,総体入力!$I89=38),\"○\",\"\")","v":""},{"$f":"IF(OR(総体入力!$H89=39,総体入力!$I89=39),\"○\",\"\")","v":""},{"$f":"IF(OR(総体入力!$H89=40,総体入力!$I89=40),\"○\",\"\")","v":""},{"$f":"IF(OR(総体入力!$H89=41,総体入力!$I89=41),\"○\",\"\")","v":""},{"$f":"IF(OR(総体入力!$H89=42,総体入力!$I89=42),\"○\",\"\")","v":""},{"$f":"IF(総体入力!$J89=51,\"○\",\"\")","v":""},{"$f":"IF(総体入力!$J89=52,\"○\",\"\")","v":""},{"$f":"IF(OR(総体入力!$H89=43,総体入力!$I89=43),\"○\",\"\")","v":""},{"$f":"IF(OR(総体入力!$H89=44,総体入力!$I89=44),\"○\",\"\")","v":""},{"$f":"IF(OR(総体入力!$H89=45,総体入力!$I89=45),\"○\",\"\")","v":""},{"$f":"IF(OR(総体入力!$H89=46,総体入力!$I89=46),\"○\",\"\")","v":""}]
[{"$f":"IF(総体入力!B90=\"\",\"\",総体入力!B90)","v":""},{"$f":"IF(総体入力!D90=\"\",\"\",総体入力!D90)","v":""},{"$f":"IF(総体入力!F90=\"\",\"\",総体入力!F90)","v":""},{"$f":"IF(総体入力!E90=\"\",\"\",総体入力!E90)","v":""},{"$f":"IF(OR(総体入力!$H90=31,総体入力!$I90=31),\"○\",\"\")","v":""},{"$f":"IF(OR(総体入力!$H90=32,総体入力!$I90=32),\"○\",\"\")","v":""},{"$f":"IF(OR(総体入力!$H90=33,総体入力!$I90=33),\"○\",\"\")","v":""},{"$f":"IF(OR(総体入力!$H90=34,総体入力!$I90=34),\"○\",\"\")","v":""},{"$f":"IF(OR(総体入力!$H90=35,総体入力!$I90=35),\"○\",\"\")","v":""},{"$f":"IF(OR(総体入力!$H90=36,総体入力!$I90=36),\"○\",\"\")","v":""},{"$f":"IF(OR(総体入力!$H90=37,総体入力!$I90=37),\"○\",\"\")","v":""},{"$f":"IF(OR(総体入力!$H90=38,総体入力!$I90=38),\"○\",\"\")","v":""},{"$f":"IF(OR(総体入力!$H90=39,総体入力!$I90=39),\"○\",\"\")","v":""},{"$f":"IF(OR(総体入力!$H90=40,総体入力!$I90=40),\"○\",\"\")","v":""},{"$f":"IF(OR(総体入力!$H90=41,総体入力!$I90=41),\"○\",\"\")","v":""},{"$f":"IF(OR(総体入力!$H90=42,総体入力!$I90=42),\"○\",\"\")","v":""},{"$f":"IF(総体入力!$J90=51,\"○\",\"\")","v":""},{"$f":"IF(総体入力!$J90=52,\"○\",\"\")","v":""},{"$f":"IF(OR(総体入力!$H90=43,総体入力!$I90=43),\"○\",\"\")","v":""},{"$f":"IF(OR(総体入力!$H90=44,総体入力!$I90=44),\"○\",\"\")","v":""},{"$f":"IF(OR(総体入力!$H90=45,総体入力!$I90=45),\"○\",\"\")","v":""},{"$f":"IF(OR(総体入力!$H90=46,総体入力!$I90=46),\"○\",\"\")","v":""}]
[{"$f":"IF(総体入力!B91=\"\",\"\",総体入力!B91)","v":""},{"$f":"IF(総体入力!D91=\"\",\"\",総体入力!D91)","v":""},{"$f":"IF(総体入力!F91=\"\",\"\",総体入力!F91)","v":""},{"$f":"IF(総体入力!E91=\"\",\"\",総体入力!E91)","v":""},{"$f":"IF(OR(総体入力!$H91=31,総体入力!$I91=31),\"○\",\"\")","v":""},{"$f":"IF(OR(総体入力!$H91=32,総体入力!$I91=32),\"○\",\"\")","v":""},{"$f":"IF(OR(総体入力!$H91=33,総体入力!$I91=33),\"○\",\"\")","v":""},{"$f":"IF(OR(総体入力!$H91=34,総体入力!$I91=34),\"○\",\"\")","v":""},{"$f":"IF(OR(総体入力!$H91=35,総体入力!$I91=35),\"○\",\"\")","v":""},{"$f":"IF(OR(総体入力!$H91=36,総体入力!$I91=36),\"○\",\"\")","v":""},{"$f":"IF(OR(総体入力!$H91=37,総体入力!$I91=37),\"○\",\"\")","v":""},{"$f":"IF(OR(総体入力!$H91=38,総体入力!$I91=38),\"○\",\"\")","v":""},{"$f":"IF(OR(総体入力!$H91=39,総体入力!$I91=39),\"○\",\"\")","v":""},{"$f":"IF(OR(総体入力!$H91=40,総体入力!$I91=40),\"○\",\"\")","v":""},{"$f":"IF(OR(総体入力!$H91=41,総体入力!$I91=41),\"○\",\"\")","v":""},{"$f":"IF(OR(総体入力!$H91=42,総体入力!$I91=42),\"○\",\"\")","v":""},{"$f":"IF(総体入力!$J91=51,\"○\",\"\")","v":""},{"$f":"IF(総体入力!$J91=52,\"○\",\"\")","v":""},{"$f":"IF(OR(総体入力!$H91=43,総体入力!$I91=43),\"○\",\"\")","v":""},{"$f":"IF(OR(総体入力!$H91=44,総体入力!$I91=44),\"○\",\"\")","v":""},{"$f":"IF(OR(総体入力!$H91=45,総体入力!$I91=45),\"○\",\"\")","v":""},{"$f":"IF(OR(総体入力!$H91=46,総体入力!$I91=46),\"○\",\"\")","v":""}]
[{"$f":"IF(総体入力!B92=\"\",\"\",総体入力!B92)","v":""},{"$f":"IF(総体入力!D92=\"\",\"\",総体入力!D92)","v":""},{"$f":"IF(総体入力!F92=\"\",\"\",総体入力!F92)","v":""},{"$f":"IF(総体入力!E92=\"\",\"\",総体入力!E92)","v":""},{"$f":"IF(OR(総体入力!$H92=31,総体入力!$I92=31),\"○\",\"\")","v":""},{"$f":"IF(OR(総体入力!$H92=32,総体入力!$I92=32),\"○\",\"\")","v":""},{"$f":"IF(OR(総体入力!$H92=33,総体入力!$I92=33),\"○\",\"\")","v":""},{"$f":"IF(OR(総体入力!$H92=34,総体入力!$I92=34),\"○\",\"\")","v":""},{"$f":"IF(OR(総体入力!$H92=35,総体入力!$I92=35),\"○\",\"\")","v":""},{"$f":"IF(OR(総体入力!$H92=36,総体入力!$I92=36),\"○\",\"\")","v":""},{"$f":"IF(OR(総体入力!$H92=37,総体入力!$I92=37),\"○\",\"\")","v":""},{"$f":"IF(OR(総体入力!$H92=38,総体入力!$I92=38),\"○\",\"\")","v":""},{"$f":"IF(OR(総体入力!$H92=39,総体入力!$I92=39),\"○\",\"\")","v":""},{"$f":"IF(OR(総体入力!$H92=40,総体入力!$I92=40),\"○\",\"\")","v":""},{"$f":"IF(OR(総体入力!$H92=41,総体入力!$I92=41),\"○\",\"\")","v":""},{"$f":"IF(OR(総体入力!$H92=42,総体入力!$I92=42),\"○\",\"\")","v":""},{"$f":"IF(総体入力!$J92=51,\"○\",\"\")","v":""},{"$f":"IF(総体入力!$J92=52,\"○\",\"\")","v":""},{"$f":"IF(OR(総体入力!$H92=43,総体入力!$I92=43),\"○\",\"\")","v":""},{"$f":"IF(OR(総体入力!$H92=44,総体入力!$I92=44),\"○\",\"\")","v":""},{"$f":"IF(OR(総体入力!$H92=45,総体入力!$I92=45),\"○\",\"\")","v":""},{"$f":"IF(OR(総体入力!$H92=46,総体入力!$I92=46),\"○\",\"\")","v":""}]
[{"$f":"IF(総体入力!B93=\"\",\"\",総体入力!B93)","v":""},{"$f":"IF(総体入力!D93=\"\",\"\",総体入力!D93)","v":""},{"$f":"IF(総体入力!F93=\"\",\"\",総体入力!F93)","v":""},{"$f":"IF(総体入力!E93=\"\",\"\",総体入力!E93)","v":""},{"$f":"IF(OR(総体入力!$H93=31,総体入力!$I93=31),\"○\",\"\")","v":""},{"$f":"IF(OR(総体入力!$H93=32,総体入力!$I93=32),\"○\",\"\")","v":""},{"$f":"IF(OR(総体入力!$H93=33,総体入力!$I93=33),\"○\",\"\")","v":""},{"$f":"IF(OR(総体入力!$H93=34,総体入力!$I93=34),\"○\",\"\")","v":""},{"$f":"IF(OR(総体入力!$H93=35,総体入力!$I93=35),\"○\",\"\")","v":""},{"$f":"IF(OR(総体入力!$H93=36,総体入力!$I93=36),\"○\",\"\")","v":""},{"$f":"IF(OR(総体入力!$H93=37,総体入力!$I93=37),\"○\",\"\")","v":""},{"$f":"IF(OR(総体入力!$H93=38,総体入力!$I93=38),\"○\",\"\")","v":""},{"$f":"IF(OR(総体入力!$H93=39,総体入力!$I93=39),\"○\",\"\")","v":""},{"$f":"IF(OR(総体入力!$H93=40,総体入力!$I93=40),\"○\",\"\")","v":""},{"$f":"IF(OR(総体入力!$H93=41,総体入力!$I93=41),\"○\",\"\")","v":""},{"$f":"IF(OR(総体入力!$H93=42,総体入力!$I93=42),\"○\",\"\")","v":""},{"$f":"IF(総体入力!$J93=51,\"○\",\"\")","v":""},{"$f":"IF(総体入力!$J93=52,\"○\",\"\")","v":""},{"$f":"IF(OR(総体入力!$H93=43,総体入力!$I93=43),\"○\",\"\")","v":""},{"$f":"IF(OR(総体入力!$H93=44,総体入力!$I93=44),\"○\",\"\")","v":""},{"$f":"IF(OR(総体入力!$H93=45,総体入力!$I93=45),\"○\",\"\")","v":""},{"$f":"IF(OR(総体入力!$H93=46,総体入力!$I93=46),\"○\",\"\")","v":""}]
[{"$f":"IF(総体入力!B94=\"\",\"\",総体入力!B94)","v":""},{"$f":"IF(総体入力!D94=\"\",\"\",総体入力!D94)","v":""},{"$f":"IF(総体入力!F94=\"\",\"\",総体入力!F94)","v":""},{"$f":"IF(総体入力!E94=\"\",\"\",総体入力!E94)","v":""},{"$f":"IF(OR(総体入力!$H94=31,総体入力!$I94=31),\"○\",\"\")","v":""},{"$f":"IF(OR(総体入力!$H94=32,総体入力!$I94=32),\"○\",\"\")","v":""},{"$f":"IF(OR(総体入力!$H94=33,総体入力!$I94=33),\"○\",\"\")","v":""},{"$f":"IF(OR(総体入力!$H94=34,総体入力!$I94=34),\"○\",\"\")","v":""},{"$f":"IF(OR(総体入力!$H94=35,総体入力!$I94=35),\"○\",\"\")","v":""},{"$f":"IF(OR(総体入力!$H94=36,総体入力!$I94=36),\"○\",\"\")","v":""},{"$f":"IF(OR(総体入力!$H94=37,総体入力!$I94=37),\"○\",\"\")","v":""},{"$f":"IF(OR(総体入力!$H94=38,総体入力!$I94=38),\"○\",\"\")","v":""},{"$f":"IF(OR(総体入力!$H94=39,総体入力!$I94=39),\"○\",\"\")","v":""},{"$f":"IF(OR(総体入力!$H94=40,総体入力!$I94=40),\"○\",\"\")","v":""},{"$f":"IF(OR(総体入力!$H94=41,総体入力!$I94=41),\"○\",\"\")","v":""},{"$f":"IF(OR(総体入力!$H94=42,総体入力!$I94=42),\"○\",\"\")","v":""},{"$f":"IF(総体入力!$J94=51,\"○\",\"\")","v":""},{"$f":"IF(総体入力!$J94=52,\"○\",\"\")","v":""},{"$f":"IF(OR(総体入力!$H94=43,総体入力!$I94=43),\"○\",\"\")","v":""},{"$f":"IF(OR(総体入力!$H94=44,総体入力!$I94=44),\"○\",\"\")","v":""},{"$f":"IF(OR(総体入力!$H94=45,総体入力!$I94=45),\"○\",\"\")","v":""},{"$f":"IF(OR(総体入力!$H94=46,総体入力!$I94=46),\"○\",\"\")","v":""}]
[{"$f":"IF(総体入力!B95=\"\",\"\",総体入力!B95)","v":""},{"$f":"IF(総体入力!D95=\"\",\"\",総体入力!D95)","v":""},{"$f":"IF(総体入力!F95=\"\",\"\",総体入力!F95)","v":""},{"$f":"IF(総体入力!E95=\"\",\"\",総体入力!E95)","v":""},{"$f":"IF(OR(総体入力!$H95=31,総体入力!$I95=31),\"○\",\"\")","v":""},{"$f":"IF(OR(総体入力!$H95=32,総体入力!$I95=32),\"○\",\"\")","v":""},{"$f":"IF(OR(総体入力!$H95=33,総体入力!$I95=33),\"○\",\"\")","v":""},{"$f":"IF(OR(総体入力!$H95=34,総体入力!$I95=34),\"○\",\"\")","v":""},{"$f":"IF(OR(総体入力!$H95=35,総体入力!$I95=35),\"○\",\"\")","v":""},{"$f":"IF(OR(総体入力!$H95=36,総体入力!$I95=36),\"○\",\"\")","v":""},{"$f":"IF(OR(総体入力!$H95=37,総体入力!$I95=37),\"○\",\"\")","v":""},{"$f":"IF(OR(総体入力!$H95=38,総体入力!$I95=38),\"○\",\"\")","v":""},{"$f":"IF(OR(総体入力!$H95=39,総体入力!$I95=39),\"○\",\"\")","v":""},{"$f":"IF(OR(総体入力!$H95=40,総体入力!$I95=40),\"○\",\"\")","v":""},{"$f":"IF(OR(総体入力!$H95=41,総体入力!$I95=41),\"○\",\"\")","v":""},{"$f":"IF(OR(総体入力!$H95=42,総体入力!$I95=42),\"○\",\"\")","v":""},{"$f":"IF(総体入力!$J95=51,\"○\",\"\")","v":""},{"$f":"IF(総体入力!$J95=52,\"○\",\"\")","v":""},{"$f":"IF(OR(総体入力!$H95=43,総体入力!$I95=43),\"○\",\"\")","v":""},{"$f":"IF(OR(総体入力!$H95=44,総体入力!$I95=44),\"○\",\"\")","v":""},{"$f":"IF(OR(総体入力!$H95=45,総体入力!$I95=45),\"○\",\"\")","v":""},{"$f":"IF(OR(総体入力!$H95=46,総体入力!$I95=46),\"○\",\"\")","v":""}]
[{"$f":"IF(総体入力!B96=\"\",\"\",総体入力!B96)","v":""},{"$f":"IF(総体入力!D96=\"\",\"\",総体入力!D96)","v":""},{"$f":"IF(総体入力!F96=\"\",\"\",総体入力!F96)","v":""},{"$f":"IF(総体入力!E96=\"\",\"\",総体入力!E96)","v":""},{"$f":"IF(OR(総体入力!$H96=31,総体入力!$I96=31),\"○\",\"\")","v":""},{"$f":"IF(OR(総体入力!$H96=32,総体入力!$I96=32),\"○\",\"\")","v":""},{"$f":"IF(OR(総体入力!$H96=33,総体入力!$I96=33),\"○\",\"\")","v":""},{"$f":"IF(OR(総体入力!$H96=34,総体入力!$I96=34),\"○\",\"\")","v":""},{"$f":"IF(OR(総体入力!$H96=35,総体入力!$I96=35),\"○\",\"\")","v":""},{"$f":"IF(OR(総体入力!$H96=36,総体入力!$I96=36),\"○\",\"\")","v":""},{"$f":"IF(OR(総体入力!$H96=37,総体入力!$I96=37),\"○\",\"\")","v":""},{"$f":"IF(OR(総体入力!$H96=38,総体入力!$I96=38),\"○\",\"\")","v":""},{"$f":"IF(OR(総体入力!$H96=39,総体入力!$I96=39),\"○\",\"\")","v":""},{"$f":"IF(OR(総体入力!$H96=40,総体入力!$I96=40),\"○\",\"\")","v":""},{"$f":"IF(OR(総体入力!$H96=41,総体入力!$I96=41),\"○\",\"\")","v":""},{"$f":"IF(OR(総体入力!$H96=42,総体入力!$I96=42),\"○\",\"\")","v":""},{"$f":"IF(総体入力!$J96=51,\"○\",\"\")","v":""},{"$f":"IF(総体入力!$J96=52,\"○\",\"\")","v":""},{"$f":"IF(OR(総体入力!$H96=43,総体入力!$I96=43),\"○\",\"\")","v":""},{"$f":"IF(OR(総体入力!$H96=44,総体入力!$I96=44),\"○\",\"\")","v":""},{"$f":"IF(OR(総体入力!$H96=45,総体入力!$I96=45),\"○\",\"\")","v":""},{"$f":"IF(OR(総体入力!$H96=46,総体入力!$I96=46),\"○\",\"\")","v":""}]
[{"$f":"IF(総体入力!B97=\"\",\"\",総体入力!B97)","v":""},{"$f":"IF(総体入力!D97=\"\",\"\",総体入力!D97)","v":""},{"$f":"IF(総体入力!F97=\"\",\"\",総体入力!F97)","v":""},{"$f":"IF(総体入力!E97=\"\",\"\",総体入力!E97)","v":""},{"$f":"IF(OR(総体入力!$H97=31,総体入力!$I97=31),\"○\",\"\")","v":""},{"$f":"IF(OR(総体入力!$H97=32,総体入力!$I97=32),\"○\",\"\")","v":""},{"$f":"IF(OR(総体入力!$H97=33,総体入力!$I97=33),\"○\",\"\")","v":""},{"$f":"IF(OR(総体入力!$H97=34,総体入力!$I97=34),\"○\",\"\")","v":""},{"$f":"IF(OR(総体入力!$H97=35,総体入力!$I97=35),\"○\",\"\")","v":""},{"$f":"IF(OR(総体入力!$H97=36,総体入力!$I97=36),\"○\",\"\")","v":""},{"$f":"IF(OR(総体入力!$H97=37,総体入力!$I97=37),\"○\",\"\")","v":""},{"$f":"IF(OR(総体入力!$H97=38,総体入力!$I97=38),\"○\",\"\")","v":""},{"$f":"IF(OR(総体入力!$H97=39,総体入力!$I97=39),\"○\",\"\")","v":""},{"$f":"IF(OR(総体入力!$H97=40,総体入力!$I97=40),\"○\",\"\")","v":""},{"$f":"IF(OR(総体入力!$H97=41,総体入力!$I97=41),\"○\",\"\")","v":""},{"$f":"IF(OR(総体入力!$H97=42,総体入力!$I97=42),\"○\",\"\")","v":""},{"$f":"IF(総体入力!$J97=51,\"○\",\"\")","v":""},{"$f":"IF(総体入力!$J97=52,\"○\",\"\")","v":""},{"$f":"IF(OR(総体入力!$H97=43,総体入力!$I97=43),\"○\",\"\")","v":""},{"$f":"IF(OR(総体入力!$H97=44,総体入力!$I97=44),\"○\",\"\")","v":""},{"$f":"IF(OR(総体入力!$H97=45,総体入力!$I97=45),\"○\",\"\")","v":""},{"$f":"IF(OR(総体入力!$H97=46,総体入力!$I97=46),\"○\",\"\")","v":""}]
[{"$f":"IF(総体入力!B98=\"\",\"\",総体入力!B98)","v":""},{"$f":"IF(総体入力!D98=\"\",\"\",総体入力!D98)","v":""},{"$f":"IF(総体入力!F98=\"\",\"\",総体入力!F98)","v":""},{"$f":"IF(総体入力!E98=\"\",\"\",総体入力!E98)","v":""},{"$f":"IF(OR(総体入力!$H98=31,総体入力!$I98=31),\"○\",\"\")","v":""},{"$f":"IF(OR(総体入力!$H98=32,総体入力!$I98=32),\"○\",\"\")","v":""},{"$f":"IF(OR(総体入力!$H98=33,総体入力!$I98=33),\"○\",\"\")","v":""},{"$f":"IF(OR(総体入力!$H98=34,総体入力!$I98=34),\"○\",\"\")","v":""},{"$f":"IF(OR(総体入力!$H98=35,総体入力!$I98=35),\"○\",\"\")","v":""},{"$f":"IF(OR(総体入力!$H98=36,総体入力!$I98=36),\"○\",\"\")","v":""},{"$f":"IF(OR(総体入力!$H98=37,総体入力!$I98=37),\"○\",\"\")","v":""},{"$f":"IF(OR(総体入力!$H98=38,総体入力!$I98=38),\"○\",\"\")","v":""},{"$f":"IF(OR(総体入力!$H98=39,総体入力!$I98=39),\"○\",\"\")","v":""},{"$f":"IF(OR(総体入力!$H98=40,総体入力!$I98=40),\"○\",\"\")","v":""},{"$f":"IF(OR(総体入力!$H98=41,総体入力!$I98=41),\"○\",\"\")","v":""},{"$f":"IF(OR(総体入力!$H98=42,総体入力!$I98=42),\"○\",\"\")","v":""},{"$f":"IF(総体入力!$J98=51,\"○\",\"\")","v":""},{"$f":"IF(総体入力!$J98=52,\"○\",\"\")","v":""},{"$f":"IF(OR(総体入力!$H98=43,総体入力!$I98=43),\"○\",\"\")","v":""},{"$f":"IF(OR(総体入力!$H98=44,総体入力!$I98=44),\"○\",\"\")","v":""},{"$f":"IF(OR(総体入力!$H98=45,総体入力!$I98=45),\"○\",\"\")","v":""},{"$f":"IF(OR(総体入力!$H98=46,総体入力!$I98=46),\"○\",\"\")","v":""}]
[{"$f":"IF(総体入力!B99=\"\",\"\",総体入力!B99)","v":""},{"$f":"IF(総体入力!D99=\"\",\"\",総体入力!D99)","v":""},{"$f":"IF(総体入力!F99=\"\",\"\",総体入力!F99)","v":""},{"$f":"IF(総体入力!E99=\"\",\"\",総体入力!E99)","v":""},{"$f":"IF(OR(総体入力!$H99=31,総体入力!$I99=31),\"○\",\"\")","v":""},{"$f":"IF(OR(総体入力!$H99=32,総体入力!$I99=32),\"○\",\"\")","v":""},{"$f":"IF(OR(総体入力!$H99=33,総体入力!$I99=33),\"○\",\"\")","v":""},{"$f":"IF(OR(総体入力!$H99=34,総体入力!$I99=34),\"○\",\"\")","v":""},{"$f":"IF(OR(総体入力!$H99=35,総体入力!$I99=35),\"○\",\"\")","v":""},{"$f":"IF(OR(総体入力!$H99=36,総体入力!$I99=36),\"○\",\"\")","v":""},{"$f":"IF(OR(総体入力!$H99=37,総体入力!$I99=37),\"○\",\"\")","v":""},{"$f":"IF(OR(総体入力!$H99=38,総体入力!$I99=38),\"○\",\"\")","v":""},{"$f":"IF(OR(総体入力!$H99=39,総体入力!$I99=39),\"○\",\"\")","v":""},{"$f":"IF(OR(総体入力!$H99=40,総体入力!$I99=40),\"○\",\"\")","v":""},{"$f":"IF(OR(総体入力!$H99=41,総体入力!$I99=41),\"○\",\"\")","v":""},{"$f":"IF(OR(総体入力!$H99=42,総体入力!$I99=42),\"○\",\"\")","v":""},{"$f":"IF(総体入力!$J99=51,\"○\",\"\")","v":""},{"$f":"IF(総体入力!$J99=52,\"○\",\"\")","v":""},{"$f":"IF(OR(総体入力!$H99=43,総体入力!$I99=43),\"○\",\"\")","v":""},{"$f":"IF(OR(総体入力!$H99=44,総体入力!$I99=44),\"○\",\"\")","v":""},{"$f":"IF(OR(総体入力!$H99=45,総体入力!$I99=45),\"○\",\"\")","v":""},{"$f":"IF(OR(総体入力!$H99=46,総体入力!$I99=46),\"○\",\"\")","v":""}]
[{"$f":"IF(総体入力!B100=\"\",\"\",総体入力!B100)","v":""},{"$f":"IF(総体入力!D100=\"\",\"\",総体入力!D100)","v":""},{"$f":"IF(総体入力!F100=\"\",\"\",総体入力!F100)","v":""},{"$f":"IF(総体入力!E100=\"\",\"\",総体入力!E100)","v":""},{"$f":"IF(OR(総体入力!$H100=31,総体入力!$I100=31),\"○\",\"\")","v":""},{"$f":"IF(OR(総体入力!$H100=32,総体入力!$I100=32),\"○\",\"\")","v":""},{"$f":"IF(OR(総体入力!$H100=33,総体入力!$I100=33),\"○\",\"\")","v":""},{"$f":"IF(OR(総体入力!$H100=34,総体入力!$I100=34),\"○\",\"\")","v":""},{"$f":"IF(OR(総体入力!$H100=35,総体入力!$I100=35),\"○\",\"\")","v":""},{"$f":"IF(OR(総体入力!$H100=36,総体入力!$I100=36),\"○\",\"\")","v":""},{"$f":"IF(OR(総体入力!$H100=37,総体入力!$I100=37),\"○\",\"\")","v":""},{"$f":"IF(OR(総体入力!$H100=38,総体入力!$I100=38),\"○\",\"\")","v":""},{"$f":"IF(OR(総体入力!$H100=39,総体入力!$I100=39),\"○\",\"\")","v":""},{"$f":"IF(OR(総体入力!$H100=40,総体入力!$I100=40),\"○\",\"\")","v":""},{"$f":"IF(OR(総体入力!$H100=41,総体入力!$I100=41),\"○\",\"\")","v":""},{"$f":"IF(OR(総体入力!$H100=42,総体入力!$I100=42),\"○\",\"\")","v":""},{"$f":"IF(総体入力!$J100=51,\"○\",\"\")","v":""},{"$f":"IF(総体入力!$J100=52,\"○\",\"\")","v":""},{"$f":"IF(OR(総体入力!$H100=43,総体入力!$I100=43),\"○\",\"\")","v":""},{"$f":"IF(OR(総体入力!$H100=44,総体入力!$I100=44),\"○\",\"\")","v":""},{"$f":"IF(OR(総体入力!$H100=45,総体入力!$I100=45),\"○\",\"\")","v":""},{"$f":"IF(OR(総体入力!$H100=46,総体入力!$I100=46),\"○\",\"\")","v":""}]
[{"$f":"IF(総体入力!B101=\"\",\"\",総体入力!B101)","v":""},{"$f":"IF(総体入力!D101=\"\",\"\",総体入力!D101)","v":""},{"$f":"IF(総体入力!F101=\"\",\"\",総体入力!F101)","v":""},{"$f":"IF(総体入力!E101=\"\",\"\",総体入力!E101)","v":""},{"$f":"IF(OR(総体入力!$H101=31,総体入力!$I101=31),\"○\",\"\")","v":""},{"$f":"IF(OR(総体入力!$H101=32,総体入力!$I101=32),\"○\",\"\")","v":""},{"$f":"IF(OR(総体入力!$H101=33,総体入力!$I101=33),\"○\",\"\")","v":""},{"$f":"IF(OR(総体入力!$H101=34,総体入力!$I101=34),\"○\",\"\")","v":""},{"$f":"IF(OR(総体入力!$H101=35,総体入力!$I101=35),\"○\",\"\")","v":""},{"$f":"IF(OR(総体入力!$H101=36,総体入力!$I101=36),\"○\",\"\")","v":""},{"$f":"IF(OR(総体入力!$H101=37,総体入力!$I101=37),\"○\",\"\")","v":""},{"$f":"IF(OR(総体入力!$H101=38,総体入力!$I101=38),\"○\",\"\")","v":""},{"$f":"IF(OR(総体入力!$H101=39,総体入力!$I101=39),\"○\",\"\")","v":""},{"$f":"IF(OR(総体入力!$H101=40,総体入力!$I101=40),\"○\",\"\")","v":""},{"$f":"IF(OR(総体入力!$H101=41,総体入力!$I101=41),\"○\",\"\")","v":""},{"$f":"IF(OR(総体入力!$H101=42,総体入力!$I101=42),\"○\",\"\")","v":""},{"$f":"IF(総体入力!$J101=51,\"○\",\"\")","v":""},{"$f":"IF(総体入力!$J101=52,\"○\",\"\")","v":""},{"$f":"IF(OR(総体入力!$H101=43,総体入力!$I101=43),\"○\",\"\")","v":""},{"$f":"IF(OR(総体入力!$H101=44,総体入力!$I101=44),\"○\",\"\")","v":""},{"$f":"IF(OR(総体入力!$H101=45,総体入力!$I101=45),\"○\",\"\")","v":""},{"$f":"IF(OR(総体入力!$H101=46,総体入力!$I101=46),\"○\",\"\")","v":""}]
[{"$f":"IF(総体入力!B102=\"\",\"\",総体入力!B102)","v":""},{"$f":"IF(総体入力!D102=\"\",\"\",総体入力!D102)","v":""},{"$f":"IF(総体入力!F102=\"\",\"\",総体入力!F102)","v":""},{"$f":"IF(総体入力!E102=\"\",\"\",総体入力!E102)","v":""},{"$f":"IF(OR(総体入力!$H102=31,総体入力!$I102=31),\"○\",\"\")","v":""},{"$f":"IF(OR(総体入力!$H102=32,総体入力!$I102=32),\"○\",\"\")","v":""},{"$f":"IF(OR(総体入力!$H102=33,総体入力!$I102=33),\"○\",\"\")","v":""},{"$f":"IF(OR(総体入力!$H102=34,総体入力!$I102=34),\"○\",\"\")","v":""},{"$f":"IF(OR(総体入力!$H102=35,総体入力!$I102=35),\"○\",\"\")","v":""},{"$f":"IF(OR(総体入力!$H102=36,総体入力!$I102=36),\"○\",\"\")","v":""},{"$f":"IF(OR(総体入力!$H102=37,総体入力!$I102=37),\"○\",\"\")","v":""},{"$f":"IF(OR(総体入力!$H102=38,総体入力!$I102=38),\"○\",\"\")","v":""},{"$f":"IF(OR(総体入力!$H102=39,総体入力!$I102=39),\"○\",\"\")","v":""},{"$f":"IF(OR(総体入力!$H102=40,総体入力!$I102=40),\"○\",\"\")","v":""},{"$f":"IF(OR(総体入力!$H102=41,総体入力!$I102=41),\"○\",\"\")","v":""},{"$f":"IF(OR(総体入力!$H102=42,総体入力!$I102=42),\"○\",\"\")","v":""},{"$f":"IF(総体入力!$J102=51,\"○\",\"\")","v":""},{"$f":"IF(総体入力!$J102=52,\"○\",\"\")","v":""},{"$f":"IF(OR(総体入力!$H102=43,総体入力!$I102=43),\"○\",\"\")","v":""},{"$f":"IF(OR(総体入力!$H102=44,総体入力!$I102=44),\"○\",\"\")","v":""},{"$f":"IF(OR(総体入力!$H102=45,総体入力!$I102=45),\"○\",\"\")","v":""},{"$f":"IF(OR(総体入力!$H102=46,総体入力!$I102=46),\"○\",\"\")","v":""}]
[{"$f":"IF(総体入力!B103=\"\",\"\",総体入力!B103)","v":""},{"$f":"IF(総体入力!D103=\"\",\"\",総体入力!D103)","v":""},{"$f":"IF(総体入力!F103=\"\",\"\",総体入力!F103)","v":""},{"$f":"IF(総体入力!E103=\"\",\"\",総体入力!E103)","v":""},{"$f":"IF(OR(総体入力!$H103=31,総体入力!$I103=31),\"○\",\"\")","v":""},{"$f":"IF(OR(総体入力!$H103=32,総体入力!$I103=32),\"○\",\"\")","v":""},{"$f":"IF(OR(総体入力!$H103=33,総体入力!$I103=33),\"○\",\"\")","v":""},{"$f":"IF(OR(総体入力!$H103=34,総体入力!$I103=34),\"○\",\"\")","v":""},{"$f":"IF(OR(総体入力!$H103=35,総体入力!$I103=35),\"○\",\"\")","v":""},{"$f":"IF(OR(総体入力!$H103=36,総体入力!$I103=36),\"○\",\"\")","v":""},{"$f":"IF(OR(総体入力!$H103=37,総体入力!$I103=37),\"○\",\"\")","v":""},{"$f":"IF(OR(総体入力!$H103=38,総体入力!$I103=38),\"○\",\"\")","v":""},{"$f":"IF(OR(総体入力!$H103=39,総体入力!$I103=39),\"○\",\"\")","v":""},{"$f":"IF(OR(総体入力!$H103=40,総体入力!$I103=40),\"○\",\"\")","v":""},{"$f":"IF(OR(総体入力!$H103=41,総体入力!$I103=41),\"○\",\"\")","v":""},{"$f":"IF(OR(総体入力!$H103=42,総体入力!$I103=42),\"○\",\"\")","v":""},{"$f":"IF(総体入力!$J103=51,\"○\",\"\")","v":""},{"$f":"IF(総体入力!$J103=52,\"○\",\"\")","v":""},{"$f":"IF(OR(総体入力!$H103=43,総体入力!$I103=43),\"○\",\"\")","v":""},{"$f":"IF(OR(総体入力!$H103=44,総体入力!$I103=44),\"○\",\"\")","v":""},{"$f":"IF(OR(総体入力!$H103=45,総体入力!$I103=45),\"○\",\"\")","v":""},{"$f":"IF(OR(総体入力!$H103=46,総体入力!$I103=46),\"○\",\"\")","v":""}]
[{"$f":"IF(総体入力!B104=\"\",\"\",総体入力!B104)","v":""},{"$f":"IF(総体入力!D104=\"\",\"\",総体入力!D104)","v":""},{"$f":"IF(総体入力!F104=\"\",\"\",総体入力!F104)","v":""},{"$f":"IF(総体入力!E104=\"\",\"\",総体入力!E104)","v":""},{"$f":"IF(OR(総体入力!$H104=31,総体入力!$I104=31),\"○\",\"\")","v":""},{"$f":"IF(OR(総体入力!$H104=32,総体入力!$I104=32),\"○\",\"\")","v":""},{"$f":"IF(OR(総体入力!$H104=33,総体入力!$I104=33),\"○\",\"\")","v":""},{"$f":"IF(OR(総体入力!$H104=34,総体入力!$I104=34),\"○\",\"\")","v":""},{"$f":"IF(OR(総体入力!$H104=35,総体入力!$I104=35),\"○\",\"\")","v":""},{"$f":"IF(OR(総体入力!$H104=36,総体入力!$I104=36),\"○\",\"\")","v":""},{"$f":"IF(OR(総体入力!$H104=37,総体入力!$I104=37),\"○\",\"\")","v":""},{"$f":"IF(OR(総体入力!$H104=38,総体入力!$I104=38),\"○\",\"\")","v":""},{"$f":"IF(OR(総体入力!$H104=39,総体入力!$I104=39),\"○\",\"\")","v":""},{"$f":"IF(OR(総体入力!$H104=40,総体入力!$I104=40),\"○\",\"\")","v":""},{"$f":"IF(OR(総体入力!$H104=41,総体入力!$I104=41),\"○\",\"\")","v":""},{"$f":"IF(OR(総体入力!$H104=42,総体入力!$I104=42),\"○\",\"\")","v":""},{"$f":"IF(総体入力!$J104=51,\"○\",\"\")","v":""},{"$f":"IF(総体入力!$J104=52,\"○\",\"\")","v":""},{"$f":"IF(OR(総体入力!$H104=43,総体入力!$I104=43),\"○\",\"\")","v":""},{"$f":"IF(OR(総体入力!$H104=44,総体入力!$I104=44),\"○\",\"\")","v":""},{"$f":"IF(OR(総体入力!$H104=45,総体入力!$I104=45),\"○\",\"\")","v":""},{"$f":"IF(OR(総体入力!$H104=46,総体入力!$I104=46),\"○\",\"\")","v":""}]
[{"$f":"IF(総体入力!B105=\"\",\"\",総体入力!B105)","v":""},{"$f":"IF(総体入力!D105=\"\",\"\",総体入力!D105)","v":""},{"$f":"IF(総体入力!F105=\"\",\"\",総体入力!F105)","v":""},{"$f":"IF(総体入力!E105=\"\",\"\",総体入力!E105)","v":""},{"$f":"IF(OR(総体入力!$H105=31,総体入力!$I105=31),\"○\",\"\")","v":""},{"$f":"IF(OR(総体入力!$H105=32,総体入力!$I105=32),\"○\",\"\")","v":""},{"$f":"IF(OR(総体入力!$H105=33,総体入力!$I105=33),\"○\",\"\")","v":""},{"$f":"IF(OR(総体入力!$H105=34,総体入力!$I105=34),\"○\",\"\")","v":""},{"$f":"IF(OR(総体入力!$H105=35,総体入力!$I105=35),\"○\",\"\")","v":""},{"$f":"IF(OR(総体入力!$H105=36,総体入力!$I105=36),\"○\",\"\")","v":""},{"$f":"IF(OR(総体入力!$H105=37,総体入力!$I105=37),\"○\",\"\")","v":""},{"$f":"IF(OR(総体入力!$H105=38,総体入力!$I105=38),\"○\",\"\")","v":""},{"$f":"IF(OR(総体入力!$H105=39,総体入力!$I105=39),\"○\",\"\")","v":""},{"$f":"IF(OR(総体入力!$H105=40,総体入力!$I105=40),\"○\",\"\")","v":""},{"$f":"IF(OR(総体入力!$H105=41,総体入力!$I105=41),\"○\",\"\")","v":""},{"$f":"IF(OR(総体入力!$H105=42,総体入力!$I105=42),\"○\",\"\")","v":""},{"$f":"IF(総体入力!$J105=51,\"○\",\"\")","v":""},{"$f":"IF(総体入力!$J105=52,\"○\",\"\")","v":""},{"$f":"IF(OR(総体入力!$H105=43,総体入力!$I105=43),\"○\",\"\")","v":""},{"$f":"IF(OR(総体入力!$H105=44,総体入力!$I105=44),\"○\",\"\")","v":""},{"$f":"IF(OR(総体入力!$H105=45,総体入力!$I105=45),\"○\",\"\")","v":""},{"$f":"IF(OR(総体入力!$H105=46,総体入力!$I105=46),\"○\",\"\")","v":""}]
[{"$f":"IF(総体入力!B106=\"\",\"\",総体入力!B106)","v":""},{"$f":"IF(総体入力!D106=\"\",\"\",総体入力!D106)","v":""},{"$f":"IF(総体入力!F106=\"\",\"\",総体入力!F106)","v":""},{"$f":"IF(総体入力!E106=\"\",\"\",総体入力!E106)","v":""},{"$f":"IF(OR(総体入力!$H106=31,総体入力!$I106=31),\"○\",\"\")","v":""},{"$f":"IF(OR(総体入力!$H106=32,総体入力!$I106=32),\"○\",\"\")","v":""},{"$f":"IF(OR(総体入力!$H106=33,総体入力!$I106=33),\"○\",\"\")","v":""},{"$f":"IF(OR(総体入力!$H106=34,総体入力!$I106=34),\"○\",\"\")","v":""},{"$f":"IF(OR(総体入力!$H106=35,総体入力!$I106=35),\"○\",\"\")","v":""},{"$f":"IF(OR(総体入力!$H106=36,総体入力!$I106=36),\"○\",\"\")","v":""},{"$f":"IF(OR(総体入力!$H106=37,総体入力!$I106=37),\"○\",\"\")","v":""},{"$f":"IF(OR(総体入力!$H106=38,総体入力!$I106=38),\"○\",\"\")","v":""},{"$f":"IF(OR(総体入力!$H106=39,総体入力!$I106=39),\"○\",\"\")","v":""},{"$f":"IF(OR(総体入力!$H106=40,総体入力!$I106=40),\"○\",\"\")","v":""},{"$f":"IF(OR(総体入力!$H106=41,総体入力!$I106=41),\"○\",\"\")","v":""},{"$f":"IF(OR(総体入力!$H106=42,総体入力!$I106=42),\"○\",\"\")","v":""},{"$f":"IF(総体入力!$J106=51,\"○\",\"\")","v":""},{"$f":"IF(総体入力!$J106=52,\"○\",\"\")","v":""},{"$f":"IF(OR(総体入力!$H106=43,総体入力!$I106=43),\"○\",\"\")","v":""},{"$f":"IF(OR(総体入力!$H106=44,総体入力!$I106=44),\"○\",\"\")","v":""},{"$f":"IF(OR(総体入力!$H106=45,総体入力!$I106=45),\"○\",\"\")","v":""},{"$f":"IF(OR(総体入力!$H106=46,総体入力!$I106=46),\"○\",\"\")","v":""}]
[{"$f":"IF(総体入力!B107=\"\",\"\",総体入力!B107)","v":""},{"$f":"IF(総体入力!D107=\"\",\"\",総体入力!D107)","v":""},{"$f":"IF(総体入力!F107=\"\",\"\",総体入力!F107)","v":""},{"$f":"IF(総体入力!E107=\"\",\"\",総体入力!E107)","v":""},{"$f":"IF(OR(総体入力!$H107=31,総体入力!$I107=31),\"○\",\"\")","v":""},{"$f":"IF(OR(総体入力!$H107=32,総体入力!$I107=32),\"○\",\"\")","v":""},{"$f":"IF(OR(総体入力!$H107=33,総体入力!$I107=33),\"○\",\"\")","v":""},{"$f":"IF(OR(総体入力!$H107=34,総体入力!$I107=34),\"○\",\"\")","v":""},{"$f":"IF(OR(総体入力!$H107=35,総体入力!$I107=35),\"○\",\"\")","v":""},{"$f":"IF(OR(総体入力!$H107=36,総体入力!$I107=36),\"○\",\"\")","v":""},{"$f":"IF(OR(総体入力!$H107=37,総体入力!$I107=37),\"○\",\"\")","v":""},{"$f":"IF(OR(総体入力!$H107=38,総体入力!$I107=38),\"○\",\"\")","v":""},{"$f":"IF(OR(総体入力!$H107=39,総体入力!$I107=39),\"○\",\"\")","v":""},{"$f":"IF(OR(総体入力!$H107=40,総体入力!$I107=40),\"○\",\"\")","v":""},{"$f":"IF(OR(総体入力!$H107=41,総体入力!$I107=41),\"○\",\"\")","v":""},{"$f":"IF(OR(総体入力!$H107=42,総体入力!$I107=42),\"○\",\"\")","v":""},{"$f":"IF(総体入力!$J107=51,\"○\",\"\")","v":""},{"$f":"IF(総体入力!$J107=52,\"○\",\"\")","v":""},{"$f":"IF(OR(総体入力!$H107=43,総体入力!$I107=43),\"○\",\"\")","v":""},{"$f":"IF(OR(総体入力!$H107=44,総体入力!$I107=44),\"○\",\"\")","v":""},{"$f":"IF(OR(総体入力!$H107=45,総体入力!$I107=45),\"○\",\"\")","v":""},{"$f":"IF(OR(総体入力!$H107=46,総体入力!$I107=46),\"○\",\"\")","v":""}]
[{"$f":"IF(総体入力!B108=\"\",\"\",総体入力!B108)","v":""},{"$f":"IF(総体入力!D108=\"\",\"\",総体入力!D108)","v":""},{"$f":"IF(総体入力!F108=\"\",\"\",総体入力!F108)","v":""},{"$f":"IF(総体入力!E108=\"\",\"\",総体入力!E108)","v":""},{"$f":"IF(OR(総体入力!$H108=31,総体入力!$I108=31),\"○\",\"\")","v":""},{"$f":"IF(OR(総体入力!$H108=32,総体入力!$I108=32),\"○\",\"\")","v":""},{"$f":"IF(OR(総体入力!$H108=33,総体入力!$I108=33),\"○\",\"\")","v":""},{"$f":"IF(OR(総体入力!$H108=34,総体入力!$I108=34),\"○\",\"\")","v":""},{"$f":"IF(OR(総体入力!$H108=35,総体入力!$I108=35),\"○\",\"\")","v":""},{"$f":"IF(OR(総体入力!$H108=36,総体入力!$I108=36),\"○\",\"\")","v":""},{"$f":"IF(OR(総体入力!$H108=37,総体入力!$I108=37),\"○\",\"\")","v":""},{"$f":"IF(OR(総体入力!$H108=38,総体入力!$I108=38),\"○\",\"\")","v":""},{"$f":"IF(OR(総体入力!$H108=39,総体入力!$I108=39),\"○\",\"\")","v":""},{"$f":"IF(OR(総体入力!$H108=40,総体入力!$I108=40),\"○\",\"\")","v":""},{"$f":"IF(OR(総体入力!$H108=41,総体入力!$I108=41),\"○\",\"\")","v":""},{"$f":"IF(OR(総体入力!$H108=42,総体入力!$I108=42),\"○\",\"\")","v":""},{"$f":"IF(総体入力!$J108=51,\"○\",\"\")","v":""},{"$f":"IF(総体入力!$J108=52,\"○\",\"\")","v":""},{"$f":"IF(OR(総体入力!$H108=43,総体入力!$I108=43),\"○\",\"\")","v":""},{"$f":"IF(OR(総体入力!$H108=44,総体入力!$I108=44),\"○\",\"\")","v":""},{"$f":"IF(OR(総体入力!$H108=45,総体入力!$I108=45),\"○\",\"\")","v":""},{"$f":"IF(OR(総体入力!$H108=46,総体入力!$I108=46),\"○\",\"\")","v":""}]
[{"$f":"IF(総体入力!B109=\"\",\"\",総体入力!B109)","v":""},{"$f":"IF(総体入力!D109=\"\",\"\",総体入力!D109)","v":""},{"$f":"IF(総体入力!F109=\"\",\"\",総体入力!F109)","v":""},{"$f":"IF(総体入力!E109=\"\",\"\",総体入力!E109)","v":""},{"$f":"IF(OR(総体入力!$H109=31,総体入力!$I109=31),\"○\",\"\")","v":""},{"$f":"IF(OR(総体入力!$H109=32,総体入力!$I109=32),\"○\",\"\")","v":""},{"$f":"IF(OR(総体入力!$H109=33,総体入力!$I109=33),\"○\",\"\")","v":""},{"$f":"IF(OR(総体入力!$H109=34,総体入力!$I109=34),\"○\",\"\")","v":""},{"$f":"IF(OR(総体入力!$H109=35,総体入力!$I109=35),\"○\",\"\")","v":""},{"$f":"IF(OR(総体入力!$H109=36,総体入力!$I109=36),\"○\",\"\")","v":""},{"$f":"IF(OR(総体入力!$H109=37,総体入力!$I109=37),\"○\",\"\")","v":""},{"$f":"IF(OR(総体入力!$H109=38,総体入力!$I109=38),\"○\",\"\")","v":""},{"$f":"IF(OR(総体入力!$H109=39,総体入力!$I109=39),\"○\",\"\")","v":""},{"$f":"IF(OR(総体入力!$H109=40,総体入力!$I109=40),\"○\",\"\")","v":""},{"$f":"IF(OR(総体入力!$H109=41,総体入力!$I109=41),\"○\",\"\")","v":""},{"$f":"IF(OR(総体入力!$H109=42,総体入力!$I109=42),\"○\",\"\")","v":""},{"$f":"IF(総体入力!$J109=51,\"○\",\"\")","v":""},{"$f":"IF(総体入力!$J109=52,\"○\",\"\")","v":""},{"$f":"IF(OR(総体入力!$H109=43,総体入力!$I109=43),\"○\",\"\")","v":""},{"$f":"IF(OR(総体入力!$H109=44,総体入力!$I109=44),\"○\",\"\")","v":""},{"$f":"IF(OR(総体入力!$H109=45,総体入力!$I109=45),\"○\",\"\")","v":""},{"$f":"IF(OR(総体入力!$H109=46,総体入力!$I109=46),\"○\",\"\")","v":""}]
[{"$f":"IF(総体入力!B110=\"\",\"\",総体入力!B110)","v":""},{"$f":"IF(総体入力!D110=\"\",\"\",総体入力!D110)","v":""},{"$f":"IF(総体入力!F110=\"\",\"\",総体入力!F110)","v":""},{"$f":"IF(総体入力!E110=\"\",\"\",総体入力!E110)","v":""},{"$f":"IF(OR(総体入力!$H110=31,総体入力!$I110=31),\"○\",\"\")","v":""},{"$f":"IF(OR(総体入力!$H110=32,総体入力!$I110=32),\"○\",\"\")","v":""},{"$f":"IF(OR(総体入力!$H110=33,総体入力!$I110=33),\"○\",\"\")","v":""},{"$f":"IF(OR(総体入力!$H110=34,総体入力!$I110=34),\"○\",\"\")","v":""},{"$f":"IF(OR(総体入力!$H110=35,総体入力!$I110=35),\"○\",\"\")","v":""},{"$f":"IF(OR(総体入力!$H110=36,総体入力!$I110=36),\"○\",\"\")","v":""},{"$f":"IF(OR(総体入力!$H110=37,総体入力!$I110=37),\"○\",\"\")","v":""},{"$f":"IF(OR(総体入力!$H110=38,総体入力!$I110=38),\"○\",\"\")","v":""},{"$f":"IF(OR(総体入力!$H110=39,総体入力!$I110=39),\"○\",\"\")","v":""},{"$f":"IF(OR(総体入力!$H110=40,総体入力!$I110=40),\"○\",\"\")","v":""},{"$f":"IF(OR(総体入力!$H110=41,総体入力!$I110=41),\"○\",\"\")","v":""},{"$f":"IF(OR(総体入力!$H110=42,総体入力!$I110=42),\"○\",\"\")","v":""},{"$f":"IF(総体入力!$J110=51,\"○\",\"\")","v":""},{"$f":"IF(総体入力!$J110=52,\"○\",\"\")","v":""},{"$f":"IF(OR(総体入力!$H110=43,総体入力!$I110=43),\"○\",\"\")","v":""},{"$f":"IF(OR(総体入力!$H110=44,総体入力!$I110=44),\"○\",\"\")","v":""},{"$f":"IF(OR(総体入力!$H110=45,総体入力!$I110=45),\"○\",\"\")","v":""},{"$f":"IF(OR(総体入力!$H110=46,総体入力!$I110=46),\"○\",\"\")","v":""}]
[{"$f":"IF(総体入力!B111=\"\",\"\",総体入力!B111)","v":""},{"$f":"IF(総体入力!D111=\"\",\"\",総体入力!D111)","v":""},{"$f":"IF(総体入力!F111=\"\",\"\",総体入力!F111)","v":""},{"$f":"IF(総体入力!E111=\"\",\"\",総体入力!E111)","v":""},{"$f":"IF(OR(総体入力!$H111=31,総体入力!$I111=31),\"○\",\"\")","v":""},{"$f":"IF(OR(総体入力!$H111=32,総体入力!$I111=32),\"○\",\"\")","v":""},{"$f":"IF(OR(総体入力!$H111=33,総体入力!$I111=33),\"○\",\"\")","v":""},{"$f":"IF(OR(総体入力!$H111=34,総体入力!$I111=34),\"○\",\"\")","v":""},{"$f":"IF(OR(総体入力!$H111=35,総体入力!$I111=35),\"○\",\"\")","v":""},{"$f":"IF(OR(総体入力!$H111=36,総体入力!$I111=36),\"○\",\"\")","v":""},{"$f":"IF(OR(総体入力!$H111=37,総体入力!$I111=37),\"○\",\"\")","v":""},{"$f":"IF(OR(総体入力!$H111=38,総体入力!$I111=38),\"○\",\"\")","v":""},{"$f":"IF(OR(総体入力!$H111=39,総体入力!$I111=39),\"○\",\"\")","v":""},{"$f":"IF(OR(総体入力!$H111=40,総体入力!$I111=40),\"○\",\"\")","v":""},{"$f":"IF(OR(総体入力!$H111=41,総体入力!$I111=41),\"○\",\"\")","v":""},{"$f":"IF(OR(総体入力!$H111=42,総体入力!$I111=42),\"○\",\"\")","v":""},{"$f":"IF(総体入力!$J111=51,\"○\",\"\")","v":""},{"$f":"IF(総体入力!$J111=52,\"○\",\"\")","v":""},{"$f":"IF(OR(総体入力!$H111=43,総体入力!$I111=43),\"○\",\"\")","v":""},{"$f":"IF(OR(総体入力!$H111=44,総体入力!$I111=44),\"○\",\"\")","v":""},{"$f":"IF(OR(総体入力!$H111=45,総体入力!$I111=45),\"○\",\"\")","v":""},{"$f":"IF(OR(総体入力!$H111=46,総体入力!$I111=46),\"○\",\"\")","v":""}]
[{"$f":"IF(総体入力!B112=\"\",\"\",総体入力!B112)","v":""},{"$f":"IF(総体入力!D112=\"\",\"\",総体入力!D112)","v":""},{"$f":"IF(総体入力!F112=\"\",\"\",総体入力!F112)","v":""},{"$f":"IF(総体入力!E112=\"\",\"\",総体入力!E112)","v":""},{"$f":"IF(OR(総体入力!$H112=31,総体入力!$I112=31),\"○\",\"\")","v":""},{"$f":"IF(OR(総体入力!$H112=32,総体入力!$I112=32),\"○\",\"\")","v":""},{"$f":"IF(OR(総体入力!$H112=33,総体入力!$I112=33),\"○\",\"\")","v":""},{"$f":"IF(OR(総体入力!$H112=34,総体入力!$I112=34),\"○\",\"\")","v":""},{"$f":"IF(OR(総体入力!$H112=35,総体入力!$I112=35),\"○\",\"\")","v":""},{"$f":"IF(OR(総体入力!$H112=36,総体入力!$I112=36),\"○\",\"\")","v":""},{"$f":"IF(OR(総体入力!$H112=37,総体入力!$I112=37),\"○\",\"\")","v":""},{"$f":"IF(OR(総体入力!$H112=38,総体入力!$I112=38),\"○\",\"\")","v":""},{"$f":"IF(OR(総体入力!$H112=39,総体入力!$I112=39),\"○\",\"\")","v":""},{"$f":"IF(OR(総体入力!$H112=40,総体入力!$I112=40),\"○\",\"\")","v":""},{"$f":"IF(OR(総体入力!$H112=41,総体入力!$I112=41),\"○\",\"\")","v":""},{"$f":"IF(OR(総体入力!$H112=42,総体入力!$I112=42),\"○\",\"\")","v":""},{"$f":"IF(総体入力!$J112=51,\"○\",\"\")","v":""},{"$f":"IF(総体入力!$J112=52,\"○\",\"\")","v":""},{"$f":"IF(OR(総体入力!$H112=43,総体入力!$I112=43),\"○\",\"\")","v":""},{"$f":"IF(OR(総体入力!$H112=44,総体入力!$I112=44),\"○\",\"\")","v":""},{"$f":"IF(OR(総体入力!$H112=45,総体入力!$I112=45),\"○\",\"\")","v":""},{"$f":"IF(OR(総体入力!$H112=46,総体入力!$I112=46),\"○\",\"\")","v":""}]
[{"$f":"IF(総体入力!B113=\"\",\"\",総体入力!B113)","v":""},{"$f":"IF(総体入力!D113=\"\",\"\",総体入力!D113)","v":""},{"$f":"IF(総体入力!F113=\"\",\"\",総体入力!F113)","v":""},{"$f":"IF(総体入力!E113=\"\",\"\",総体入力!E113)","v":""},{"$f":"IF(OR(総体入力!$H113=31,総体入力!$I113=31),\"○\",\"\")","v":""},{"$f":"IF(OR(総体入力!$H113=32,総体入力!$I113=32),\"○\",\"\")","v":""},{"$f":"IF(OR(総体入力!$H113=33,総体入力!$I113=33),\"○\",\"\")","v":""},{"$f":"IF(OR(総体入力!$H113=34,総体入力!$I113=34),\"○\",\"\")","v":""},{"$f":"IF(OR(総体入力!$H113=35,総体入力!$I113=35),\"○\",\"\")","v":""},{"$f":"IF(OR(総体入力!$H113=36,総体入力!$I113=36),\"○\",\"\")","v":""},{"$f":"IF(OR(総体入力!$H113=37,総体入力!$I113=37),\"○\",\"\")","v":""},{"$f":"IF(OR(総体入力!$H113=38,総体入力!$I113=38),\"○\",\"\")","v":""},{"$f":"IF(OR(総体入力!$H113=39,総体入力!$I113=39),\"○\",\"\")","v":""},{"$f":"IF(OR(総体入力!$H113=40,総体入力!$I113=40),\"○\",\"\")","v":""},{"$f":"IF(OR(総体入力!$H113=41,総体入力!$I113=41),\"○\",\"\")","v":""},{"$f":"IF(OR(総体入力!$H113=42,総体入力!$I113=42),\"○\",\"\")","v":""},{"$f":"IF(総体入力!$J113=51,\"○\",\"\")","v":""},{"$f":"IF(総体入力!$J113=52,\"○\",\"\")","v":""},{"$f":"IF(OR(総体入力!$H113=43,総体入力!$I113=43),\"○\",\"\")","v":""},{"$f":"IF(OR(総体入力!$H113=44,総体入力!$I113=44),\"○\",\"\")","v":""},{"$f":"IF(OR(総体入力!$H113=45,総体入力!$I113=45),\"○\",\"\")","v":""},{"$f":"IF(OR(総体入力!$H113=46,総体入力!$I113=46),\"○\",\"\")","v":""}]
[{"$f":"IF(総体入力!B114=\"\",\"\",総体入力!B114)","v":""},{"$f":"IF(総体入力!D114=\"\",\"\",総体入力!D114)","v":""},{"$f":"IF(総体入力!F114=\"\",\"\",総体入力!F114)","v":""},{"$f":"IF(総体入力!E114=\"\",\"\",総体入力!E114)","v":""},{"$f":"IF(OR(総体入力!$H114=31,総体入力!$I114=31),\"○\",\"\")","v":""},{"$f":"IF(OR(総体入力!$H114=32,総体入力!$I114=32),\"○\",\"\")","v":""},{"$f":"IF(OR(総体入力!$H114=33,総体入力!$I114=33),\"○\",\"\")","v":""},{"$f":"IF(OR(総体入力!$H114=34,総体入力!$I114=34),\"○\",\"\")","v":""},{"$f":"IF(OR(総体入力!$H114=35,総体入力!$I114=35),\"○\",\"\")","v":""},{"$f":"IF(OR(総体入力!$H114=36,総体入力!$I114=36),\"○\",\"\")","v":""},{"$f":"IF(OR(総体入力!$H114=37,総体入力!$I114=37),\"○\",\"\")","v":""},{"$f":"IF(OR(総体入力!$H114=38,総体入力!$I114=38),\"○\",\"\")","v":""},{"$f":"IF(OR(総体入力!$H114=39,総体入力!$I114=39),\"○\",\"\")","v":""},{"$f":"IF(OR(総体入力!$H114=40,総体入力!$I114=40),\"○\",\"\")","v":""},{"$f":"IF(OR(総体入力!$H114=41,総体入力!$I114=41),\"○\",\"\")","v":""},{"$f":"IF(OR(総体入力!$H114=42,総体入力!$I114=42),\"○\",\"\")","v":""},{"$f":"IF(総体入力!$J114=51,\"○\",\"\")","v":""},{"$f":"IF(総体入力!$J114=52,\"○\",\"\")","v":""},{"$f":"IF(OR(総体入力!$H114=43,総体入力!$I114=43),\"○\",\"\")","v":""},{"$f":"IF(OR(総体入力!$H114=44,総体入力!$I114=44),\"○\",\"\")","v":""},{"$f":"IF(OR(総体入力!$H114=45,総体入力!$I114=45),\"○\",\"\")","v":""},{"$f":"IF(OR(総体入力!$H114=46,総体入力!$I114=46),\"○\",\"\")","v":""}]
[{"$f":"IF(総体入力!B115=\"\",\"\",総体入力!B115)","v":""},{"$f":"IF(総体入力!D115=\"\",\"\",総体入力!D115)","v":""},{"$f":"IF(総体入力!F115=\"\",\"\",総体入力!F115)","v":""},{"$f":"IF(総体入力!E115=\"\",\"\",総体入力!E115)","v":""},{"$f":"IF(OR(総体入力!$H115=31,総体入力!$I115=31),\"○\",\"\")","v":""},{"$f":"IF(OR(総体入力!$H115=32,総体入力!$I115=32),\"○\",\"\")","v":""},{"$f":"IF(OR(総体入力!$H115=33,総体入力!$I115=33),\"○\",\"\")","v":""},{"$f":"IF(OR(総体入力!$H115=34,総体入力!$I115=34),\"○\",\"\")","v":""},{"$f":"IF(OR(総体入力!$H115=35,総体入力!$I115=35),\"○\",\"\")","v":""},{"$f":"IF(OR(総体入力!$H115=36,総体入力!$I115=36),\"○\",\"\")","v":""},{"$f":"IF(OR(総体入力!$H115=37,総体入力!$I115=37),\"○\",\"\")","v":""},{"$f":"IF(OR(総体入力!$H115=38,総体入力!$I115=38),\"○\",\"\")","v":""},{"$f":"IF(OR(総体入力!$H115=39,総体入力!$I115=39),\"○\",\"\")","v":""},{"$f":"IF(OR(総体入力!$H115=40,総体入力!$I115=40),\"○\",\"\")","v":""},{"$f":"IF(OR(総体入力!$H115=41,総体入力!$I115=41),\"○\",\"\")","v":""},{"$f":"IF(OR(総体入力!$H115=42,総体入力!$I115=42),\"○\",\"\")","v":""},{"$f":"IF(総体入力!$J115=51,\"○\",\"\")","v":""},{"$f":"IF(総体入力!$J115=52,\"○\",\"\")","v":""},{"$f":"IF(OR(総体入力!$H115=43,総体入力!$I115=43),\"○\",\"\")","v":""},{"$f":"IF(OR(総体入力!$H115=44,総体入力!$I115=44),\"○\",\"\")","v":""},{"$f":"IF(OR(総体入力!$H115=45,総体入力!$I115=45),\"○\",\"\")","v":""},{"$f":"IF(OR(総体入力!$H115=46,総体入力!$I115=46),\"○\",\"\")","v":""}]
[{"$f":"IF(総体入力!B116=\"\",\"\",総体入力!B116)","v":""},{"$f":"IF(総体入力!D116=\"\",\"\",総体入力!D116)","v":""},{"$f":"IF(総体入力!F116=\"\",\"\",総体入力!F116)","v":""},{"$f":"IF(総体入力!E116=\"\",\"\",総体入力!E116)","v":""},{"$f":"IF(OR(総体入力!$H116=31,総体入力!$I116=31),\"○\",\"\")","v":""},{"$f":"IF(OR(総体入力!$H116=32,総体入力!$I116=32),\"○\",\"\")","v":""},{"$f":"IF(OR(総体入力!$H116=33,総体入力!$I116=33),\"○\",\"\")","v":""},{"$f":"IF(OR(総体入力!$H116=34,総体入力!$I116=34),\"○\",\"\")","v":""},{"$f":"IF(OR(総体入力!$H116=35,総体入力!$I116=35),\"○\",\"\")","v":""},{"$f":"IF(OR(総体入力!$H116=36,総体入力!$I116=36),\"○\",\"\")","v":""},{"$f":"IF(OR(総体入力!$H116=37,総体入力!$I116=37),\"○\",\"\")","v":""},{"$f":"IF(OR(総体入力!$H116=38,総体入力!$I116=38),\"○\",\"\")","v":""},{"$f":"IF(OR(総体入力!$H116=39,総体入力!$I116=39),\"○\",\"\")","v":""},{"$f":"IF(OR(総体入力!$H116=40,総体入力!$I116=40),\"○\",\"\")","v":""},{"$f":"IF(OR(総体入力!$H116=41,総体入力!$I116=41),\"○\",\"\")","v":""},{"$f":"IF(OR(総体入力!$H116=42,総体入力!$I116=42),\"○\",\"\")","v":""},{"$f":"IF(総体入力!$J116=51,\"○\",\"\")","v":""},{"$f":"IF(総体入力!$J116=52,\"○\",\"\")","v":""},{"$f":"IF(OR(総体入力!$H116=43,総体入力!$I116=43),\"○\",\"\")","v":""},{"$f":"IF(OR(総体入力!$H116=44,総体入力!$I116=44),\"○\",\"\")","v":""},{"$f":"IF(OR(総体入力!$H116=45,総体入力!$I116=45),\"○\",\"\")","v":""},{"$f":"IF(OR(総体入力!$H116=46,総体入力!$I116=46),\"○\",\"\")","v":""}]
[{"$f":"IF(総体入力!B117=\"\",\"\",総体入力!B117)","v":""},{"$f":"IF(総体入力!D117=\"\",\"\",総体入力!D117)","v":""},{"$f":"IF(総体入力!F117=\"\",\"\",総体入力!F117)","v":""},{"$f":"IF(総体入力!E117=\"\",\"\",総体入力!E117)","v":""},{"$f":"IF(OR(総体入力!$H117=31,総体入力!$I117=31),\"○\",\"\")","v":""},{"$f":"IF(OR(総体入力!$H117=32,総体入力!$I117=32),\"○\",\"\")","v":""},{"$f":"IF(OR(総体入力!$H117=33,総体入力!$I117=33),\"○\",\"\")","v":""},{"$f":"IF(OR(総体入力!$H117=34,総体入力!$I117=34),\"○\",\"\")","v":""},{"$f":"IF(OR(総体入力!$H117=35,総体入力!$I117=35),\"○\",\"\")","v":""},{"$f":"IF(OR(総体入力!$H117=36,総体入力!$I117=36),\"○\",\"\")","v":""},{"$f":"IF(OR(総体入力!$H117=37,総体入力!$I117=37),\"○\",\"\")","v":""},{"$f":"IF(OR(総体入力!$H117=38,総体入力!$I117=38),\"○\",\"\")","v":""},{"$f":"IF(OR(総体入力!$H117=39,総体入力!$I117=39),\"○\",\"\")","v":""},{"$f":"IF(OR(総体入力!$H117=40,総体入力!$I117=40),\"○\",\"\")","v":""},{"$f":"IF(OR(総体入力!$H117=41,総体入力!$I117=41),\"○\",\"\")","v":""},{"$f":"IF(OR(総体入力!$H117=42,総体入力!$I117=42),\"○\",\"\")","v":""},{"$f":"IF(総体入力!$J117=51,\"○\",\"\")","v":""},{"$f":"IF(総体入力!$J117=52,\"○\",\"\")","v":""},{"$f":"IF(OR(総体入力!$H117=43,総体入力!$I117=43),\"○\",\"\")","v":""},{"$f":"IF(OR(総体入力!$H117=44,総体入力!$I117=44),\"○\",\"\")","v":""},{"$f":"IF(OR(総体入力!$H117=45,総体入力!$I117=45),\"○\",\"\")","v":""},{"$f":"IF(OR(総体入力!$H117=46,総体入力!$I117=46),\"○\",\"\")","v":""}]
[{"$f":"IF(総体入力!B118=\"\",\"\",総体入力!B118)","v":""},{"$f":"IF(総体入力!D118=\"\",\"\",総体入力!D118)","v":""},{"$f":"IF(総体入力!F118=\"\",\"\",総体入力!F118)","v":""},{"$f":"IF(総体入力!E118=\"\",\"\",総体入力!E118)","v":""},{"$f":"IF(OR(総体入力!$H118=31,総体入力!$I118=31),\"○\",\"\")","v":""},{"$f":"IF(OR(総体入力!$H118=32,総体入力!$I118=32),\"○\",\"\")","v":""},{"$f":"IF(OR(総体入力!$H118=33,総体入力!$I118=33),\"○\",\"\")","v":""},{"$f":"IF(OR(総体入力!$H118=34,総体入力!$I118=34),\"○\",\"\")","v":""},{"$f":"IF(OR(総体入力!$H118=35,総体入力!$I118=35),\"○\",\"\")","v":""},{"$f":"IF(OR(総体入力!$H118=36,総体入力!$I118=36),\"○\",\"\")","v":""},{"$f":"IF(OR(総体入力!$H118=37,総体入力!$I118=37),\"○\",\"\")","v":""},{"$f":"IF(OR(総体入力!$H118=38,総体入力!$I118=38),\"○\",\"\")","v":""},{"$f":"IF(OR(総体入力!$H118=39,総体入力!$I118=39),\"○\",\"\")","v":""},{"$f":"IF(OR(総体入力!$H118=40,総体入力!$I118=40),\"○\",\"\")","v":""},{"$f":"IF(OR(総体入力!$H118=41,総体入力!$I118=41),\"○\",\"\")","v":""},{"$f":"IF(OR(総体入力!$H118=42,総体入力!$I118=42),\"○\",\"\")","v":""},{"$f":"IF(総体入力!$J118=51,\"○\",\"\")","v":""},{"$f":"IF(総体入力!$J118=52,\"○\",\"\")","v":""},{"$f":"IF(OR(総体入力!$H118=43,総体入力!$I118=43),\"○\",\"\")","v":""},{"$f":"IF(OR(総体入力!$H118=44,総体入力!$I118=44),\"○\",\"\")","v":""},{"$f":"IF(OR(総体入力!$H118=45,総体入力!$I118=45),\"○\",\"\")","v":""},{"$f":"IF(OR(総体入力!$H118=46,総体入力!$I118=46),\"○\",\"\")","v":""}]
[{"$f":"IF(総体入力!B119=\"\",\"\",総体入力!B119)","v":""},{"$f":"IF(総体入力!D119=\"\",\"\",総体入力!D119)","v":""},{"$f":"IF(総体入力!F119=\"\",\"\",総体入力!F119)","v":""},{"$f":"IF(総体入力!E119=\"\",\"\",総体入力!E119)","v":""},{"$f":"IF(OR(総体入力!$H119=31,総体入力!$I119=31),\"○\",\"\")","v":""},{"$f":"IF(OR(総体入力!$H119=32,総体入力!$I119=32),\"○\",\"\")","v":""},{"$f":"IF(OR(総体入力!$H119=33,総体入力!$I119=33),\"○\",\"\")","v":""},{"$f":"IF(OR(総体入力!$H119=34,総体入力!$I119=34),\"○\",\"\")","v":""},{"$f":"IF(OR(総体入力!$H119=35,総体入力!$I119=35),\"○\",\"\")","v":""},{"$f":"IF(OR(総体入力!$H119=36,総体入力!$I119=36),\"○\",\"\")","v":""},{"$f":"IF(OR(総体入力!$H119=37,総体入力!$I119=37),\"○\",\"\")","v":""},{"$f":"IF(OR(総体入力!$H119=38,総体入力!$I119=38),\"○\",\"\")","v":""},{"$f":"IF(OR(総体入力!$H119=39,総体入力!$I119=39),\"○\",\"\")","v":""},{"$f":"IF(OR(総体入力!$H119=40,総体入力!$I119=40),\"○\",\"\")","v":""},{"$f":"IF(OR(総体入力!$H119=41,総体入力!$I119=41),\"○\",\"\")","v":""},{"$f":"IF(OR(総体入力!$H119=42,総体入力!$I119=42),\"○\",\"\")","v":""},{"$f":"IF(総体入力!$J119=51,\"○\",\"\")","v":""},{"$f":"IF(総体入力!$J119=52,\"○\",\"\")","v":""},{"$f":"IF(OR(総体入力!$H119=43,総体入力!$I119=43),\"○\",\"\")","v":""},{"$f":"IF(OR(総体入力!$H119=44,総体入力!$I119=44),\"○\",\"\")","v":""},{"$f":"IF(OR(総体入力!$H119=45,総体入力!$I119=45),\"○\",\"\")","v":""},{"$f":"IF(OR(総体入力!$H119=46,総体入力!$I119=46),\"○\",\"\")","v":""}]
[{"$f":"IF(総体入力!B120=\"\",\"\",総体入力!B120)","v":""},{"$f":"IF(総体入力!D120=\"\",\"\",総体入力!D120)","v":""},{"$f":"IF(総体入力!F120=\"\",\"\",総体入力!F120)","v":""},{"$f":"IF(総体入力!E120=\"\",\"\",総体入力!E120)","v":""},{"$f":"IF(OR(総体入力!$H120=31,総体入力!$I120=31),\"○\",\"\")","v":""},{"$f":"IF(OR(総体入力!$H120=32,総体入力!$I120=32),\"○\",\"\")","v":""},{"$f":"IF(OR(総体入力!$H120=33,総体入力!$I120=33),\"○\",\"\")","v":""},{"$f":"IF(OR(総体入力!$H120=34,総体入力!$I120=34),\"○\",\"\")","v":""},{"$f":"IF(OR(総体入力!$H120=35,総体入力!$I120=35),\"○\",\"\")","v":""},{"$f":"IF(OR(総体入力!$H120=36,総体入力!$I120=36),\"○\",\"\")","v":""},{"$f":"IF(OR(総体入力!$H120=37,総体入力!$I120=37),\"○\",\"\")","v":""},{"$f":"IF(OR(総体入力!$H120=38,総体入力!$I120=38),\"○\",\"\")","v":""},{"$f":"IF(OR(総体入力!$H120=39,総体入力!$I120=39),\"○\",\"\")","v":""},{"$f":"IF(OR(総体入力!$H120=40,総体入力!$I120=40),\"○\",\"\")","v":""},{"$f":"IF(OR(総体入力!$H120=41,総体入力!$I120=41),\"○\",\"\")","v":""},{"$f":"IF(OR(総体入力!$H120=42,総体入力!$I120=42),\"○\",\"\")","v":""},{"$f":"IF(総体入力!$J120=51,\"○\",\"\")","v":""},{"$f":"IF(総体入力!$J120=52,\"○\",\"\")","v":""},{"$f":"IF(OR(総体入力!$H120=43,総体入力!$I120=43),\"○\",\"\")","v":""},{"$f":"IF(OR(総体入力!$H120=44,総体入力!$I120=44),\"○\",\"\")","v":""},{"$f":"IF(OR(総体入力!$H120=45,総体入力!$I120=45),\"○\",\"\")","v":""},{"$f":"IF(OR(総体入力!$H120=46,総体入力!$I120=46),\"○\",\"\")","v":""}]
[{"$f":"IF(総体入力!B121=\"\",\"\",総体入力!B121)","v":""},{"$f":"IF(総体入力!D121=\"\",\"\",総体入力!D121)","v":""},{"$f":"IF(総体入力!F121=\"\",\"\",総体入力!F121)","v":""},{"$f":"IF(総体入力!E121=\"\",\"\",総体入力!E121)","v":""},{"$f":"IF(OR(総体入力!$H121=31,総体入力!$I121=31),\"○\",\"\")","v":""},{"$f":"IF(OR(総体入力!$H121=32,総体入力!$I121=32),\"○\",\"\")","v":""},{"$f":"IF(OR(総体入力!$H121=33,総体入力!$I121=33),\"○\",\"\")","v":""},{"$f":"IF(OR(総体入力!$H121=34,総体入力!$I121=34),\"○\",\"\")","v":""},{"$f":"IF(OR(総体入力!$H121=35,総体入力!$I121=35),\"○\",\"\")","v":""},{"$f":"IF(OR(総体入力!$H121=36,総体入力!$I121=36),\"○\",\"\")","v":""},{"$f":"IF(OR(総体入力!$H121=37,総体入力!$I121=37),\"○\",\"\")","v":""},{"$f":"IF(OR(総体入力!$H121=38,総体入力!$I121=38),\"○\",\"\")","v":""},{"$f":"IF(OR(総体入力!$H121=39,総体入力!$I121=39),\"○\",\"\")","v":""},{"$f":"IF(OR(総体入力!$H121=40,総体入力!$I121=40),\"○\",\"\")","v":""},{"$f":"IF(OR(総体入力!$H121=41,総体入力!$I121=41),\"○\",\"\")","v":""},{"$f":"IF(OR(総体入力!$H121=42,総体入力!$I121=42),\"○\",\"\")","v":""},{"$f":"IF(総体入力!$J121=51,\"○\",\"\")","v":""},{"$f":"IF(総体入力!$J121=52,\"○\",\"\")","v":""},{"$f":"IF(OR(総体入力!$H121=43,総体入力!$I121=43),\"○\",\"\")","v":""},{"$f":"IF(OR(総体入力!$H121=44,総体入力!$I121=44),\"○\",\"\")","v":""},{"$f":"IF(OR(総体入力!$H121=45,総体入力!$I121=45),\"○\",\"\")","v":""},{"$f":"IF(OR(総体入力!$H121=46,総体入力!$I121=46),\"○\",\"\")","v":""}]
[{"$f":"IF(総体入力!B122=\"\",\"\",総体入力!B122)","v":""},{"$f":"IF(総体入力!D122=\"\",\"\",総体入力!D122)","v":""},{"$f":"IF(総体入力!F122=\"\",\"\",総体入力!F122)","v":""},{"$f":"IF(総体入力!E122=\"\",\"\",総体入力!E122)","v":""},{"$f":"IF(OR(総体入力!$H122=31,総体入力!$I122=31),\"○\",\"\")","v":""},{"$f":"IF(OR(総体入力!$H122=32,総体入力!$I122=32),\"○\",\"\")","v":""},{"$f":"IF(OR(総体入力!$H122=33,総体入力!$I122=33),\"○\",\"\")","v":""},{"$f":"IF(OR(総体入力!$H122=34,総体入力!$I122=34),\"○\",\"\")","v":""},{"$f":"IF(OR(総体入力!$H122=35,総体入力!$I122=35),\"○\",\"\")","v":""},{"$f":"IF(OR(総体入力!$H122=36,総体入力!$I122=36),\"○\",\"\")","v":""},{"$f":"IF(OR(総体入力!$H122=37,総体入力!$I122=37),\"○\",\"\")","v":""},{"$f":"IF(OR(総体入力!$H122=38,総体入力!$I122=38),\"○\",\"\")","v":""},{"$f":"IF(OR(総体入力!$H122=39,総体入力!$I122=39),\"○\",\"\")","v":""},{"$f":"IF(OR(総体入力!$H122=40,総体入力!$I122=40),\"○\",\"\")","v":""},{"$f":"IF(OR(総体入力!$H122=41,総体入力!$I122=41),\"○\",\"\")","v":""},{"$f":"IF(OR(総体入力!$H122=42,総体入力!$I122=42),\"○\",\"\")","v":""},{"$f":"IF(総体入力!$J122=51,\"○\",\"\")","v":""},{"$f":"IF(総体入力!$J122=52,\"○\",\"\")","v":""},{"$f":"IF(OR(総体入力!$H122=43,総体入力!$I122=43),\"○\",\"\")","v":""},{"$f":"IF(OR(総体入力!$H122=44,総体入力!$I122=44),\"○\",\"\")","v":""},{"$f":"IF(OR(総体入力!$H122=45,総体入力!$I122=45),\"○\",\"\")","v":""},{"$f":"IF(OR(総体入力!$H122=46,総体入力!$I122=46),\"○\",\"\")","v":""}]
[{"$f":"IF(総体入力!B123=\"\",\"\",総体入力!B123)","v":""},{"$f":"IF(総体入力!D123=\"\",\"\",総体入力!D123)","v":""},{"$f":"IF(総体入力!F123=\"\",\"\",総体入力!F123)","v":""},{"$f":"IF(総体入力!E123=\"\",\"\",総体入力!E123)","v":""},{"$f":"IF(OR(総体入力!$H123=31,総体入力!$I123=31),\"○\",\"\")","v":""},{"$f":"IF(OR(総体入力!$H123=32,総体入力!$I123=32),\"○\",\"\")","v":""},{"$f":"IF(OR(総体入力!$H123=33,総体入力!$I123=33),\"○\",\"\")","v":""},{"$f":"IF(OR(総体入力!$H123=34,総体入力!$I123=34),\"○\",\"\")","v":""},{"$f":"IF(OR(総体入力!$H123=35,総体入力!$I123=35),\"○\",\"\")","v":""},{"$f":"IF(OR(総体入力!$H123=36,総体入力!$I123=36),\"○\",\"\")","v":""},{"$f":"IF(OR(総体入力!$H123=37,総体入力!$I123=37),\"○\",\"\")","v":""},{"$f":"IF(OR(総体入力!$H123=38,総体入力!$I123=38),\"○\",\"\")","v":""},{"$f":"IF(OR(総体入力!$H123=39,総体入力!$I123=39),\"○\",\"\")","v":""},{"$f":"IF(OR(総体入力!$H123=40,総体入力!$I123=40),\"○\",\"\")","v":""},{"$f":"IF(OR(総体入力!$H123=41,総体入力!$I123=41),\"○\",\"\")","v":""},{"$f":"IF(OR(総体入力!$H123=42,総体入力!$I123=42),\"○\",\"\")","v":""},{"$f":"IF(総体入力!$J123=51,\"○\",\"\")","v":""},{"$f":"IF(総体入力!$J123=52,\"○\",\"\")","v":""},{"$f":"IF(OR(総体入力!$H123=43,総体入力!$I123=43),\"○\",\"\")","v":""},{"$f":"IF(OR(総体入力!$H123=44,総体入力!$I123=44),\"○\",\"\")","v":""},{"$f":"IF(OR(総体入力!$H123=45,総体入力!$I123=45),\"○\",\"\")","v":""},{"$f":"IF(OR(総体入力!$H123=46,総体入力!$I123=46),\"○\",\"\")","v":""}]
[]
[]
[null,null,null,null,null,null,null,null,null,null,null,null,null,{"$f":"IF(C2=\"\",\"令和　　年　　月　　日\",TODAY())","v":"令和　　年　　月　　日"}]
[{"$f":"男一覧!A49","v":"　秋田市中学校体育連盟 会 長　佐々木　正宜 様"}]
[]
[null,{"$f":"IF(必ずお読み下さい!I7=1,\"　上記の生徒は要項に照らし適格者であり，学校代表としてもふさわしく，また，保護者の同意を得ておりますので，大会への参加を申し込みいたします。\",IF(必ずお読み下さい!I7=2,\"　上記の生徒は要項に照らし適格者であり，保護者の同意を得ておりますので，大会への参加を申し込みいたします。\",\"　上記の生徒は要項に照らし適格者であり，学校代表としてもふさわしく，また，保護者の同意を得ておりますので，大会への参加を申し込みいたします。\"))","v":"　上記の生徒は要項に照らし適格者であり，学校代表としてもふさわしく，また，保護者の同意を得ておりますので，大会への参加を申し込みいたします。"}]
[]
[null,{"$f":"IF(総体入力!D79=\"\",\"\",総体入力!D79)","v":""},null,null,null,null,null,null,null,{"$f":"IF(必ずお読み下さい!I7=1,\"校長\",IF(必ずお読み下さい!I7=2,\"代表\",\"\"))","v":"校長"},null,{"$f":"IF(総体入力!D81=\"\",\"\",総体入力!D81)","v":""},null,null,null,null,null,null,null,"印"]
[]
[null,"※引率・監督者の特例を適用する場合は氏名を記入"]
[]
[null,"（引率者氏名",{"$f":"IF(総体入力!D82=\"\",\"\",総体入力!D82)","v":""},null,null,null,"）","（代理監督者氏名",null,null,null,null,{"$f":"IF(総体入力!D83=\"\",\"\",総体入力!D83)","v":""},null,null,null,null,null,null,"）"]
[]
["※　女子は赤で記入すること。"]
[]
[null,null,"エラーチェック",null,"１年\n100","２年\n100","３年\n100","共通\n200","共通\n800","１年\n1500","２３年\n1500","共通\n100H","共通\n走高","共通\n走幅","共通\n砲丸","共通\n四種","低\n400R","共通\n400R","奨励\n100","奨励\n1500","奨励\n走幅","奨励\n走幅"]
[null,null,null,null,{"$f":"IF(E65>2,\"×\",\"○\")","v":"○"},{"$f":"IF(F65>2,\"×\",\"○\")","v":"○"},"○","○","○","○","○","○","○","○","○","○",{"$f":"IF(Q65>6,\"×\",\"○\")","v":"○"},{"$f":"IF(R65>6,\"×\",\"○\")","v":"○"},"○","○","○",{"$f":"IF(V65>2,\"×\",\"○\")","v":"○"}]
[null,null,null,null,"各種目○ならok。×の場合は人数が超過している。"]
[]
[]
[]
[]
[]
[null,null,null,null,{"$f":"COUNTIF(E$5:E$36,\"○\")","v":0},{"$f":"COUNTIF(F$5:F$36,\"○\")","v":0},0,0,0,0,0,0,0,0,0,0,0,0,0,0,0,0]

{"sheet":"男個表","index":4,"n_rows":84,"n_cols":44,"rows_kept":84,"cut":false,"hidden":false,"merged":[[56,0,56,1],[56,11,56,12],[58,0,58,1],[58,11,58,12],[64,0,64,1],[64,11,64,12],[60,0,60,1],[60,11,60,12],[62,0,62,1],[62,11,62,12],[50,0,50,1],[50,11,50,12],[52,0,52,1],[52,11,52,12],[54,0,54,1],[54,11,54,12],[44,0,44,1],[44,11,44,12],[46,0,46,1],[46,11,46,12],[48,0,48,1],[48,11,48,12],[38,0,38,1],[38,11,38,12],[40,0,40,1],[40,11,40,12],[42,0,42,1],[42,11,42,12],[32,0,32,1],[32,11,32,12],[34,0,34,1],[34,11,34,12],[36,0,36,1],[36,11,36,12],[26,0,26,1],[26,11,26,12],[28,0,28,1],[28,11,28,12],[30,0,30,1],[30,11,30,12],[20,0,20,1],[20,11,20,12],[22,0,22,1],[22,11,22,12],[24,0,24,1],[24,11,24,12],[6,0,6,1],[6,11,6,12],[18,0,18,1],[18,11,18,12],[12,0,12,1],[12,11,12,12],[14,0,14,1],[14,11,14,12],[16,0,16,1],[16,11,16,12],[8,0,8,1],[8,11,8,12],[10,0,10,1],[10,11,10,12],[0,11,0,12],[0,0,0,1],[2,0,2,1],[2,11,2,12],[4,0,4,1],[4,11,4,12],[66,11,66,12],[68,11,68,12],[70,11,70,12],[72,11,72,12],[66,0,66,1],[68,0,68,1],[74,0,74,1],[74,11,74,12],[76,0,76,1],[76,11,76,12],[70,0,70,1],[72,0,72,1],[82,0,82,1],[82,11,82,12],[78,0,78,1],[78,11,78,12],[80,0,80,1],[80,11,80,12]]}
["第一種目個表",null,null,null,null,null,null,null,null,null,null,"第二種目個表"]
[]
["種　　　目",null,"組","ﾚｰﾝ・順","ナンバーカード","名　　　　前","学　　校","学年","ベスト記録",null,null,"種　　　目",null,"組","ﾚｰﾝ・順","ナンバーカード","名　　　　前","学　　校","学年","ベスト記録",null,null,null,"個人種目１","個人種目２",null,1,2,3,4,5,6,7,8,9,10,11,12,13,14,15,16,17,18]
["男",{"$f":"IF(X4=\"\",\"\",HLOOKUP(X4,$AA$3:$AR$4,2,FALSE))","v":""},null,null,{"$f":"IF(男一覧!A5=\"\",\"\",男一覧!A5)","v":""},{"$f":"IF(男一覧!B5=\"\",\"\",男一覧!B5)","v":""},{"$f":"IF(F4=\"\",\"\",総体入力!$M$3)","v":""},{"$f":"IF(男一覧!D5=\"\",\"\",男一覧!D5)","v":""},null,{"$f":"IF(F4=\"\",\"\",総体入力!N11)","v":""},1,"男",{"$f":"IF(Y4=\"\",\"\",HLOOKUP(Y4,$AA$3:$AR$4,2,FALSE))","v":""},null,null,{"$f":"IF(男一覧!A5=\"\",\"\",男一覧!A5)","v":""},{"$f":"IF(F4=\"\",\"\",F4)","v":""},{"$f":"IF(G4=\"\",\"\",G4)","v":""},{"$f":"IF(H4=\"\",\"\",H4)","v":""},null,{"$f":"IF(J4=\"\",\"\",J4)","v":""},null,1,{"$f":"IF(総体入力!H11=\"\",\"\",総体入力!H11)","v":""},{"$f":"IF(総体入力!I11=\"\",\"\",総体入力!I11)","v":""},null,"１年\n100","２年\n100","３年\n100","共通\n200","共通\n400","共通\n800","１年\n1500","２３年\n1500","共通\n3000","共通\n110H","共通\n走高","共通\n棒高","共通\n走幅","共通\n砲丸","共通\n四種","奨励\n100","奨励\n1500","奨励\n走幅"]
["種　　　目",null,"組","ﾚｰﾝ・順","ナンバーカード","名　　　　前","学　　校","学年","ベスト記録",null,null,"種　　　目",null,"組","ﾚｰﾝ・順","ナンバーカード","名　　　　前","学　　校","学年","ベスト記録"]
["男",{"$f":"IF(X6=\"\",\"\",HLOOKUP(X6,$AA$3:$AR$4,2,FALSE))","v":""},null,null,{"$f":"IF(男一覧!A6=\"\",\"\",男一覧!A6)","v":""},{"$f":"IF(男一覧!B6=\"\",\"\",男一覧!B6)","v":""},{"$f":"IF(F6=\"\",\"\",総体入力!$M$3)","v":""},{"$f":"IF(男一覧!D6=\"\",\"\",男一覧!D6)","v":""},null,{"$f":"IF(F6=\"\",\"\",総体入力!N12)","v":""},2,"男",{"$f":"IF(Y6=\"\",\"\",HLOOKUP(Y6,$AA$3:$AR$4,2,FALSE))","v":""},null,null,{"$f":"IF(男一覧!A6=\"\",\"\",男一覧!A6)","v":""},{"$f":"IF(F6=\"\",\"\",F6)","v":""},{"$f":"IF(G6=\"\",\"\",G6)","v":""},{"$f":"IF(H6=\"\",\"\",H6)","v":""},null,{"$f":"IF(J6=\"\",\"\",J6)","v":""},null,2,{"$f":"IF(総体入力!H12=\"\",\"\",総体入力!H12)","v":""},{"$f":"IF(総体入力!I12=\"\",\"\",総体入力!I12)","v":""}]
["種　　　目",null,"組","ﾚｰﾝ・順","ナンバーカード","名　　　　前","学　　校","学年","ベスト記録",null,null,"種　　　目",null,"組","ﾚｰﾝ・順","ナンバーカード","名　　　　前","学　　校","学年","ベスト記録"]
["男",{"$f":"IF(X8=\"\",\"\",HLOOKUP(X8,$AA$3:$AR$4,2,FALSE))","v":""},null,null,{"$f":"IF(男一覧!A7=\"\",\"\",男一覧!A7)","v":""},{"$f":"IF(男一覧!B7=\"\",\"\",男一覧!B7)","v":""},{"$f":"IF(F8=\"\",\"\",総体入力!$M$3)","v":""},{"$f":"IF(男一覧!D7=\"\",\"\",男一覧!D7)","v":""},null,{"$f":"IF(F8=\"\",\"\",総体入力!N13)","v":""},3,"男",{"$f":"IF(Y8=\"\",\"\",HLOOKUP(Y8,$AA$3:$AR$4,2,FALSE))","v":""},null,null,{"$f":"IF(男一覧!A7=\"\",\"\",男一覧!A7)","v":""},{"$f":"IF(F8=\"\",\"\",F8)","v":""},{"$f":"IF(G8=\"\",\"\",G8)","v":""},{"$f":"IF(H8=\"\",\"\",H8)","v":""},null,{"$f":"IF(J8=\"\",\"\",J8)","v":""},null,3,{"$f":"IF(総体入力!H13=\"\",\"\",総体入力!H13)","v":""},{"$f":"IF(総体入力!I13=\"\",\"\",総体入力!I13)","v":""}]
["種　　　目",null,"組","ﾚｰﾝ・順","ナンバーカード","名　　　　前","学　　校","学年","ベスト記録",null,null,"種　　　目",null,"組","ﾚｰﾝ・順","ナンバーカード","名　　　　前","学　　校","学年","ベスト記録"]
["男",{"$f":"IF(X10=\"\",\"\",HLOOKUP(X10,$AA$3:$AR$4,2,FALSE))","v":""},null,null,{"$f":"IF(男一覧!A8=\"\",\"\",男一覧!A8)","v":""},{"$f":"IF(男一覧!B8=\"\",\"\",男一覧!B8)","v":""},{"$f":"IF(F10=\"\",\"\",総体入力!$M$3)","v":""},{"$f":"IF(男一覧!D8=\"\",\"\",男一覧!D8)","v":""},null,{"$f":"IF(F10=\"\",\"\",総体入力!N14)","v":""},4,"男",{"$f":"IF(Y10=\"\",\"\",HLOOKUP(Y10,$AA$3:$AR$4,2,FALSE))","v":""},null,null,{"$f":"IF(男一覧!A8=\"\",\"\",男一覧!A8)","v":""},{"$f":"IF(F10=\"\",\"\",F10)","v":""},{"$f":"IF(G10=\"\",\"\",G10)","v":""},{"$f":"IF(H10=\"\",\"\",H10)","v":""},null,{"$f":"IF(J10=\"\",\"\",J10)","v":""},null,4,{"$f":"IF(総体入力!H14=\"\",\"\",総体入力!H14)","v":""},{"$f":"IF(総体入力!I14=\"\",\"\",総体入力!I14)","v":""}]
["種　　　目",null,"組","ﾚｰﾝ・順","ナンバーカード","名　　　　前","学　　校","学年","ベスト記録",null,null,"種　　　目",null,"組","ﾚｰﾝ・順","ナンバーカード","名　　　　前","学　　校","学年","ベスト記録"]
["男",{"$f":"IF(X12=\"\",\"\",HLOOKUP(X12,$AA$3:$AR$4,2,FALSE))","v":""},null,null,{"$f":"IF(男一覧!A9=\"\",\"\",男一覧!A9)","v":""},{"$f":"IF(男一覧!B9=\"\",\"\",男一覧!B9)","v":""},{"$f":"IF(F12=\"\",\"\",総体入力!$M$3)","v":""},{"$f":"IF(男一覧!D9=\"\",\"\",男一覧!D9)","v":""},null,{"$f":"IF(F12=\"\",\"\",総体入力!N15)","v":""},5,"男",{"$f":"IF(Y12=\"\",\"\",HLOOKUP(Y12,$AA$3:$AR$4,2,FALSE))","v":""},null,null,{"$f":"IF(男一覧!A9=\"\",\"\",男一覧!A9)","v":""},{"$f":"IF(F12=\"\",\"\",F12)","v":""},{"$f":"IF(G12=\"\",\"\",G12)","v":""},{"$f":"IF(H12=\"\",\"\",H12)","v":""},null,{"$f":"IF(J12=\"\",\"\",J12)","v":""},null,5,{"$f":"IF(総体入力!H15=\"\",\"\",総体入力!H15)","v":""},{"$f":"IF(総体入力!I15=\"\",\"\",総体入力!I15)","v":""}]
["種　　　目",null,"組","ﾚｰﾝ・順","ナンバーカード","名　　　　前","学　　校","学年","ベスト記録",null,null,"種　　　目",null,"組","ﾚｰﾝ・順","ナンバーカード","名　　　　前","学　　校","学年","ベスト記録"]
["男",{"$f":"IF(X14=\"\",\"\",HLOOKUP(X14,$AA$3:$AR$4,2,FALSE))","v":""},null,null,{"$f":"IF(男一覧!A10=\"\",\"\",男一覧!A10)","v":""},{"$f":"IF(男一覧!B10=\"\",\"\",男一覧!B10)","v":""},{"$f":"IF(F14=\"\",\"\",総体入力!$M$3)","v":""},{"$f":"IF(男一覧!D10=\"\",\"\",男一覧!D10)","v":""},null,{"$f":"IF(F14=\"\",\"\",総体入力!N16)","v":""},6,"男",{"$f":"IF(Y14=\"\",\"\",HLOOKUP(Y14,$AA$3:$AR$4,2,FALSE))","v":""},null,null,{"$f":"IF(男一覧!A10=\"\",\"\",男一覧!A10)","v":""},{"$f":"IF(F14=\"\",\"\",F14)","v":""},{"$f":"IF(G14=\"\",\"\",G14)","v":""},{"$f":"IF(H14=\"\",\"\",H14)","v":""},null,{"$f":"IF(J14=\"\",\"\",J14)","v":""},null,6,{"$f":"IF(総体入力!H16=\"\",\"\",総体入力!H16)","v":""},{"$f":"IF(総体入力!I16=\"\",\"\",総体入力!I16)","v":""}]
["種　　　目",null,"組","ﾚｰﾝ・順","ナンバーカード","名　　　　前","学　　校","学年","ベスト記録",null,null,"種　　　目",null,"組","ﾚｰﾝ・順","ナンバーカード","名　　　　前","学　　校","学年","ベスト記録"]
["男",{"$f":"IF(X16=\"\",\"\",HLOOKUP(X16,$AA$3:$AR$4,2,FALSE))","v":""},null,null,{"$f":"IF(男一覧!A11=\"\",\"\",男一覧!A11)","v":""},{"$f":"IF(男一覧!B11=\"\",\"\",男一覧!B11)","v":""},{"$f":"IF(F16=\"\",\"\",総体入力!$M$3)","v":""},{"$f":"IF(男一覧!D11=\"\",\"\",男一覧!D11)","v":""},null,{"$f":"IF(F16=\"\",\"\",総体入力!N17)","v":""},7,"男",{"$f":"IF(Y16=\"\",\"\",HLOOKUP(Y16,$AA$3:$AR$4,2,FALSE))","v":""},null,null,{"$f":"IF(男一覧!A11=\"\",\"\",男一覧!A11)","v":""},{"$f":"IF(F16=\"\",\"\",F16)","v":""},{"$f":"IF(G16=\"\",\"\",G16)","v":""},{"$f":"IF(H16=\"\",\"\",H16)","v":""},null,{"$f":"IF(J16=\"\",\"\",J16)","v":""},null,7,{"$f":"IF(総体入力!H17=\"\",\"\",総体入力!H17)","v":""},{"$f":"IF(総体入力!I17=\"\",\"\",総体入力!I17)","v":""}]
["種　　　目",null,"組","ﾚｰﾝ・順","ナンバーカード","名　　　　前","学　　校","学年","ベスト記録",null,null,"種　　　目",null,"組","ﾚｰﾝ・順","ナンバーカード","名　　　　前","学　　校","学年","ベスト記録"]
["男",{"$f":"IF(X18=\"\",\"\",HLOOKUP(X18,$AA$3:$AR$4,2,FALSE))","v":""},null,null,{"$f":"IF(男一覧!A12=\"\",\"\",男一覧!A12)","v":""},{"$f":"IF(男一覧!B12=\"\",\"\",男一覧!B12)","v":""},{"$f":"IF(F18=\"\",\"\",総体入力!$M$3)","v":""},{"$f":"IF(男一覧!D12=\"\",\"\",男一覧!D12)","v":""},null,{"$f":"IF(F18=\"\",\"\",総体入力!N18)","v":""},8,"男",{"$f":"IF(Y18=\"\",\"\",HLOOKUP(Y18,$AA$3:$AR$4,2,FALSE))","v":""},null,null,{"$f":"IF(男一覧!A12=\"\",\"\",男一覧!A12)","v":""},{"$f":"IF(F18=\"\",\"\",F18)","v":""},{"$f":"IF(G18=\"\",\"\",G18)","v":""},{"$f":"IF(H18=\"\",\"\",H18)","v":""},null,{"$f":"IF(J18=\"\",\"\",J18)","v":""},null,8,{"$f":"IF(総体入力!H18=\"\",\"\",総体入力!H18)","v":""},{"$f":"IF(総体入力!I18=\"\",\"\",総体入力!I18)","v":""}]
["種　　　目",null,"組","ﾚｰﾝ・順","ナンバーカード","名　　　　前","学　　校","学年","ベスト記録",null,null,"種　　　目",null,"組","ﾚｰﾝ・順","ナンバーカード","名　　　　前","学　　校","学年","ベスト記録"]
["男",{"$f":"IF(X20=\"\",\"\",HLOOKUP(X20,$AA$3:$AR$4,2,FALSE))","v":""},null,null,{"$f":"IF(男一覧!A13=\"\",\"\",男一覧!A13)","v":""},{"$f":"IF(男一覧!B13=\"\",\"\",男一覧!B13)","v":""},{"$f":"IF(F20=\"\",\"\",総体入力!$M$3)","v":""},{"$f":"IF(男一覧!D13=\"\",\"\",男一覧!D13)","v":""},null,{"$f":"IF(F20=\"\",\"\",総体入力!N19)","v":""},9,"男",{"$f":"IF(Y20=\"\",\"\",HLOOKUP(Y20,$AA$3:$AR$4,2,FALSE))","v":""},null,null,{"$f":"IF(男一覧!A13=\"\",\"\",男一覧!A13)","v":""},{"$f":"IF(F20=\"\",\"\",F20)","v":""},{"$f":"IF(G20=\"\",\"\",G20)","v":""},{"$f":"IF(H20=\"\",\"\",H20)","v":""},null,{"$f":"IF(J20=\"\",\"\",J20)","v":""},null,9,{"$f":"IF(総体入力!H19=\"\",\"\",総体入力!H19)","v":""},{"$f":"IF(総体入力!I19=\"\",\"\",総体入力!I19)","v":""}]
["種　　　目",null,"組","ﾚｰﾝ・順","ナンバーカード","名　　　　前","学　　校","学年","ベスト記録",null,null,"種　　　目",null,"組","ﾚｰﾝ・順","ナンバーカード","名　　　　前","学　　校","学年","ベスト記録"]
["男",{"$f":"IF(X22=\"\",\"\",HLOOKUP(X22,$AA$3:$AR$4,2,FALSE))","v":""},null,null,{"$f":"IF(男一覧!A14=\"\",\"\",男一覧!A14)","v":""},{"$f":"IF(男一覧!B14=\"\",\"\",男一覧!B14)","v":""},{"$f":"IF(F22=\"\",\"\",総体入力!$M$3)","v":""},{"$f":"IF(男一覧!D14=\"\",\"\",男一覧!D14)","v":""},null,{"$f":"IF(F22=\"\",\"\",総体入力!N20)","v":""},10,"男",{"$f":"IF(Y22=\"\",\"\",HLOOKUP(Y22,$AA$3:$AR$4,2,FALSE))","v":""},null,null,{"$f":"IF(男一覧!A14=\"\",\"\",男一覧!A14)","v":""},{"$f":"IF(F22=\"\",\"\",F22)","v":""},{"$f":"IF(G22=\"\",\"\",G22)","v":""},{"$f":"IF(H22=\"\",\"\",H22)","v":""},null,{"$f":"IF(J22=\"\",\"\",J22)","v":""},null,10,{"$f":"IF(総体入力!H20=\"\",\"\",総体入力!H20)","v":""},{"$f":"IF(総体入力!I20=\"\",\"\",総体入力!I20)","v":""}]
["種　　　目",null,"組","ﾚｰﾝ・順","ナンバーカード","名　　　　前","学　　校","学年","ベスト記録",null,null,"種　　　目",null,"組","ﾚｰﾝ・順","ナンバーカード","名　　　　前","学　　校","学年","ベスト記録"]
["男",{"$f":"IF(X24=\"\",\"\",HLOOKUP(X24,$AA$3:$AR$4,2,FALSE))","v":""},null,null,{"$f":"IF(男一覧!A15=\"\",\"\",男一覧!A15)","v":""},{"$f":"IF(男一覧!B15=\"\",\"\",男一覧!B15)","v":""},{"$f":"IF(F24=\"\",\"\",総体入力!$M$3)","v":""},{"$f":"IF(男一覧!D15=\"\",\"\",男一覧!D15)","v":""},null,{"$f":"IF(F24=\"\",\"\",総体入力!N21)","v":""},11,"男",{"$f":"IF(Y24=\"\",\"\",HLOOKUP(Y24,$AA$3:$AR$4,2,FALSE))","v":""},null,null,{"$f":"IF(男一覧!A15=\"\",\"\",男一覧!A15)","v":""},{"$f":"IF(F24=\"\",\"\",F24)","v":""},{"$f":"IF(G24=\"\",\"\",G24)","v":""},{"$f":"IF(H24=\"\",\"\",H24)","v":""},null,{"$f":"IF(J24=\"\",\"\",J24)","v":""},null,11,{"$f":"IF(総体入力!H21=\"\",\"\",総体入力!H21)","v":""},{"$f":"IF(総体入力!I21=\"\",\"\",総体入力!I21)","v":""}]
["種　　　目",null,"組","ﾚｰﾝ・順","ナンバーカード","名　　　　前","学　　校","学年","ベスト記録",null,null,"種　　　目",null,"組","ﾚｰﾝ・順","ナンバーカード","名　　　　前","学　　校","学年","ベスト記録"]
["男",{"$f":"IF(X26=\"\",\"\",HLOOKUP(X26,$AA$3:$AR$4,2,FALSE))","v":""},null,null,{"$f":"IF(男一覧!A16=\"\",\"\",男一覧!A16)","v":""},{"$f":"IF(男一覧!B16=\"\",\"\",男一覧!B16)","v":""},{"$f":"IF(F26=\"\",\"\",総体入力!$M$3)","v":""},{"$f":"IF(男一覧!D16=\"\",\"\",男一覧!D16)","v":""},null,{"$f":"IF(F26=\"\",\"\",総体入力!N22)","v":""},12,"男",{"$f":"IF(Y26=\"\",\"\",HLOOKUP(Y26,$AA$3:$AR$4,2,FALSE))","v":""},null,null,{"$f":"IF(男一覧!A16=\"\",\"\",男一覧!A16)","v":""},{"$f":"IF(F26=\"\",\"\",F26)","v":""},{"$f":"IF(G26=\"\",\"\",G26)","v":""},{"$f":"IF(H26=\"\",\"\",H26)","v":""},null,{"$f":"IF(J26=\"\",\"\",J26)","v":""},null,12,{"$f":"IF(総体入力!H22=\"\",\"\",総体入力!H22)","v":""},{"$f":"IF(総体入力!I22=\"\",\"\",総体入力!I22)","v":""}]
["種　　　目",null,"組","ﾚｰﾝ・順","ナンバーカード","名　　　　前","学　　校","学年","ベスト記録",null,null,"種　　　目",null,"組","ﾚｰﾝ・順","ナンバーカード","名　　　　前","学　　校","学年","ベスト記録"]
["男",{"$f":"IF(X28=\"\",\"\",HLOOKUP(X28,$AA$3:$AR$4,2,FALSE))","v":""},null,null,{"$f":"IF(男一覧!A17=\"\",\"\",男一覧!A17)","v":""},{"$f":"IF(男一覧!B17=\"\",\"\",男一覧!B17)","v":""},{"$f":"IF(F28=\"\",\"\",総体入力!$M$3)","v":""},{"$f":"IF(男一覧!D17=\"\",\"\",男一覧!D17)","v":""},null,{"$f":"IF(F28=\"\",\"\",総体入力!N23)","v":""},13,"男",{"$f":"IF(Y28=\"\",\"\",HLOOKUP(Y28,$AA$3:$AR$4,2,FALSE))","v":""},null,null,{"$f":"IF(男一覧!A17=\"\",\"\",男一覧!A17)","v":""},{"$f":"IF(F28=\"\",\"\",F28)","v":""},{"$f":"IF(G28=\"\",\"\",G28)","v":""},{"$f":"IF(H28=\"\",\"\",H28)","v":""},null,{"$f":"IF(J28=\"\",\"\",J28)","v":""},null,13,{"$f":"IF(総体入力!H23=\"\",\"\",総体入力!H23)","v":""},{"$f":"IF(総体入力!I23=\"\",\"\",総体入力!I23)","v":""}]
["種　　　目",null,"組","ﾚｰﾝ・順","ナンバーカード","名　　　　前","学　　校","学年","ベスト記録",null,null,"種　　　目",null,"組","ﾚｰﾝ・順","ナンバーカード","名　　　　前","学　　校","学年","ベスト記録"]
["男",{"$f":"IF(X30=\"\",\"\",HLOOKUP(X30,$AA$3:$AR$4,2,FALSE))","v":""},null,null,{"$f":"IF(男一覧!A18=\"\",\"\",男一覧!A18)","v":""},{"$f":"IF(男一覧!B18=\"\",\"\",男一覧!B18)","v":""},{"$f":"IF(F30=\"\",\"\",総体入力!$M$3)","v":""},{"$f":"IF(男一覧!D18=\"\",\"\",男一覧!D18)","v":""},null,{"$f":"IF(F30=\"\",\"\",総体入力!N24)","v":""},14,"男",{"$f":"IF(Y30=\"\",\"\",HLOOKUP(Y30,$AA$3:$AR$4,2,FALSE))","v":""},null,null,{"$f":"IF(男一覧!A18=\"\",\"\",男一覧!A18)","v":""},{"$f":"IF(F30=\"\",\"\",F30)","v":""},{"$f":"IF(G30=\"\",\"\",G30)","v":""},{"$f":"IF(H30=\"\",\"\",H30)","v":""},null,{"$f":"IF(J30=\"\",\"\",J30)","v":""},null,14,{"$f":"IF(総体入力!H24=\"\",\"\",総体入力!H24)","v":""},{"$f":"IF(総体入力!I24=\"\",\"\",総体入力!I24)","v":""}]
["種　　　目",null,"組","ﾚｰﾝ・順","ナンバーカード","名　　　　前","学　　校","学年","ベスト記録",null,null,"種　　　目",null,"組","ﾚｰﾝ・順","ナンバーカード","名　　　　前","学　　校","学年","ベスト記録"]
["男",{"$f":"IF(X32=\"\",\"\",HLOOKUP(X32,$AA$3:$AR$4,2,FALSE))","v":""},null,null,{"$f":"IF(男一覧!A19=\"\",\"\",男一覧!A19)","v":""},{"$f":"IF(男一覧!B19=\"\",\"\",男一覧!B19)","v":""},{"$f":"IF(F32=\"\",\"\",総体入力!$M$3)","v":""},{"$f":"IF(男一覧!D19=\"\",\"\",男一覧!D19)","v":""},null,{"$f":"IF(F32=\"\",\"\",総体入力!N25)","v":""},15,"男",{"$f":"IF(Y32=\"\",\"\",HLOOKUP(Y32,$AA$3:$AR$4,2,FALSE))","v":""},null,null,{"$f":"IF(男一覧!A19=\"\",\"\",男一覧!A19)","v":""},{"$f":"IF(F32=\"\",\"\",F32)","v":""},{"$f":"IF(G32=\"\",\"\",G32)","v":""},{"$f":"IF(H32=\"\",\"\",H32)","v":""},null,{"$f":"IF(J32=\"\",\"\",J32)","v":""},null,15,{"$f":"IF(総体入力!H25=\"\",\"\",総体入力!H25)","v":""},{"$f":"IF(総体入力!I25=\"\",\"\",総体入力!I25)","v":""}]
["種　　　目",null,"組","ﾚｰﾝ・順","ナンバーカード","名　　　　前","学　　校","学年","ベスト記録",null,null,"種　　　目",null,"組","ﾚｰﾝ・順","ナンバーカード","名　　　　前","学　　校","学年","ベスト記録"]
["男",{"$f":"IF(X34=\"\",\"\",HLOOKUP(X34,$AA$3:$AR$4,2,FALSE))","v":""},null,null,{"$f":"IF(男一覧!A20=\"\",\"\",男一覧!A20)","v":""},{"$f":"IF(男一覧!B20=\"\",\"\",男一覧!B20)","v":""},{"$f":"IF(F34=\"\",\"\",総体入力!$M$3)","v":""},{"$f":"IF(男一覧!D20=\"\",\"\",男一覧!D20)","v":""},null,{"$f":"IF(F34=\"\",\"\",総体入力!N26)","v":""},16,"男",{"$f":"IF(Y34=\"\",\"\",HLOOKUP(Y34,$AA$3:$AR$4,2,FALSE))","v":""},null,null,{"$f":"IF(男一覧!A20=\"\",\"\",男一覧!A20)","v":""},{"$f":"IF(F34=\"\",\"\",F34)","v":""},{"$f":"IF(G34=\"\",\"\",G34)","v":""},{"$f":"IF(H34=\"\",\"\",H34)","v":""},null,{"$f":"IF(J34=\"\",\"\",J34)","v":""},null,16,{"$f":"IF(総体入力!H26=\"\",\"\",総体入力!H26)","v":""},{"$f":"IF(総体入力!I26=\"\",\"\",総体入力!I26)","v":""}]
["種　　　目",null,"組","ﾚｰﾝ・順","ナンバーカード","名　　　　前","学　　校","学年","ベスト記録",null,null,"種　　　目",null,"組","ﾚｰﾝ・順","ナンバーカード","名　　　　前","学　　校","学年","ベスト記録"]
["男",{"$f":"IF(X36=\"\",\"\",HLOOKUP(X36,$AA$3:$AR$4,2,FALSE))","v":""},null,null,{"$f":"IF(男一覧!A21=\"\",\"\",男一覧!A21)","v":""},{"$f":"IF(男一覧!B21=\"\",\"\",男一覧!B21)","v":""},{"$f":"IF(F36=\"\",\"\",総体入力!$M$3)","v":""},{"$f":"IF(男一覧!D21=\"\",\"\",男一覧!D21)","v":""},null,{"$f":"IF(F36=\"\",\"\",総体入力!N27)","v":""},17,"男",{"$f":"IF(Y36=\"\",\"\",HLOOKUP(Y36,$AA$3:$AR$4,2,FALSE))","v":""},null,null,{"$f":"IF(男一覧!A21=\"\",\"\",男一覧!A21)","v":""},{"$f":"IF(F36=\"\",\"\",F36)","v":""},{"$f":"IF(G36=\"\",\"\",G36)","v":""},{"$f":"IF(H36=\"\",\"\",H36)","v":""},null,{"$f":"IF(J36=\"\",\"\",J36)","v":""},null,17,{"$f":"IF(総体入力!H27=\"\",\"\",総体入力!H27)","v":""},{"$f":"IF(総体入力!I27=\"\",\"\",総体入力!I27)","v":""}]
["種　　　目",null,"組","ﾚｰﾝ・順","ナンバーカード","名　　　　前","学　　校","学年","ベスト記録",null,null,"種　　　目",null,"組","ﾚｰﾝ・順","ナンバーカード","名　　　　前","学　　校","学年","ベスト記録"]
["男",{"$f":"IF(X38=\"\",\"\",HLOOKUP(X38,$AA$3:$AR$4,2,FALSE))","v":""},null,null,{"$f":"IF(男一覧!A22=\"\",\"\",男一覧!A22)","v":""},{"$f":"IF(男一覧!B22=\"\",\"\",男一覧!B22)","v":""},{"$f":"IF(F38=\"\",\"\",総体入力!$M$3)","v":""},{"$f":"IF(男一覧!D22=\"\",\"\",男一覧!D22)","v":""},null,{"$f":"IF(F38=\"\",\"\",総体入力!N28)","v":""},18,"男",{"$f":"IF(Y38=\"\",\"\",HLOOKUP(Y38,$AA$3:$AR$4,2,FALSE))","v":""},null,null,{"$f":"IF(男一覧!A22=\"\",\"\",男一覧!A22)","v":""},{"$f":"IF(F38=\"\",\"\",F38)","v":""},{"$f":"IF(G38=\"\",\"\",G38)","v":""},{"$f":"IF(H38=\"\",\"\",H38)","v":""},null,{"$f":"IF(J38=\"\",\"\",J38)","v":""},null,18,{"$f":"IF(総体入力!H28=\"\",\"\",総体入力!H28)","v":""},{"$f":"IF(総体入力!I28=\"\",\"\",総体入力!I28)","v":""}]
["種　　　目",null,"組","ﾚｰﾝ・順","ナンバーカード","名　　　　前","学　　校","学年","ベスト記録",null,null,"種　　　目",null,"組","ﾚｰﾝ・順","ナンバーカード","名　　　　前","学　　校","学年","ベスト記録"]
["男",{"$f":"IF(X40=\"\",\"\",HLOOKUP(X40,$AA$3:$AR$4,2,FALSE))","v":""},null,null,{"$f":"IF(男一覧!A23=\"\",\"\",男一覧!A23)","v":""},{"$f":"IF(男一覧!B23=\"\",\"\",男一覧!B23)","v":""},{"$f":"IF(F40=\"\",\"\",総体入力!$M$3)","v":""},{"$f":"IF(男一覧!D23=\"\",\"\",男一覧!D23)","v":""},null,{"$f":"IF(F40=\"\",\"\",総体入力!N29)","v":""},19,"男",{"$f":"IF(Y40=\"\",\"\",HLOOKUP(Y40,$AA$3:$AR$4,2,FALSE))","v":""},null,null,{"$f":"IF(男一覧!A23=\"\",\"\",男一覧!A23)","v":""},{"$f":"IF(F40=\"\",\"\",F40)","v":""},{"$f":"IF(G40=\"\",\"\",G40)","v":""},{"$f":"IF(H40=\"\",\"\",H40)","v":""},null,{"$f":"IF(J40=\"\",\"\",J40)","v":""},null,19,{"$f":"IF(総体入力!H29=\"\",\"\",総体入力!H29)","v":""},{"$f":"IF(総体入力!I29=\"\",\"\",総体入力!I29)","v":""}]
["種　　　目",null,"組","ﾚｰﾝ・順","ナンバーカード","名　　　　前","学　　校","学年","ベスト記録",null,null,"種　　　目",null,"組","ﾚｰﾝ・順","ナンバーカード","名　　　　前","学　　校","学年","ベスト記録"]
["男",{"$f":"IF(X42=\"\",\"\",HLOOKUP(X42,$AA$3:$AR$4,2,FALSE))","v":""},null,null,{"$f":"IF(男一覧!A24=\"\",\"\",男一覧!A24)","v":""},{"$f":"IF(男一覧!B24=\"\",\"\",男一覧!B24)","v":""},{"$f":"IF(F42=\"\",\"\",総体入力!$M$3)","v":""},{"$f":"IF(男一覧!D24=\"\",\"\",男一覧!D24)","v":""},null,{"$f":"IF(F42=\"\",\"\",総体入力!N30)","v":""},20,"男",{"$f":"IF(Y42=\"\",\"\",HLOOKUP(Y42,$AA$3:$AR$4,2,FALSE))","v":""},null,null,{"$f":"IF(男一覧!A24=\"\",\"\",男一覧!A24)","v":""},{"$f":"IF(F42=\"\",\"\",F42)","v":""},{"$f":"IF(G42=\"\",\"\",G42)","v":""},{"$f":"IF(H42=\"\",\"\",H42)","v":""},null,{"$f":"IF(J42=\"\",\"\",J42)","v":""},null,20,{"$f":"IF(総体入力!H30=\"\",\"\",総体入力!H30)","v":""},{"$f":"IF(総体入力!I30=\"\",\"\",総体入力!I30)","v":""}]
["種　　　目",null,"組","ﾚｰﾝ・順","ナンバーカード","名　　　　前","学　　校","学年","ベスト記録",null,null,"種　　　目",null,"組","ﾚｰﾝ・順","ナンバーカード","名　　　　前","学　　校","学年","ベスト記録"]
["男",{"$f":"IF(X44=\"\",\"\",HLOOKUP(X44,$AA$3:$AR$4,2,FALSE))","v":""},null,null,{"$f":"IF(男一覧!A25=\"\",\"\",男一覧!A25)","v":""},{"$f":"IF(男一覧!B25=\"\",\"\",男一覧!B25)","v":""},{"$f":"IF(F44=\"\",\"\",総体入力!$M$3)","v":""},{"$f":"IF(男一覧!D25=\"\",\"\",男一覧!D25)","v":""},null,{"$f":"IF(F44=\"\",\"\",総体入力!N30)","v":""},21,"男",{"$f":"IF(Y44=\"\",\"\",HLOOKUP(Y44,$AA$3:$AR$4,2,FALSE))","v":""},null,null,{"$f":"IF(男一覧!A25=\"\",\"\",男一覧!A25)","v":""},{"$f":"IF(F44=\"\",\"\",F44)","v":""},{"$f":"IF(G44=\"\",\"\",G44)","v":""},{"$f":"IF(H44=\"\",\"\",H44)","v":""},null,{"$f":"IF(J44=\"\",\"\",J44)","v":""},null,21,{"$f":"IF(総体入力!H31=\"\",\"\",総体入力!H31)","v":""},{"$f":"IF(総体入力!I31=\"\",\"\",総体入力!I31)","v":""}]
["種　　　目",null,"組","ﾚｰﾝ・順","ナンバーカード","名　　　　前","学　　校","学年","ベスト記録",null,null,"種　　　目",null,"組","ﾚｰﾝ・順","ナンバーカード","名　　　　前","学　　校","学年","ベスト記録"]
["男",{"$f":"IF(X46=\"\",\"\",HLOOKUP(X46,$AA$3:$AR$4,2,FALSE))","v":""},null,null,{"$f":"IF(男一覧!A26=\"\",\"\",男一覧!A26)","v":""},{"$f":"IF(男一覧!B26=\"\",\"\",男一覧!B26)","v":""},{"$f":"IF(F46=\"\",\"\",総体入力!$M$3)","v":""},{"$f":"IF(男一覧!D26=\"\",\"\",男一覧!D26)","v":""},null,{"$f":"IF(F46=\"\",\"\",総体入力!N32)","v":""},22,"男",{"$f":"IF(Y46=\"\",\"\",HLOOKUP(Y46,$AA$3:$AR$4,2,FALSE))","v":""},null,null,{"$f":"IF(男一覧!A26=\"\",\"\",男一覧!A26)","v":""},{"$f":"IF(F46=\"\",\"\",F46)","v":""},{"$f":"IF(G46=\"\",\"\",G46)","v":""},{"$f":"IF(H46=\"\",\"\",H46)","v":""},null,{"$f":"IF(J46=\"\",\"\",J46)","v":""},null,22,{"$f":"IF(総体入力!H32=\"\",\"\",総体入力!H32)","v":""},{"$f":"IF(総体入力!I32=\"\",\"\",総体入力!I32)","v":""}]
["種　　　目",null,"組","ﾚｰﾝ・順","ナンバーカード","名　　　　前","学　　校","学年","ベスト記録",null,null,"種　　　目",null,"組","ﾚｰﾝ・順","ナンバーカード","名　　　　前","学　　校","学年","ベスト記録"]
["男",{"$f":"IF(X48=\"\",\"\",HLOOKUP(X48,$AA$3:$AR$4,2,FALSE))","v":""},null,null,{"$f":"IF(男一覧!A27=\"\",\"\",男一覧!A27)","v":""},{"$f":"IF(男一覧!B27=\"\",\"\",男一覧!B27)","v":""},{"$f":"IF(F48=\"\",\"\",総体入力!$M$3)","v":""},{"$f":"IF(男一覧!D27=\"\",\"\",男一覧!D27)","v":""},null,{"$f":"IF(F48=\"\",\"\",総体入力!N33)","v":""},23,"男",{"$f":"IF(Y48=\"\",\"\",HLOOKUP(Y48,$AA$3:$AR$4,2,FALSE))","v":""},null,null,{"$f":"IF(男一覧!A27=\"\",\"\",男一覧!A27)","v":""},{"$f":"IF(F48=\"\",\"\",F48)","v":""},{"$f":"IF(G48=\"\",\"\",G48)","v":""},{"$f":"IF(H48=\"\",\"\",H48)","v":""},null,{"$f":"IF(J48=\"\",\"\",J48)","v":""},null,23,{"$f":"IF(総体入力!H33=\"\",\"\",総体入力!H33)","v":""},{"$f":"IF(総体入力!I33=\"\",\"\",総体入力!I33)","v":""}]
["種　　　目",null,"組","ﾚｰﾝ・順","ナンバーカード","名　　　　前","学　　校","学年","ベスト記録",null,null,"種　　　目",null,"組","ﾚｰﾝ・順","ナンバーカード","名　　　　前","学　　校","学年","ベスト記録"]
["男",{"$f":"IF(X50=\"\",\"\",HLOOKUP(X50,$AA$3:$AR$4,2,FALSE))","v":""},null,null,{"$f":"IF(男一覧!A28=\"\",\"\",男一覧!A28)","v":""},{"$f":"IF(男一覧!B28=\"\",\"\",男一覧!B28)","v":""},{"$f":"IF(F50=\"\",\"\",総体入力!$M$3)","v":""},{"$f":"IF(男一覧!D28=\"\",\"\",男一覧!D28)","v":""},null,{"$f":"IF(F50=\"\",\"\",総体入力!N34)","v":""},24,"男",{"$f":"IF(Y50=\"\",\"\",HLOOKUP(Y50,$AA$3:$AR$4,2,FALSE))","v":""},null,null,{"$f":"IF(男一覧!A28=\"\",\"\",男一覧!A28)","v":""},{"$f":"IF(F50=\"\",\"\",F50)","v":""},{"$f":"IF(G50=\"\",\"\",G50)","v":""},{"$f":"IF(H50=\"\",\"\",H50)","v":""},null,{"$f":"IF(J50=\"\",\"\",J50)","v":""},null,24,{"$f":"IF(総体入力!H34=\"\",\"\",総体入力!H34)","v":""},{"$f":"IF(総体入力!I34=\"\",\"\",総体入力!I34)","v":""}]
["種　　　目",null,"組","ﾚｰﾝ・順","ナンバーカード","名　　　　前","学　　校","学年","ベスト記録",null,null,"種　　　目",null,"組","ﾚｰﾝ・順","ナンバーカード","名　　　　前","学　　校","学年","ベスト記録"]
["男",{"$f":"IF(X52=\"\",\"\",HLOOKUP(X52,$AA$3:$AR$4,2,FALSE))","v":""},null,null,{"$f":"IF(男一覧!A29=\"\",\"\",男一覧!A29)","v":""},{"$f":"IF(男一覧!B29=\"\",\"\",男一覧!B29)","v":""},{"$f":"IF(F52=\"\",\"\",総体入力!$M$3)","v":""},{"$f":"IF(男一覧!D29=\"\",\"\",男一覧!D29)","v":""},null,{"$f":"IF(F52=\"\",\"\",総体入力!N35)","v":""},25,"男",{"$f":"IF(Y52=\"\",\"\",HLOOKUP(Y52,$AA$3:$AR$4,2,FALSE))","v":""},null,null,{"$f":"IF(男一覧!A29=\"\",\"\",男一覧!A29)","v":""},{"$f":"IF(F52=\"\",\"\",F52)","v":""},{"$f":"IF(G52=\"\",\"\",G52)","v":""},{"$f":"IF(H52=\"\",\"\",H52)","v":""},null,{"$f":"IF(J52=\"\",\"\",J52)","v":""},null,25,{"$f":"IF(総体入力!H35=\"\",\"\",総体入力!H35)","v":""},{"$f":"IF(総体入力!I35=\"\",\"\",総体入力!I35)","v":""}]
["種　　　目",null,"組","ﾚｰﾝ・順","ナンバーカード","名　　　　前","学　　校","学年","ベスト記録",null,null,"種　　　目",null,"組","ﾚｰﾝ・順","ナンバーカード","名　　　　前","学　　校","学年","ベスト記録"]
["男",{"$f":"IF(X54=\"\",\"\",HLOOKUP(X54,$AA$3:$AR$4,2,FALSE))","v":""},null,null,{"$f":"IF(男一覧!A30=\"\",\"\",男一覧!A30)","v":""},{"$f":"IF(男一覧!B30=\"\",\"\",男一覧!B30)","v":""},{"$f":"IF(F54=\"\",\"\",総体入力!$M$3)","v":""},{"$f":"IF(男一覧!D30=\"\",\"\",男一覧!D30)","v":""},null,{"$f":"IF(F54=\"\",\"\",総体入力!N36)","v":""},26,"男",{"$f":"IF(Y54=\"\",\"\",HLOOKUP(Y54,$AA$3:$AR$4,2,FALSE))","v":""},null,null,{"$f":"IF(男一覧!A30=\"\",\"\",男一覧!A30)","v":""},{"$f":"IF(F54=\"\",\"\",F54)","v":""},{"$f":"IF(G54=\"\",\"\",G54)","v":""},{"$f":"IF(H54=\"\",\"\",H54)","v":""},null,{"$f":"IF(J54=\"\",\"\",J54)","v":""},null,26,{"$f":"IF(総体入力!H36=\"\",\"\",総体入力!H36)","v":""},{"$f":"IF(総体入力!I36=\"\",\"\",総体入力!I36)","v":""}]
["種　　　目",null,"組","ﾚｰﾝ・順","ナンバーカード","名　　　　前","学　　校","学年","ベスト記録",null,null,"種　　　目",null,"組","ﾚｰﾝ・順","ナンバーカード","名　　　　前","学　　校","学年","ベスト記録"]
["男",{"$f":"IF(X56=\"\",\"\",HLOOKUP(X56,$AA$3:$AR$4,2,FALSE))","v":""},null,null,{"$f":"IF(男一覧!A31=\"\",\"\",男一覧!A31)","v":""},{"$f":"IF(男一覧!B31=\"\",\"\",男一覧!B31)","v":""},{"$f":"IF(F56=\"\",\"\",総体入力!$M$3)","v":""},{"$f":"IF(男一覧!D31=\"\",\"\",男一覧!D31)","v":""},null,{"$f":"IF(F56=\"\",\"\",総体入力!N37)","v":""},27,"男",{"$f":"IF(Y56=\"\",\"\",HLOOKUP(Y56,$AA$3:$AR$4,2,FALSE))","v":""},null,null,{"$f":"IF(男一覧!A31=\"\",\"\",男一覧!A31)","v":""},{"$f":"IF(F56=\"\",\"\",F56)","v":""},{"$f":"IF(G56=\"\",\"\",G56)","v":""},{"$f":"IF(H56=\"\",\"\",H56)","v":""},null,{"$f":"IF(J56=\"\",\"\",J56)","v":""},null,27,{"$f":"IF(総体入力!H37=\"\",\"\",総体入力!H37)","v":""},{"$f":"IF(総体入力!I37=\"\",\"\",総体入力!I37)","v":""}]
["種　　　目",null,"組","ﾚｰﾝ・順","ナンバーカード","名　　　　前","学　　校","学年","ベスト記録",null,null,"種　　　目",null,"組","ﾚｰﾝ・順","ナンバーカード","名　　　　前","学　　校","学年","ベスト記録"]
["男",{"$f":"IF(X58=\"\",\"\",HLOOKUP(X58,$AA$3:$AR$4,2,FALSE))","v":""},null,null,{"$f":"IF(男一覧!A32=\"\",\"\",男一覧!A32)","v":""},{"$f":"IF(男一覧!B32=\"\",\"\",男一覧!B32)","v":""},{"$f":"IF(F58=\"\",\"\",総体入力!$M$3)","v":""},{"$f":"IF(男一覧!D32=\"\",\"\",男一覧!D32)","v":""},null,{"$f":"IF(F58=\"\",\"\",総体入力!N38)","v":""},28,"男",{"$f":"IF(Y58=\"\",\"\",HLOOKUP(Y58,$AA$3:$AR$4,2,FALSE))","v":""},null,null,{"$f":"IF(男一覧!A32=\"\",\"\",男一覧!A32)","v":""},{"$f":"IF(F58=\"\",\"\",F58)","v":""},{"$f":"IF(G58=\"\",\"\",G58)","v":""},{"$f":"IF(H58=\"\",\"\",H58)","v":""},null,{"$f":"IF(J58=\"\",\"\",J58)","v":""},null,28,{"$f":"IF(総体入力!H38=\"\",\"\",総体入力!H38)","v":""},{"$f":"IF(総体入力!I38=\"\",\"\",総体入力!I38)","v":""}]
["種　　　目",null,"組","ﾚｰﾝ・順","ナンバーカード","名　　　　前","学　　校","学年","ベスト記録",null,null,"種　　　目",null,"組","ﾚｰﾝ・順","ナンバーカード","名　　　　前","学　　校","学年","ベスト記録"]
["男",{"$f":"IF(X60=\"\",\"\",HLOOKUP(X60,$AA$3:$AR$4,2,FALSE))","v":""},null,null,{"$f":"IF(男一覧!A33=\"\",\"\",男一覧!A33)","v":""},{"$f":"IF(男一覧!B33=\"\",\"\",男一覧!B33)","v":""},{"$f":"IF(F60=\"\",\"\",総体入力!$M$3)","v":""},{"$f":"IF(男一覧!D33=\"\",\"\",男一覧!D33)","v":""},null,{"$f":"IF(F60=\"\",\"\",総体入力!N39)","v":""},29,"男",{"$f":"IF(Y60=\"\",\"\",HLOOKUP(Y60,$AA$3:$AR$4,2,FALSE))","v":""},null,null,{"$f":"IF(男一覧!A33=\"\",\"\",男一覧!A33)","v":""},{"$f":"IF(F60=\"\",\"\",F60)","v":""},{"$f":"IF(G60=\"\",\"\",G60)","v":""},{"$f":"IF(H60=\"\",\"\",H60)","v":""},null,{"$f":"IF(J60=\"\",\"\",J60)","v":""},null,29,{"$f":"IF(総体入力!H39=\"\",\"\",総体入力!H39)","v":""},{"$f":"IF(総体入力!I39=\"\",\"\",総体入力!I39)","v":""}]
["種　　　目",null,"組","ﾚｰﾝ・順","ナンバーカード","名　　　　前","学　　校","学年","ベスト記録",null,null,"種　　　目",null,"組","ﾚｰﾝ・順","ナンバーカード","名　　　　前","学　　校","学年","ベスト記録"]
["男",{"$f":"IF(X62=\"\",\"\",HLOOKUP(X62,$AA$3:$AR$4,2,FALSE))","v":""},null,null,{"$f":"IF(男一覧!A34=\"\",\"\",男一覧!A34)","v":""},{"$f":"IF(男一覧!B34=\"\",\"\",男一覧!B34)","v":""},{"$f":"IF(F62=\"\",\"\",総体入力!$M$3)","v":""},{"$f":"IF(男一覧!D34=\"\",\"\",男一覧!D34)","v":""},null,{"$f":"IF(F62=\"\",\"\",総体入力!N40)","v":""},30,"男",{"$f":"IF(Y62=\"\",\"\",HLOOKUP(Y62,$AA$3:$AR$4,2,FALSE))","v":""},null,null,{"$f":"IF(男一覧!A34=\"\",\"\",男一覧!A34)","v":""},{"$f":"IF(F62=\"\",\"\",F62)","v":""},{"$f":"IF(G62=\"\",\"\",G62)","v":""},{"$f":"IF(H62=\"\",\"\",H62)","v":""},null,{"$f":"IF(J62=\"\",\"\",J62)","v":""},null,30,{"$f":"IF(総体入力!H40=\"\",\"\",総体入力!H40)","v":""},{"$f":"IF(総体入力!I40=\"\",\"\",総体入力!I40)","v":""}]
["種　　　目",null,"組","ﾚｰﾝ・順","ナンバーカード","名　　　　前","学　　校","学年","ベスト記録",null,null,"種　　　目",null,"組","ﾚｰﾝ・順","ナンバーカード","名　　　　前","学　　校","学年","ベスト記録"]
["男",{"$f":"IF(X64=\"\",\"\",HLOOKUP(X64,$AA$3:$AR$4,2,FALSE))","v":""},null,null,{"$f":"IF(男一覧!A35=\"\",\"\",男一覧!A35)","v":""},{"$f":"IF(男一覧!B35=\"\",\"\",男一覧!B35)","v":""},{"$f":"IF(F64=\"\",\"\",総体入力!$M$3)","v":""},{"$f":"IF(男一覧!D35=\"\",\"\",男一覧!D35)","v":""},null,{"$f":"IF(F64=\"\",\"\",総体入力!N41)","v":""},31,"男",{"$f":"IF(Y64=\"\",\"\",HLOOKUP(Y64,$AA$3:$AR$4,2,FALSE))","v":""},null,null,{"$f":"IF(男一覧!A35=\"\",\"\",男一覧!A35)","v":""},{"$f":"IF(F64=\"\",\"\",F64)","v":""},{"$f":"IF(G64=\"\",\"\",G64)","v":""},{"$f":"IF(H64=\"\",\"\",H64)","v":""},null,{"$f":"IF(J64=\"\",\"\",J64)","v":""},null,31,{"$f":"IF(総体入力!H41=\"\",\"\",総体入力!H41)","v":""},{"$f":"IF(総体入力!I41=\"\",\"\",総体入力!I41)","v":""}]
["種　　　目",null,"組","ﾚｰﾝ・順","ナンバーカード","名　　　　前","学　　校","学年","ベスト記録",null,null,"種　　　目",null,"組","ﾚｰﾝ・順","ナンバーカード","名　　　　前","学　　校","学年","ベスト記録"]
["男",{"$f":"IF(X66=\"\",\"\",HLOOKUP(X66,$AA$3:$AR$4,2,FALSE))","v":""},null,null,{"$f":"IF(男一覧!A36=\"\",\"\",男一覧!A36)","v":""},{"$f":"IF(男一覧!B36=\"\",\"\",男一覧!B36)","v":""},{"$f":"IF(F66=\"\",\"\",総体入力!$M$3)","v":""},{"$f":"IF(男一覧!D36=\"\",\"\",男一覧!D36)","v":""},null,{"$f":"IF(F66=\"\",\"\",総体入力!N42)","v":""},32,"男",{"$f":"IF(Y66=\"\",\"\",HLOOKUP(Y66,$AA$3:$AR$4,2,FALSE))","v":""},null,null,{"$f":"IF(男一覧!A36=\"\",\"\",男一覧!A36)","v":""},{"$f":"IF(F66=\"\",\"\",F66)","v":""},{"$f":"IF(G66=\"\",\"\",G66)","v":""},{"$f":"IF(H66=\"\",\"\",H66)","v":""},null,{"$f":"IF(J66=\"\",\"\",J66)","v":""},null,32,{"$f":"IF(総体入力!H42=\"\",\"\",総体入力!H42)","v":""},{"$f":"IF(総体入力!I42=\"\",\"\",総体入力!I42)","v":""}]
["種　　　目",null,"組","ﾚｰﾝ・順","ナンバーカード","名　　　　前","学　　校","学年","ベスト記録",null,null,"種　　　目",null,"組","ﾚｰﾝ・順","ナンバーカード","名　　　　前","学　　校","学年","ベスト記録"]
["男",{"$f":"IF(X68=\"\",\"\",HLOOKUP(X68,$AA$3:$AR$4,2,FALSE))","v":""},null,null,{"$f":"IF(男一覧!A37=\"\",\"\",男一覧!A37)","v":""},{"$f":"IF(男一覧!B37=\"\",\"\",男一覧!B37)","v":""},{"$f":"IF(F68=\"\",\"\",総体入力!$M$3)","v":""},{"$f":"IF(男一覧!D37=\"\",\"\",男一覧!D37)","v":""},null,{"$f":"IF(F68=\"\",\"\",総体入力!N43)","v":""},33,"男",{"$f":"IF(Y68=\"\",\"\",HLOOKUP(Y68,$AA$3:$AR$4,2,FALSE))","v":""},null,null,{"$f":"IF(男一覧!A37=\"\",\"\",男一覧!A37)","v":""},{"$f":"IF(F68=\"\",\"\",F68)","v":""},{"$f":"IF(G68=\"\",\"\",G68)","v":""},{"$f":"IF(H68=\"\",\"\",H68)","v":""},null,{"$f":"IF(J68=\"\",\"\",J68)","v":""},null,33,{"$f":"IF(総体入力!H43=\"\",\"\",総体入力!H43)","v":""},{"$f":"IF(総体入力!I43=\"\",\"\",総体入力!I43)","v":""}]
["種　　　目",null,"組","ﾚｰﾝ・順","ナンバーカード","名　　　　前","学　　校","学年","ベスト記録",null,null,"種　　　目",null,"組","ﾚｰﾝ・順","ナンバーカード","名　　　　前","学　　校","学年","ベスト記録"]
["男",{"$f":"IF(X70=\"\",\"\",HLOOKUP(X70,$AA$3:$AR$4,2,FALSE))","v":""},null,null,{"$f":"IF(男一覧!A38=\"\",\"\",男一覧!A38)","v":""},{"$f":"IF(男一覧!B38=\"\",\"\",男一覧!B38)","v":""},{"$f":"IF(F70=\"\",\"\",総体入力!$M$3)","v":""},{"$f":"IF(男一覧!D38=\"\",\"\",男一覧!D38)","v":""},null,{"$f":"IF(F70=\"\",\"\",総体入力!N44)","v":""},34,"男",{"$f":"IF(Y70=\"\",\"\",HLOOKUP(Y70,$AA$3:$AR$4,2,FALSE))","v":""},null,null,{"$f":"IF(男一覧!A38=\"\",\"\",男一覧!A38)","v":""},{"$f":"IF(F70=\"\",\"\",F70)","v":""},{"$f":"IF(G70=\"\",\"\",G70)","v":""},{"$f":"IF(H70=\"\",\"\",H70)","v":""},null,{"$f":"IF(J70=\"\",\"\",J70)","v":""},null,34,{"$f":"IF(総体入力!H44=\"\",\"\",総体入力!H44)","v":""},{"$f":"IF(総体入力!I44=\"\",\"\",総体入力!I44)","v":""}]
["種　　　目",null,"組","ﾚｰﾝ・順","ナンバーカード","名　　　　前","学　　校","学年","ベスト記録",null,null,"種　　　目",null,"組","ﾚｰﾝ・順","ナンバーカード","名　　　　前","学　　校","学年","ベスト記録"]
["男",{"$f":"IF(X72=\"\",\"\",HLOOKUP(X72,$AA$3:$AR$4,2,FALSE))","v":""},null,null,{"$f":"IF(男一覧!A39=\"\",\"\",男一覧!A39)","v":""},{"$f":"IF(男一覧!B39=\"\",\"\",男一覧!B39)","v":""},{"$f":"IF(F72=\"\",\"\",総体入力!$M$3)","v":""},{"$f":"IF(男一覧!D39=\"\",\"\",男一覧!D39)","v":""},null,{"$f":"IF(F72=\"\",\"\",総体入力!N35)","v":""},35,"男",{"$f":"IF(Y72=\"\",\"\",HLOOKUP(Y72,$AA$3:$AR$4,2,FALSE))","v":""},null,null,{"$f":"IF(男一覧!A39=\"\",\"\",男一覧!A39)","v":""},{"$f":"IF(F72=\"\",\"\",F72)","v":""},{"$f":"IF(G72=\"\",\"\",G72)","v":""},{"$f":"IF(H72=\"\",\"\",H72)","v":""},null,{"$f":"IF(J72=\"\",\"\",J72)","v":""},null,35,{"$f":"IF(総体入力!H45=\"\",\"\",総体入力!H45)","v":""},{"$f":"IF(総体入力!I45=\"\",\"\",総体入力!I45)","v":""}]
["種　　　目",null,"組","ﾚｰﾝ・順","ナンバーカード","名　　　　前","学　　校","学年","ベスト記録",null,null,"種　　　目",null,"組","ﾚｰﾝ・順","ナンバーカード","名　　　　前","学　　校","学年","ベスト記録"]
["男",{"$f":"IF(X74=\"\",\"\",HLOOKUP(X74,$AA$3:$AR$4,2,FALSE))","v":""},null,null,{"$f":"IF(男一覧!A40=\"\",\"\",男一覧!A40)","v":""},{"$f":"IF(男一覧!B40=\"\",\"\",男一覧!B40)","v":""},{"$f":"IF(F74=\"\",\"\",総体入力!$M$3)","v":""},{"$f":"IF(男一覧!D40=\"\",\"\",男一覧!D40)","v":""},null,{"$f":"IF(F74=\"\",\"\",総体入力!N46)","v":""},36,"男",{"$f":"IF(Y74=\"\",\"\",HLOOKUP(Y74,$AA$3:$AR$4,2,FALSE))","v":""},null,null,{"$f":"IF(男一覧!A40=\"\",\"\",男一覧!A40)","v":""},{"$f":"IF(F74=\"\",\"\",F74)","v":""},{"$f":"IF(G74=\"\",\"\",G74)","v":""},{"$f":"IF(H74=\"\",\"\",H74)","v":""},null,{"$f":"IF(J74=\"\",\"\",J74)","v":""},null,36,{"$f":"IF(総体入力!H46=\"\",\"\",総体入力!H46)","v":""},{"$f":"IF(総体入力!I46=\"\",\"\",総体入力!I46)","v":""}]
["種　　　目",null,"組","ﾚｰﾝ・順","ナンバーカード","名　　　　前","学　　校","学年","ベスト記録",null,null,"種　　　目",null,"組","ﾚｰﾝ・順","ナンバーカード","名　　　　前","学　　校","学年","ベスト記録"]
["男",{"$f":"IF(X76=\"\",\"\",HLOOKUP(X76,$AA$3:$AR$4,2,FALSE))","v":""},null,null,{"$f":"IF(男一覧!A41=\"\",\"\",男一覧!A41)","v":""},{"$f":"IF(男一覧!B41=\"\",\"\",男一覧!B41)","v":""},{"$f":"IF(F76=\"\",\"\",総体入力!$M$3)","v":""},{"$f":"IF(男一覧!D41=\"\",\"\",男一覧!D41)","v":""},null,{"$f":"IF(F76=\"\",\"\",総体入力!N47)","v":""},37,"男",{"$f":"IF(Y76=\"\",\"\",HLOOKUP(Y76,$AA$3:$AR$4,2,FALSE))","v":""},null,null,{"$f":"IF(男一覧!A41=\"\",\"\",男一覧!A41)","v":""},{"$f":"IF(F76=\"\",\"\",F76)","v":""},{"$f":"IF(G76=\"\",\"\",G76)","v":""},{"$f":"IF(H76=\"\",\"\",H76)","v":""},null,{"$f":"IF(J76=\"\",\"\",J76)","v":""},null,37,{"$f":"IF(総体入力!H47=\"\",\"\",総体入力!H47)","v":""},{"$f":"IF(総体入力!I47=\"\",\"\",総体入力!I47)","v":""}]
["種　　　目",null,"組","ﾚｰﾝ・順","ナンバーカード","名　　　　前","学　　校","学年","ベスト記録",null,null,"種　　　目",null,"組","ﾚｰﾝ・順","ナンバーカード","名　　　　前","学　　校","学年","ベスト記録"]
["男",{"$f":"IF(X78=\"\",\"\",HLOOKUP(X78,$AA$3:$AR$4,2,FALSE))","v":""},null,null,{"$f":"IF(男一覧!A42=\"\",\"\",男一覧!A42)","v":""},{"$f":"IF(男一覧!B42=\"\",\"\",男一覧!B42)","v":""},{"$f":"IF(F78=\"\",\"\",総体入力!$M$3)","v":""},{"$f":"IF(男一覧!D42=\"\",\"\",男一覧!D42)","v":""},null,{"$f":"IF(F78=\"\",\"\",総体入力!N48)","v":""},38,"男",{"$f":"IF(Y78=\"\",\"\",HLOOKUP(Y78,$AA$3:$AR$4,2,FALSE))","v":""},null,null,{"$f":"IF(男一覧!A42=\"\",\"\",男一覧!A42)","v":""},{"$f":"IF(F78=\"\",\"\",F78)","v":""},{"$f":"IF(G78=\"\",\"\",G78)","v":""},{"$f":"IF(H78=\"\",\"\",H78)","v":""},null,{"$f":"IF(J78=\"\",\"\",J78)","v":""},null,38,{"$f":"IF(総体入力!H48=\"\",\"\",総体入力!H48)","v":""},{"$f":"IF(総体入力!I48=\"\",\"\",総体入力!I48)","v":""}]
["種　　　目",null,"組","ﾚｰﾝ・順","ナンバーカード","名　　　　前","学　　校","学年","ベスト記録",null,null,"種　　　目",null,"組","ﾚｰﾝ・順","ナンバーカード","名　　　　前","学　　校","学年","ベスト記録"]
["男",{"$f":"IF(X80=\"\",\"\",HLOOKUP(X80,$AA$3:$AR$4,2,FALSE))","v":""},null,null,{"$f":"IF(男一覧!A43=\"\",\"\",男一覧!A43)","v":""},{"$f":"IF(男一覧!B43=\"\",\"\",男一覧!B43)","v":""},{"$f":"IF(F80=\"\",\"\",総体入力!$M$3)","v":""},{"$f":"IF(男一覧!D43=\"\",\"\",男一覧!D43)","v":""},null,{"$f":"IF(F80=\"\",\"\",総体入力!N49)","v":""},39,"男",{"$f":"IF(Y80=\"\",\"\",HLOOKUP(Y80,$AA$3:$AR$4,2,FALSE))","v":""},null,null,{"$f":"IF(男一覧!A43=\"\",\"\",男一覧!A43)","v":""},{"$f":"IF(F80=\"\",\"\",F80)","v":""},{"$f":"IF(G80=\"\",\"\",G80)","v":""},{"$f":"IF(H80=\"\",\"\",H80)","v":""},null,{"$f":"IF(J80=\"\",\"\",J80)","v":""},null,39,{"$f":"IF(総体入力!H49=\"\",\"\",総体入力!H49)","v":""},{"$f":"IF(総体入力!I49=\"\",\"\",総体入力!I49)","v":""}]
["種　　　目",null,"組","ﾚｰﾝ・順","ナンバーカード","名　　　　前","学　　校","学年","ベスト記録",null,null,"種　　　目",null,"組","ﾚｰﾝ・順","ナンバーカード","名　　　　前","学　　校","学年","ベスト記録"]
["男",{"$f":"IF(X82=\"\",\"\",HLOOKUP(X82,$AA$3:$AR$4,2,FALSE))","v":""},null,null,{"$f":"IF(男一覧!A44=\"\",\"\",男一覧!A44)","v":""},{"$f":"IF(男一覧!B44=\"\",\"\",男一覧!B44)","v":""},{"$f":"IF(F82=\"\",\"\",総体入力!$M$3)","v":""},{"$f":"IF(男一覧!D44=\"\",\"\",男一覧!D44)","v":""},null,{"$f":"IF(F82=\"\",\"\",総体入力!N50)","v":""},40,"男",{"$f":"IF(Y82=\"\",\"\",HLOOKUP(Y82,$AA$3:$AR$4,2,FALSE))","v":""},null,null,{"$f":"IF(男一覧!A44=\"\",\"\",男一覧!A44)","v":""},{"$f":"IF(F82=\"\",\"\",F82)","v":""},{"$f":"IF(G82=\"\",\"\",G82)","v":""},{"$f":"IF(H82=\"\",\"\",H82)","v":""},null,{"$f":"IF(J82=\"\",\"\",J82)","v":""},null,40,{"$f":"IF(総体入力!H50=\"\",\"\",総体入力!H50)","v":""},{"$f":"IF(総体入力!I50=\"\",\"\",総体入力!I50)","v":""}]
["種　　　目",null,"組","ﾚｰﾝ・順","ナンバーカード","名　　　　前","学　　校","学年","ベスト記録",null,null,"種　　　目",null,"組","ﾚｰﾝ・順","ナンバーカード","名　　　　前","学　　校","学年","ベスト記録"]
["男",{"$f":"IF(X84=\"\",\"\",HLOOKUP(X84,$AA$3:$AR$4,2,FALSE))","v":""},null,null,{"$f":"IF(男一覧!A45=\"\",\"\",男一覧!A45)","v":""},{"$f":"IF(男一覧!B45=\"\",\"\",男一覧!B45)","v":""},{"$f":"IF(F84=\"\",\"\",総体入力!$M$3)","v":""},{"$f":"IF(男一覧!D45=\"\",\"\",男一覧!D45)","v":""},null,{"$f":"IF(F84=\"\",\"\",総体入力!N51)","v":""},41,"男",{"$f":"IF(Y84=\"\",\"\",HLOOKUP(Y84,$AA$3:$AR$4,2,FALSE))","v":""},null,null,{"$f":"IF(男一覧!A45=\"\",\"\",男一覧!A45)","v":""},{"$f":"IF(F84=\"\",\"\",F84)","v":""},{"$f":"IF(G84=\"\",\"\",G84)","v":""},{"$f":"IF(H84=\"\",\"\",H84)","v":""},null,{"$f":"IF(J84=\"\",\"\",J84)","v":""},null,41,{"$f":"IF(総体入力!H51=\"\",\"\",総体入力!H51)","v":""},{"$f":"IF(総体入力!I51=\"\",\"\",総体入力!I51)","v":""}]

{"sheet":"女個表","index":5,"n_rows":76,"n_cols":42,"rows_kept":76,"cut":false,"hidden":false,"merged":[[56,0,56,1],[56,11,56,12],[58,0,58,1],[58,11,58,12],[64,0,64,1],[64,11,64,12],[60,0,60,1],[60,11,60,12],[62,0,62,1],[62,11,62,12],[50,0,50,1],[50,11,50,12],[52,0,52,1],[52,11,52,12],[54,0,54,1],[54,11,54,12],[44,0,44,1],[44,11,44,12],[46,0,46,1],[46,11,46,12],[48,0,48,1],[48,11,48,12],[38,0,38,1],[38,11,38,12],[40,0,40,1],[40,11,40,12],[42,0,42,1],[42,11,42,12],[32,0,32,1],[32,11,32,12],[34,0,34,1],[34,11,34,12],[36,0,36,1],[36,11,36,12],[26,0,26,1],[26,11,26,12],[28,0,28,1],[28,11,28,12],[30,0,30,1],[30,11,30,12],[6,0,6,1],[6,11,6,12],[14,0,14,1],[14,11,14,12],[16,0,16,1],[16,11,16,12],[0,11,0,12],[0,0,0,1],[2,0,2,1],[2,11,2,12],[4,0,4,1],[4,11,4,12],[66,0,66,1],[66,11,66,12],[8,0,8,1],[8,11,8,12],[10,0,10,1],[10,11,10,12],[18,0,18,1],[18,11,18,12],[12,0,12,1],[12,11,12,12],[20,0,20,1],[20,11,20,12],[22,0,22,1],[22,11,22,12],[24,0,24,1],[24,11,24,12],[68,0,68,1],[68,11,68,12],[74,0,74,1],[74,11,74,12],[70,0,70,1],[70,11,70,12],[72,0,72,1],[72,11,72,12]]}
["第一種目個表",null,null,null,null,null,null,null,null,null,null,"第二種目個表"]
[]
["種　　　目",null,"組","ﾚｰﾝ・順","ナンバーカード","名　　　　前","学　　校","学年","ベスト記録",null,null,"種　　　目",null,"組","ﾚｰﾝ・順","ナンバーカード","名　　　　前","学　　校","学年","ベスト記録","個人情報の記載",null,null,"個人種目１","個人種目２",null,31,32,33,34,35,36,37,38,39,40,41,42,43,44,45,46]
["女",{"$f":"IF(X4=\"\",\"\",HLOOKUP(X4,$AA$3:$AR$4,2,FALSE))","v":""},null,null,{"$f":"IF(女一覧!A5=\"\",\"\",女一覧!A5)","v":""},{"$f":"IF(女一覧!B5=\"\",\"\",女一覧!B5)","v":""},{"$f":"IF(F4=\"\",\"\",総体入力!$M$3)","v":""},{"$f":"IF(女一覧!D5=\"\",\"\",女一覧!D5)","v":""},null,{"$f":"IF(F4=\"\",\"\",総体入力!N87)","v":""},1,"女",{"$f":"IF(Y4=\"\",\"\",HLOOKUP(Y4,$AA$3:$AR$4,2,FALSE))","v":""},null,null,{"$f":"IF(女一覧!A5=\"\",\"\",女一覧!A5)","v":""},{"$f":"IF(F4=\"\",\"\",F4)","v":""},{"$f":"IF(G4=\"\",\"\",G4)","v":""},{"$f":"IF(H4=\"\",\"\",H4)","v":""},null,{"$f":"IF(J4=\"\",\"\",J4)","v":""},null,1,{"$f":"IF(総体入力!H87=\"\",\"\",総体入力!H87)","v":""},{"$f":"IF(総体入力!I87=\"\",\"\",総体入力!I87)","v":""},null,"１年\n100","２年\n100","３年\n100","共通\n200","共通\n800","１年\n1500","共通\n1500","共通\n100H","共通\n走高","共通\n走幅","共通\n砲丸","共通\n四種","奨励\n100","奨励\n800","奨励\n走幅","ｵｰﾌﾟﾝ\n1500"]
["種　　　目",null,"組","ﾚｰﾝ・順","ナンバーカード","名　　　　前","学　　校","学年","ベスト記録",null,null,"種　　　目",null,"組","ﾚｰﾝ・順","ナンバーカード","名　　　　前","学　　校","学年","ベスト記録","個人情報の記載"]
["女",{"$f":"IF(X6=\"\",\"\",HLOOKUP(X6,$AA$3:$AR$4,2,FALSE))","v":""},null,null,{"$f":"IF(女一覧!A6=\"\",\"\",女一覧!A6)","v":""},{"$f":"IF(女一覧!B6=\"\",\"\",女一覧!B6)","v":""},{"$f":"IF(F6=\"\",\"\",総体入力!$M$3)","v":""},{"$f":"IF(女一覧!D6=\"\",\"\",女一覧!D6)","v":""},null,{"$f":"IF(F6=\"\",\"\",総体入力!N88)","v":""},2,"女",{"$f":"IF(Y6=\"\",\"\",HLOOKUP(Y6,$AA$3:$AR$4,2,FALSE))","v":""},null,null,{"$f":"IF(女一覧!A6=\"\",\"\",女一覧!A6)","v":""},{"$f":"IF(F6=\"\",\"\",F6)","v":""},{"$f":"IF(G6=\"\",\"\",G6)","v":""},{"$f":"IF(H6=\"\",\"\",H6)","v":""},null,{"$f":"IF(J6=\"\",\"\",J6)","v":""},null,2,{"$f":"IF(総体入力!H88=\"\",\"\",総体入力!H88)","v":""},{"$f":"IF(総体入力!I88=\"\",\"\",総体入力!I88)","v":""}]
["種　　　目",null,"組","ﾚｰﾝ・順","ナンバーカード","名　　　　前","学　　校","学年","ベスト記録",null,null,"種　　　目",null,"組","ﾚｰﾝ・順","ナンバーカード","名　　　　前","学　　校","学年","ベスト記録","個人情報の記載"]
["女",{"$f":"IF(X8=\"\",\"\",HLOOKUP(X8,$AA$3:$AR$4,2,FALSE))","v":""},null,null,{"$f":"IF(女一覧!A7=\"\",\"\",女一覧!A7)","v":""},{"$f":"IF(女一覧!B7=\"\",\"\",女一覧!B7)","v":""},{"$f":"IF(F8=\"\",\"\",総体入力!$M$3)","v":""},{"$f":"IF(女一覧!D7=\"\",\"\",女一覧!D7)","v":""},null,{"$f":"IF(F8=\"\",\"\",総体入力!N89)","v":""},3,"女",{"$f":"IF(Y8=\"\",\"\",HLOOKUP(Y8,$AA$3:$AR$4,2,FALSE))","v":""},null,null,{"$f":"IF(女一覧!A7=\"\",\"\",女一覧!A7)","v":""},{"$f":"IF(F8=\"\",\"\",F8)","v":""},{"$f":"IF(G8=\"\",\"\",G8)","v":""},{"$f":"IF(H8=\"\",\"\",H8)","v":""},null,{"$f":"IF(J8=\"\",\"\",J8)","v":""},null,3,{"$f":"IF(総体入力!H89=\"\",\"\",総体入力!H89)","v":""},{"$f":"IF(総体入力!I89=\"\",\"\",総体入力!I89)","v":""}]
["種　　　目",null,"組","ﾚｰﾝ・順","ナンバーカード","名　　　　前","学　　校","学年","ベスト記録",null,null,"種　　　目",null,"組","ﾚｰﾝ・順","ナンバーカード","名　　　　前","学　　校","学年","ベスト記録","個人情報の記載"]
["女",{"$f":"IF(X10=\"\",\"\",HLOOKUP(X10,$AA$3:$AR$4,2,FALSE))","v":""},null,null,{"$f":"IF(女一覧!A8=\"\",\"\",女一覧!A8)","v":""},{"$f":"IF(女一覧!B8=\"\",\"\",女一覧!B8)","v":""},{"$f":"IF(F10=\"\",\"\",総体入力!$M$3)","v":""},{"$f":"IF(女一覧!D8=\"\",\"\",女一覧!D8)","v":""},null,{"$f":"IF(F10=\"\",\"\",総体入力!N90)","v":""},4,"女",{"$f":"IF(Y10=\"\",\"\",HLOOKUP(Y10,$AA$3:$AR$4,2,FALSE))","v":""},null,null,{"$f":"IF(女一覧!A8=\"\",\"\",女一覧!A8)","v":""},{"$f":"IF(F10=\"\",\"\",F10)","v":""},{"$f":"IF(G10=\"\",\"\",G10)","v":""},{"$f":"IF(H10=\"\",\"\",H10)","v":""},null,{"$f":"IF(J10=\"\",\"\",J10)","v":""},null,4,{"$f":"IF(総体入力!H90=\"\",\"\",総体入力!H90)","v":""},{"$f":"IF(総体入力!I90=\"\",\"\",総体入力!I90)","v":""}]
["種　　　目",null,"組","ﾚｰﾝ・順","ナンバーカード","名　　　　前","学　　校","学年","ベスト記録",null,null,"種　　　目",null,"組","ﾚｰﾝ・順","ナンバーカード","名　　　　前","学　　校","学年","ベスト記録","個人情報の記載"]
["女",{"$f":"IF(X12=\"\",\"\",HLOOKUP(X12,$AA$3:$AR$4,2,FALSE))","v":""},null,null,{"$f":"IF(女一覧!A9=\"\",\"\",女一覧!A9)","v":""},{"$f":"IF(女一覧!B9=\"\",\"\",女一覧!B9)","v":""},{"$f":"IF(F12=\"\",\"\",総体入力!$M$3)","v":""},{"$f":"IF(女一覧!D9=\"\",\"\",女一覧!D9)","v":""},null,{"$f":"IF(F12=\"\",\"\",総体入力!N91)","v":""},5,"女",{"$f":"IF(Y12=\"\",\"\",HLOOKUP(Y12,$AA$3:$AR$4,2,FALSE))","v":""},null,null,{"$f":"IF(女一覧!A9=\"\",\"\",女一覧!A9)","v":""},{"$f":"IF(F12=\"\",\"\",F12)","v":""},{"$f":"IF(G12=\"\",\"\",G12)","v":""},{"$f":"IF(H12=\"\",\"\",H12)","v":""},null,{"$f":"IF(J12=\"\",\"\",J12)","v":""},null,5,{"$f":"IF(総体入力!H91=\"\",\"\",総体入力!H91)","v":""},{"$f":"IF(総体入力!I91=\"\",\"\",総体入力!I91)","v":""}]
["種　　　目",null,"組","ﾚｰﾝ・順","ナンバーカード","名　　　　前","学　　校","学年","ベスト記録",null,null,"種　　　目",null,"組","ﾚｰﾝ・順","ナンバーカード","名　　　　前","学　　校","学年","ベスト記録","個人情報の記載"]
["女",{"$f":"IF(X14=\"\",\"\",HLOOKUP(X14,$AA$3:$AR$4,2,FALSE))","v":""},null,null,{"$f":"IF(女一覧!A10=\"\",\"\",女一覧!A10)","v":""},{"$f":"IF(女一覧!B10=\"\",\"\",女一覧!B10)","v":""},{"$f":"IF(F14=\"\",\"\",総体入力!$M$3)","v":""},{"$f":"IF(女一覧!D10=\"\",\"\",女一覧!D10)","v":""},null,{"$f":"IF(F14=\"\",\"\",総体入力!N92)","v":""},6,"女",{"$f":"IF(Y14=\"\",\"\",HLOOKUP(Y14,$AA$3:$AR$4,2,FALSE))","v":""},null,null,{"$f":"IF(女一覧!A10=\"\",\"\",女一覧!A10)","v":""},{"$f":"IF(F14=\"\",\"\",F14)","v":""},{"$f":"IF(G14=\"\",\"\",G14)","v":""},{"$f":"IF(H14=\"\",\"\",H14)","v":""},null,{"$f":"IF(J14=\"\",\"\",J14)","v":""},null,6,{"$f":"IF(総体入力!H92=\"\",\"\",総体入力!H92)","v":""},{"$f":"IF(総体入力!I92=\"\",\"\",総体入力!I92)","v":""}]
["種　　　目",null,"組","ﾚｰﾝ・順","ナンバーカード","名　　　　前","学　　校","学年","ベスト記録",null,null,"種　　　目",null,"組","ﾚｰﾝ・順","ナンバーカード","名　　　　前","学　　校","学年","ベスト記録","個人情報の記載"]
["女",{"$f":"IF(X16=\"\",\"\",HLOOKUP(X16,$AA$3:$AR$4,2,FALSE))","v":""},null,null,{"$f":"IF(女一覧!A11=\"\",\"\",女一覧!A11)","v":""},{"$f":"IF(女一覧!B11=\"\",\"\",女一覧!B11)","v":""},{"$f":"IF(F16=\"\",\"\",総体入力!$M$3)","v":""},{"$f":"IF(女一覧!D11=\"\",\"\",女一覧!D11)","v":""},null,{"$f":"IF(F16=\"\",\"\",総体入力!N93)","v":""},7,"女",{"$f":"IF(Y16=\"\",\"\",HLOOKUP(Y16,$AA$3:$AR$4,2,FALSE))","v":""},null,null,{"$f":"IF(女一覧!A11=\"\",\"\",女一覧!A11)","v":""},{"$f":"IF(F16=\"\",\"\",F16)","v":""},{"$f":"IF(G16=\"\",\"\",G16)","v":""},{"$f":"IF(H16=\"\",\"\",H16)","v":""},null,{"$f":"IF(J16=\"\",\"\",J16)","v":""},null,7,{"$f":"IF(総体入力!H93=\"\",\"\",総体入力!H93)","v":""},{"$f":"IF(総体入力!I93=\"\",\"\",総体入力!I93)","v":""}]
["種　　　目",null,"組","ﾚｰﾝ・順","ナンバーカード","名　　　　前","学　　校","学年","ベスト記録",null,null,"種　　　目",null,"組","ﾚｰﾝ・順","ナンバーカード","名　　　　前","学　　校","学年","ベスト記録","個人情報の記載"]
["女",{"$f":"IF(X18=\"\",\"\",HLOOKUP(X18,$AA$3:$AR$4,2,FALSE))","v":""},null,null,{"$f":"IF(女一覧!A12=\"\",\"\",女一覧!A12)","v":""},{"$f":"IF(女一覧!B12=\"\",\"\",女一覧!B12)","v":""},{"$f":"IF(F18=\"\",\"\",総体入力!$M$3)","v":""},{"$f":"IF(女一覧!D12=\"\",\"\",女一覧!D12)","v":""},null,{"$f":"IF(F18=\"\",\"\",総体入力!N94)","v":""},8,"女",{"$f":"IF(Y18=\"\",\"\",HLOOKUP(Y18,$AA$3:$AR$4,2,FALSE))","v":""},null,null,{"$f":"IF(女一覧!A12=\"\",\"\",女一覧!A12)","v":""},{"$f":"IF(F18=\"\",\"\",F18)","v":""},{"$f":"IF(G18=\"\",\"\",G18)","v":""},{"$f":"IF(H18=\"\",\"\",H18)","v":""},null,{"$f":"IF(J18=\"\",\"\",J18)","v":""},null,8,{"$f":"IF(総体入力!H94=\"\",\"\",総体入力!H94)","v":""},{"$f":"IF(総体入力!I94=\"\",\"\",総体入力!I94)","v":""}]
["種　　　目",null,"組","ﾚｰﾝ・順","ナンバーカード","名　　　　前","学　　校","学年","ベスト記録",null,null,"種　　　目",null,"組","ﾚｰﾝ・順","ナンバーカード","名　　　　前","学　　校","学年","ベスト記録","個人情報の記載"]
["女",{"$f":"IF(X20=\"\",\"\",HLOOKUP(X20,$AA$3:$AR$4,2,FALSE))","v":""},null,null,{"$f":"IF(女一覧!A13=\"\",\"\",女一覧!A13)","v":""},{"$f":"IF(女一覧!B13=\"\",\"\",女一覧!B13)","v":""},{"$f":"IF(F20=\"\",\"\",総体入力!$M$3)","v":""},{"$f":"IF(女一覧!D13=\"\",\"\",女一覧!D13)","v":""},null,{"$f":"IF(F20=\"\",\"\",総体入力!N95)","v":""},9,"女",{"$f":"IF(Y20=\"\",\"\",HLOOKUP(Y20,$AA$3:$AR$4,2,FALSE))","v":""},null,null,{"$f":"IF(女一覧!A13=\"\",\"\",女一覧!A13)","v":""},{"$f":"IF(F20=\"\",\"\",F20)","v":""},{"$f":"IF(G20=\"\",\"\",G20)","v":""},{"$f":"IF(H20=\"\",\"\",H20)","v":""},null,{"$f":"IF(J20=\"\",\"\",J20)","v":""},null,9,{"$f":"IF(総体入力!H95=\"\",\"\",総体入力!H95)","v":""},{"$f":"IF(総体入力!I95=\"\",\"\",総体入力!I95)","v":""}]
["種　　　目",null,"組","ﾚｰﾝ・順","ナンバーカード","名　　　　前","学　　校","学年","ベスト記録",null,null,"種　　　目",null,"組","ﾚｰﾝ・順","ナンバーカード","名　　　　前","学　　校","学年","ベスト記録","個人情報の記載"]
["女",{"$f":"IF(X22=\"\",\"\",HLOOKUP(X22,$AA$3:$AR$4,2,FALSE))","v":""},null,null,{"$f":"IF(女一覧!A14=\"\",\"\",女一覧!A14)","v":""},{"$f":"IF(女一覧!B14=\"\",\"\",女一覧!B14)","v":""},{"$f":"IF(F22=\"\",\"\",総体入力!$M$3)","v":""},{"$f":"IF(女一覧!D14=\"\",\"\",女一覧!D14)","v":""},null,{"$f":"IF(F22=\"\",\"\",総体入力!N96)","v":""},10,"女",{"$f":"IF(Y22=\"\",\"\",HLOOKUP(Y22,$AA$3:$AR$4,2,FALSE))","v":""},null,null,{"$f":"IF(女一覧!A14=\"\",\"\",女一覧!A14)","v":""},{"$f":"IF(F22=\"\",\"\",F22)","v":""},{"$f":"IF(G22=\"\",\"\",G22)","v":""},{"$f":"IF(H22=\"\",\"\",H22)","v":""},null,{"$f":"IF(J22=\"\",\"\",J22)","v":""},null,10,{"$f":"IF(総体入力!H96=\"\",\"\",総体入力!H96)","v":""},{"$f":"IF(総体入力!I96=\"\",\"\",総体入力!I96)","v":""}]
["種　　　目",null,"組","ﾚｰﾝ・順","ナンバーカード","名　　　　前","学　　校","学年","ベスト記録",null,null,"種　　　目",null,"組","ﾚｰﾝ・順","ナンバーカード","名　　　　前","学　　校","学年","ベスト記録","個人情報の記載"]
["女",{"$f":"IF(X24=\"\",\"\",HLOOKUP(X24,$AA$3:$AR$4,2,FALSE))","v":""},null,null,{"$f":"IF(女一覧!A15=\"\",\"\",女一覧!A15)","v":""},{"$f":"IF(女一覧!B15=\"\",\"\",女一覧!B15)","v":""},{"$f":"IF(F24=\"\",\"\",総体入力!$M$3)","v":""},{"$f":"IF(女一覧!D15=\"\",\"\",女一覧!D15)","v":""},null,{"$f":"IF(F24=\"\",\"\",総体入力!N97)","v":""},11,"女",{"$f":"IF(Y24=\"\",\"\",HLOOKUP(Y24,$AA$3:$AR$4,2,FALSE))","v":""},null,null,{"$f":"IF(女一覧!A15=\"\",\"\",女一覧!A15)","v":""},{"$f":"IF(F24=\"\",\"\",F24)","v":""},{"$f":"IF(G24=\"\",\"\",G24)","v":""},{"$f":"IF(H24=\"\",\"\",H24)","v":""},null,{"$f":"IF(J24=\"\",\"\",J24)","v":""},null,11,{"$f":"IF(総体入力!H97=\"\",\"\",総体入力!H97)","v":""},{"$f":"IF(総体入力!I97=\"\",\"\",総体入力!I97)","v":""}]
["種　　　目",null,"組","ﾚｰﾝ・順","ナンバーカード","名　　　　前","学　　校","学年","ベスト記録",null,null,"種　　　目",null,"組","ﾚｰﾝ・順","ナンバーカード","名　　　　前","学　　校","学年","ベスト記録","個人情報の記載"]
["女",{"$f":"IF(X26=\"\",\"\",HLOOKUP(X26,$AA$3:$AR$4,2,FALSE))","v":""},null,null,{"$f":"IF(女一覧!A16=\"\",\"\",女一覧!A16)","v":""},{"$f":"IF(女一覧!B16=\"\",\"\",女一覧!B16)","v":""},{"$f":"IF(F26=\"\",\"\",総体入力!$M$3)","v":""},{"$f":"IF(女一覧!D16=\"\",\"\",女一覧!D16)","v":""},null,{"$f":"IF(F26=\"\",\"\",総体入力!N98)","v":""},12,"女",{"$f":"IF(Y26=\"\",\"\",HLOOKUP(Y26,$AA$3:$AR$4,2,FALSE))","v":""},null,null,{"$f":"IF(女一覧!A16=\"\",\"\",女一覧!A16)","v":""},{"$f":"IF(F26=\"\",\"\",F26)","v":""},{"$f":"IF(G26=\"\",\"\",G26)","v":""},{"$f":"IF(H26=\"\",\"\",H26)","v":""},null,{"$f":"IF(J26=\"\",\"\",J26)","v":""},null,12,{"$f":"IF(総体入力!H98=\"\",\"\",総体入力!H98)","v":""},{"$f":"IF(総体入力!I98=\"\",\"\",総体入力!I98)","v":""}]
["種　　　目",null,"組","ﾚｰﾝ・順","ナンバーカード","名　　　　前","学　　校","学年","ベスト記録",null,null,"種　　　目",null,"組","ﾚｰﾝ・順","ナンバーカード","名　　　　前","学　　校","学年","ベスト記録","個人情報の記載"]
["女",{"$f":"IF(X28=\"\",\"\",HLOOKUP(X28,$AA$3:$AR$4,2,FALSE))","v":""},null,null,{"$f":"IF(女一覧!A17=\"\",\"\",女一覧!A17)","v":""},{"$f":"IF(女一覧!B17=\"\",\"\",女一覧!B17)","v":""},{"$f":"IF(F28=\"\",\"\",総体入力!$M$3)","v":""},{"$f":"IF(女一覧!D17=\"\",\"\",女一覧!D17)","v":""},null,{"$f":"IF(F28=\"\",\"\",総体入力!N99)","v":""},13,"女",{"$f":"IF(Y28=\"\",\"\",HLOOKUP(Y28,$AA$3:$AR$4,2,FALSE))","v":""},null,null,{"$f":"IF(女一覧!A17=\"\",\"\",女一覧!A17)","v":""},{"$f":"IF(F28=\"\",\"\",F28)","v":""},{"$f":"IF(G28=\"\",\"\",G28)","v":""},{"$f":"IF(H28=\"\",\"\",H28)","v":""},null,{"$f":"IF(J28=\"\",\"\",J28)","v":""},null,13,{"$f":"IF(総体入力!H99=\"\",\"\",総体入力!H99)","v":""},{"$f":"IF(総体入力!I99=\"\",\"\",総体入力!I99)","v":""}]
["種　　　目",null,"組","ﾚｰﾝ・順","ナンバーカード","名　　　　前","学　　校","学年","ベスト記録",null,null,"種　　　目",null,"組","ﾚｰﾝ・順","ナンバーカード","名　　　　前","学　　校","学年","ベスト記録","個人情報の記載"]
["女",{"$f":"IF(X30=\"\",\"\",HLOOKUP(X30,$AA$3:$AR$4,2,FALSE))","v":""},null,null,{"$f":"IF(女一覧!A18=\"\",\"\",女一覧!A18)","v":""},{"$f":"IF(女一覧!B18=\"\",\"\",女一覧!B18)","v":""},{"$f":"IF(F30=\"\",\"\",総体入力!$M$3)","v":""},{"$f":"IF(女一覧!D18=\"\",\"\",女一覧!D18)","v":""},null,{"$f":"IF(F30=\"\",\"\",総体入力!N100)","v":""},14,"女",{"$f":"IF(Y30=\"\",\"\",HLOOKUP(Y30,$AA$3:$AR$4,2,FALSE))","v":""},null,null,{"$f":"IF(女一覧!A18=\"\",\"\",女一覧!A18)","v":""},{"$f":"IF(F30=\"\",\"\",F30)","v":""},{"$f":"IF(G30=\"\",\"\",G30)","v":""},{"$f":"IF(H30=\"\",\"\",H30)","v":""},null,{"$f":"IF(J30=\"\",\"\",J30)","v":""},null,14,{"$f":"IF(総体入力!H100=\"\",\"\",総体入力!H100)","v":""},{"$f":"IF(総体入力!I100=\"\",\"\",総体入力!I100)","v":""}]
["種　　　目",null,"組","ﾚｰﾝ・順","ナンバーカード","名　　　　前","学　　校","学年","ベスト記録",null,null,"種　　　目",null,"組","ﾚｰﾝ・順","ナンバーカード","名　　　　前","学　　校","学年","ベスト記録","個人情報の記載"]
["女",{"$f":"IF(X32=\"\",\"\",HLOOKUP(X32,$AA$3:$AR$4,2,FALSE))","v":""},null,null,{"$f":"IF(女一覧!A19=\"\",\"\",女一覧!A19)","v":""},{"$f":"IF(女一覧!B19=\"\",\"\",女一覧!B19)","v":""},{"$f":"IF(F32=\"\",\"\",総体入力!$M$3)","v":""},{"$f":"IF(女一覧!D19=\"\",\"\",女一覧!D19)","v":""},null,{"$f":"IF(F32=\"\",\"\",総体入力!N101)","v":""},15,"女",{"$f":"IF(Y32=\"\",\"\",HLOOKUP(Y32,$AA$3:$AR$4,2,FALSE))","v":""},null,null,{"$f":"IF(女一覧!A19=\"\",\"\",女一覧!A19)","v":""},{"$f":"IF(F32=\"\",\"\",F32)","v":""},{"$f":"IF(G32=\"\",\"\",G32)","v":""},{"$f":"IF(H32=\"\",\"\",H32)","v":""},null,{"$f":"IF(J32=\"\",\"\",J32)","v":""},null,15,{"$f":"IF(総体入力!H101=\"\",\"\",総体入力!H101)","v":""},{"$f":"IF(総体入力!I101=\"\",\"\",総体入力!I101)","v":""}]
["種　　　目",null,"組","ﾚｰﾝ・順","ナンバーカード","名　　　　前","学　　校","学年","ベスト記録",null,null,"種　　　目",null,"組","ﾚｰﾝ・順","ナンバーカード","名　　　　前","学　　校","学年","ベスト記録","個人情報の記載"]
["女",{"$f":"IF(X34=\"\",\"\",HLOOKUP(X34,$AA$3:$AR$4,2,FALSE))","v":""},null,null,{"$f":"IF(女一覧!A20=\"\",\"\",女一覧!A20)","v":""},{"$f":"IF(女一覧!B20=\"\",\"\",女一覧!B20)","v":""},{"$f":"IF(F34=\"\",\"\",総体入力!$M$3)","v":""},{"$f":"IF(女一覧!D20=\"\",\"\",女一覧!D20)","v":""},null,{"$f":"IF(F34=\"\",\"\",総体入力!N102)","v":""},16,"女",{"$f":"IF(Y34=\"\",\"\",HLOOKUP(Y34,$AA$3:$AR$4,2,FALSE))","v":""},null,null,{"$f":"IF(女一覧!A20=\"\",\"\",女一覧!A20)","v":""},{"$f":"IF(F34=\"\",\"\",F34)","v":""},{"$f":"IF(G34=\"\",\"\",G34)","v":""},{"$f":"IF(H34=\"\",\"\",H34)","v":""},null,{"$f":"IF(J34=\"\",\"\",J34)","v":""},null,16,{"$f":"IF(総体入力!H102=\"\",\"\",総体入力!H102)","v":""},{"$f":"IF(総体入力!I102=\"\",\"\",総体入力!I102)","v":""}]
["種　　　目",null,"組","ﾚｰﾝ・順","ナンバーカード","名　　　　前","学　　校","学年","ベスト記録",null,null,"種　　　目",null,"組","ﾚｰﾝ・順","ナンバーカード","名　　　　前","学　　校","学年","ベスト記録","個人情報の記載"]
["女",{"$f":"IF(X36=\"\",\"\",HLOOKUP(X36,$AA$3:$AR$4,2,FALSE))","v":""},null,null,{"$f":"IF(女一覧!A21=\"\",\"\",女一覧!A21)","v":""},{"$f":"IF(女一覧!B21=\"\",\"\",女一覧!B21)","v":""},{"$f":"IF(F36=\"\",\"\",総体入力!$M$3)","v":""},{"$f":"IF(女一覧!D21=\"\",\"\",女一覧!D21)","v":""},null,{"$f":"IF(F36=\"\",\"\",総体入力!N103)","v":""},17,"女",{"$f":"IF(Y36=\"\",\"\",HLOOKUP(Y36,$AA$3:$AR$4,2,FALSE))","v":""},null,null,{"$f":"IF(女一覧!A21=\"\",\"\",女一覧!A21)","v":""},{"$f":"IF(F36=\"\",\"\",F36)","v":""},{"$f":"IF(G36=\"\",\"\",G36)","v":""},{"$f":"IF(H36=\"\",\"\",H36)","v":""},null,{"$f":"IF(J36=\"\",\"\",J36)","v":""},null,17,{"$f":"IF(総体入力!H103=\"\",\"\",総体入力!H103)","v":""},{"$f":"IF(総体入力!I103=\"\",\"\",総体入力!I103)","v":""}]
["種　　　目",null,"組","ﾚｰﾝ・順","ナンバーカード","名　　　　前","学　　校","学年","ベスト記録",null,null,"種　　　目",null,"組","ﾚｰﾝ・順","ナンバーカード","名　　　　前","学　　校","学年","ベスト記録","個人情報の記載"]
["女",{"$f":"IF(X38=\"\",\"\",HLOOKUP(X38,$AA$3:$AR$4,2,FALSE))","v":""},null,null,{"$f":"IF(女一覧!A22=\"\",\"\",女一覧!A22)","v":""},{"$f":"IF(女一覧!B22=\"\",\"\",女一覧!B22)","v":""},{"$f":"IF(F38=\"\",\"\",総体入力!$M$3)","v":""},{"$f":"IF(女一覧!D22=\"\",\"\",女一覧!D22)","v":""},null,{"$f":"IF(F38=\"\",\"\",総体入力!N104)","v":""},18,"女",{"$f":"IF(Y38=\"\",\"\",HLOOKUP(Y38,$AA$3:$AR$4,2,FALSE))","v":""},null,null,{"$f":"IF(女一覧!A22=\"\",\"\",女一覧!A22)","v":""},{"$f":"IF(F38=\"\",\"\",F38)","v":""},{"$f":"IF(G38=\"\",\"\",G38)","v":""},{"$f":"IF(H38=\"\",\"\",H38)","v":""},null,{"$f":"IF(J38=\"\",\"\",J38)","v":""},null,18,{"$f":"IF(総体入力!H104=\"\",\"\",総体入力!H104)","v":""},{"$f":"IF(総体入力!I104=\"\",\"\",総体入力!I104)","v":""}]
["種　　　目",null,"組","ﾚｰﾝ・順","ナンバーカード","名　　　　前","学　　校","学年","ベスト記録",null,null,"種　　　目",null,"組","ﾚｰﾝ・順","ナンバーカード","名　　　　前","学　　校","学年","ベスト記録","個人情報の記載"]
["女",{"$f":"IF(X40=\"\",\"\",HLOOKUP(X40,$AA$3:$AR$4,2,FALSE))","v":""},null,null,{"$f":"IF(女一覧!A23=\"\",\"\",女一覧!A23)","v":""},{"$f":"IF(女一覧!B23=\"\",\"\",女一覧!B23)","v":""},{"$f":"IF(F40=\"\",\"\",総体入力!$M$3)","v":""},{"$f":"IF(女一覧!D23=\"\",\"\",女一覧!D23)","v":""},null,{"$f":"IF(F40=\"\",\"\",総体入力!N105)","v":""},19,"女",{"$f":"IF(Y40=\"\",\"\",HLOOKUP(Y40,$AA$3:$AR$4,2,FALSE))","v":""},null,null,{"$f":"IF(女一覧!A23=\"\",\"\",女一覧!A23)","v":""},{"$f":"IF(F40=\"\",\"\",F40)","v":""},{"$f":"IF(G40=\"\",\"\",G40)","v":""},{"$f":"IF(H40=\"\",\"\",H40)","v":""},null,{"$f":"IF(J40=\"\",\"\",J40)","v":""},null,19,{"$f":"IF(総体入力!H105=\"\",\"\",総体入力!H105)","v":""},{"$f":"IF(総体入力!I105=\"\",\"\",総体入力!I105)","v":""}]
["種　　　目",null,"組","ﾚｰﾝ・順","ナンバーカード","名　　　　前","学　　校","学年","ベスト記録",null,null,"種　　　目",null,"組","ﾚｰﾝ・順","ナンバーカード","名　　　　前","学　　校","学年","ベスト記録","個人情報の記載"]
["女",{"$f":"IF(X42=\"\",\"\",HLOOKUP(X42,$AA$3:$AR$4,2,FALSE))","v":""},null,null,{"$f":"IF(女一覧!A24=\"\",\"\",女一覧!A24)","v":""},{"$f":"IF(女一覧!B24=\"\",\"\",女一覧!B24)","v":""},{"$f":"IF(F42=\"\",\"\",総体入力!$M$3)","v":""},{"$f":"IF(女一覧!D24=\"\",\"\",女一覧!D24)","v":""},null,{"$f":"IF(F42=\"\",\"\",総体入力!N106)","v":""},20,"女",{"$f":"IF(Y42=\"\",\"\",HLOOKUP(Y42,$AA$3:$AR$4,2,FALSE))","v":""},null,null,{"$f":"IF(女一覧!A24=\"\",\"\",女一覧!A24)","v":""},{"$f":"IF(F42=\"\",\"\",F42)","v":""},{"$f":"IF(G42=\"\",\"\",G42)","v":""},{"$f":"IF(H42=\"\",\"\",H42)","v":""},null,{"$f":"IF(J42=\"\",\"\",J42)","v":""},null,20,{"$f":"IF(総体入力!H106=\"\",\"\",総体入力!H106)","v":""},{"$f":"IF(総体入力!I106=\"\",\"\",総体入力!I106)","v":""}]
["種　　　目",null,"組","ﾚｰﾝ・順","ナンバーカード","名　　　　前","学　　校","学年","ベスト記録",null,null,"種　　　目",null,"組","ﾚｰﾝ・順","ナンバーカード","名　　　　前","学　　校","学年","ベスト記録","個人情報の記載"]
["女",{"$f":"IF(X44=\"\",\"\",HLOOKUP(X44,$AA$3:$AR$4,2,FALSE))","v":""},null,null,{"$f":"IF(女一覧!A25=\"\",\"\",女一覧!A25)","v":""},{"$f":"IF(女一覧!B25=\"\",\"\",女一覧!B25)","v":""},{"$f":"IF(F44=\"\",\"\",総体入力!$M$3)","v":""},{"$f":"IF(女一覧!D25=\"\",\"\",女一覧!D25)","v":""},null,{"$f":"IF(F44=\"\",\"\",総体入力!N107)","v":""},21,"女",{"$f":"IF(Y44=\"\",\"\",HLOOKUP(Y44,$AA$3:$AR$4,2,FALSE))","v":""},null,null,{"$f":"IF(女一覧!A25=\"\",\"\",女一覧!A25)","v":""},{"$f":"IF(F44=\"\",\"\",F44)","v":""},{"$f":"IF(G44=\"\",\"\",G44)","v":""},{"$f":"IF(H44=\"\",\"\",H44)","v":""},null,{"$f":"IF(J44=\"\",\"\",J44)","v":""},null,21,{"$f":"IF(総体入力!H107=\"\",\"\",総体入力!H107)","v":""},{"$f":"IF(総体入力!I107=\"\",\"\",総体入力!I107)","v":""}]
["種　　　目",null,"組","ﾚｰﾝ・順","ナンバーカード","名　　　　前","学　　校","学年","ベスト記録",null,null,"種　　　目",null,"組","ﾚｰﾝ・順","ナンバーカード","名　　　　前","学　　校","学年","ベスト記録","個人情報の記載"]
["女",{"$f":"IF(X46=\"\",\"\",HLOOKUP(X46,$AA$3:$AR$4,2,FALSE))","v":""},null,null,{"$f":"IF(女一覧!A26=\"\",\"\",女一覧!A26)","v":""},{"$f":"IF(女一覧!B26=\"\",\"\",女一覧!B26)","v":""},{"$f":"IF(F46=\"\",\"\",総体入力!$M$3)","v":""},{"$f":"IF(女一覧!D26=\"\",\"\",女一覧!D26)","v":""},null,{"$f":"IF(F46=\"\",\"\",総体入力!N108)","v":""},22,"女",{"$f":"IF(Y46=\"\",\"\",HLOOKUP(Y46,$AA$3:$AR$4,2,FALSE))","v":""},null,null,{"$f":"IF(女一覧!A26=\"\",\"\",女一覧!A26)","v":""},{"$f":"IF(F46=\"\",\"\",F46)","v":""},{"$f":"IF(G46=\"\",\"\",G46)","v":""},{"$f":"IF(H46=\"\",\"\",H46)","v":""},null,{"$f":"IF(J46=\"\",\"\",J46)","v":""},null,22,{"$f":"IF(総体入力!H108=\"\",\"\",総体入力!H108)","v":""},{"$f":"IF(総体入力!I108=\"\",\"\",総体入力!I108)","v":""}]
["種　　　目",null,"組","ﾚｰﾝ・順","ナンバーカード","名　　　　前","学　　校","学年","ベスト記録",null,null,"種　　　目",null,"組","ﾚｰﾝ・順","ナンバーカード","名　　　　前","学　　校","学年","ベスト記録","個人情報の記載"]
["女",{"$f":"IF(X48=\"\",\"\",HLOOKUP(X48,$AA$3:$AR$4,2,FALSE))","v":""},null,null,{"$f":"IF(女一覧!A27=\"\",\"\",女一覧!A27)","v":""},{"$f":"IF(女一覧!B27=\"\",\"\",女一覧!B27)","v":""},{"$f":"IF(F48=\"\",\"\",総体入力!$M$3)","v":""},{"$f":"IF(女一覧!D27=\"\",\"\",女一覧!D27)","v":""},null,{"$f":"IF(F48=\"\",\"\",総体入力!N109)","v":""},23,"女",{"$f":"IF(Y48=\"\",\"\",HLOOKUP(Y48,$AA$3:$AR$4,2,FALSE))","v":""},null,null,{"$f":"IF(女一覧!A27=\"\",\"\",女一覧!A27)","v":""},{"$f":"IF(F48=\"\",\"\",F48)","v":""},{"$f":"IF(G48=\"\",\"\",G48)","v":""},{"$f":"IF(H48=\"\",\"\",H48)","v":""},null,{"$f":"IF(J48=\"\",\"\",J48)","v":""},null,23,{"$f":"IF(総体入力!H109=\"\",\"\",総体入力!H109)","v":""},{"$f":"IF(総体入力!I109=\"\",\"\",総体入力!I109)","v":""}]
["種　　　目",null,"組","ﾚｰﾝ・順","ナンバーカード","名　　　　前","学　　校","学年","ベスト記録",null,null,"種　　　目",null,"組","ﾚｰﾝ・順","ナンバーカード","名　　　　前","学　　校","学年","ベスト記録","個人情報の記載"]
["女",{"$f":"IF(X50=\"\",\"\",HLOOKUP(X50,$AA$3:$AR$4,2,FALSE))","v":""},null,null,{"$f":"IF(女一覧!A28=\"\",\"\",女一覧!A28)","v":""},{"$f":"IF(女一覧!B28=\"\",\"\",女一覧!B28)","v":""},{"$f":"IF(F50=\"\",\"\",総体入力!$M$3)","v":""},{"$f":"IF(女一覧!D28=\"\",\"\",女一覧!D28)","v":""},null,{"$f":"IF(F50=\"\",\"\",総体入力!N110)","v":""},24,"女",{"$f":"IF(Y50=\"\",\"\",HLOOKUP(Y50,$AA$3:$AR$4,2,FALSE))","v":""},null,null,{"$f":"IF(女一覧!A28=\"\",\"\",女一覧!A28)","v":""},{"$f":"IF(F50=\"\",\"\",F50)","v":""},{"$f":"IF(G50=\"\",\"\",G50)","v":""},{"$f":"IF(H50=\"\",\"\",H50)","v":""},null,{"$f":"IF(J50=\"\",\"\",J50)","v":""},null,24,{"$f":"IF(総体入力!H110=\"\",\"\",総体入力!H110)","v":""},{"$f":"IF(総体入力!I110=\"\",\"\",総体入力!I110)","v":""}]
["種　　　目",null,"組","ﾚｰﾝ・順","ナンバーカード","名　　　　前","学　　校","学年","ベスト記録",null,null,"種　　　目",null,"組","ﾚｰﾝ・順","ナンバーカード","名　　　　前","学　　校","学年","ベスト記録","個人情報の記載"]
["女",{"$f":"IF(X52=\"\",\"\",HLOOKUP(X52,$AA$3:$AR$4,2,FALSE))","v":""},null,null,{"$f":"IF(女一覧!A29=\"\",\"\",女一覧!A29)","v":""},{"$f":"IF(女一覧!B29=\"\",\"\",女一覧!B29)","v":""},{"$f":"IF(F52=\"\",\"\",総体入力!$M$3)","v":""},{"$f":"IF(女一覧!D29=\"\",\"\",女一覧!D29)","v":""},null,{"$f":"IF(F52=\"\",\"\",総体入力!N111)","v":""},25,"女",{"$f":"IF(Y52=\"\",\"\",HLOOKUP(Y52,$AA$3:$AR$4,2,FALSE))","v":""},null,null,{"$f":"IF(女一覧!A29=\"\",\"\",女一覧!A29)","v":""},{"$f":"IF(F52=\"\",\"\",F52)","v":""},{"$f":"IF(G52=\"\",\"\",G52)","v":""},{"$f":"IF(H52=\"\",\"\",H52)","v":""},null,{"$f":"IF(J52=\"\",\"\",J52)","v":""},null,25,{"$f":"IF(総体入力!H111=\"\",\"\",総体入力!H111)","v":""},{"$f":"IF(総体入力!I111=\"\",\"\",総体入力!I111)","v":""}]
["種　　　目",null,"組","ﾚｰﾝ・順","ナンバーカード","名　　　　前","学　　校","学年","ベスト記録",null,null,"種　　　目",null,"組","ﾚｰﾝ・順","ナンバーカード","名　　　　前","学　　校","学年","ベスト記録","個人情報の記載"]
["女",{"$f":"IF(X54=\"\",\"\",HLOOKUP(X54,$AA$3:$AR$4,2,FALSE))","v":""},null,null,{"$f":"IF(女一覧!A30=\"\",\"\",女一覧!A30)","v":""},{"$f":"IF(女一覧!B30=\"\",\"\",女一覧!B30)","v":""},{"$f":"IF(F54=\"\",\"\",総体入力!$M$3)","v":""},{"$f":"IF(女一覧!D30=\"\",\"\",女一覧!D30)","v":""},null,{"$f":"IF(F54=\"\",\"\",総体入力!N112)","v":""},26,"女",{"$f":"IF(Y54=\"\",\"\",HLOOKUP(Y54,$AA$3:$AR$4,2,FALSE))","v":""},null,null,{"$f":"IF(女一覧!A30=\"\",\"\",女一覧!A30)","v":""},{"$f":"IF(F54=\"\",\"\",F54)","v":""},{"$f":"IF(G54=\"\",\"\",G54)","v":""},{"$f":"IF(H54=\"\",\"\",H54)","v":""},null,{"$f":"IF(J54=\"\",\"\",J54)","v":""},null,26,{"$f":"IF(総体入力!H112=\"\",\"\",総体入力!H112)","v":""},{"$f":"IF(総体入力!I112=\"\",\"\",総体入力!I112)","v":""}]
["種　　　目",null,"組","ﾚｰﾝ・順","ナンバーカード","名　　　　前","学　　校","学年","ベスト記録",null,null,"種　　　目",null,"組","ﾚｰﾝ・順","ナンバーカード","名　　　　前","学　　校","学年","ベスト記録","個人情報の記載"]
["女",{"$f":"IF(X56=\"\",\"\",HLOOKUP(X56,$AA$3:$AR$4,2,FALSE))","v":""},null,null,{"$f":"IF(女一覧!A31=\"\",\"\",女一覧!A31)","v":""},{"$f":"IF(女一覧!B31=\"\",\"\",女一覧!B31)","v":""},{"$f":"IF(F56=\"\",\"\",総体入力!$M$3)","v":""},{"$f":"IF(女一覧!D31=\"\",\"\",女一覧!D31)","v":""},null,{"$f":"IF(F56=\"\",\"\",総体入力!N113)","v":""},27,"女",{"$f":"IF(Y56=\"\",\"\",HLOOKUP(Y56,$AA$3:$AR$4,2,FALSE))","v":""},null,null,{"$f":"IF(女一覧!A31=\"\",\"\",女一覧!A31)","v":""},{"$f":"IF(F56=\"\",\"\",F56)","v":""},{"$f":"IF(G56=\"\",\"\",G56)","v":""},{"$f":"IF(H56=\"\",\"\",H56)","v":""},null,{"$f":"IF(J56=\"\",\"\",J56)","v":""},null,27,{"$f":"IF(総体入力!H113=\"\",\"\",総体入力!H113)","v":""},{"$f":"IF(総体入力!I113=\"\",\"\",総体入力!I113)","v":""}]
["種　　　目",null,"組","ﾚｰﾝ・順","ナンバーカード","名　　　　前","学　　校","学年","ベスト記録",null,null,"種　　　目",null,"組","ﾚｰﾝ・順","ナンバーカード","名　　　　前","学　　校","学年","ベスト記録","個人情報の記載"]
["女",{"$f":"IF(X58=\"\",\"\",HLOOKUP(X58,$AA$3:$AR$4,2,FALSE))","v":""},null,null,{"$f":"IF(女一覧!A32=\"\",\"\",女一覧!A32)","v":""},{"$f":"IF(女一覧!B32=\"\",\"\",女一覧!B32)","v":""},{"$f":"IF(F58=\"\",\"\",総体入力!$M$3)","v":""},{"$f":"IF(女一覧!D32=\"\",\"\",女一覧!D32)","v":""},null,{"$f":"IF(F58=\"\",\"\",総体入力!N114)","v":""},28,"女",{"$f":"IF(Y58=\"\",\"\",HLOOKUP(Y58,$AA$3:$AR$4,2,FALSE))","v":""},null,null,{"$f":"IF(女一覧!A32=\"\",\"\",女一覧!A32)","v":""},{"$f":"IF(F58=\"\",\"\",F58)","v":""},{"$f":"IF(G58=\"\",\"\",G58)","v":""},{"$f":"IF(H58=\"\",\"\",H58)","v":""},null,{"$f":"IF(J58=\"\",\"\",J58)","v":""},null,28,{"$f":"IF(総体入力!H114=\"\",\"\",総体入力!H114)","v":""},{"$f":"IF(総体入力!I114=\"\",\"\",総体入力!I114)","v":""}]
["種　　　目",null,"組","ﾚｰﾝ・順","ナンバーカード","名　　　　前","学　　校","学年","ベスト記録",null,null,"種　　　目",null,"組","ﾚｰﾝ・順","ナンバーカード","名　　　　前","学　　校","学年","ベスト記録","個人情報の記載"]
["女",{"$f":"IF(X60=\"\",\"\",HLOOKUP(X60,$AA$3:$AR$4,2,FALSE))","v":""},null,null,{"$f":"IF(女一覧!A33=\"\",\"\",女一覧!A33)","v":""},{"$f":"IF(女一覧!B33=\"\",\"\",女一覧!B33)","v":""},{"$f":"IF(F60=\"\",\"\",総体入力!$M$3)","v":""},{"$f":"IF(女一覧!D33=\"\",\"\",女一覧!D33)","v":""},null,{"$f":"IF(F60=\"\",\"\",総体入力!N115)","v":""},29,"女",{"$f":"IF(Y60=\"\",\"\",HLOOKUP(Y60,$AA$3:$AR$4,2,FALSE))","v":""},null,null,{"$f":"IF(女一覧!A33=\"\",\"\",女一覧!A33)","v":""},{"$f":"IF(F60=\"\",\"\",F60)","v":""},{"$f":"IF(G60=\"\",\"\",G60)","v":""},{"$f":"IF(H60=\"\",\"\",H60)","v":""},null,{"$f":"IF(J60=\"\",\"\",J60)","v":""},null,29,{"$f":"IF(総体入力!H115=\"\",\"\",総体入力!H115)","v":""},{"$f":"IF(総体入力!I115=\"\",\"\",総体入力!I115)","v":""}]
["種　　　目",null,"組","ﾚｰﾝ・順","ナンバーカード","名　　　　前","学　　校","学年","ベスト記録",null,null,"種　　　目",null,"組","ﾚｰﾝ・順","ナンバーカード","名　　　　前","学　　校","学年","ベスト記録","個人情報の記載"]
["女",{"$f":"IF(X62=\"\",\"\",HLOOKUP(X62,$AA$3:$AR$4,2,FALSE))","v":""},null,null,{"$f":"IF(女一覧!A34=\"\",\"\",女一覧!A34)","v":""},{"$f":"IF(女一覧!B34=\"\",\"\",女一覧!B34)","v":""},{"$f":"IF(F62=\"\",\"\",総体入力!$M$3)","v":""},{"$f":"IF(女一覧!D34=\"\",\"\",女一覧!D34)","v":""},null,{"$f":"IF(F62=\"\",\"\",総体入力!N116)","v":""},30,"女",{"$f":"IF(Y62=\"\",\"\",HLOOKUP(Y62,$AA$3:$AR$4,2,FALSE))","v":""},null,null,{"$f":"IF(女一覧!A34=\"\",\"\",女一覧!A34)","v":""},{"$f":"IF(F62=\"\",\"\",F62)","v":""},{"$f":"IF(G62=\"\",\"\",G62)","v":""},{"$f":"IF(H62=\"\",\"\",H62)","v":""},null,{"$f":"IF(J62=\"\",\"\",J62)","v":""},null,30,{"$f":"IF(総体入力!H116=\"\",\"\",総体入力!H116)","v":""},{"$f":"IF(総体入力!I116=\"\",\"\",総体入力!I116)","v":""}]
["種　　　目",null,"組","ﾚｰﾝ・順","ナンバーカード","名　　　　前","学　　校","学年","ベスト記録",null,null,"種　　　目",null,"組","ﾚｰﾝ・順","ナンバーカード","名　　　　前","学　　校","学年","ベスト記録","個人情報の記載"]
["女",{"$f":"IF(X64=\"\",\"\",HLOOKUP(X64,$AA$3:$AR$4,2,FALSE))","v":""},null,null,{"$f":"IF(女一覧!A35=\"\",\"\",女一覧!A35)","v":""},{"$f":"IF(女一覧!B35=\"\",\"\",女一覧!B35)","v":""},{"$f":"IF(F64=\"\",\"\",総体入力!$M$3)","v":""},{"$f":"IF(女一覧!D35=\"\",\"\",女一覧!D35)","v":""},null,{"$f":"IF(F64=\"\",\"\",総体入力!N117)","v":""},31,"女",{"$f":"IF(Y64=\"\",\"\",HLOOKUP(Y64,$AA$3:$AR$4,2,FALSE))","v":""},null,null,{"$f":"IF(女一覧!A35=\"\",\"\",女一覧!A35)","v":""},{"$f":"IF(F64=\"\",\"\",F64)","v":""},{"$f":"IF(G64=\"\",\"\",G64)","v":""},{"$f":"IF(H64=\"\",\"\",H64)","v":""},null,{"$f":"IF(J64=\"\",\"\",J64)","v":""},null,31,{"$f":"IF(総体入力!H117=\"\",\"\",総体入力!H117)","v":""},{"$f":"IF(総体入力!I117=\"\",\"\",総体入力!I117)","v":""}]
["種　　　目",null,"組","ﾚｰﾝ・順","ナンバーカード","名　　　　前","学　　校","学年","ベスト記録",null,null,"種　　　目",null,"組","ﾚｰﾝ・順","ナンバーカード","名　　　　前","学　　校","学年","ベスト記録","個人情報の記載"]
["女",{"$f":"IF(X66=\"\",\"\",HLOOKUP(X66,$AA$3:$AR$4,2,FALSE))","v":""},null,null,{"$f":"IF(女一覧!A36=\"\",\"\",女一覧!A36)","v":""},{"$f":"IF(女一覧!B36=\"\",\"\",女一覧!B36)","v":""},{"$f":"IF(F66=\"\",\"\",総体入力!$M$3)","v":""},{"$f":"IF(女一覧!D36=\"\",\"\",女一覧!D36)","v":""},null,{"$f":"IF(F66=\"\",\"\",総体入力!N118)","v":""},32,"女",{"$f":"IF(Y66=\"\",\"\",HLOOKUP(Y66,$AA$3:$AR$4,2,FALSE))","v":""},null,null,{"$f":"IF(女一覧!A36=\"\",\"\",女一覧!A36)","v":""},{"$f":"IF(F66=\"\",\"\",F66)","v":""},{"$f":"IF(G66=\"\",\"\",G66)","v":""},{"$f":"IF(H66=\"\",\"\",H66)","v":""},null,{"$f":"IF(J66=\"\",\"\",J66)","v":""},null,32,{"$f":"IF(総体入力!H118=\"\",\"\",総体入力!H118)","v":""},{"$f":"IF(総体入力!I118=\"\",\"\",総体入力!I118)","v":""}]
["種　　　目",null,"組","ﾚｰﾝ・順","ナンバーカード","名　　　　前","学　　校","学年","ベスト記録",null,null,"種　　　目",null,"組","ﾚｰﾝ・順","ナンバーカード","名　　　　前","学　　校","学年","ベスト記録","個人情報の記載"]
["女",{"$f":"IF(X68=\"\",\"\",HLOOKUP(X68,$AA$3:$AR$4,2,FALSE))","v":""},null,null,{"$f":"IF(女一覧!A37=\"\",\"\",女一覧!A37)","v":""},{"$f":"IF(女一覧!B37=\"\",\"\",女一覧!B37)","v":""},{"$f":"IF(F68=\"\",\"\",総体入力!$M$3)","v":""},{"$f":"IF(女一覧!D37=\"\",\"\",女一覧!D37)","v":""},null,{"$f":"IF(F68=\"\",\"\",総体入力!N119)","v":""},33,"女",{"$f":"IF(Y68=\"\",\"\",HLOOKUP(Y68,$AA$3:$AR$4,2,FALSE))","v":""},null,null,{"$f":"IF(女一覧!A37=\"\",\"\",女一覧!A37)","v":""},{"$f":"IF(F68=\"\",\"\",F68)","v":""},{"$f":"IF(G68=\"\",\"\",G68)","v":""},{"$f":"IF(H68=\"\",\"\",H68)","v":""},null,{"$f":"IF(J68=\"\",\"\",J68)","v":""},null,33,{"$f":"IF(総体入力!H119=\"\",\"\",総体入力!H119)","v":""},{"$f":"IF(総体入力!I119=\"\",\"\",総体入力!I119)","v":""}]
["種　　　目",null,"組","ﾚｰﾝ・順","ナンバーカード","名　　　　前","学　　校","学年","ベスト記録",null,null,"種　　　目",null,"組","ﾚｰﾝ・順","ナンバーカード","名　　　　前","学　　校","学年","ベスト記録","個人情報の記載"]
["女",{"$f":"IF(X70=\"\",\"\",HLOOKUP(X70,$AA$3:$AR$4,2,FALSE))","v":""},null,null,{"$f":"IF(女一覧!A38=\"\",\"\",女一覧!A38)","v":""},{"$f":"IF(女一覧!B38=\"\",\"\",女一覧!B38)","v":""},{"$f":"IF(F70=\"\",\"\",総体入力!$M$3)","v":""},{"$f":"IF(女一覧!D38=\"\",\"\",女一覧!D38)","v":""},null,{"$f":"IF(F70=\"\",\"\",総体入力!N120)","v":""},34,"女",{"$f":"IF(Y70=\"\",\"\",HLOOKUP(Y70,$AA$3:$AR$4,2,FALSE))","v":""},null,null,{"$f":"IF(女一覧!A38=\"\",\"\",女一覧!A38)","v":""},{"$f":"IF(F70=\"\",\"\",F70)","v":""},{"$f":"IF(G70=\"\",\"\",G70)","v":""},{"$f":"IF(H70=\"\",\"\",H70)","v":""},null,{"$f":"IF(J70=\"\",\"\",J70)","v":""},null,34,{"$f":"IF(総体入力!H120=\"\",\"\",総体入力!H120)","v":""},{"$f":"IF(総体入力!I120=\"\",\"\",総体入力!I120)","v":""}]
["種　　　目",null,"組","ﾚｰﾝ・順","ナンバーカード","名　　　　前","学　　校","学年","ベスト記録",null,null,"種　　　目",null,"組","ﾚｰﾝ・順","ナンバーカード","名　　　　前","学　　校","学年","ベスト記録","個人情報の記載"]
["女",{"$f":"IF(X72=\"\",\"\",HLOOKUP(X72,$AA$3:$AR$4,2,FALSE))","v":""},null,null,{"$f":"IF(女一覧!A39=\"\",\"\",女一覧!A39)","v":""},{"$f":"IF(女一覧!B39=\"\",\"\",女一覧!B39)","v":""},{"$f":"IF(F72=\"\",\"\",総体入力!$M$3)","v":""},{"$f":"IF(女一覧!D39=\"\",\"\",女一覧!D39)","v":""},null,{"$f":"IF(F72=\"\",\"\",総体入力!N121)","v":""},35,"女",{"$f":"IF(Y72=\"\",\"\",HLOOKUP(Y72,$AA$3:$AR$4,2,FALSE))","v":""},null,null,{"$f":"IF(女一覧!A39=\"\",\"\",女一覧!A39)","v":""},{"$f":"IF(F72=\"\",\"\",F72)","v":""},{"$f":"IF(G72=\"\",\"\",G72)","v":""},{"$f":"IF(H72=\"\",\"\",H72)","v":""},null,{"$f":"IF(J72=\"\",\"\",J72)","v":""},null,35,{"$f":"IF(総体入力!H121=\"\",\"\",総体入力!H121)","v":""},{"$f":"IF(総体入力!I121=\"\",\"\",総体入力!I121)","v":""}]
["種　　　目",null,"組","ﾚｰﾝ・順","ナンバーカード","名　　　　前","学　　校","学年","ベスト記録",null,null,"種　　　目",null,"組","ﾚｰﾝ・順","ナンバーカード","名　　　　前","学　　校","学年","ベスト記録","個人情報の記載"]
["女",{"$f":"IF(X74=\"\",\"\",HLOOKUP(X74,$AA$3:$AR$4,2,FALSE))","v":""},null,null,{"$f":"IF(女一覧!A40=\"\",\"\",女一覧!A40)","v":""},{"$f":"IF(女一覧!B40=\"\",\"\",女一覧!B40)","v":""},{"$f":"IF(F74=\"\",\"\",総体入力!$M$3)","v":""},{"$f":"IF(女一覧!D40=\"\",\"\",女一覧!D40)","v":""},null,{"$f":"IF(F74=\"\",\"\",総体入力!N122)","v":""},36,"女",{"$f":"IF(Y74=\"\",\"\",HLOOKUP(Y74,$AA$3:$AR$4,2,FALSE))","v":""},null,null,{"$f":"IF(女一覧!A40=\"\",\"\",女一覧!A40)","v":""},{"$f":"IF(F74=\"\",\"\",F74)","v":""},{"$f":"IF(G74=\"\",\"\",G74)","v":""},{"$f":"IF(H74=\"\",\"\",H74)","v":""},null,{"$f":"IF(J74=\"\",\"\",J74)","v":""},null,36,{"$f":"IF(総体入力!H122=\"\",\"\",総体入力!H122)","v":""},{"$f":"IF(総体入力!I122=\"\",\"\",総体入力!I122)","v":""}]
["種　　　目",null,"組","ﾚｰﾝ・順","ナンバーカード","名　　　　前","学　　校","学年","ベスト記録",null,null,"種　　　目",null,"組","ﾚｰﾝ・順","ナンバーカード","名　　　　前","学　　校","学年","ベスト記録","個人情報の記載"]
["女",{"$f":"IF(X76=\"\",\"\",HLOOKUP(X76,$AA$3:$AR$4,2,FALSE))","v":""},null,null,{"$f":"IF(女一覧!A41=\"\",\"\",女一覧!A41)","v":""},{"$f":"IF(女一覧!B41=\"\",\"\",女一覧!B41)","v":""},{"$f":"IF(F76=\"\",\"\",総体入力!$M$3)","v":""},{"$f":"IF(女一覧!D41=\"\",\"\",女一覧!D41)","v":""},null,{"$f":"IF(F76=\"\",\"\",総体入力!N123)","v":""},37,"女",{"$f":"IF(Y76=\"\",\"\",HLOOKUP(Y76,$AA$3:$AR$4,2,FALSE))","v":""},null,null,{"$f":"IF(女一覧!A41=\"\",\"\",女一覧!A41)","v":""},{"$f":"IF(F76=\"\",\"\",F76)","v":""},{"$f":"IF(G76=\"\",\"\",G76)","v":""},{"$f":"IF(H76=\"\",\"\",H76)","v":""},null,{"$f":"IF(J76=\"\",\"\",J76)","v":""},null,37,{"$f":"IF(総体入力!H123=\"\",\"\",総体入力!H123)","v":""},{"$f":"IF(総体入力!I123=\"\",\"\",総体入力!I123)","v":""}]

{"sheet":"ﾘﾚｰ個表","index":6,"n_rows":46,"n_cols":9,"rows_kept":46,"cut":false,"hidden":false,"merged":[[42,0,43,0],[33,0,34,0],[16,0,17,0],[0,0,1,0],[26,0,27,0],[7,0,8,0],[31,8,36,8],[31,1,36,1],[31,2,36,2],[31,3,36,3],[40,8,45,8],[40,1,45,1],[40,2,45,2],[40,3,45,3],[5,8,10,8],[5,1,10,1],[5,2,10,2],[5,3,10,3],[14,8,19,8],[14,1,19,1],[14,2,19,2],[14,3,19,3]]}
["男子"]
[]
[]
[]
["種　　　目","組","レーン","学校名","ナンバーカード","名　　　前","学年",null,"ベスト記録"]
[null,null,null,{"$f":"IF(必ずお読み下さい!I7=1,必ずお読み下さい!K9,IF(必ずお読み下さい!I7=2,必ずお読み下さい!K10,\"\"))","v":""},{"$f":"IF(総体入力!B58=\"\",\"\",総体入力!B58)","v":""},{"$f":"IF(総体入力!D58=\"\",\"\",総体入力!D58)","v":""},{"$f":"IF(総体入力!E58=\"\",\"\",総体入力!E58)","v":""},{"$f":"IF(総体入力!N58=\"\",\"\",総体入力!N58)","v":""}]
["男",null,null,null,{"$f":"IF(総体入力!B59=\"\",\"\",総体入力!B59)","v":""},{"$f":"IF(総体入力!D59=\"\",\"\",総体入力!D59)","v":""},{"$f":"IF(総体入力!E59=\"\",\"\",総体入力!E59)","v":""},{"$f":"IF(総体入力!N59=\"\",\"\",総体入力!N59)","v":""}]
["低学年\n\n４×１００ｍＲ",null,null,null,{"$f":"IF(総体入力!B60=\"\",\"\",総体入力!B60)","v":""},{"$f":"IF(総体入力!D60=\"\",\"\",総体入力!D60)","v":""},{"$f":"IF(総体入力!E60=\"\",\"\",総体入力!E60)","v":""},{"$f":"IF(総体入力!N60=\"\",\"\",総体入力!N60)","v":""}]
[null,null,null,null,{"$f":"IF(総体入力!B61=\"\",\"\",総体入力!B61)","v":""},{"$f":"IF(総体入力!D61=\"\",\"\",総体入力!D61)","v":""},{"$f":"IF(総体入力!E61=\"\",\"\",総体入力!E61)","v":""},{"$f":"IF(総体入力!N61=\"\",\"\",総体入力!N61)","v":""}]
[null,null,null,null,{"$f":"IF(総体入力!B62=\"\",\"\",総体入力!B62)","v":""},{"$f":"IF(総体入力!D62=\"\",\"\",総体入力!D62)","v":""},{"$f":"IF(総体入力!E62=\"\",\"\",総体入力!E62)","v":""},{"$f":"IF(総体入力!N62=\"\",\"\",総体入力!N62)","v":""}]
[null,null,null,null,{"$f":"IF(総体入力!B63=\"\",\"\",総体入力!B63)","v":""},{"$f":"IF(総体入力!D63=\"\",\"\",総体入力!D63)","v":""},{"$f":"IF(総体入力!E63=\"\",\"\",総体入力!E63)","v":""},{"$f":"IF(総体入力!N63=\"\",\"\",総体入力!N63)","v":""}]
[]
[]
["種　　　目","組","レーン","学校名","ナンバーカード","名　　　前","学年",null,"ベスト記録"]
[null,null,null,{"$f":"IF(D6=\"\",\"\",D6)","v":""},{"$f":"IF(総体入力!B66=\"\",\"\",総体入力!B66)","v":""},{"$f":"IF(総体入力!D66=\"\",\"\",総体入力!D66)","v":""},{"$f":"IF(総体入力!E66=\"\",\"\",総体入力!E66)","v":""},{"$f":"IF(総体入力!N66=\"\",\"\",総体入力!N66)","v":""}]
["男",null,null,null,{"$f":"IF(総体入力!B67=\"\",\"\",総体入力!B67)","v":""},{"$f":"IF(総体入力!D67=\"\",\"\",総体入力!D67)","v":""},{"$f":"IF(総体入力!E67=\"\",\"\",総体入力!E67)","v":""},{"$f":"IF(総体入力!N67=\"\",\"\",総体入力!N67)","v":""}]
["共　通\n\n４×１００ｍＲ",null,null,null,{"$f":"IF(総体入力!B68=\"\",\"\",総体入力!B68)","v":""},{"$f":"IF(総体入力!D68=\"\",\"\",総体入力!D68)","v":""},{"$f":"IF(総体入力!E68=\"\",\"\",総体入力!E68)","v":""},{"$f":"IF(総体入力!N68=\"\",\"\",総体入力!N68)","v":""}]
[null,null,null,null,{"$f":"IF(総体入力!B69=\"\",\"\",総体入力!B69)","v":""},{"$f":"IF(総体入力!D69=\"\",\"\",総体入力!D69)","v":""},{"$f":"IF(総体入力!E69=\"\",\"\",総体入力!E69)","v":""},{"$f":"IF(総体入力!N69=\"\",\"\",総体入力!N69)","v":""}]
[null,null,null,null,{"$f":"IF(総体入力!B70=\"\",\"\",総体入力!B70)","v":""},{"$f":"IF(総体入力!D70=\"\",\"\",総体入力!D70)","v":""},{"$f":"IF(総体入力!E70=\"\",\"\",総体入力!E70)","v":""},{"$f":"IF(総体入力!N70=\"\",\"\",総体入力!N70)","v":""}]
[null,null,null,null,{"$f":"IF(総体入力!B71=\"\",\"\",総体入力!B71)","v":""},{"$f":"IF(総体入力!D71=\"\",\"\",総体入力!D71)","v":""},{"$f":"IF(総体入力!E71=\"\",\"\",総体入力!E71)","v":""},{"$f":"IF(総体入力!N71=\"\",\"\",総体入力!N71)","v":""}]
[]
[]
[]
[]
[]
[]
["女子"]
[]
[]
[]
["種　　　目","組","レーン","学校名","ナンバーカード","名　　　前","学年",null,"ベスト記録"]
[null,null,null,{"$f":"IF(D6=\"\",\"\",D6)","v":""},{"$f":"IF(総体入力!B130=\"\",\"\",総体入力!B130)","v":""},{"$f":"IF(総体入力!D130=\"\",\"\",総体入力!D130)","v":""},{"$f":"IF(総体入力!E130=\"\",\"\",総体入力!E130)","v":""},{"$f":"IF(総体入力!N130=\"\",\"\",総体入力!N130)","v":""}]
["女",null,null,null,{"$f":"IF(総体入力!B131=\"\",\"\",総体入力!B131)","v":""},{"$f":"IF(総体入力!D131=\"\",\"\",総体入力!D131)","v":""},{"$f":"IF(総体入力!E131=\"\",\"\",総体入力!E131)","v":""},{"$f":"IF(総体入力!N131=\"\",\"\",総体入力!N131)","v":""}]
["低学年\n\n４×１００ｍＲ",null,null,null,{"$f":"IF(総体入力!B132=\"\",\"\",総体入力!B132)","v":""},{"$f":"IF(総体入力!D132=\"\",\"\",総体入力!D132)","v":""},{"$f":"IF(総体入力!E132=\"\",\"\",総体入力!E132)","v":""},{"$f":"IF(総体入力!N132=\"\",\"\",総体入力!N132)","v":""}]
[null,null,null,null,{"$f":"IF(総体入力!B133=\"\",\"\",総体入力!B133)","v":""},{"$f":"IF(総体入力!D133=\"\",\"\",総体入力!D133)","v":""},{"$f":"IF(総体入力!E133=\"\",\"\",総体入力!E133)","v":""},{"$f":"IF(総体入力!N133=\"\",\"\",総体入力!N133)","v":""}]
[null,null,null,null,{"$f":"IF(総体入力!B134=\"\",\"\",総体入力!B134)","v":""},{"$f":"IF(総体入力!D134=\"\",\"\",総体入力!D134)","v":""},{"$f":"IF(総体入力!E134=\"\",\"\",総体入力!E134)","v":""},{"$f":"IF(総体入力!N134=\"\",\"\",総体入力!N134)","v":""}]
[null,null,null,null,{"$f":"IF(総体入力!B135=\"\",\"\",総体入力!B135)","v":""},{"$f":"IF(総体入力!D135=\"\",\"\",総体入力!D135)","v":""},{"$f":"IF(総体入力!E135=\"\",\"\",総体入力!E135)","v":""},{"$f":"IF(総体入力!N135=\"\",\"\",総体入力!N135)","v":""}]
[]
[]
["種　　　目","組","レーン","学校名","ナンバーカード","名　　　前","学年",null,"ベスト記録"]
[null,null,null,{"$f":"IF(D6=\"\",\"\",D6)","v":""},{"$f":"IF(総体入力!B138=\"\",\"\",総体入力!B138)","v":""},{"$f":"IF(総体入力!D138=\"\",\"\",総体入力!D138)","v":""},{"$f":"IF(総体入力!E138=\"\",\"\",総体入力!E138)","v":""},{"$f":"IF(総体入力!N138=\"\",\"\",総体入力!N138)","v":""}]
["女",null,null,null,{"$f":"IF(総体入力!B139=\"\",\"\",総体入力!B139)","v":""},{"$f":"IF(総体入力!D139=\"\",\"\",総体入力!D139)","v":""},{"$f":"IF(総体入力!E139=\"\",\"\",総体入力!E139)","v":""},{"$f":"IF(総体入力!N139=\"\",\"\",総体入力!N139)","v":""}]
["共　通\n\n４×１００ｍＲ",null,null,null,{"$f":"IF(総体入力!B140=\"\",\"\",総体入力!B140)","v":""},{"$f":"IF(総体入力!D140=\"\",\"\",総体入力!D140)","v":""},{"$f":"IF(総体入力!E140=\"\",\"\",総体入力!E140)","v":""},{"$f":"IF(総体入力!N140=\"\",\"\",総体入力!N140)","v":""}]
[null,null,null,null,{"$f":"IF(総体入力!B141=\"\",\"\",総体入力!B141)","v":""},{"$f":"IF(総体入力!D141=\"\",\"\",総体入力!D141)","v":""},{"$f":"IF(総体入力!E141=\"\",\"\",総体入力!E141)","v":""},{"$f":"IF(総体入力!N141=\"\",\"\",総体入力!N141)","v":""}]
[null,null,null,null,{"$f":"IF(総体入力!B142=\"\",\"\",総体入力!B142)","v":""},{"$f":"IF(総体入力!D142=\"\",\"\",総体入力!D142)","v":""},{"$f":"IF(総体入力!E142=\"\",\"\",総体入力!E142)","v":""},{"$f":"IF(総体入力!N142=\"\",\"\",総体入力!N142)","v":""}]
[null,null,null,null,{"$f":"IF(総体入力!B143=\"\",\"\",総体入力!B143)","v":""},{"$f":"IF(総体入力!D143=\"\",\"\",総体入力!D143)","v":""},{"$f":"IF(総体入力!E143=\"\",\"\",総体入力!E143)","v":""},{"$f":"IF(総体入力!N143=\"\",\"\",総体入力!N143)","v":""}]

{"sheet":"部員名簿","index":7,"n_rows":116,"n_cols":29,"rows_kept":116,"cut":false,"hidden":false,"merged":[[4,24,4,25]]}
[{"$f":"\"令和\"&A115&\"年度部員名簿（通年ナンバー）一覧\"","v":"令和7年度部員名簿（通年ナンバー）一覧"},null,null,null,null,null,null,null,null,null,null,null,null,null,null,null,null,null,null,null,null,null,null,null,null,"中学校"]
[{"$f":"IF(必ずお読み下さい!I7=1,VLOOKUP(W5,U8:AA34,6,FALSE),IF(必ずお読み下さい!I7=2,必ずお読み下さい!J10,\"\"))","v":0},null,null,null,null,null,null,null,null,null,null,null,null,null,null,null,null,null,null,null,null,null,null,null,null,"地域クラブ"]
[]
["通年ナンバー","JAAF ID","氏　名","フリガナ","氏名英語表記","学年","性別",null,null,null,"氏名","フリガナ","ﾌﾘｶﾞﾅ","英字","学年","性別","生年月日"]
[{"$f":"IF(登録データ貼付!E2=\"\",\"\",登録データ貼付!E2)","v":""},{"$f":"IF(登録データ貼付!B2=\"\",\"\",登録データ貼付!B2)","v":""},{"$f":"IF(K5=\"\",\"\",K5)","v":""},{"$f":"IF(M5=\"\",\"\",M5)","v":""},{"$f":"IF(N5=\"\",\"\",+N5)","v":""},{"$f":"IF(O5=\"\",\"\",O5)","v":""},{"$f":"IF(P5=\"\",\"\",P5)","v":""},null,null,null,{"$f":"IF(登録データ貼付!C2=\"\",\"\",登録データ貼付!C2&\"　\"&登録データ貼付!D2)","v":""},{"$f":"IF(登録データ貼付!F2=\"\",\"\",登録データ貼付!F2&\"　\"&登録データ貼付!G2)","v":""},{"$f":"ASC(L5)","v":""},{"$f":"IF(登録データ貼付!H2=\"\",\"\",登録データ貼付!H2&\" \"&登録データ貼付!I2)","v":""},{"$f":"IF(登録データ貼付!V2=\"\",\"\",RIGHT(登録データ貼付!V2,1))","v":""},{"$f":"IF(登録データ貼付!K2=\"\",\"\",LEFT(登録データ貼付!K2,1))","v":""},{"$f":"IF(登録データ貼付!S2=\"\",\"\",登録データ貼付!S2)","v":""},null,null,"01",null,"学校番号",{"$f":"IF(必ずお読み下さい!I9=\"\",\"\",必ずお読み下さい!I9)","v":20}]
[{"$f":"IF(登録データ貼付!E3=\"\",\"\",登録データ貼付!E3)","v":""},{"$f":"IF(登録データ貼付!B3=\"\",\"\",登録データ貼付!B3)","v":""},{"$f":"IF(K6=\"\",\"\",K6)","v":""},{"$f":"IF(M6=\"\",\"\",M6)","v":""},{"$f":"IF(N6=\"\",\"\",+N6)","v":""},{"$f":"IF(O6=\"\",\"\",O6)","v":""},{"$f":"IF(P6=\"\",\"\",P6)","v":""},null,null,null,{"$f":"IF(登録データ貼付!C3=\"\",\"\",登録データ貼付!C3&\"　\"&登録データ貼付!D3)","v":""},{"$f":"IF(登録データ貼付!F3=\"\",\"\",登録データ貼付!F3&\"　\"&登録データ貼付!G3)","v":""},{"$f":"ASC(L6)","v":""},{"$f":"IF(登録データ貼付!H3=\"\",\"\",登録データ貼付!H3&\" \"&登録データ貼付!I3)","v":""},{"$f":"IF(登録データ貼付!V3=\"\",\"\",RIGHT(登録データ貼付!V3,1))","v":""},{"$f":"IF(登録データ貼付!K3=\"\",\"\",LEFT(登録データ貼付!K3,1))","v":""},{"$f":"IF(登録データ貼付!S3=\"\",\"\",登録データ貼付!S3)","v":""},null,null,"02",null,"先頭番号",{"$f":"IF(W5=\"\",\"\",VLOOKUP(W5,U8:Y103,5,FALSE))","v":0}]
[{"$f":"IF(登録データ貼付!E4=\"\",\"\",登録データ貼付!E4)","v":""},{"$f":"IF(登録データ貼付!B4=\"\",\"\",登録データ貼付!B4)","v":""},"","","","","",null,null,null,{"$f":"IF(登録データ貼付!C4=\"\",\"\",登録データ貼付!C4&\"　\"&登録データ貼付!D4)","v":""},{"$f":"IF(登録データ貼付!F4=\"\",\"\",登録データ貼付!F4&\"　\"&登録データ貼付!G4)","v":""},"",{"$f":"IF(登録データ貼付!H4=\"\",\"\",登録データ貼付!H4&\" \"&登録データ貼付!I4)","v":""},{"$f":"IF(登録データ貼付!V4=\"\",\"\",RIGHT(登録データ貼付!V4,1))","v":""},{"$f":"IF(登録データ貼付!K4=\"\",\"\",LEFT(登録データ貼付!K4,1))","v":""},{"$f":"IF(登録データ貼付!S4=\"\",\"\",登録データ貼付!S4)","v":""},null,null,"03"]
[{"$f":"IF(登録データ貼付!E5=\"\",\"\",登録データ貼付!E5)","v":""},{"$f":"IF(登録データ貼付!B5=\"\",\"\",登録データ貼付!B5)","v":""},"","","","","",null,null,null,{"$f":"IF(登録データ貼付!C5=\"\",\"\",登録データ貼付!C5&\"　\"&登録データ貼付!D5)","v":""},{"$f":"IF(登録データ貼付!F5=\"\",\"\",登録データ貼付!F5&\"　\"&登録データ貼付!G5)","v":""},"",{"$f":"IF(登録データ貼付!H5=\"\",\"\",登録データ貼付!H5&\" \"&登録データ貼付!I5)","v":""},{"$f":"IF(登録データ貼付!V5=\"\",\"\",RIGHT(登録データ貼付!V5,1))","v":""},{"$f":"IF(登録データ貼付!K5=\"\",\"\",LEFT(登録データ貼付!K5,1))","v":""},{"$f":"IF(登録データ貼付!S5=\"\",\"\",登録データ貼付!S5)","v":""},null,null,"04",1,"秋田東",null,null,1,"秋田市立秋田東中学校",null,"東",1]
[{"$f":"IF(登録データ貼付!E6=\"\",\"\",登録データ貼付!E6)","v":""},{"$f":"IF(登録データ貼付!B6=\"\",\"\",登録データ貼付!B6)","v":""},"","","","","",null,null,null,{"$f":"IF(登録データ貼付!C6=\"\",\"\",登録データ貼付!C6&\"　\"&登録データ貼付!D6)","v":""},{"$f":"IF(登録データ貼付!F6=\"\",\"\",登録データ貼付!F6&\"　\"&登録データ貼付!G6)","v":""},"",{"$f":"IF(登録データ貼付!H6=\"\",\"\",登録データ貼付!H6&\" \"&登録データ貼付!I6)","v":""},{"$f":"IF(登録データ貼付!V6=\"\",\"\",RIGHT(登録データ貼付!V6,1))","v":""},{"$f":"IF(登録データ貼付!K6=\"\",\"\",LEFT(登録データ貼付!K6,1))","v":""},{"$f":"IF(登録データ貼付!S6=\"\",\"\",登録データ貼付!S6)","v":""},null,null,"05",2,"秋田南",null,null,101,"秋田市立秋田南中学校",null,"南",101]
[{"$f":"IF(登録データ貼付!E7=\"\",\"\",登録データ貼付!E7)","v":""},{"$f":"IF(登録データ貼付!B7=\"\",\"\",登録データ貼付!B7)","v":""},"","","","","",null,null,null,{"$f":"IF(登録データ貼付!C7=\"\",\"\",登録データ貼付!C7&\"　\"&登録データ貼付!D7)","v":""},{"$f":"IF(登録データ貼付!F7=\"\",\"\",登録データ貼付!F7&\"　\"&登録データ貼付!G7)","v":""},"",{"$f":"IF(登録データ貼付!H7=\"\",\"\",登録データ貼付!H7&\" \"&登録データ貼付!I7)","v":""},{"$f":"IF(登録データ貼付!V7=\"\",\"\",RIGHT(登録データ貼付!V7,1))","v":""},{"$f":"IF(登録データ貼付!K7=\"\",\"\",LEFT(登録データ貼付!K7,1))","v":""},{"$f":"IF(登録データ貼付!S7=\"\",\"\",登録データ貼付!S7)","v":""},null,null,"06",3,"山王",null,null,201,"秋田市立山王中学校",null,"山王",201]
[{"$f":"IF(登録データ貼付!E8=\"\",\"\",登録データ貼付!E8)","v":""},{"$f":"IF(登録データ貼付!B8=\"\",\"\",登録データ貼付!B8)","v":""},"","","","","",null,null,null,{"$f":"IF(登録データ貼付!C8=\"\",\"\",登録データ貼付!C8&\"　\"&登録データ貼付!D8)","v":""},{"$f":"IF(登録データ貼付!F8=\"\",\"\",登録データ貼付!F8&\"　\"&登録データ貼付!G8)","v":""},"",{"$f":"IF(登録データ貼付!H8=\"\",\"\",登録データ貼付!H8&\" \"&登録データ貼付!I8)","v":""},{"$f":"IF(登録データ貼付!V8=\"\",\"\",RIGHT(登録データ貼付!V8,1))","v":""},{"$f":"IF(登録データ貼付!K8=\"\",\"\",LEFT(登録データ貼付!K8,1))","v":""},{"$f":"IF(登録データ貼付!S8=\"\",\"\",登録データ貼付!S8)","v":""},null,null,"07",4,"土崎",null,null,301,"秋田市立土崎中学校",null,"土崎",301]
[{"$f":"IF(登録データ貼付!E9=\"\",\"\",登録データ貼付!E9)","v":""},{"$f":"IF(登録データ貼付!B9=\"\",\"\",登録データ貼付!B9)","v":""},"","","","","",null,null,null,{"$f":"IF(登録データ貼付!C9=\"\",\"\",登録データ貼付!C9&\"　\"&登録データ貼付!D9)","v":""},{"$f":"IF(登録データ貼付!F9=\"\",\"\",登録データ貼付!F9&\"　\"&登録データ貼付!G9)","v":""},"",{"$f":"IF(登録データ貼付!H9=\"\",\"\",登録データ貼付!H9&\" \"&登録データ貼付!I9)","v":""},{"$f":"IF(登録データ貼付!V9=\"\",\"\",RIGHT(登録データ貼付!V9,1))","v":""},{"$f":"IF(登録データ貼付!K9=\"\",\"\",LEFT(登録データ貼付!K9,1))","v":""},{"$f":"IF(登録データ貼付!S9=\"\",\"\",登録データ貼付!S9)","v":""},null,null,"08",5,"将軍野",null,null,401,"秋田市立将軍野中学校",null,"将軍野",401]
[{"$f":"IF(登録データ貼付!E10=\"\",\"\",登録データ貼付!E10)","v":""},{"$f":"IF(登録データ貼付!B10=\"\",\"\",登録データ貼付!B10)","v":""},"","","","","",null,null,null,{"$f":"IF(登録データ貼付!C10=\"\",\"\",登録データ貼付!C10&\"　\"&登録データ貼付!D10)","v":""},{"$f":"IF(登録データ貼付!F10=\"\",\"\",登録データ貼付!F10&\"　\"&登録データ貼付!G10)","v":""},"",{"$f":"IF(登録データ貼付!H10=\"\",\"\",登録データ貼付!H10&\" \"&登録データ貼付!I10)","v":""},{"$f":"IF(登録データ貼付!V10=\"\",\"\",RIGHT(登録データ貼付!V10,1))","v":""},{"$f":"IF(登録データ貼付!K10=\"\",\"\",LEFT(登録データ貼付!K10,1))","v":""},{"$f":"IF(登録データ貼付!S10=\"\",\"\",登録データ貼付!S10)","v":""},null,null,"09",6,"秋田西",null,null,501,"秋田市立秋田西中学校",null,"西",501]
[{"$f":"IF(登録データ貼付!E11=\"\",\"\",登録データ貼付!E11)","v":""},{"$f":"IF(登録データ貼付!B11=\"\",\"\",登録データ貼付!B11)","v":""},"","","","","",null,null,null,{"$f":"IF(登録データ貼付!C11=\"\",\"\",登録データ貼付!C11&\"　\"&登録データ貼付!D11)","v":""},{"$f":"IF(登録データ貼付!F11=\"\",\"\",登録データ貼付!F11&\"　\"&登録データ貼付!G11)","v":""},"",{"$f":"IF(登録データ貼付!H11=\"\",\"\",登録データ貼付!H11&\" \"&登録データ貼付!I11)","v":""},{"$f":"IF(登録データ貼付!V11=\"\",\"\",RIGHT(登録データ貼付!V11,1))","v":""},{"$f":"IF(登録データ貼付!K11=\"\",\"\",LEFT(登録データ貼付!K11,1))","v":""},{"$f":"IF(登録データ貼付!S11=\"\",\"\",登録データ貼付!S11)","v":""},null,null,"10",7,"外旭川",null,null,601,"秋田市立外旭川中学校",null,"外旭川",601]
[{"$f":"IF(登録データ貼付!E12=\"\",\"\",登録データ貼付!E12)","v":""},{"$f":"IF(登録データ貼付!B12=\"\",\"\",登録データ貼付!B12)","v":""},"","","","","",null,null,null,{"$f":"IF(登録データ貼付!C12=\"\",\"\",登録データ貼付!C12&\"　\"&登録データ貼付!D12)","v":""},{"$f":"IF(登録データ貼付!F12=\"\",\"\",登録データ貼付!F12&\"　\"&登録データ貼付!G12)","v":""},"",{"$f":"IF(登録データ貼付!H12=\"\",\"\",登録データ貼付!H12&\" \"&登録データ貼付!I12)","v":""},{"$f":"IF(登録データ貼付!V12=\"\",\"\",RIGHT(登録データ貼付!V12,1))","v":""},{"$f":"IF(登録データ貼付!K12=\"\",\"\",LEFT(登録データ貼付!K12,1))","v":""},{"$f":"IF(登録データ貼付!S12=\"\",\"\",登録データ貼付!S12)","v":""},null,null,"11",8,"秋田北",null,null,701,"秋田市立秋田北中学校",null,"北",701]
[{"$f":"IF(登録データ貼付!E13=\"\",\"\",登録データ貼付!E13)","v":""},{"$f":"IF(登録データ貼付!B13=\"\",\"\",登録データ貼付!B13)","v":""},"","","","","",null,null,null,{"$f":"IF(登録データ貼付!C13=\"\",\"\",登録データ貼付!C13&\"　\"&登録データ貼付!D13)","v":""},{"$f":"IF(登録データ貼付!F13=\"\",\"\",登録データ貼付!F13&\"　\"&登録データ貼付!G13)","v":""},"",{"$f":"IF(登録データ貼付!H13=\"\",\"\",登録データ貼付!H13&\" \"&登録データ貼付!I13)","v":""},{"$f":"IF(登録データ貼付!V13=\"\",\"\",RIGHT(登録データ貼付!V13,1))","v":""},{"$f":"IF(登録データ貼付!K13=\"\",\"\",LEFT(登録データ貼付!K13,1))","v":""},{"$f":"IF(登録データ貼付!S13=\"\",\"\",登録データ貼付!S13)","v":""},null,null,"12",9,"豊岩",null,null,801,"秋田市立豊岩中学校",null,"豊岩",801]
[{"$f":"IF(登録データ貼付!E14=\"\",\"\",登録データ貼付!E14)","v":""},{"$f":"IF(登録データ貼付!B14=\"\",\"\",登録データ貼付!B14)","v":""},"","","","","",null,null,null,{"$f":"IF(登録データ貼付!C14=\"\",\"\",登録データ貼付!C14&\"　\"&登録データ貼付!D14)","v":""},{"$f":"IF(登録データ貼付!F14=\"\",\"\",登録データ貼付!F14&\"　\"&登録データ貼付!G14)","v":""},"",{"$f":"IF(登録データ貼付!H14=\"\",\"\",登録データ貼付!H14&\" \"&登録データ貼付!I14)","v":""},{"$f":"IF(登録データ貼付!V14=\"\",\"\",RIGHT(登録データ貼付!V14,1))","v":""},{"$f":"IF(登録データ貼付!K14=\"\",\"\",LEFT(登録データ貼付!K14,1))","v":""},{"$f":"IF(登録データ貼付!S14=\"\",\"\",登録データ貼付!S14)","v":""},null,null,"13",10,"城南",null,null,901,"秋田市立城南中学校",null,"城南",901]
[{"$f":"IF(登録データ貼付!E15=\"\",\"\",登録データ貼付!E15)","v":""},{"$f":"IF(登録データ貼付!B15=\"\",\"\",登録データ貼付!B15)","v":""},"","","","","",null,null,null,{"$f":"IF(登録データ貼付!C15=\"\",\"\",登録データ貼付!C15&\"　\"&登録データ貼付!D15)","v":""},{"$f":"IF(登録データ貼付!F15=\"\",\"\",登録データ貼付!F15&\"　\"&登録データ貼付!G15)","v":""},"",{"$f":"IF(登録データ貼付!H15=\"\",\"\",登録データ貼付!H15&\" \"&登録データ貼付!I15)","v":""},{"$f":"IF(登録データ貼付!V15=\"\",\"\",RIGHT(登録データ貼付!V15,1))","v":""},{"$f":"IF(登録データ貼付!K15=\"\",\"\",LEFT(登録データ貼付!K15,1))","v":""},{"$f":"IF(登録データ貼付!S15=\"\",\"\",登録データ貼付!S15)","v":""},null,null,"14",11,"城東",null,null,1001,"秋田市立城東中学校",null,"城東",1001]
[{"$f":"IF(登録データ貼付!E16=\"\",\"\",登録データ貼付!E16)","v":""},{"$f":"IF(登録データ貼付!B16=\"\",\"\",登録データ貼付!B16)","v":""},"","","","","",null,null,null,{"$f":"IF(登録データ貼付!C16=\"\",\"\",登録データ貼付!C16&\"　\"&登録データ貼付!D16)","v":""},{"$f":"IF(登録データ貼付!F16=\"\",\"\",登録データ貼付!F16&\"　\"&登録データ貼付!G16)","v":""},"",{"$f":"IF(登録データ貼付!H16=\"\",\"\",登録データ貼付!H16&\" \"&登録データ貼付!I16)","v":""},{"$f":"IF(登録データ貼付!V16=\"\",\"\",RIGHT(登録データ貼付!V16,1))","v":""},{"$f":"IF(登録データ貼付!K16=\"\",\"\",LEFT(登録データ貼付!K16,1))","v":""},{"$f":"IF(登録データ貼付!S16=\"\",\"\",登録データ貼付!S16)","v":""},null,null,"15",12,"泉",null,null,1101,"秋田市立泉中学校",null,"泉",1101]
[{"$f":"IF(登録データ貼付!E17=\"\",\"\",登録データ貼付!E17)","v":""},{"$f":"IF(登録データ貼付!B17=\"\",\"\",登録データ貼付!B17)","v":""},"","","","","",null,null,null,{"$f":"IF(登録データ貼付!C17=\"\",\"\",登録データ貼付!C17&\"　\"&登録データ貼付!D17)","v":""},{"$f":"IF(登録データ貼付!F17=\"\",\"\",登録データ貼付!F17&\"　\"&登録データ貼付!G17)","v":""},"",{"$f":"IF(登録データ貼付!H17=\"\",\"\",登録データ貼付!H17&\" \"&登録データ貼付!I17)","v":""},{"$f":"IF(登録データ貼付!V17=\"\",\"\",RIGHT(登録データ貼付!V17,1))","v":""},{"$f":"IF(登録データ貼付!K17=\"\",\"\",LEFT(登録データ貼付!K17,1))","v":""},{"$f":"IF(登録データ貼付!S17=\"\",\"\",登録データ貼付!S17)","v":""},null,null,"16",13,"御野場",null,null,1201,"秋田市立御野場中学校",null,"御野場",1201]
[{"$f":"IF(登録データ貼付!E18=\"\",\"\",登録データ貼付!E18)","v":""},{"$f":"IF(登録データ貼付!B18=\"\",\"\",登録データ貼付!B18)","v":""},"","","","","",null,null,null,{"$f":"IF(登録データ貼付!C18=\"\",\"\",登録データ貼付!C18&\"　\"&登録データ貼付!D18)","v":""},{"$f":"IF(登録データ貼付!F18=\"\",\"\",登録データ貼付!F18&\"　\"&登録データ貼付!G18)","v":""},"",{"$f":"IF(登録データ貼付!H18=\"\",\"\",登録データ貼付!H18&\" \"&登録データ貼付!I18)","v":""},{"$f":"IF(登録データ貼付!V18=\"\",\"\",RIGHT(登録データ貼付!V18,1))","v":""},{"$f":"IF(登録データ貼付!K18=\"\",\"\",LEFT(登録データ貼付!K18,1))","v":""},{"$f":"IF(登録データ貼付!S18=\"\",\"\",登録データ貼付!S18)","v":""},null,null,"17",14,"飯島",null,null,1301,"秋田市立飯島中学校",null,"飯島",1301]
[{"$f":"IF(登録データ貼付!E19=\"\",\"\",登録データ貼付!E19)","v":""},{"$f":"IF(登録データ貼付!B19=\"\",\"\",登録データ貼付!B19)","v":""},"","","","","",null,null,null,{"$f":"IF(登録データ貼付!C19=\"\",\"\",登録データ貼付!C19&\"　\"&登録データ貼付!D19)","v":""},{"$f":"IF(登録データ貼付!F19=\"\",\"\",登録データ貼付!F19&\"　\"&登録データ貼付!G19)","v":""},"",{"$f":"IF(登録データ貼付!H19=\"\",\"\",登録データ貼付!H19&\" \"&登録データ貼付!I19)","v":""},{"$f":"IF(登録データ貼付!V19=\"\",\"\",RIGHT(登録データ貼付!V19,1))","v":""},{"$f":"IF(登録データ貼付!K19=\"\",\"\",LEFT(登録データ貼付!K19,1))","v":""},{"$f":"IF(登録データ貼付!S19=\"\",\"\",登録データ貼付!S19)","v":""},null,null,"18",15,"桜",null,null,1401,"秋田市立桜中学校",null,"桜",1401]
[{"$f":"IF(登録データ貼付!E20=\"\",\"\",登録データ貼付!E20)","v":""},{"$f":"IF(登録データ貼付!B20=\"\",\"\",登録データ貼付!B20)","v":""},"","","","","",null,null,null,{"$f":"IF(登録データ貼付!C20=\"\",\"\",登録データ貼付!C20&\"　\"&登録データ貼付!D20)","v":""},{"$f":"IF(登録データ貼付!F20=\"\",\"\",登録データ貼付!F20&\"　\"&登録データ貼付!G20)","v":""},"",{"$f":"IF(登録データ貼付!H20=\"\",\"\",登録データ貼付!H20&\" \"&登録データ貼付!I20)","v":""},{"$f":"IF(登録データ貼付!V20=\"\",\"\",RIGHT(登録データ貼付!V20,1))","v":""},{"$f":"IF(登録データ貼付!K20=\"\",\"\",LEFT(登録データ貼付!K20,1))","v":""},{"$f":"IF(登録データ貼付!S20=\"\",\"\",登録データ貼付!S20)","v":""},null,null,"19",16,"御所野学院",null,null,1501,"秋田市立御所野学院中学校",null,"御所野学院",1501]
[{"$f":"IF(登録データ貼付!E21=\"\",\"\",登録データ貼付!E21)","v":""},{"$f":"IF(登録データ貼付!B21=\"\",\"\",登録データ貼付!B21)","v":""},"","","","","",null,null,null,{"$f":"IF(登録データ貼付!C21=\"\",\"\",登録データ貼付!C21&\"　\"&登録データ貼付!D21)","v":""},{"$f":"IF(登録データ貼付!F21=\"\",\"\",登録データ貼付!F21&\"　\"&登録データ貼付!G21)","v":""},"",{"$f":"IF(登録データ貼付!H21=\"\",\"\",登録データ貼付!H21&\" \"&登録データ貼付!I21)","v":""},{"$f":"IF(登録データ貼付!V21=\"\",\"\",RIGHT(登録データ貼付!V21,1))","v":""},{"$f":"IF(登録データ貼付!K21=\"\",\"\",LEFT(登録データ貼付!K21,1))","v":""},{"$f":"IF(登録データ貼付!S21=\"\",\"\",登録データ貼付!S21)","v":""},null,null,"20",17,"秋大附属",null,null,1601,"秋田大学教育文化学部附属中学校",null,"秋大附",1601]
[{"$f":"IF(登録データ貼付!E22=\"\",\"\",登録データ貼付!E22)","v":""},{"$f":"IF(登録データ貼付!B22=\"\",\"\",登録データ貼付!B22)","v":""},"","","","","",null,null,null,{"$f":"IF(登録データ貼付!C22=\"\",\"\",登録データ貼付!C22&\"　\"&登録データ貼付!D22)","v":""},{"$f":"IF(登録データ貼付!F22=\"\",\"\",登録データ貼付!F22&\"　\"&登録データ貼付!G22)","v":""},"",{"$f":"IF(登録データ貼付!H22=\"\",\"\",登録データ貼付!H22&\" \"&登録データ貼付!I22)","v":""},{"$f":"IF(登録データ貼付!V22=\"\",\"\",RIGHT(登録データ貼付!V22,1))","v":""},{"$f":"IF(登録データ貼付!K22=\"\",\"\",LEFT(登録データ貼付!K22,1))","v":""},{"$f":"IF(登録データ貼付!S22=\"\",\"\",登録データ貼付!S22)","v":""},null,null,"21",18,"秋田南中等部",null,null,1701,"秋田県立秋田南高等学校中等部",null,"秋田南中等部",1701]
[{"$f":"IF(登録データ貼付!E23=\"\",\"\",登録データ貼付!E23)","v":""},{"$f":"IF(登録データ貼付!B23=\"\",\"\",登録データ貼付!B23)","v":""},"","","","","",null,null,null,{"$f":"IF(登録データ貼付!C23=\"\",\"\",登録データ貼付!C23&\"　\"&登録データ貼付!D23)","v":""},{"$f":"IF(登録データ貼付!F23=\"\",\"\",登録データ貼付!F23&\"　\"&登録データ貼付!G23)","v":""},"",{"$f":"IF(登録データ貼付!H23=\"\",\"\",登録データ貼付!H23&\" \"&登録データ貼付!I23)","v":""},{"$f":"IF(登録データ貼付!V23=\"\",\"\",RIGHT(登録データ貼付!V23,1))","v":""},{"$f":"IF(登録データ貼付!K23=\"\",\"\",LEFT(登録データ貼付!K23,1))","v":""},{"$f":"IF(登録データ貼付!S23=\"\",\"\",登録データ貼付!S23)","v":""},null,null,"22",19,"聴覚支援",null,null,1801,"秋田県立聴覚支援学校",null,"聴覚支援",1801]
[{"$f":"IF(登録データ貼付!E24=\"\",\"\",登録データ貼付!E24)","v":""},{"$f":"IF(登録データ貼付!B24=\"\",\"\",登録データ貼付!B24)","v":""},"","","","","",null,null,null,{"$f":"IF(登録データ貼付!C24=\"\",\"\",登録データ貼付!C24&\"　\"&登録データ貼付!D24)","v":""},{"$f":"IF(登録データ貼付!F24=\"\",\"\",登録データ貼付!F24&\"　\"&登録データ貼付!G24)","v":""},"",{"$f":"IF(登録データ貼付!H24=\"\",\"\",登録データ貼付!H24&\" \"&登録データ貼付!I24)","v":""},{"$f":"IF(登録データ貼付!V24=\"\",\"\",RIGHT(登録データ貼付!V24,1))","v":""},{"$f":"IF(登録データ貼付!K24=\"\",\"\",LEFT(登録データ貼付!K24,1))","v":""},{"$f":"IF(登録データ貼付!S24=\"\",\"\",登録データ貼付!S24)","v":""},null,null,"23",20]
[{"$f":"IF(登録データ貼付!E25=\"\",\"\",登録データ貼付!E25)","v":""},{"$f":"IF(登録データ貼付!B25=\"\",\"\",登録データ貼付!B25)","v":""},"","","","","",null,null,null,{"$f":"IF(登録データ貼付!C25=\"\",\"\",登録データ貼付!C25&\"　\"&登録データ貼付!D25)","v":""},{"$f":"IF(登録データ貼付!F25=\"\",\"\",登録データ貼付!F25&\"　\"&登録データ貼付!G25)","v":""},"",{"$f":"IF(登録データ貼付!H25=\"\",\"\",登録データ貼付!H25&\" \"&登録データ貼付!I25)","v":""},{"$f":"IF(登録データ貼付!V25=\"\",\"\",RIGHT(登録データ貼付!V25,1))","v":""},{"$f":"IF(登録データ貼付!K25=\"\",\"\",LEFT(登録データ貼付!K25,1))","v":""},{"$f":"IF(登録データ貼付!S25=\"\",\"\",登録データ貼付!S25)","v":""},null,null,"24",21,"太平",null,null,null,"秋田市立太平中学校",null,"太平"]
[{"$f":"IF(登録データ貼付!E26=\"\",\"\",登録データ貼付!E26)","v":""},{"$f":"IF(登録データ貼付!B26=\"\",\"\",登録データ貼付!B26)","v":""},"","","","","",null,null,null,{"$f":"IF(登録データ貼付!C26=\"\",\"\",登録データ貼付!C26&\"　\"&登録データ貼付!D26)","v":""},{"$f":"IF(登録データ貼付!F26=\"\",\"\",登録データ貼付!F26&\"　\"&登録データ貼付!G26)","v":""},"",{"$f":"IF(登録データ貼付!H26=\"\",\"\",登録データ貼付!H26&\" \"&登録データ貼付!I26)","v":""},{"$f":"IF(登録データ貼付!V26=\"\",\"\",RIGHT(登録データ貼付!V26,1))","v":""},{"$f":"IF(登録データ貼付!K26=\"\",\"\",LEFT(登録データ貼付!K26,1))","v":""},{"$f":"IF(登録データ貼付!S26=\"\",\"\",登録データ貼付!S26)","v":""},null,null,"25",22,"下北手",null,null,null,"秋田市立下北手中学校",null,"下北手"]
[{"$f":"IF(登録データ貼付!E27=\"\",\"\",登録データ貼付!E27)","v":""},{"$f":"IF(登録データ貼付!B27=\"\",\"\",登録データ貼付!B27)","v":""},"","","","","",null,null,null,{"$f":"IF(登録データ貼付!C27=\"\",\"\",登録データ貼付!C27&\"　\"&登録データ貼付!D27)","v":""},{"$f":"IF(登録データ貼付!F27=\"\",\"\",登録データ貼付!F27&\"　\"&登録データ貼付!G27)","v":""},"",{"$f":"IF(登録データ貼付!H27=\"\",\"\",登録データ貼付!H27&\" \"&登録データ貼付!I27)","v":""},{"$f":"IF(登録データ貼付!V27=\"\",\"\",RIGHT(登録データ貼付!V27,1))","v":""},{"$f":"IF(登録データ貼付!K27=\"\",\"\",LEFT(登録データ貼付!K27,1))","v":""},{"$f":"IF(登録データ貼付!S27=\"\",\"\",登録データ貼付!S27)","v":""},null,null,"26",23,"下浜",null,null,null,"秋田市立下浜中学校",null,"下浜"]
[{"$f":"IF(登録データ貼付!E28=\"\",\"\",登録データ貼付!E28)","v":""},{"$f":"IF(登録データ貼付!B28=\"\",\"\",登録データ貼付!B28)","v":""},"","","","","",null,null,null,{"$f":"IF(登録データ貼付!C28=\"\",\"\",登録データ貼付!C28&\"　\"&登録データ貼付!D28)","v":""},{"$f":"IF(登録データ貼付!F28=\"\",\"\",登録データ貼付!F28&\"　\"&登録データ貼付!G28)","v":""},"",{"$f":"IF(登録データ貼付!H28=\"\",\"\",登録データ貼付!H28&\" \"&登録データ貼付!I28)","v":""},{"$f":"IF(登録データ貼付!V28=\"\",\"\",RIGHT(登録データ貼付!V28,1))","v":""},{"$f":"IF(登録データ貼付!K28=\"\",\"\",LEFT(登録データ貼付!K28,1))","v":""},{"$f":"IF(登録データ貼付!S28=\"\",\"\",登録データ貼付!S28)","v":""},null,null,"27",24,"勝平",null,null,null,"秋田市立勝平中学校",null,"勝平"]
[{"$f":"IF(登録データ貼付!E29=\"\",\"\",登録データ貼付!E29)","v":""},{"$f":"IF(登録データ貼付!B29=\"\",\"\",登録データ貼付!B29)","v":""},"","","","","",null,null,null,{"$f":"IF(登録データ貼付!C29=\"\",\"\",登録データ貼付!C29&\"　\"&登録データ貼付!D29)","v":""},{"$f":"IF(登録データ貼付!F29=\"\",\"\",登録データ貼付!F29&\"　\"&登録データ貼付!G29)","v":""},"",{"$f":"IF(登録データ貼付!H29=\"\",\"\",登録データ貼付!H29&\" \"&登録データ貼付!I29)","v":""},{"$f":"IF(登録データ貼付!V29=\"\",\"\",RIGHT(登録データ貼付!V29,1))","v":""},{"$f":"IF(登録データ貼付!K29=\"\",\"\",LEFT(登録データ貼付!K29,1))","v":""},{"$f":"IF(登録データ貼付!S29=\"\",\"\",登録データ貼付!S29)","v":""},null,null,"28",25,"岩見三内",null,null,null,"秋田市立岩見三内中学校",null,"岩見山内"]
[{"$f":"IF(登録データ貼付!E30=\"\",\"\",登録データ貼付!E30)","v":""},{"$f":"IF(登録データ貼付!B30=\"\",\"\",登録データ貼付!B30)","v":""},"","","","","",null,null,null,{"$f":"IF(登録データ貼付!C30=\"\",\"\",登録データ貼付!C30&\"　\"&登録データ貼付!D30)","v":""},{"$f":"IF(登録データ貼付!F30=\"\",\"\",登録データ貼付!F30&\"　\"&登録データ貼付!G30)","v":""},"",{"$f":"IF(登録データ貼付!H30=\"\",\"\",登録データ貼付!H30&\" \"&登録データ貼付!I30)","v":""},{"$f":"IF(登録データ貼付!V30=\"\",\"\",RIGHT(登録データ貼付!V30,1))","v":""},{"$f":"IF(登録データ貼付!K30=\"\",\"\",LEFT(登録データ貼付!K30,1))","v":""},{"$f":"IF(登録データ貼付!S30=\"\",\"\",登録データ貼付!S30)","v":""},null,null,"29",26,"河辺",null,null,null,"秋田市立河辺中学校",null,"河辺"]
[{"$f":"IF(登録データ貼付!E31=\"\",\"\",登録データ貼付!E31)","v":""},{"$f":"IF(登録データ貼付!B31=\"\",\"\",登録データ貼付!B31)","v":""},"","","","","",null,null,null,{"$f":"IF(登録データ貼付!C31=\"\",\"\",登録データ貼付!C31&\"　\"&登録データ貼付!D31)","v":""},{"$f":"IF(登録データ貼付!F31=\"\",\"\",登録データ貼付!F31&\"　\"&登録データ貼付!G31)","v":""},"",{"$f":"IF(登録データ貼付!H31=\"\",\"\",登録データ貼付!H31&\" \"&登録データ貼付!I31)","v":""},{"$f":"IF(登録データ貼付!V31=\"\",\"\",RIGHT(登録データ貼付!V31,1))","v":""},{"$f":"IF(登録データ貼付!K31=\"\",\"\",LEFT(登録データ貼付!K31,1))","v":""},{"$f":"IF(登録データ貼付!S31=\"\",\"\",登録データ貼付!S31)","v":""},null,null,"30",27,"雄和",null,null,null,"秋田市立雄和中学校",null,"雄和"]
[{"$f":"IF(登録データ貼付!E32=\"\",\"\",登録データ貼付!E32)","v":""},{"$f":"IF(登録データ貼付!B32=\"\",\"\",登録データ貼付!B32)","v":""},"","","","","",null,null,null,{"$f":"IF(登録データ貼付!C32=\"\",\"\",登録データ貼付!C32&\"　\"&登録データ貼付!D32)","v":""},{"$f":"IF(登録データ貼付!F32=\"\",\"\",登録データ貼付!F32&\"　\"&登録データ貼付!G32)","v":""},"",{"$f":"IF(登録データ貼付!H32=\"\",\"\",登録データ貼付!H32&\" \"&登録データ貼付!I32)","v":""},{"$f":"IF(登録データ貼付!V32=\"\",\"\",RIGHT(登録データ貼付!V32,1))","v":""},{"$f":"IF(登録データ貼付!K32=\"\",\"\",LEFT(登録データ貼付!K32,1))","v":""},{"$f":"IF(登録データ貼付!S32=\"\",\"\",登録データ貼付!S32)","v":""},null,null,"31"]
[{"$f":"IF(登録データ貼付!E33=\"\",\"\",登録データ貼付!E33)","v":""},{"$f":"IF(登録データ貼付!B33=\"\",\"\",登録データ貼付!B33)","v":""},"","","","","",null,null,null,{"$f":"IF(登録データ貼付!C33=\"\",\"\",登録データ貼付!C33&\"　\"&登録データ貼付!D33)","v":""},{"$f":"IF(登録データ貼付!F33=\"\",\"\",登録データ貼付!F33&\"　\"&登録データ貼付!G33)","v":""},"",{"$f":"IF(登録データ貼付!H33=\"\",\"\",登録データ貼付!H33&\" \"&登録データ貼付!I33)","v":""},{"$f":"IF(登録データ貼付!V33=\"\",\"\",RIGHT(登録データ貼付!V33,1))","v":""},{"$f":"IF(登録データ貼付!K33=\"\",\"\",LEFT(登録データ貼付!K33,1))","v":""},{"$f":"IF(登録データ貼付!S33=\"\",\"\",登録データ貼付!S33)","v":""},null,null,"32"]
[{"$f":"IF(登録データ貼付!E34=\"\",\"\",登録データ貼付!E34)","v":""},{"$f":"IF(登録データ貼付!B34=\"\",\"\",登録データ貼付!B34)","v":""},"","","","","",null,null,null,{"$f":"IF(登録データ貼付!C34=\"\",\"\",登録データ貼付!C34&\"　\"&登録データ貼付!D34)","v":""},{"$f":"IF(登録データ貼付!F34=\"\",\"\",登録データ貼付!F34&\"　\"&登録データ貼付!G34)","v":""},"",{"$f":"IF(登録データ貼付!H34=\"\",\"\",登録データ貼付!H34&\" \"&登録データ貼付!I34)","v":""},{"$f":"IF(登録データ貼付!V34=\"\",\"\",RIGHT(登録データ貼付!V34,1))","v":""},{"$f":"IF(登録データ貼付!K34=\"\",\"\",LEFT(登録データ貼付!K34,1))","v":""},{"$f":"IF(登録データ貼付!S34=\"\",\"\",登録データ貼付!S34)","v":""},null,null,"33"]
[{"$f":"IF(登録データ貼付!E35=\"\",\"\",登録データ貼付!E35)","v":""},{"$f":"IF(登録データ貼付!B35=\"\",\"\",登録データ貼付!B35)","v":""},"","","","","",null,null,null,{"$f":"IF(登録データ貼付!C35=\"\",\"\",登録データ貼付!C35&\"　\"&登録データ貼付!D35)","v":""},{"$f":"IF(登録データ貼付!F35=\"\",\"\",登録データ貼付!F35&\"　\"&登録データ貼付!G35)","v":""},"",{"$f":"IF(登録データ貼付!H35=\"\",\"\",登録データ貼付!H35&\" \"&登録データ貼付!I35)","v":""},{"$f":"IF(登録データ貼付!V35=\"\",\"\",RIGHT(登録データ貼付!V35,1))","v":""},{"$f":"IF(登録データ貼付!K35=\"\",\"\",LEFT(登録データ貼付!K35,1))","v":""},{"$f":"IF(登録データ貼付!S35=\"\",\"\",登録データ貼付!S35)","v":""},null,null,"34"]
[{"$f":"IF(登録データ貼付!E36=\"\",\"\",登録データ貼付!E36)","v":""},{"$f":"IF(登録データ貼付!B36=\"\",\"\",登録データ貼付!B36)","v":""},"","","","","",null,null,null,{"$f":"IF(登録データ貼付!C36=\"\",\"\",登録データ貼付!C36&\"　\"&登録データ貼付!D36)","v":""},{"$f":"IF(登録データ貼付!F36=\"\",\"\",登録データ貼付!F36&\"　\"&登録データ貼付!G36)","v":""},"",{"$f":"IF(登録データ貼付!H36=\"\",\"\",登録データ貼付!H36&\" \"&登録データ貼付!I36)","v":""},{"$f":"IF(登録データ貼付!V36=\"\",\"\",RIGHT(登録データ貼付!V36,1))","v":""},{"$f":"IF(登録データ貼付!K36=\"\",\"\",LEFT(登録データ貼付!K36,1))","v":""},{"$f":"IF(登録データ貼付!S36=\"\",\"\",登録データ貼付!S36)","v":""},null,null,"35"]
[{"$f":"IF(登録データ貼付!E37=\"\",\"\",登録データ貼付!E37)","v":""},{"$f":"IF(登録データ貼付!B37=\"\",\"\",登録データ貼付!B37)","v":""},"","","","","",null,null,null,{"$f":"IF(登録データ貼付!C37=\"\",\"\",登録データ貼付!C37&\"　\"&登録データ貼付!D37)","v":""},{"$f":"IF(登録データ貼付!F37=\"\",\"\",登録データ貼付!F37&\"　\"&登録データ貼付!G37)","v":""},"",{"$f":"IF(登録データ貼付!H37=\"\",\"\",登録データ貼付!H37&\" \"&登録データ貼付!I37)","v":""},{"$f":"IF(登録データ貼付!V37=\"\",\"\",RIGHT(登録データ貼付!V37,1))","v":""},{"$f":"IF(登録データ貼付!K37=\"\",\"\",LEFT(登録データ貼付!K37,1))","v":""},{"$f":"IF(登録データ貼付!S37=\"\",\"\",登録データ貼付!S37)","v":""},null,null,"36"]
[{"$f":"IF(登録データ貼付!E38=\"\",\"\",登録データ貼付!E38)","v":""},{"$f":"IF(登録データ貼付!B38=\"\",\"\",登録データ貼付!B38)","v":""},"","","","","",null,null,null,{"$f":"IF(登録データ貼付!C38=\"\",\"\",登録データ貼付!C38&\"　\"&登録データ貼付!D38)","v":""},{"$f":"IF(登録データ貼付!F38=\"\",\"\",登録データ貼付!F38&\"　\"&登録データ貼付!G38)","v":""},"",{"$f":"IF(登録データ貼付!H38=\"\",\"\",登録データ貼付!H38&\" \"&登録データ貼付!I38)","v":""},{"$f":"IF(登録データ貼付!V38=\"\",\"\",RIGHT(登録データ貼付!V38,1))","v":""},{"$f":"IF(登録データ貼付!K38=\"\",\"\",LEFT(登録データ貼付!K38,1))","v":""},{"$f":"IF(登録データ貼付!S38=\"\",\"\",登録データ貼付!S38)","v":""},null,null,"37"]
[{"$f":"IF(登録データ貼付!E39=\"\",\"\",登録データ貼付!E39)","v":""},{"$f":"IF(登録データ貼付!B39=\"\",\"\",登録データ貼付!B39)","v":""},"","","","","",null,null,null,{"$f":"IF(登録データ貼付!C39=\"\",\"\",登録データ貼付!C39&\"　\"&登録データ貼付!D39)","v":""},{"$f":"IF(登録データ貼付!F39=\"\",\"\",登録データ貼付!F39&\"　\"&登録データ貼付!G39)","v":""},"",{"$f":"IF(登録データ貼付!H39=\"\",\"\",登録データ貼付!H39&\" \"&登録データ貼付!I39)","v":""},{"$f":"IF(登録データ貼付!V39=\"\",\"\",RIGHT(登録データ貼付!V39,1))","v":""},{"$f":"IF(登録データ貼付!K39=\"\",\"\",LEFT(登録データ貼付!K39,1))","v":""},{"$f":"IF(登録データ貼付!S39=\"\",\"\",登録データ貼付!S39)","v":""},null,null,"38"]
[{"$f":"IF(登録データ貼付!E40=\"\",\"\",登録データ貼付!E40)","v":""},{"$f":"IF(登録データ貼付!B40=\"\",\"\",登録データ貼付!B40)","v":""},"","","","","",null,null,null,{"$f":"IF(登録データ貼付!C40=\"\",\"\",登録データ貼付!C40&\"　\"&登録データ貼付!D40)","v":""},{"$f":"IF(登録データ貼付!F40=\"\",\"\",登録データ貼付!F40&\"　\"&登録データ貼付!G40)","v":""},"",{"$f":"IF(登録データ貼付!H40=\"\",\"\",登録データ貼付!H40&\" \"&登録データ貼付!I40)","v":""},{"$f":"IF(登録データ貼付!V40=\"\",\"\",RIGHT(登録データ貼付!V40,1))","v":""},{"$f":"IF(登録データ貼付!K40=\"\",\"\",LEFT(登録データ貼付!K40,1))","v":""},{"$f":"IF(登録データ貼付!S40=\"\",\"\",登録データ貼付!S40)","v":""},null,null,"39"]
[{"$f":"IF(登録データ貼付!E41=\"\",\"\",登録データ貼付!E41)","v":""},{"$f":"IF(登録データ貼付!B41=\"\",\"\",登録データ貼付!B41)","v":""},"","","","","",null,null,null,{"$f":"IF(登録データ貼付!C41=\"\",\"\",登録データ貼付!C41&\"　\"&登録データ貼付!D41)","v":""},{"$f":"IF(登録データ貼付!F41=\"\",\"\",登録データ貼付!F41&\"　\"&登録データ貼付!G41)","v":""},"",{"$f":"IF(登録データ貼付!H41=\"\",\"\",登録データ貼付!H41&\" \"&登録データ貼付!I41)","v":""},{"$f":"IF(登録データ貼付!V41=\"\",\"\",RIGHT(登録データ貼付!V41,1))","v":""},{"$f":"IF(登録データ貼付!K41=\"\",\"\",LEFT(登録データ貼付!K41,1))","v":""},{"$f":"IF(登録データ貼付!S41=\"\",\"\",登録データ貼付!S41)","v":""},null,null,"40"]
[{"$f":"IF(登録データ貼付!E42=\"\",\"\",登録データ貼付!E42)","v":""},{"$f":"IF(登録データ貼付!B42=\"\",\"\",登録データ貼付!B42)","v":""},"","","","","",null,null,null,{"$f":"IF(登録データ貼付!C42=\"\",\"\",登録データ貼付!C42&\"　\"&登録データ貼付!D42)","v":""},{"$f":"IF(登録データ貼付!F42=\"\",\"\",登録データ貼付!F42&\"　\"&登録データ貼付!G42)","v":""},"",{"$f":"IF(登録データ貼付!H42=\"\",\"\",登録データ貼付!H42&\" \"&登録データ貼付!I42)","v":""},{"$f":"IF(登録データ貼付!V42=\"\",\"\",RIGHT(登録データ貼付!V42,1))","v":""},{"$f":"IF(登録データ貼付!K42=\"\",\"\",LEFT(登録データ貼付!K42,1))","v":""},{"$f":"IF(登録データ貼付!S42=\"\",\"\",登録データ貼付!S42)","v":""},null,null,"41"]
[{"$f":"IF(登録データ貼付!E43=\"\",\"\",登録データ貼付!E43)","v":""},{"$f":"IF(登録データ貼付!B43=\"\",\"\",登録データ貼付!B43)","v":""},"","","","","",null,null,null,{"$f":"IF(登録データ貼付!C43=\"\",\"\",登録データ貼付!C43&\"　\"&登録データ貼付!D43)","v":""},{"$f":"IF(登録データ貼付!F43=\"\",\"\",登録データ貼付!F43&\"　\"&登録データ貼付!G43)","v":""},"",{"$f":"IF(登録データ貼付!H43=\"\",\"\",登録データ貼付!H43&\" \"&登録データ貼付!I43)","v":""},{"$f":"IF(登録データ貼付!V43=\"\",\"\",RIGHT(登録データ貼付!V43,1))","v":""},{"$f":"IF(登録データ貼付!K43=\"\",\"\",LEFT(登録データ貼付!K43,1))","v":""},{"$f":"IF(登録データ貼付!S43=\"\",\"\",登録データ貼付!S43)","v":""},null,null,"42"]
[{"$f":"IF(登録データ貼付!E44=\"\",\"\",登録データ貼付!E44)","v":""},{"$f":"IF(登録データ貼付!B44=\"\",\"\",登録データ貼付!B44)","v":""},"","","","","",null,null,null,{"$f":"IF(登録データ貼付!C44=\"\",\"\",登録データ貼付!C44&\"　\"&登録データ貼付!D44)","v":""},{"$f":"IF(登録データ貼付!F44=\"\",\"\",登録データ貼付!F44&\"　\"&登録データ貼付!G44)","v":""},"",{"$f":"IF(登録データ貼付!H44=\"\",\"\",登録データ貼付!H44&\" \"&登録データ貼付!I44)","v":""},{"$f":"IF(登録データ貼付!V44=\"\",\"\",RIGHT(登録データ貼付!V44,1))","v":""},{"$f":"IF(登録データ貼付!K44=\"\",\"\",LEFT(登録データ貼付!K44,1))","v":""},{"$f":"IF(登録データ貼付!S44=\"\",\"\",登録データ貼付!S44)","v":""},null,null,"43"]
[{"$f":"IF(登録データ貼付!E45=\"\",\"\",登録データ貼付!E45)","v":""},{"$f":"IF(登録データ貼付!B45=\"\",\"\",登録データ貼付!B45)","v":""},"","","","","",null,null,null,{"$f":"IF(登録データ貼付!C45=\"\",\"\",登録データ貼付!C45&\"　\"&登録データ貼付!D45)","v":""},{"$f":"IF(登録データ貼付!F45=\"\",\"\",登録データ貼付!F45&\"　\"&登録データ貼付!G45)","v":""},"",{"$f":"IF(登録データ貼付!H45=\"\",\"\",登録データ貼付!H45&\" \"&登録データ貼付!I45)","v":""},{"$f":"IF(登録データ貼付!V45=\"\",\"\",RIGHT(登録データ貼付!V45,1))","v":""},{"$f":"IF(登録データ貼付!K45=\"\",\"\",LEFT(登録データ貼付!K45,1))","v":""},{"$f":"IF(登録データ貼付!S45=\"\",\"\",登録データ貼付!S45)","v":""},null,null,"44"]
[{"$f":"IF(登録データ貼付!E46=\"\",\"\",登録データ貼付!E46)","v":""},{"$f":"IF(登録データ貼付!B46=\"\",\"\",登録データ貼付!B46)","v":""},"","","","","",null,null,null,{"$f":"IF(登録データ貼付!C46=\"\",\"\",登録データ貼付!C46&\"　\"&登録データ貼付!D46)","v":""},{"$f":"IF(登録データ貼付!F46=\"\",\"\",登録データ貼付!F46&\"　\"&登録データ貼付!G46)","v":""},"",{"$f":"IF(登録データ貼付!H46=\"\",\"\",登録データ貼付!H46&\" \"&登録データ貼付!I46)","v":""},{"$f":"IF(登録データ貼付!V46=\"\",\"\",RIGHT(登録データ貼付!V46,1))","v":""},{"$f":"IF(登録データ貼付!K46=\"\",\"\",LEFT(登録データ貼付!K46,1))","v":""},{"$f":"IF(登録データ貼付!S46=\"\",\"\",登録データ貼付!S46)","v":""},null,null,"45"]
[{"$f":"IF(登録データ貼付!E47=\"\",\"\",登録データ貼付!E47)","v":""},{"$f":"IF(登録データ貼付!B47=\"\",\"\",登録データ貼付!B47)","v":""},"","","","","",null,null,null,{"$f":"IF(登録データ貼付!C47=\"\",\"\",登録データ貼付!C47&\"　\"&登録データ貼付!D47)","v":""},{"$f":"IF(登録データ貼付!F47=\"\",\"\",登録データ貼付!F47&\"　\"&登録データ貼付!G47)","v":""},"",{"$f":"IF(登録データ貼付!H47=\"\",\"\",登録データ貼付!H47&\" \"&登録データ貼付!I47)","v":""},{"$f":"IF(登録データ貼付!V47=\"\",\"\",RIGHT(登録データ貼付!V47,1))","v":""},{"$f":"IF(登録データ貼付!K47=\"\",\"\",LEFT(登録データ貼付!K47,1))","v":""},{"$f":"IF(登録データ貼付!S47=\"\",\"\",登録データ貼付!S47)","v":""},null,null,"46"]
[{"$f":"IF(登録データ貼付!E48=\"\",\"\",登録データ貼付!E48)","v":""},{"$f":"IF(登録データ貼付!B48=\"\",\"\",登録データ貼付!B48)","v":""},"","","","","",null,null,null,{"$f":"IF(登録データ貼付!C48=\"\",\"\",登録データ貼付!C48&\"　\"&登録データ貼付!D48)","v":""},{"$f":"IF(登録データ貼付!F48=\"\",\"\",登録データ貼付!F48&\"　\"&登録データ貼付!G48)","v":""},"",{"$f":"IF(登録データ貼付!H48=\"\",\"\",登録データ貼付!H48&\" \"&登録データ貼付!I48)","v":""},{"$f":"IF(登録データ貼付!V48=\"\",\"\",RIGHT(登録データ貼付!V48,1))","v":""},{"$f":"IF(登録データ貼付!K48=\"\",\"\",LEFT(登録データ貼付!K48,1))","v":""},{"$f":"IF(登録データ貼付!S48=\"\",\"\",登録データ貼付!S48)","v":""},null,null,"47"]
[{"$f":"IF(登録データ貼付!E49=\"\",\"\",登録データ貼付!E49)","v":""},{"$f":"IF(登録データ貼付!B49=\"\",\"\",登録データ貼付!B49)","v":""},"","","","","",null,null,null,{"$f":"IF(登録データ貼付!C49=\"\",\"\",登録データ貼付!C49&\"　\"&登録データ貼付!D49)","v":""},{"$f":"IF(登録データ貼付!F49=\"\",\"\",登録データ貼付!F49&\"　\"&登録データ貼付!G49)","v":""},"",{"$f":"IF(登録データ貼付!H49=\"\",\"\",登録データ貼付!H49&\" \"&登録データ貼付!I49)","v":""},{"$f":"IF(登録データ貼付!V49=\"\",\"\",RIGHT(登録データ貼付!V49,1))","v":""},{"$f":"IF(登録データ貼付!K49=\"\",\"\",LEFT(登録データ貼付!K49,1))","v":""},{"$f":"IF(登録データ貼付!S49=\"\",\"\",登録データ貼付!S49)","v":""},null,null,"48"]
[{"$f":"IF(登録データ貼付!E50=\"\",\"\",登録データ貼付!E50)","v":""},{"$f":"IF(登録データ貼付!B50=\"\",\"\",登録データ貼付!B50)","v":""},"","","","","",null,null,null,{"$f":"IF(登録データ貼付!C50=\"\",\"\",登録データ貼付!C50&\"　\"&登録データ貼付!D50)","v":""},{"$f":"IF(登録データ貼付!F50=\"\",\"\",登録データ貼付!F50&\"　\"&登録データ貼付!G50)","v":""},"",{"$f":"IF(登録データ貼付!H50=\"\",\"\",登録データ貼付!H50&\" \"&登録データ貼付!I50)","v":""},{"$f":"IF(登録データ貼付!V50=\"\",\"\",RIGHT(登録データ貼付!V50,1))","v":""},{"$f":"IF(登録データ貼付!K50=\"\",\"\",LEFT(登録データ貼付!K50,1))","v":""},{"$f":"IF(登録データ貼付!S50=\"\",\"\",登録データ貼付!S50)","v":""},null,null,"49"]
[{"$f":"IF(登録データ貼付!E51=\"\",\"\",登録データ貼付!E51)","v":""},{"$f":"IF(登録データ貼付!B51=\"\",\"\",登録データ貼付!B51)","v":""},"","","","","",null,null,null,{"$f":"IF(登録データ貼付!C51=\"\",\"\",登録データ貼付!C51&\"　\"&登録データ貼付!D51)","v":""},{"$f":"IF(登録データ貼付!F51=\"\",\"\",登録データ貼付!F51&\"　\"&登録データ貼付!G51)","v":""},"",{"$f":"IF(登録データ貼付!H51=\"\",\"\",登録データ貼付!H51&\" \"&登録データ貼付!I51)","v":""},{"$f":"IF(登録データ貼付!V51=\"\",\"\",RIGHT(登録データ貼付!V51,1))","v":""},{"$f":"IF(登録データ貼付!K51=\"\",\"\",LEFT(登録データ貼付!K51,1))","v":""},{"$f":"IF(登録データ貼付!S51=\"\",\"\",登録データ貼付!S51)","v":""},null,null,"50"]
[{"$f":"IF(登録データ貼付!E52=\"\",\"\",登録データ貼付!E52)","v":""},{"$f":"IF(登録データ貼付!B52=\"\",\"\",登録データ貼付!B52)","v":""},"","","","","",null,null,null,{"$f":"IF(登録データ貼付!C52=\"\",\"\",登録データ貼付!C52&\"　\"&登録データ貼付!D52)","v":""},{"$f":"IF(登録データ貼付!F52=\"\",\"\",登録データ貼付!F52&\"　\"&登録データ貼付!G52)","v":""},"",{"$f":"IF(登録データ貼付!H52=\"\",\"\",登録データ貼付!H52&\" \"&登録データ貼付!I52)","v":""},{"$f":"IF(登録データ貼付!V52=\"\",\"\",RIGHT(登録データ貼付!V52,1))","v":""},{"$f":"IF(登録データ貼付!K52=\"\",\"\",LEFT(登録データ貼付!K52,1))","v":""},{"$f":"IF(登録データ貼付!S52=\"\",\"\",登録データ貼付!S52)","v":""},null,null,"51"]
[{"$f":"IF(登録データ貼付!E53=\"\",\"\",登録データ貼付!E53)","v":""},{"$f":"IF(登録データ貼付!B53=\"\",\"\",登録データ貼付!B53)","v":""},"","","","","",null,null,null,{"$f":"IF(登録データ貼付!C53=\"\",\"\",登録データ貼付!C53&\"　\"&登録データ貼付!D53)","v":""},{"$f":"IF(登録データ貼付!F53=\"\",\"\",登録データ貼付!F53&\"　\"&登録データ貼付!G53)","v":""},"",{"$f":"IF(登録データ貼付!H53=\"\",\"\",登録データ貼付!H53&\" \"&登録データ貼付!I53)","v":""},{"$f":"IF(登録データ貼付!V53=\"\",\"\",RIGHT(登録データ貼付!V53,1))","v":""},{"$f":"IF(登録データ貼付!K53=\"\",\"\",LEFT(登録データ貼付!K53,1))","v":""},{"$f":"IF(登録データ貼付!S53=\"\",\"\",登録データ貼付!S53)","v":""},null,null,"52"]
[{"$f":"IF(登録データ貼付!E54=\"\",\"\",登録データ貼付!E54)","v":""},{"$f":"IF(登録データ貼付!B54=\"\",\"\",登録データ貼付!B54)","v":""},"","","","","",null,null,null,{"$f":"IF(登録データ貼付!C54=\"\",\"\",登録データ貼付!C54&\"　\"&登録データ貼付!D54)","v":""},{"$f":"IF(登録データ貼付!F54=\"\",\"\",登録データ貼付!F54&\"　\"&登録データ貼付!G54)","v":""},"",{"$f":"IF(登録データ貼付!H54=\"\",\"\",登録データ貼付!H54&\" \"&登録データ貼付!I54)","v":""},{"$f":"IF(登録データ貼付!V54=\"\",\"\",RIGHT(登録データ貼付!V54,1))","v":""},{"$f":"IF(登録データ貼付!K54=\"\",\"\",LEFT(登録データ貼付!K54,1))","v":""},{"$f":"IF(登録データ貼付!S54=\"\",\"\",登録データ貼付!S54)","v":""},null,null,"53"]
[{"$f":"IF(登録データ貼付!E55=\"\",\"\",登録データ貼付!E55)","v":""},{"$f":"IF(登録データ貼付!B55=\"\",\"\",登録データ貼付!B55)","v":""},"","","","","",null,null,null,{"$f":"IF(登録データ貼付!C55=\"\",\"\",登録データ貼付!C55&\"　\"&登録データ貼付!D55)","v":""},{"$f":"IF(登録データ貼付!F55=\"\",\"\",登録データ貼付!F55&\"　\"&登録データ貼付!G55)","v":""},"",{"$f":"IF(登録データ貼付!H55=\"\",\"\",登録データ貼付!H55&\" \"&登録データ貼付!I55)","v":""},{"$f":"IF(登録データ貼付!V55=\"\",\"\",RIGHT(登録データ貼付!V55,1))","v":""},{"$f":"IF(登録データ貼付!K55=\"\",\"\",LEFT(登録データ貼付!K55,1))","v":""},{"$f":"IF(登録データ貼付!S55=\"\",\"\",登録データ貼付!S55)","v":""},null,null,"54"]
[{"$f":"IF(登録データ貼付!E56=\"\",\"\",登録データ貼付!E56)","v":""},{"$f":"IF(登録データ貼付!B56=\"\",\"\",登録データ貼付!B56)","v":""},"","","","","",null,null,null,{"$f":"IF(登録データ貼付!C56=\"\",\"\",登録データ貼付!C56&\"　\"&登録データ貼付!D56)","v":""},{"$f":"IF(登録データ貼付!F56=\"\",\"\",登録データ貼付!F56&\"　\"&登録データ貼付!G56)","v":""},"",{"$f":"IF(登録データ貼付!H56=\"\",\"\",登録データ貼付!H56&\" \"&登録データ貼付!I56)","v":""},{"$f":"IF(登録データ貼付!V56=\"\",\"\",RIGHT(登録データ貼付!V56,1))","v":""},{"$f":"IF(登録データ貼付!K56=\"\",\"\",LEFT(登録データ貼付!K56,1))","v":""},{"$f":"IF(登録データ貼付!S56=\"\",\"\",登録データ貼付!S56)","v":""},null,null,"55"]
[{"$f":"IF(登録データ貼付!E57=\"\",\"\",登録データ貼付!E57)","v":""},{"$f":"IF(登録データ貼付!B57=\"\",\"\",登録データ貼付!B57)","v":""},"","","","","",null,null,null,{"$f":"IF(登録データ貼付!C57=\"\",\"\",登録データ貼付!C57&\"　\"&登録データ貼付!D57)","v":""},{"$f":"IF(登録データ貼付!F57=\"\",\"\",登録データ貼付!F57&\"　\"&登録データ貼付!G57)","v":""},"",{"$f":"IF(登録データ貼付!H57=\"\",\"\",登録データ貼付!H57&\" \"&登録データ貼付!I57)","v":""},{"$f":"IF(登録データ貼付!V57=\"\",\"\",RIGHT(登録データ貼付!V57,1))","v":""},{"$f":"IF(登録データ貼付!K57=\"\",\"\",LEFT(登録データ貼付!K57,1))","v":""},{"$f":"IF(登録データ貼付!S57=\"\",\"\",登録データ貼付!S57)","v":""},null,null,"56"]
[{"$f":"IF(登録データ貼付!E58=\"\",\"\",登録データ貼付!E58)","v":""},{"$f":"IF(登録データ貼付!B58=\"\",\"\",登録データ貼付!B58)","v":""},"","","","","",null,null,null,{"$f":"IF(登録データ貼付!C58=\"\",\"\",登録データ貼付!C58&\"　\"&登録データ貼付!D58)","v":""},{"$f":"IF(登録データ貼付!F58=\"\",\"\",登録データ貼付!F58&\"　\"&登録データ貼付!G58)","v":""},"",{"$f":"IF(登録データ貼付!H58=\"\",\"\",登録データ貼付!H58&\" \"&登録データ貼付!I58)","v":""},{"$f":"IF(登録データ貼付!V58=\"\",\"\",RIGHT(登録データ貼付!V58,1))","v":""},{"$f":"IF(登録データ貼付!K58=\"\",\"\",LEFT(登録データ貼付!K58,1))","v":""},{"$f":"IF(登録データ貼付!S58=\"\",\"\",登録データ貼付!S58)","v":""},null,null,"57"]
[{"$f":"IF(登録データ貼付!E59=\"\",\"\",登録データ貼付!E59)","v":""},{"$f":"IF(登録データ貼付!B59=\"\",\"\",登録データ貼付!B59)","v":""},"","","","","",null,null,null,{"$f":"IF(登録データ貼付!C59=\"\",\"\",登録データ貼付!C59&\"　\"&登録データ貼付!D59)","v":""},{"$f":"IF(登録データ貼付!F59=\"\",\"\",登録データ貼付!F59&\"　\"&登録データ貼付!G59)","v":""},"",{"$f":"IF(登録データ貼付!H59=\"\",\"\",登録データ貼付!H59&\" \"&登録データ貼付!I59)","v":""},{"$f":"IF(登録データ貼付!V59=\"\",\"\",RIGHT(登録データ貼付!V59,1))","v":""},{"$f":"IF(登録データ貼付!K59=\"\",\"\",LEFT(登録データ貼付!K59,1))","v":""},{"$f":"IF(登録データ貼付!S59=\"\",\"\",登録データ貼付!S59)","v":""},null,null,"58"]
[{"$f":"IF(登録データ貼付!E60=\"\",\"\",登録データ貼付!E60)","v":""},{"$f":"IF(登録データ貼付!B60=\"\",\"\",登録データ貼付!B60)","v":""},"","","","","",null,null,null,{"$f":"IF(登録データ貼付!C60=\"\",\"\",登録データ貼付!C60&\"　\"&登録データ貼付!D60)","v":""},{"$f":"IF(登録データ貼付!F60=\"\",\"\",登録データ貼付!F60&\"　\"&登録データ貼付!G60)","v":""},"",{"$f":"IF(登録データ貼付!H60=\"\",\"\",登録データ貼付!H60&\" \"&登録データ貼付!I60)","v":""},{"$f":"IF(登録データ貼付!V60=\"\",\"\",RIGHT(登録データ貼付!V60,1))","v":""},{"$f":"IF(登録データ貼付!K60=\"\",\"\",LEFT(登録データ貼付!K60,1))","v":""},{"$f":"IF(登録データ貼付!S60=\"\",\"\",登録データ貼付!S60)","v":""},null,null,"59"]
[{"$f":"IF(登録データ貼付!E61=\"\",\"\",登録データ貼付!E61)","v":""},{"$f":"IF(登録データ貼付!B61=\"\",\"\",登録データ貼付!B61)","v":""},"","","","","",null,null,null,{"$f":"IF(登録データ貼付!C61=\"\",\"\",登録データ貼付!C61&\"　\"&登録データ貼付!D61)","v":""},{"$f":"IF(登録データ貼付!F61=\"\",\"\",登録データ貼付!F61&\"　\"&登録データ貼付!G61)","v":""},"",{"$f":"IF(登録データ貼付!H61=\"\",\"\",登録データ貼付!H61&\" \"&登録データ貼付!I61)","v":""},{"$f":"IF(登録データ貼付!V61=\"\",\"\",RIGHT(登録データ貼付!V61,1))","v":""},{"$f":"IF(登録データ貼付!K61=\"\",\"\",LEFT(登録データ貼付!K61,1))","v":""},{"$f":"IF(登録データ貼付!S61=\"\",\"\",登録データ貼付!S61)","v":""},null,null,"60"]
[{"$f":"IF(登録データ貼付!E62=\"\",\"\",登録データ貼付!E62)","v":""},{"$f":"IF(登録データ貼付!B62=\"\",\"\",登録データ貼付!B62)","v":""},"","","","","",null,null,null,{"$f":"IF(登録データ貼付!C62=\"\",\"\",登録データ貼付!C62&\"　\"&登録データ貼付!D62)","v":""},{"$f":"IF(登録データ貼付!F62=\"\",\"\",登録データ貼付!F62&\"　\"&登録データ貼付!G62)","v":""},"",{"$f":"IF(登録データ貼付!H62=\"\",\"\",登録データ貼付!H62&\" \"&登録データ貼付!I62)","v":""},{"$f":"IF(登録データ貼付!V62=\"\",\"\",RIGHT(登録データ貼付!V62,1))","v":""},{"$f":"IF(登録データ貼付!K62=\"\",\"\",LEFT(登録データ貼付!K62,1))","v":""},{"$f":"IF(登録データ貼付!S62=\"\",\"\",登録データ貼付!S62)","v":""},null,null,"61"]
[{"$f":"IF(登録データ貼付!E63=\"\",\"\",登録データ貼付!E63)","v":""},{"$f":"IF(登録データ貼付!B63=\"\",\"\",登録データ貼付!B63)","v":""},"","","","","",null,null,null,{"$f":"IF(登録データ貼付!C63=\"\",\"\",登録データ貼付!C63&\"　\"&登録データ貼付!D63)","v":""},{"$f":"IF(登録データ貼付!F63=\"\",\"\",登録データ貼付!F63&\"　\"&登録データ貼付!G63)","v":""},"",{"$f":"IF(登録データ貼付!H63=\"\",\"\",登録データ貼付!H63&\" \"&登録データ貼付!I63)","v":""},{"$f":"IF(登録データ貼付!V63=\"\",\"\",RIGHT(登録データ貼付!V63,1))","v":""},{"$f":"IF(登録データ貼付!K63=\"\",\"\",LEFT(登録データ貼付!K63,1))","v":""},{"$f":"IF(登録データ貼付!S63=\"\",\"\",登録データ貼付!S63)","v":""},null,null,"62"]
[{"$f":"IF(登録データ貼付!E64=\"\",\"\",登録データ貼付!E64)","v":""},{"$f":"IF(登録データ貼付!B64=\"\",\"\",登録データ貼付!B64)","v":""},"","","","","",null,null,null,{"$f":"IF(登録データ貼付!C64=\"\",\"\",登録データ貼付!C64&\"　\"&登録データ貼付!D64)","v":""},{"$f":"IF(登録データ貼付!F64=\"\",\"\",登録データ貼付!F64&\"　\"&登録データ貼付!G64)","v":""},"",{"$f":"IF(登録データ貼付!H64=\"\",\"\",登録データ貼付!H64&\" \"&登録データ貼付!I64)","v":""},{"$f":"IF(登録データ貼付!V64=\"\",\"\",RIGHT(登録データ貼付!V64,1))","v":""},{"$f":"IF(登録データ貼付!K64=\"\",\"\",LEFT(登録データ貼付!K64,1))","v":""},{"$f":"IF(登録データ貼付!S64=\"\",\"\",登録データ貼付!S64)","v":""},null,null,"63"]
[{"$f":"IF(登録データ貼付!E65=\"\",\"\",登録データ貼付!E65)","v":""},{"$f":"IF(登録データ貼付!B65=\"\",\"\",登録データ貼付!B65)","v":""},"","","","","",null,null,null,{"$f":"IF(登録データ貼付!C65=\"\",\"\",登録データ貼付!C65&\"　\"&登録データ貼付!D65)","v":""},{"$f":"IF(登録データ貼付!F65=\"\",\"\",登録データ貼付!F65&\"　\"&登録データ貼付!G65)","v":""},"",{"$f":"IF(登録データ貼付!H65=\"\",\"\",登録データ貼付!H65&\" \"&登録データ貼付!I65)","v":""},{"$f":"IF(登録データ貼付!V65=\"\",\"\",RIGHT(登録データ貼付!V65,1))","v":""},{"$f":"IF(登録データ貼付!K65=\"\",\"\",LEFT(登録データ貼付!K65,1))","v":""},{"$f":"IF(登録データ貼付!S65=\"\",\"\",登録データ貼付!S65)","v":""},null,null,"64"]
[{"$f":"IF(登録データ貼付!E66=\"\",\"\",登録データ貼付!E66)","v":""},{"$f":"IF(登録データ貼付!B66=\"\",\"\",登録データ貼付!B66)","v":""},"","","","","",null,null,null,{"$f":"IF(登録データ貼付!C66=\"\",\"\",登録データ貼付!C66&\"　\"&登録データ貼付!D66)","v":""},{"$f":"IF(登録データ貼付!F66=\"\",\"\",登録データ貼付!F66&\"　\"&登録データ貼付!G66)","v":""},"",{"$f":"IF(登録データ貼付!H66=\"\",\"\",登録データ貼付!H66&\" \"&登録データ貼付!I66)","v":""},{"$f":"IF(登録データ貼付!V66=\"\",\"\",RIGHT(登録データ貼付!V66,1))","v":""},{"$f":"IF(登録データ貼付!K66=\"\",\"\",LEFT(登録データ貼付!K66,1))","v":""},{"$f":"IF(登録データ貼付!S66=\"\",\"\",登録データ貼付!S66)","v":""},null,null,"65"]
[{"$f":"IF(登録データ貼付!E67=\"\",\"\",登録データ貼付!E67)","v":""},{"$f":"IF(登録データ貼付!B67=\"\",\"\",登録データ貼付!B67)","v":""},{"$f":"IF(K70=\"\",\"\",K70)","v":""},{"$f":"IF(M70=\"\",\"\",M70)","v":""},{"$f":"IF(N70=\"\",\"\",+N70)","v":""},{"$f":"IF(O70=\"\",\"\",O70)","v":""},{"$f":"IF(P70=\"\",\"\",P70)","v":""},null,null,null,{"$f":"IF(登録データ貼付!C67=\"\",\"\",登録データ貼付!C67&\"　\"&登録データ貼付!D67)","v":""},{"$f":"IF(登録データ貼付!F67=\"\",\"\",登録データ貼付!F67&\"　\"&登録データ貼付!G67)","v":""},{"$f":"ASC(L70)","v":""},{"$f":"IF(登録データ貼付!H67=\"\",\"\",登録データ貼付!H67&\" \"&登録データ貼付!I67)","v":""},{"$f":"IF(登録データ貼付!V67=\"\",\"\",RIGHT(登録データ貼付!V67,1))","v":""},{"$f":"IF(登録データ貼付!K67=\"\",\"\",LEFT(登録データ貼付!K67,1))","v":""},{"$f":"IF(登録データ貼付!S67=\"\",\"\",登録データ貼付!S67)","v":""},null,null,"66"]
[{"$f":"IF(登録データ貼付!E68=\"\",\"\",登録データ貼付!E68)","v":""},{"$f":"IF(登録データ貼付!B68=\"\",\"\",登録データ貼付!B68)","v":""},"","","","","",null,null,null,{"$f":"IF(登録データ貼付!C68=\"\",\"\",登録データ貼付!C68&\"　\"&登録データ貼付!D68)","v":""},{"$f":"IF(登録データ貼付!F68=\"\",\"\",登録データ貼付!F68&\"　\"&登録データ貼付!G68)","v":""},"",{"$f":"IF(登録データ貼付!H68=\"\",\"\",登録データ貼付!H68&\" \"&登録データ貼付!I68)","v":""},{"$f":"IF(登録データ貼付!V68=\"\",\"\",RIGHT(登録データ貼付!V68,1))","v":""},{"$f":"IF(登録データ貼付!K68=\"\",\"\",LEFT(登録データ貼付!K68,1))","v":""},{"$f":"IF(登録データ貼付!S68=\"\",\"\",登録データ貼付!S68)","v":""},null,null,"67"]
[{"$f":"IF(登録データ貼付!E69=\"\",\"\",登録データ貼付!E69)","v":""},{"$f":"IF(登録データ貼付!B69=\"\",\"\",登録データ貼付!B69)","v":""},"","","","","",null,null,null,{"$f":"IF(登録データ貼付!C69=\"\",\"\",登録データ貼付!C69&\"　\"&登録データ貼付!D69)","v":""},{"$f":"IF(登録データ貼付!F69=\"\",\"\",登録データ貼付!F69&\"　\"&登録データ貼付!G69)","v":""},"",{"$f":"IF(登録データ貼付!H69=\"\",\"\",登録データ貼付!H69&\" \"&登録データ貼付!I69)","v":""},{"$f":"IF(登録データ貼付!V69=\"\",\"\",RIGHT(登録データ貼付!V69,1))","v":""},{"$f":"IF(登録データ貼付!K69=\"\",\"\",LEFT(登録データ貼付!K69,1))","v":""},{"$f":"IF(登録データ貼付!S69=\"\",\"\",登録データ貼付!S69)","v":""},null,null,"68"]
[{"$f":"IF(登録データ貼付!E70=\"\",\"\",登録データ貼付!E70)","v":""},{"$f":"IF(登録データ貼付!B70=\"\",\"\",登録データ貼付!B70)","v":""},"","","","","",null,null,null,{"$f":"IF(登録データ貼付!C70=\"\",\"\",登録データ貼付!C70&\"　\"&登録データ貼付!D70)","v":""},{"$f":"IF(登録データ貼付!F70=\"\",\"\",登録データ貼付!F70&\"　\"&登録データ貼付!G70)","v":""},"",{"$f":"IF(登録データ貼付!H70=\"\",\"\",登録データ貼付!H70&\" \"&登録データ貼付!I70)","v":""},{"$f":"IF(登録データ貼付!V70=\"\",\"\",RIGHT(登録データ貼付!V70,1))","v":""},{"$f":"IF(登録データ貼付!K70=\"\",\"\",LEFT(登録データ貼付!K70,1))","v":""},{"$f":"IF(登録データ貼付!S70=\"\",\"\",登録データ貼付!S70)","v":""},null,null,"69"]
[{"$f":"IF(登録データ貼付!E71=\"\",\"\",登録データ貼付!E71)","v":""},{"$f":"IF(登録データ貼付!B71=\"\",\"\",登録データ貼付!B71)","v":""},"","","","","",null,null,null,{"$f":"IF(登録データ貼付!C71=\"\",\"\",登録データ貼付!C71&\"　\"&登録データ貼付!D71)","v":""},{"$f":"IF(登録データ貼付!F71=\"\",\"\",登録データ貼付!F71&\"　\"&登録データ貼付!G71)","v":""},"",{"$f":"IF(登録データ貼付!H71=\"\",\"\",登録データ貼付!H71&\" \"&登録データ貼付!I71)","v":""},{"$f":"IF(登録データ貼付!V71=\"\",\"\",RIGHT(登録データ貼付!V71,1))","v":""},{"$f":"IF(登録データ貼付!K71=\"\",\"\",LEFT(登録データ貼付!K71,1))","v":""},{"$f":"IF(登録データ貼付!S71=\"\",\"\",登録データ貼付!S71)","v":""},null,null,"70"]
[{"$f":"IF(登録データ貼付!E72=\"\",\"\",登録データ貼付!E72)","v":""},{"$f":"IF(登録データ貼付!B72=\"\",\"\",登録データ貼付!B72)","v":""},"","","","","",null,null,null,{"$f":"IF(登録データ貼付!C72=\"\",\"\",登録データ貼付!C72&\"　\"&登録データ貼付!D72)","v":""},{"$f":"IF(登録データ貼付!F72=\"\",\"\",登録データ貼付!F72&\"　\"&登録データ貼付!G72)","v":""},"",{"$f":"IF(登録データ貼付!H72=\"\",\"\",登録データ貼付!H72&\" \"&登録データ貼付!I72)","v":""},{"$f":"IF(登録データ貼付!V72=\"\",\"\",RIGHT(登録データ貼付!V72,1))","v":""},{"$f":"IF(登録データ貼付!K72=\"\",\"\",LEFT(登録データ貼付!K72,1))","v":""},{"$f":"IF(登録データ貼付!S72=\"\",\"\",登録データ貼付!S72)","v":""},null,null,"71"]
[{"$f":"IF(登録データ貼付!E73=\"\",\"\",登録データ貼付!E73)","v":""},{"$f":"IF(登録データ貼付!B73=\"\",\"\",登録データ貼付!B73)","v":""},"","","","","",null,null,null,{"$f":"IF(登録データ貼付!C73=\"\",\"\",登録データ貼付!C73&\"　\"&登録データ貼付!D73)","v":""},{"$f":"IF(登録データ貼付!F73=\"\",\"\",登録データ貼付!F73&\"　\"&登録データ貼付!G73)","v":""},"",{"$f":"IF(登録データ貼付!H73=\"\",\"\",登録データ貼付!H73&\" \"&登録データ貼付!I73)","v":""},{"$f":"IF(登録データ貼付!V73=\"\",\"\",RIGHT(登録データ貼付!V73,1))","v":""},{"$f":"IF(登録データ貼付!K73=\"\",\"\",LEFT(登録データ貼付!K73,1))","v":""},{"$f":"IF(登録データ貼付!S73=\"\",\"\",登録データ貼付!S73)","v":""},null,null,"72"]
[{"$f":"IF(登録データ貼付!E74=\"\",\"\",登録データ貼付!E74)","v":""},{"$f":"IF(登録データ貼付!B74=\"\",\"\",登録データ貼付!B74)","v":""},"","","","","",null,null,null,{"$f":"IF(登録データ貼付!C74=\"\",\"\",登録データ貼付!C74&\"　\"&登録データ貼付!D74)","v":""},{"$f":"IF(登録データ貼付!F74=\"\",\"\",登録データ貼付!F74&\"　\"&登録データ貼付!G74)","v":""},"",{"$f":"IF(登録データ貼付!H74=\"\",\"\",登録データ貼付!H74&\" \"&登録データ貼付!I74)","v":""},{"$f":"IF(登録データ貼付!V74=\"\",\"\",RIGHT(登録データ貼付!V74,1))","v":""},{"$f":"IF(登録データ貼付!K74=\"\",\"\",LEFT(登録データ貼付!K74,1))","v":""},{"$f":"IF(登録データ貼付!S74=\"\",\"\",登録データ貼付!S74)","v":""},null,null,"73"]
[{"$f":"IF(登録データ貼付!E75=\"\",\"\",登録データ貼付!E75)","v":""},{"$f":"IF(登録データ貼付!B75=\"\",\"\",登録データ貼付!B75)","v":""},"","","","","",null,null,null,{"$f":"IF(登録データ貼付!C75=\"\",\"\",登録データ貼付!C75&\"　\"&登録データ貼付!D75)","v":""},{"$f":"IF(登録データ貼付!F75=\"\",\"\",登録データ貼付!F75&\"　\"&登録データ貼付!G75)","v":""},"",{"$f":"IF(登録データ貼付!H75=\"\",\"\",登録データ貼付!H75&\" \"&登録データ貼付!I75)","v":""},{"$f":"IF(登録データ貼付!V75=\"\",\"\",RIGHT(登録データ貼付!V75,1))","v":""},{"$f":"IF(登録データ貼付!K75=\"\",\"\",LEFT(登録データ貼付!K75,1))","v":""},{"$f":"IF(登録データ貼付!S75=\"\",\"\",登録データ貼付!S75)","v":""},null,null,"74"]
[{"$f":"IF(登録データ貼付!E76=\"\",\"\",登録データ貼付!E76)","v":""},{"$f":"IF(登録データ貼付!B76=\"\",\"\",登録データ貼付!B76)","v":""},"","","","","",null,null,null,{"$f":"IF(登録データ貼付!C76=\"\",\"\",登録データ貼付!C76&\"　\"&登録データ貼付!D76)","v":""},{"$f":"IF(登録データ貼付!F76=\"\",\"\",登録データ貼付!F76&\"　\"&登録データ貼付!G76)","v":""},"",{"$f":"IF(登録データ貼付!H76=\"\",\"\",登録データ貼付!H76&\" \"&登録データ貼付!I76)","v":""},{"$f":"IF(登録データ貼付!V76=\"\",\"\",RIGHT(登録データ貼付!V76,1))","v":""},{"$f":"IF(登録データ貼付!K76=\"\",\"\",LEFT(登録データ貼付!K76,1))","v":""},{"$f":"IF(登録データ貼付!S76=\"\",\"\",登録データ貼付!S76)","v":""},null,null,"75"]
[{"$f":"IF(登録データ貼付!E77=\"\",\"\",登録データ貼付!E77)","v":""},{"$f":"IF(登録データ貼付!B77=\"\",\"\",登録データ貼付!B77)","v":""},"","","","","",null,null,null,{"$f":"IF(登録データ貼付!C77=\"\",\"\",登録データ貼付!C77&\"　\"&登録データ貼付!D77)","v":""},{"$f":"IF(登録データ貼付!F77=\"\",\"\",登録データ貼付!F77&\"　\"&登録データ貼付!G77)","v":""},"",{"$f":"IF(登録データ貼付!H77=\"\",\"\",登録データ貼付!H77&\" \"&登録データ貼付!I77)","v":""},{"$f":"IF(登録データ貼付!V77=\"\",\"\",RIGHT(登録データ貼付!V77,1))","v":""},{"$f":"IF(登録データ貼付!K77=\"\",\"\",LEFT(登録データ貼付!K77,1))","v":""},{"$f":"IF(登録データ貼付!S77=\"\",\"\",登録データ貼付!S77)","v":""},null,null,"76"]
[{"$f":"IF(登録データ貼付!E78=\"\",\"\",登録データ貼付!E78)","v":""},{"$f":"IF(登録データ貼付!B78=\"\",\"\",登録データ貼付!B78)","v":""},"","","","","",null,null,null,{"$f":"IF(登録データ貼付!C78=\"\",\"\",登録データ貼付!C78&\"　\"&登録データ貼付!D78)","v":""},{"$f":"IF(登録データ貼付!F78=\"\",\"\",登録データ貼付!F78&\"　\"&登録データ貼付!G78)","v":""},"",{"$f":"IF(登録データ貼付!H78=\"\",\"\",登録データ貼付!H78&\" \"&登録データ貼付!I78)","v":""},{"$f":"IF(登録データ貼付!V78=\"\",\"\",RIGHT(登録データ貼付!V78,1))","v":""},{"$f":"IF(登録データ貼付!K78=\"\",\"\",LEFT(登録データ貼付!K78,1))","v":""},{"$f":"IF(登録データ貼付!S78=\"\",\"\",登録データ貼付!S78)","v":""},null,null,"77"]
[{"$f":"IF(登録データ貼付!E79=\"\",\"\",登録データ貼付!E79)","v":""},{"$f":"IF(登録データ貼付!B79=\"\",\"\",登録データ貼付!B79)","v":""},"","","","","",null,null,null,{"$f":"IF(登録データ貼付!C79=\"\",\"\",登録データ貼付!C79&\"　\"&登録データ貼付!D79)","v":""},{"$f":"IF(登録データ貼付!F79=\"\",\"\",登録データ貼付!F79&\"　\"&登録データ貼付!G79)","v":""},"",{"$f":"IF(登録データ貼付!H79=\"\",\"\",登録データ貼付!H79&\" \"&登録データ貼付!I79)","v":""},{"$f":"IF(登録データ貼付!V79=\"\",\"\",RIGHT(登録データ貼付!V79,1))","v":""},{"$f":"IF(登録データ貼付!K79=\"\",\"\",LEFT(登録データ貼付!K79,1))","v":""},{"$f":"IF(登録データ貼付!S79=\"\",\"\",登録データ貼付!S79)","v":""},null,null,"78"]
[{"$f":"IF(登録データ貼付!E80=\"\",\"\",登録データ貼付!E80)","v":""},{"$f":"IF(登録データ貼付!B80=\"\",\"\",登録データ貼付!B80)","v":""},"","","","","",null,null,null,{"$f":"IF(登録データ貼付!C80=\"\",\"\",登録データ貼付!C80&\"　\"&登録データ貼付!D80)","v":""},{"$f":"IF(登録データ貼付!F80=\"\",\"\",登録データ貼付!F80&\"　\"&登録データ貼付!G80)","v":""},"",{"$f":"IF(登録データ貼付!H80=\"\",\"\",登録データ貼付!H80&\" \"&登録データ貼付!I80)","v":""},{"$f":"IF(登録データ貼付!V80=\"\",\"\",RIGHT(登録データ貼付!V80,1))","v":""},{"$f":"IF(登録データ貼付!K80=\"\",\"\",LEFT(登録データ貼付!K80,1))","v":""},{"$f":"IF(登録データ貼付!S80=\"\",\"\",登録データ貼付!S80)","v":""},null,null,"79"]
[{"$f":"IF(登録データ貼付!E81=\"\",\"\",登録データ貼付!E81)","v":""},{"$f":"IF(登録データ貼付!B81=\"\",\"\",登録データ貼付!B81)","v":""},"","","","","",null,null,null,{"$f":"IF(登録データ貼付!C81=\"\",\"\",登録データ貼付!C81&\"　\"&登録データ貼付!D81)","v":""},{"$f":"IF(登録データ貼付!F81=\"\",\"\",登録データ貼付!F81&\"　\"&登録データ貼付!G81)","v":""},"",{"$f":"IF(登録データ貼付!H81=\"\",\"\",登録データ貼付!H81&\" \"&登録データ貼付!I81)","v":""},{"$f":"IF(登録データ貼付!V81=\"\",\"\",RIGHT(登録データ貼付!V81,1))","v":""},{"$f":"IF(登録データ貼付!K81=\"\",\"\",LEFT(登録データ貼付!K81,1))","v":""},{"$f":"IF(登録データ貼付!S81=\"\",\"\",登録データ貼付!S81)","v":""},null,null,"80"]
[{"$f":"IF(登録データ貼付!E82=\"\",\"\",登録データ貼付!E82)","v":""},{"$f":"IF(登録データ貼付!B82=\"\",\"\",登録データ貼付!B82)","v":""},"","","","","",null,null,null,{"$f":"IF(登録データ貼付!C82=\"\",\"\",登録データ貼付!C82&\"　\"&登録データ貼付!D82)","v":""},{"$f":"IF(登録データ貼付!F82=\"\",\"\",登録データ貼付!F82&\"　\"&登録データ貼付!G82)","v":""},"",{"$f":"IF(登録データ貼付!H82=\"\",\"\",登録データ貼付!H82&\" \"&登録データ貼付!I82)","v":""},{"$f":"IF(登録データ貼付!V82=\"\",\"\",RIGHT(登録データ貼付!V82,1))","v":""},{"$f":"IF(登録データ貼付!K82=\"\",\"\",LEFT(登録データ貼付!K82,1))","v":""},{"$f":"IF(登録データ貼付!S82=\"\",\"\",登録データ貼付!S82)","v":""},null,null,"81"]
[{"$f":"IF(登録データ貼付!E83=\"\",\"\",登録データ貼付!E83)","v":""},{"$f":"IF(登録データ貼付!B83=\"\",\"\",登録データ貼付!B83)","v":""},"","","","","",null,null,null,{"$f":"IF(登録データ貼付!C83=\"\",\"\",登録データ貼付!C83&\"　\"&登録データ貼付!D83)","v":""},{"$f":"IF(登録データ貼付!F83=\"\",\"\",登録データ貼付!F83&\"　\"&登録データ貼付!G83)","v":""},"",{"$f":"IF(登録データ貼付!H83=\"\",\"\",登録データ貼付!H83&\" \"&登録データ貼付!I83)","v":""},{"$f":"IF(登録データ貼付!V83=\"\",\"\",RIGHT(登録データ貼付!V83,1))","v":""},{"$f":"IF(登録データ貼付!K83=\"\",\"\",LEFT(登録データ貼付!K83,1))","v":""},{"$f":"IF(登録データ貼付!S83=\"\",\"\",登録データ貼付!S83)","v":""},null,null,"82"]
[{"$f":"IF(登録データ貼付!E84=\"\",\"\",登録データ貼付!E84)","v":""},{"$f":"IF(登録データ貼付!B84=\"\",\"\",登録データ貼付!B84)","v":""},"","","","","",null,null,null,{"$f":"IF(登録データ貼付!C84=\"\",\"\",登録データ貼付!C84&\"　\"&登録データ貼付!D84)","v":""},{"$f":"IF(登録データ貼付!F84=\"\",\"\",登録データ貼付!F84&\"　\"&登録データ貼付!G84)","v":""},"",{"$f":"IF(登録データ貼付!H84=\"\",\"\",登録データ貼付!H84&\" \"&登録データ貼付!I84)","v":""},{"$f":"IF(登録データ貼付!V84=\"\",\"\",RIGHT(登録データ貼付!V84,1))","v":""},{"$f":"IF(登録データ貼付!K84=\"\",\"\",LEFT(登録データ貼付!K84,1))","v":""},{"$f":"IF(登録データ貼付!S84=\"\",\"\",登録データ貼付!S84)","v":""},null,null,"83"]
[{"$f":"IF(登録データ貼付!E85=\"\",\"\",登録データ貼付!E85)","v":""},{"$f":"IF(登録データ貼付!B85=\"\",\"\",登録データ貼付!B85)","v":""},"","","","","",null,null,null,{"$f":"IF(登録データ貼付!C85=\"\",\"\",登録データ貼付!C85&\"　\"&登録データ貼付!D85)","v":""},{"$f":"IF(登録データ貼付!F85=\"\",\"\",登録データ貼付!F85&\"　\"&登録データ貼付!G85)","v":""},"",{"$f":"IF(登録データ貼付!H85=\"\",\"\",登録データ貼付!H85&\" \"&登録データ貼付!I85)","v":""},{"$f":"IF(登録データ貼付!V85=\"\",\"\",RIGHT(登録データ貼付!V85,1))","v":""},{"$f":"IF(登録データ貼付!K85=\"\",\"\",LEFT(登録データ貼付!K85,1))","v":""},{"$f":"IF(登録データ貼付!S85=\"\",\"\",登録データ貼付!S85)","v":""},null,null,"84"]
[{"$f":"IF(登録データ貼付!E86=\"\",\"\",登録データ貼付!E86)","v":""},{"$f":"IF(登録データ貼付!B86=\"\",\"\",登録データ貼付!B86)","v":""},"","","","","",null,null,null,{"$f":"IF(登録データ貼付!C86=\"\",\"\",登録データ貼付!C86&\"　\"&登録データ貼付!D86)","v":""},{"$f":"IF(登録データ貼付!F86=\"\",\"\",登録データ貼付!F86&\"　\"&登録データ貼付!G86)","v":""},"",{"$f":"IF(登録データ貼付!H86=\"\",\"\",登録データ貼付!H86&\" \"&登録データ貼付!I86)","v":""},{"$f":"IF(登録データ貼付!V86=\"\",\"\",RIGHT(登録データ貼付!V86,1))","v":""},{"$f":"IF(登録データ貼付!K86=\"\",\"\",LEFT(登録データ貼付!K86,1))","v":""},{"$f":"IF(登録データ貼付!S86=\"\",\"\",登録データ貼付!S86)","v":""},null,null,"85"]
[{"$f":"IF(登録データ貼付!E87=\"\",\"\",登録データ貼付!E87)","v":""},{"$f":"IF(登録データ貼付!B87=\"\",\"\",登録データ貼付!B87)","v":""},"","","","","",null,null,null,{"$f":"IF(登録データ貼付!C87=\"\",\"\",登録データ貼付!C87&\"　\"&登録データ貼付!D87)","v":""},{"$f":"IF(登録データ貼付!F87=\"\",\"\",登録データ貼付!F87&\"　\"&登録データ貼付!G87)","v":""},"",{"$f":"IF(登録データ貼付!H87=\"\",\"\",登録データ貼付!H87&\" \"&登録データ貼付!I87)","v":""},{"$f":"IF(登録データ貼付!V87=\"\",\"\",RIGHT(登録データ貼付!V87,1))","v":""},{"$f":"IF(登録データ貼付!K87=\"\",\"\",LEFT(登録データ貼付!K87,1))","v":""},{"$f":"IF(登録データ貼付!S87=\"\",\"\",登録データ貼付!S87)","v":""},null,null,"86"]
[{"$f":"IF(登録データ貼付!E88=\"\",\"\",登録データ貼付!E88)","v":""},{"$f":"IF(登録データ貼付!B88=\"\",\"\",登録データ貼付!B88)","v":""},"","","","","",null,null,null,{"$f":"IF(登録データ貼付!C88=\"\",\"\",登録データ貼付!C88&\"　\"&登録データ貼付!D88)","v":""},{"$f":"IF(登録データ貼付!F88=\"\",\"\",登録データ貼付!F88&\"　\"&登録データ貼付!G88)","v":""},"",{"$f":"IF(登録データ貼付!H88=\"\",\"\",登録データ貼付!H88&\" \"&登録データ貼付!I88)","v":""},{"$f":"IF(登録データ貼付!V88=\"\",\"\",RIGHT(登録データ貼付!V88,1))","v":""},{"$f":"IF(登録データ貼付!K88=\"\",\"\",LEFT(登録データ貼付!K88,1))","v":""},{"$f":"IF(登録データ貼付!S88=\"\",\"\",登録データ貼付!S88)","v":""},null,null,"87"]
[{"$f":"IF(登録データ貼付!E89=\"\",\"\",登録データ貼付!E89)","v":""},{"$f":"IF(登録データ貼付!B89=\"\",\"\",登録データ貼付!B89)","v":""},"","","","","",null,null,null,{"$f":"IF(登録データ貼付!C89=\"\",\"\",登録データ貼付!C89&\"　\"&登録データ貼付!D89)","v":""},{"$f":"IF(登録データ貼付!F89=\"\",\"\",登録データ貼付!F89&\"　\"&登録データ貼付!G89)","v":""},"",{"$f":"IF(登録データ貼付!H89=\"\",\"\",登録データ貼付!H89&\" \"&登録データ貼付!I89)","v":""},{"$f":"IF(登録データ貼付!V89=\"\",\"\",RIGHT(登録データ貼付!V89,1))","v":""},{"$f":"IF(登録データ貼付!K89=\"\",\"\",LEFT(登録データ貼付!K89,1))","v":""},{"$f":"IF(登録データ貼付!S89=\"\",\"\",登録データ貼付!S89)","v":""},null,null,"88"]
[{"$f":"IF(登録データ貼付!E90=\"\",\"\",登録データ貼付!E90)","v":""},{"$f":"IF(登録データ貼付!B90=\"\",\"\",登録データ貼付!B90)","v":""},"","","","","",null,null,null,{"$f":"IF(登録データ貼付!C90=\"\",\"\",登録データ貼付!C90&\"　\"&登録データ貼付!D90)","v":""},{"$f":"IF(登録データ貼付!F90=\"\",\"\",登録データ貼付!F90&\"　\"&登録データ貼付!G90)","v":""},"",{"$f":"IF(登録データ貼付!H90=\"\",\"\",登録データ貼付!H90&\" \"&登録データ貼付!I90)","v":""},{"$f":"IF(登録データ貼付!V90=\"\",\"\",RIGHT(登録データ貼付!V90,1))","v":""},{"$f":"IF(登録データ貼付!K90=\"\",\"\",LEFT(登録データ貼付!K90,1))","v":""},{"$f":"IF(登録データ貼付!S90=\"\",\"\",登録データ貼付!S90)","v":""},null,null,"89"]
[{"$f":"IF(登録データ貼付!E91=\"\",\"\",登録データ貼付!E91)","v":""},{"$f":"IF(登録データ貼付!B91=\"\",\"\",登録データ貼付!B91)","v":""},"","","","","",null,null,null,{"$f":"IF(登録データ貼付!C91=\"\",\"\",登録データ貼付!C91&\"　\"&登録データ貼付!D91)","v":""},{"$f":"IF(登録データ貼付!F91=\"\",\"\",登録データ貼付!F91&\"　\"&登録データ貼付!G91)","v":""},"",{"$f":"IF(登録データ貼付!H91=\"\",\"\",登録データ貼付!H91&\" \"&登録データ貼付!I91)","v":""},{"$f":"IF(登録データ貼付!V91=\"\",\"\",RIGHT(登録データ貼付!V91,1))","v":""},{"$f":"IF(登録データ貼付!K91=\"\",\"\",LEFT(登録データ貼付!K91,1))","v":""},{"$f":"IF(登録データ貼付!S91=\"\",\"\",登録データ貼付!S91)","v":""},null,null,"90"]
[{"$f":"IF(登録データ貼付!E92=\"\",\"\",登録データ貼付!E92)","v":""},{"$f":"IF(登録データ貼付!B92=\"\",\"\",登録データ貼付!B92)","v":""},"","","","","",null,null,null,{"$f":"IF(登録データ貼付!C92=\"\",\"\",登録データ貼付!C92&\"　\"&登録データ貼付!D92)","v":""},{"$f":"IF(登録データ貼付!F92=\"\",\"\",登録データ貼付!F92&\"　\"&登録データ貼付!G92)","v":""},"",{"$f":"IF(登録データ貼付!H92=\"\",\"\",登録データ貼付!H92&\" \"&登録データ貼付!I92)","v":""},{"$f":"IF(登録データ貼付!V92=\"\",\"\",RIGHT(登録データ貼付!V92,1))","v":""},{"$f":"IF(登録データ貼付!K92=\"\",\"\",LEFT(登録データ貼付!K92,1))","v":""},{"$f":"IF(登録データ貼付!S92=\"\",\"\",登録データ貼付!S92)","v":""},null,null,"91"]
[{"$f":"IF(登録データ貼付!E93=\"\",\"\",登録データ貼付!E93)","v":""},{"$f":"IF(登録データ貼付!B93=\"\",\"\",登録データ貼付!B93)","v":""},"","","","","",null,null,null,{"$f":"IF(登録データ貼付!C93=\"\",\"\",登録データ貼付!C93&\"　\"&登録データ貼付!D93)","v":""},{"$f":"IF(登録データ貼付!F93=\"\",\"\",登録データ貼付!F93&\"　\"&登録データ貼付!G93)","v":""},"",{"$f":"IF(登録データ貼付!H93=\"\",\"\",登録データ貼付!H93&\" \"&登録データ貼付!I93)","v":""},{"$f":"IF(登録データ貼付!V93=\"\",\"\",RIGHT(登録データ貼付!V93,1))","v":""},{"$f":"IF(登録データ貼付!K93=\"\",\"\",LEFT(登録データ貼付!K93,1))","v":""},{"$f":"IF(登録データ貼付!S93=\"\",\"\",登録データ貼付!S93)","v":""},null,null,"92"]
[{"$f":"IF(登録データ貼付!E94=\"\",\"\",登録データ貼付!E94)","v":""},{"$f":"IF(登録データ貼付!B94=\"\",\"\",登録データ貼付!B94)","v":""},"","","","","",null,null,null,{"$f":"IF(登録データ貼付!C94=\"\",\"\",登録データ貼付!C94&\"　\"&登録データ貼付!D94)","v":""},{"$f":"IF(登録データ貼付!F94=\"\",\"\",登録データ貼付!F94&\"　\"&登録データ貼付!G94)","v":""},"",{"$f":"IF(登録データ貼付!H94=\"\",\"\",登録データ貼付!H94&\" \"&登録データ貼付!I94)","v":""},{"$f":"IF(登録データ貼付!V94=\"\",\"\",RIGHT(登録データ貼付!V94,1))","v":""},{"$f":"IF(登録データ貼付!K94=\"\",\"\",LEFT(登録データ貼付!K94,1))","v":""},{"$f":"IF(登録データ貼付!S94=\"\",\"\",登録データ貼付!S94)","v":""},null,null,"93"]
[{"$f":"IF(登録データ貼付!E95=\"\",\"\",登録データ貼付!E95)","v":""},{"$f":"IF(登録データ貼付!B95=\"\",\"\",登録データ貼付!B95)","v":""},"","","","","",null,null,null,{"$f":"IF(登録データ貼付!C95=\"\",\"\",登録データ貼付!C95&\"　\"&登録データ貼付!D95)","v":""},{"$f":"IF(登録データ貼付!F95=\"\",\"\",登録データ貼付!F95&\"　\"&登録データ貼付!G95)","v":""},"",{"$f":"IF(登録データ貼付!H95=\"\",\"\",登録データ貼付!H95&\" \"&登録データ貼付!I95)","v":""},{"$f":"IF(登録データ貼付!V95=\"\",\"\",RIGHT(登録データ貼付!V95,1))","v":""},{"$f":"IF(登録データ貼付!K95=\"\",\"\",LEFT(登録データ貼付!K95,1))","v":""},{"$f":"IF(登録データ貼付!S95=\"\",\"\",登録データ貼付!S95)","v":""},null,null,"94"]
[{"$f":"IF(登録データ貼付!E96=\"\",\"\",登録データ貼付!E96)","v":""},{"$f":"IF(登録データ貼付!B96=\"\",\"\",登録データ貼付!B96)","v":""},"","","","","",null,null,null,{"$f":"IF(登録データ貼付!C96=\"\",\"\",登録データ貼付!C96&\"　\"&登録データ貼付!D96)","v":""},{"$f":"IF(登録データ貼付!F96=\"\",\"\",登録データ貼付!F96&\"　\"&登録データ貼付!G96)","v":""},"",{"$f":"IF(登録データ貼付!H96=\"\",\"\",登録データ貼付!H96&\" \"&登録データ貼付!I96)","v":""},{"$f":"IF(登録データ貼付!V96=\"\",\"\",RIGHT(登録データ貼付!V96,1))","v":""},{"$f":"IF(登録データ貼付!K96=\"\",\"\",LEFT(登録データ貼付!K96,1))","v":""},{"$f":"IF(登録データ貼付!S96=\"\",\"\",登録データ貼付!S96)","v":""},null,null,"95"]
[{"$f":"IF(登録データ貼付!E97=\"\",\"\",登録データ貼付!E97)","v":""},{"$f":"IF(登録データ貼付!B97=\"\",\"\",登録データ貼付!B97)","v":""},"","","","","",null,null,null,{"$f":"IF(登録データ貼付!C97=\"\",\"\",登録データ貼付!C97&\"　\"&登録データ貼付!D97)","v":""},{"$f":"IF(登録データ貼付!F97=\"\",\"\",登録データ貼付!F97&\"　\"&登録データ貼付!G97)","v":""},"",{"$f":"IF(登録データ貼付!H97=\"\",\"\",登録データ貼付!H97&\" \"&登録データ貼付!I97)","v":""},{"$f":"IF(登録データ貼付!V97=\"\",\"\",RIGHT(登録データ貼付!V97,1))","v":""},{"$f":"IF(登録データ貼付!K97=\"\",\"\",LEFT(登録データ貼付!K97,1))","v":""},{"$f":"IF(登録データ貼付!S97=\"\",\"\",登録データ貼付!S97)","v":""},null,null,"96"]
[{"$f":"IF(登録データ貼付!E98=\"\",\"\",登録データ貼付!E98)","v":""},{"$f":"IF(登録データ貼付!B98=\"\",\"\",登録データ貼付!B98)","v":""},"","","","","",null,null,null,{"$f":"IF(登録データ貼付!C98=\"\",\"\",登録データ貼付!C98&\"　\"&登録データ貼付!D98)","v":""},{"$f":"IF(登録データ貼付!F98=\"\",\"\",登録データ貼付!F98&\"　\"&登録データ貼付!G98)","v":""},"",{"$f":"IF(登録データ貼付!H98=\"\",\"\",登録データ貼付!H98&\" \"&登録データ貼付!I98)","v":""},{"$f":"IF(登録データ貼付!V98=\"\",\"\",RIGHT(登録データ貼付!V98,1))","v":""},{"$f":"IF(登録データ貼付!K98=\"\",\"\",LEFT(登録データ貼付!K98,1))","v":""},{"$f":"IF(登録データ貼付!S98=\"\",\"\",登録データ貼付!S98)","v":""},null,null,"97"]
[{"$f":"IF(登録データ貼付!E99=\"\",\"\",登録データ貼付!E99)","v":""},{"$f":"IF(登録データ貼付!B99=\"\",\"\",登録データ貼付!B99)","v":""},"","","","","",null,null,null,{"$f":"IF(登録データ貼付!C99=\"\",\"\",登録データ貼付!C99&\"　\"&登録データ貼付!D99)","v":""},{"$f":"IF(登録データ貼付!F99=\"\",\"\",登録データ貼付!F99&\"　\"&登録データ貼付!G99)","v":""},"",{"$f":"IF(登録データ貼付!H99=\"\",\"\",登録データ貼付!H99&\" \"&登録データ貼付!I99)","v":""},{"$f":"IF(登録データ貼付!V99=\"\",\"\",RIGHT(登録データ貼付!V99,1))","v":""},{"$f":"IF(登録データ貼付!K99=\"\",\"\",LEFT(登録データ貼付!K99,1))","v":""},{"$f":"IF(登録データ貼付!S99=\"\",\"\",登録データ貼付!S99)","v":""},null,null,"98"]
[{"$f":"IF(登録データ貼付!E100=\"\",\"\",登録データ貼付!E100)","v":""},{"$f":"IF(登録データ貼付!B100=\"\",\"\",登録データ貼付!B100)","v":""},"","","","","",null,null,null,{"$f":"IF(登録データ貼付!C100=\"\",\"\",登録データ貼付!C100&\"　\"&登録データ貼付!D100)","v":""},{"$f":"IF(登録データ貼付!F100=\"\",\"\",登録データ貼付!F100&\"　\"&登録データ貼付!G100)","v":""},"",{"$f":"IF(登録データ貼付!H100=\"\",\"\",登録データ貼付!H100&\" \"&登録データ貼付!I100)","v":""},{"$f":"IF(登録データ貼付!V100=\"\",\"\",RIGHT(登録データ貼付!V100,1))","v":""},{"$f":"IF(登録データ貼付!K100=\"\",\"\",LEFT(登録データ貼付!K100,1))","v":""},{"$f":"IF(登録データ貼付!S100=\"\",\"\",登録データ貼付!S100)","v":""},null,null,"99"]
[]
[]
[]
[]
[]
[]
[]
[]
[]
[{"$f":"TODAY()","v":"2025-05-15"}]
[{"$f":"YEAR(A113)","v":2025}]
[{"$f":"A114-2018","v":7}]
[{"$f":"A114-1951","v":74}]

{"sheet":"登録データ貼付","index":8,"n_rows":1,"n_cols":43,"rows_kept":1,"cut":false,"hidden":false,"merged":[]}
["年度","JAAF ID","氏名（姓）","氏名（名）","登録番号","フリガナ（姓）","フリガナ（名）","英字（姓）","英字（名）","国籍","性別","登録都道府県番号","登録都道府県名","団体UID","団体ID","団体名","団体名略称1","団体名略称2","生年月日","旧団体コード","備考","学年","団体区分","承認団体名","郵便番号","住所","携帯電話番号","卒業高校名","卒業中学名","メールアドレス","E-mail配信希望","勤務先名","勤務先郵便番号","勤務先都道府県","勤務先市区町村 / 番地 / 建物名","在籍学校都道府県","障がいのクラス","実施している種目","興味がある種目","指導者チェック","役職名","管理者","状態"]

{"sheet":"競技者マスタ（NANS）","index":9,"n_rows":81,"n_cols":36,"rows_kept":81,"cut":false,"hidden":false,"merged":[]}
["競技者NO","所属コード1","所属コード2","ナンバー","ナンバー2","競技者名","競技者名カナ","競技者名略称","競技者名英字","国籍","性別","学年","生年","月日","個人所属地名","陸連コード","参加競技-競技コード1","参加競技-自己記録1","参加競技-オープン参加FLG1","参加競技-記録FLG1","参加競技-競技コード2","参加競技-自己記録2","参加競技-オープン参加FLG2","参加競技-記録FLG2","参加競技-競技コード3","参加競技-自己記録3","参加競技-オープン参加FLG3","参加競技-記録FLG3","参加競技-競技コード4","参加競技-自己記録4","参加競技-オープン参加FLG4","参加競技-記録FLG4","参加競技-競技コード5","参加競技-自己記録5","参加競技-オープン参加FLG5","参加競技-記録FLG5"]
[null,{"$f":"IF(E2=\"\",\"\",部員名簿!$W$5)","v":""},null,null,{"$f":"IF(総体入力!B11=\"\",\"\",総体入力!B11)","v":""},{"$f":"IF(総体入力!D11=\"\",\"\",総体入力!D11)","v":""},{"$f":"IF(総体入力!F11=\"\",\"\",総体入力!F11)","v":""},{"$f":"IF(F2=\"\",\"\",F2)","v":""},{"$f":"IF(総体入力!G11=\"\",\"\",総体入力!G11)","v":""},{"$f":"IF(E2=\"\",\"\",\"JPN\")","v":""},{"$f":"IF(E2=\"\",\"\",1)","v":""},{"$f":"IF(総体入力!E11=\"\",\"\",総体入力!E11)","v":""},{"$f":"IF(E2=\"\",\"\",VLOOKUP($E2,部員名簿!$A$5:$R$103,17,FALSE))","v":""},{"$f":"IF(E2=\"\",\"\",VLOOKUP($E2,部員名簿!$A$5:$R$103,17,FALSE))","v":""},null,{"$f":"IF(E2=\"\",\"\",VLOOKUP($E2,部員名簿!$A$5:$G$103,2,FALSE))","v":""},{"$f":"IF(総体入力!H11=\"\",\"\",総体入力!H11)","v":""},null,{"$f":"IF(Q2=\"\",\"\",0)","v":""},{"$f":"IF(Q2=\"\",\"\",0)","v":""},{"$f":"IF(総体入力!I11=\"\",\"\",総体入力!I11)","v":""},null,{"$f":"IF(U2=\"\",\"\",0)","v":""},{"$f":"IF(U2=\"\",\"\",0)","v":""},{"$f":"IF(総体入力!J11=\"\",\"\",総体入力!J11)","v":""},null,{"$f":"IF(Y2=\"\",\"\",0)","v":""},{"$f":"IF(Y2=\"\",\"\",0)","v":""}]
[null,{"$f":"IF(E3=\"\",\"\",部員名簿!$W$5)","v":""},null,null,{"$f":"IF(総体入力!B12=\"\",\"\",総体入力!B12)","v":""},{"$f":"IF(総体入力!D12=\"\",\"\",総体入力!D12)","v":""},{"$f":"IF(総体入力!F12=\"\",\"\",総体入力!F12)","v":""},{"$f":"IF(F3=\"\",\"\",F3)","v":""},{"$f":"IF(総体入力!G12=\"\",\"\",総体入力!G12)","v":""},{"$f":"IF(E3=\"\",\"\",\"JPN\")","v":""},"",{"$f":"IF(総体入力!E12=\"\",\"\",総体入力!E12)","v":""},{"$f":"IF(E3=\"\",\"\",VLOOKUP($E3,部員名簿!$A$5:$R$103,17,FALSE))","v":""},{"$f":"IF(E3=\"\",\"\",VLOOKUP($E3,部員名簿!$A$5:$R$103,17,FALSE))","v":""},null,{"$f":"IF(E3=\"\",\"\",VLOOKUP($E3,部員名簿!$A$5:$G$103,2,FALSE))","v":""},{"$f":"IF(総体入力!H12=\"\",\"\",総体入力!H12)","v":""},null,{"$f":"IF(Q3=\"\",\"\",0)","v":""},{"$f":"IF(Q3=\"\",\"\",0)","v":""},{"$f":"IF(総体入力!I12=\"\",\"\",総体入力!I12)","v":""},null,{"$f":"IF(U3=\"\",\"\",0)","v":""},{"$f":"IF(U3=\"\",\"\",0)","v":""},{"$f":"IF(総体入力!J12=\"\",\"\",総体入力!J12)","v":""},null,{"$f":"IF(Y3=\"\",\"\",0)","v":""},{"$f":"IF(Y3=\"\",\"\",0)","v":""}]
[null,{"$f":"IF(E4=\"\",\"\",部員名簿!$W$5)","v":""},null,null,{"$f":"IF(総体入力!B13=\"\",\"\",総体入力!B13)","v":""},{"$f":"IF(総体入力!D13=\"\",\"\",総体入力!D13)","v":""},{"$f":"IF(総体入力!F13=\"\",\"\",総体入力!F13)","v":""},"",{"$f":"IF(総体入力!G13=\"\",\"\",総体入力!G13)","v":""},"","",{"$f":"IF(総体入力!E13=\"\",\"\",総体入力!E13)","v":""},{"$f":"IF(E4=\"\",\"\",VLOOKUP($E4,部員名簿!$A$5:$R$103,17,FALSE))","v":""},{"$f":"IF(E4=\"\",\"\",VLOOKUP($E4,部員名簿!$A$5:$R$103,17,FALSE))","v":""},null,{"$f":"IF(E4=\"\",\"\",VLOOKUP($E4,部員名簿!$A$5:$G$103,2,FALSE))","v":""},{"$f":"IF(総体入力!H13=\"\",\"\",総体入力!H13)","v":""},null,"","",{"$f":"IF(総体入力!I13=\"\",\"\",総体入力!I13)","v":""},null,"","",{"$f":"IF(総体入力!J13=\"\",\"\",総体入力!J13)","v":""},null,"",""]
[null,{"$f":"IF(E5=\"\",\"\",部員名簿!$W$5)","v":""},null,null,{"$f":"IF(総体入力!B14=\"\",\"\",総体入力!B14)","v":""},{"$f":"IF(総体入力!D14=\"\",\"\",総体入力!D14)","v":""},{"$f":"IF(総体入力!F14=\"\",\"\",総体入力!F14)","v":""},"",{"$f":"IF(総体入力!G14=\"\",\"\",総体入力!G14)","v":""},"","",{"$f":"IF(総体入力!E14=\"\",\"\",総体入力!E14)","v":""},{"$f":"IF(E5=\"\",\"\",VLOOKUP($E5,部員名簿!$A$5:$R$103,17,FALSE))","v":""},{"$f":"IF(E5=\"\",\"\",VLOOKUP($E5,部員名簿!$A$5:$R$103,17,FALSE))","v":""},null,{"$f":"IF(E5=\"\",\"\",VLOOKUP($E5,部員名簿!$A$5:$G$103,2,FALSE))","v":""},{"$f":"IF(総体入力!H14=\"\",\"\",総体入力!H14)","v":""},null,"","",{"$f":"IF(総体入力!I14=\"\",\"\",総体入力!I14)","v":""},null,"","",{"$f":"IF(総体入力!J14=\"\",\"\",総体入力!J14)","v":""},null,"",""]
[null,{"$f":"IF(E6=\"\",\"\",部員名簿!$W$5)","v":""},null,null,{"$f":"IF(総体入力!B15=\"\",\"\",総体入力!B15)","v":""},{"$f":"IF(総体入力!D15=\"\",\"\",総体入力!D15)","v":""},{"$f":"IF(総体入力!F15=\"\",\"\",総体入力!F15)","v":""},"",{"$f":"IF(総体入力!G15=\"\",\"\",総体入力!G15)","v":""},"","",{"$f":"IF(総体入力!E15=\"\",\"\",総体入力!E15)","v":""},{"$f":"IF(E6=\"\",\"\",VLOOKUP($E6,部員名簿!$A$5:$R$103,17,FALSE))","v":""},{"$f":"IF(E6=\"\",\"\",VLOOKUP($E6,部員名簿!$A$5:$R$103,17,FALSE))","v":""},null,{"$f":"IF(E6=\"\",\"\",VLOOKUP($E6,部員名簿!$A$5:$G$103,2,FALSE))","v":""},{"$f":"IF(総体入力!H15=\"\",\"\",総体入力!H15)","v":""},null,"","",{"$f":"IF(総体入力!I15=\"\",\"\",総体入力!I15)","v":""},null,"","",{"$f":"IF(総体入力!J15=\"\",\"\",総体入力!J15)","v":""},null,"",""]
[null,{"$f":"IF(E7=\"\",\"\",部員名簿!$W$5)","v":""},null,null,{"$f":"IF(総体入力!B16=\"\",\"\",総体入力!B16)","v":""},{"$f":"IF(総体入力!D16=\"\",\"\",総体入力!D16)","v":""},{"$f":"IF(総体入力!F16=\"\",\"\",総体入力!F16)","v":""},"",{"$f":"IF(総体入力!G16=\"\",\"\",総体入力!G16)","v":""},"","",{"$f":"IF(総体入力!E16=\"\",\"\",総体入力!E16)","v":""},{"$f":"IF(E7=\"\",\"\",VLOOKUP($E7,部員名簿!$A$5:$R$103,17,FALSE))","v":""},{"$f":"IF(E7=\"\",\"\",VLOOKUP($E7,部員名簿!$A$5:$R$103,17,FALSE))","v":""},null,{"$f":"IF(E7=\"\",\"\",VLOOKUP($E7,部員名簿!$A$5:$G$103,2,FALSE))","v":""},{"$f":"IF(総体入力!H16=\"\",\"\",総体入力!H16)","v":""},null,"","",{"$f":"IF(総体入力!I16=\"\",\"\",総体入力!I16)","v":""},null,"","",{"$f":"IF(総体入力!J16=\"\",\"\",総体入力!J16)","v":""},null,"",""]
[null,{"$f":"IF(E8=\"\",\"\",部員名簿!$W$5)","v":""},null,null,{"$f":"IF(総体入力!B17=\"\",\"\",総体入力!B17)","v":""},{"$f":"IF(総体入力!D17=\"\",\"\",総体入力!D17)","v":""},{"$f":"IF(総体入力!F17=\"\",\"\",総体入力!F17)","v":""},"",{"$f":"IF(総体入力!G17=\"\",\"\",総体入力!G17)","v":""},"","",{"$f":"IF(総体入力!E17=\"\",\"\",総体入力!E17)","v":""},{"$f":"IF(E8=\"\",\"\",VLOOKUP($E8,部員名簿!$A$5:$R$103,17,FALSE))","v":""},{"$f":"IF(E8=\"\",\"\",VLOOKUP($E8,部員名簿!$A$5:$R$103,17,FALSE))","v":""},null,{"$f":"IF(E8=\"\",\"\",VLOOKUP($E8,部員名簿!$A$5:$G$103,2,FALSE))","v":""},{"$f":"IF(総体入力!H17=\"\",\"\",総体入力!H17)","v":""},null,"","",{"$f":"IF(総体入力!I17=\"\",\"\",総体入力!I17)","v":""},null,"","",{"$f":"IF(総体入力!J17=\"\",\"\",総体入力!J17)","v":""},null,"",""]
[null,{"$f":"IF(E9=\"\",\"\",部員名簿!$W$5)","v":""},null,null,{"$f":"IF(総体入力!B18=\"\",\"\",総体入力!B18)","v":""},{"$f":"IF(総体入力!D18=\"\",\"\",総体入力!D18)","v":""},{"$f":"IF(総体入力!F18=\"\",\"\",総体入力!F18)","v":""},"",{"$f":"IF(総体入力!G18=\"\",\"\",総体入力!G18)","v":""},"","",{"$f":"IF(総体入力!E18=\"\",\"\",総体入力!E18)","v":""},{"$f":"IF(E9=\"\",\"\",VLOOKUP($E9,部員名簿!$A$5:$R$103,17,FALSE))","v":""},{"$f":"IF(E9=\"\",\"\",VLOOKUP($E9,部員名簿!$A$5:$R$103,17,FALSE))","v":""},null,{"$f":"IF(E9=\"\",\"\",VLOOKUP($E9,部員名簿!$A$5:$G$103,2,FALSE))","v":""},{"$f":"IF(総体入力!H18=\"\",\"\",総体入力!H18)","v":""},null,"","",{"$f":"IF(総体入力!I18=\"\",\"\",総体入力!I18)","v":""},null,"","",{"$f":"IF(総体入力!J18=\"\",\"\",総体入力!J18)","v":""},null,"",""]
[null,{"$f":"IF(E10=\"\",\"\",部員名簿!$W$5)","v":""},null,null,{"$f":"IF(総体入力!B19=\"\",\"\",総体入力!B19)","v":""},{"$f":"IF(総体入力!D19=\"\",\"\",総体入力!D19)","v":""},{"$f":"IF(総体入力!F19=\"\",\"\",総体入力!F19)","v":""},"",{"$f":"IF(総体入力!G19=\"\",\"\",総体入力!G19)","v":""},"","",{"$f":"IF(総体入力!E19=\"\",\"\",総体入力!E19)","v":""},{"$f":"IF(E10=\"\",\"\",VLOOKUP($E10,部員名簿!$A$5:$R$103,17,FALSE))","v":""},{"$f":"IF(E10=\"\",\"\",VLOOKUP($E10,部員名簿!$A$5:$R$103,17,FALSE))","v":""},null,{"$f":"IF(E10=\"\",\"\",VLOOKUP($E10,部員名簿!$A$5:$G$103,2,FALSE))","v":""},{"$f":"IF(総体入力!H19=\"\",\"\",総体入力!H19)","v":""},null,"","",{"$f":"IF(総体入力!I19=\"\",\"\",総体入力!I19)","v":""},null,"","",{"$f":"IF(総体入力!J19=\"\",\"\",総体入力!J19)","v":""},null,"",""]
[null,{"$f":"IF(E11=\"\",\"\",部員名簿!$W$5)","v":""},null,null,{"$f":"IF(総体入力!B20=\"\",\"\",総体入力!B20)","v":""},{"$f":"IF(総体入力!D20=\"\",\"\",総体入力!D20)","v":""},{"$f":"IF(総体入力!F20=\"\",\"\",総体入力!F20)","v":""},"",{"$f":"IF(総体入力!G20=\"\",\"\",総体入力!G20)","v":""},"","",{"$f":"IF(総体入力!E20=\"\",\"\",総体入力!E20)","v":""},{"$f":"IF(E11=\"\",\"\",VLOOKUP($E11,部員名簿!$A$5:$R$103,17,FALSE))","v":""},{"$f":"IF(E11=\"\",\"\",VLOOKUP($E11,部員名簿!$A$5:$R$103,17,FALSE))","v":""},null,{"$f":"IF(E11=\"\",\"\",VLOOKUP($E11,部員名簿!$A$5:$G$103,2,FALSE))","v":""},{"$f":"IF(総体入力!H20=\"\",\"\",総体入力!H20)","v":""},null,"","",{"$f":"IF(総体入力!I20=\"\",\"\",総体入力!I20)","v":""},null,"","",{"$f":"IF(総体入力!J20=\"\",\"\",総体入力!J20)","v":""},null,"",""]
[null,{"$f":"IF(E12=\"\",\"\",部員名簿!$W$5)","v":""},null,null,{"$f":"IF(総体入力!B21=\"\",\"\",総体入力!B21)","v":""},{"$f":"IF(総体入力!D21=\"\",\"\",総体入力!D21)","v":""},{"$f":"IF(総体入力!F21=\"\",\"\",総体入力!F21)","v":""},"",{"$f":"IF(総体入力!G21=\"\",\"\",総体入力!G21)","v":""},"","",{"$f":"IF(総体入力!E21=\"\",\"\",総体入力!E21)","v":""},{"$f":"IF(E12=\"\",\"\",VLOOKUP($E12,部員名簿!$A$5:$R$103,17,FALSE))","v":""},{"$f":"IF(E12=\"\",\"\",VLOOKUP($E12,部員名簿!$A$5:$R$103,17,FALSE))","v":""},null,{"$f":"IF(E12=\"\",\"\",VLOOKUP($E12,部員名簿!$A$5:$G$103,2,FALSE))","v":""},{"$f":"IF(総体入力!H21=\"\",\"\",総体入力!H21)","v":""},null,"","",{"$f":"IF(総体入力!I21=\"\",\"\",総体入力!I21)","v":""},null,"","",{"$f":"IF(総体入力!J21=\"\",\"\",総体入力!J21)","v":""},null,"",""]
[null,{"$f":"IF(E13=\"\",\"\",部員名簿!$W$5)","v":""},null,null,{"$f":"IF(総体入力!B22=\"\",\"\",総体入力!B22)","v":""},{"$f":"IF(総体入力!D22=\"\",\"\",総体入力!D22)","v":""},{"$f":"IF(総体入力!F22=\"\",\"\",総体入力!F22)","v":""},"",{"$f":"IF(総体入力!G22=\"\",\"\",総体入力!G22)","v":""},"","",{"$f":"IF(総体入力!E22=\"\",\"\",総体入力!E22)","v":""},{"$f":"IF(E13=\"\",\"\",VLOOKUP($E13,部員名簿!$A$5:$R$103,17,FALSE))","v":""},{"$f":"IF(E13=\"\",\"\",VLOOKUP($E13,部員名簿!$A$5:$R$103,17,FALSE))","v":""},null,{"$f":"IF(E13=\"\",\"\",VLOOKUP($E13,部員名簿!$A$5:$G$103,2,FALSE))","v":""},{"$f":"IF(総体入力!H22=\"\",\"\",総体入力!H22)","v":""},null,"","",{"$f":"IF(総体入力!I22=\"\",\"\",総体入力!I22)","v":""},null,"","",{"$f":"IF(総体入力!J22=\"\",\"\",総体入力!J22)","v":""},null,"",""]
[null,{"$f":"IF(E14=\"\",\"\",部員名簿!$W$5)","v":""},null,null,{"$f":"IF(総体入力!B23=\"\",\"\",総体入力!B23)","v":""},{"$f":"IF(総体入力!D23=\"\",\"\",総体入力!D23)","v":""},{"$f":"IF(総体入力!F23=\"\",\"\",総体入力!F23)","v":""},"",{"$f":"IF(総体入力!G23=\"\",\"\",総体入力!G23)","v":""},"","",{"$f":"IF(総体入力!E23=\"\",\"\",総体入力!E23)","v":""},{"$f":"IF(E14=\"\",\"\",VLOOKUP($E14,部員名簿!$A$5:$R$103,17,FALSE))","v":""},{"$f":"IF(E14=\"\",\"\",VLOOKUP($E14,部員名簿!$A$5:$R$103,17,FALSE))","v":""},null,{"$f":"IF(E14=\"\",\"\",VLOOKUP($E14,部員名簿!$A$5:$G$103,2,FALSE))","v":""},{"$f":"IF(総体入力!H23=\"\",\"\",総体入力!H23)","v":""},null,"","",{"$f":"IF(総体入力!I23=\"\",\"\",総体入力!I23)","v":""},null,"","",{"$f":"IF(総体入力!J23=\"\",\"\",総体入力!J23)","v":""},null,"",""]
[null,{"$f":"IF(E15=\"\",\"\",部員名簿!$W$5)","v":""},null,null,{"$f":"IF(総体入力!B24=\"\",\"\",総体入力!B24)","v":""},{"$f":"IF(総体入力!D24=\"\",\"\",総体入力!D24)","v":""},{"$f":"IF(総体入力!F24=\"\",\"\",総体入力!F24)","v":""},"",{"$f":"IF(総体入力!G24=\"\",\"\",総体入力!G24)","v":""},"","",{"$f":"IF(総体入力!E24=\"\",\"\",総体入力!E24)","v":""},{"$f":"IF(E15=\"\",\"\",VLOOKUP($E15,部員名簿!$A$5:$R$103,17,FALSE))","v":""},{"$f":"IF(E15=\"\",\"\",VLOOKUP($E15,部員名簿!$A$5:$R$103,17,FALSE))","v":""},null,{"$f":"IF(E15=\"\",\"\",VLOOKUP($E15,部員名簿!$A$5:$G$103,2,FALSE))","v":""},{"$f":"IF(総体入力!H24=\"\",\"\",総体入力!H24)","v":""},null,"","",{"$f":"IF(総体入力!I24=\"\",\"\",総体入力!I24)","v":""},null,"","",{"$f":"IF(総体入力!J24=\"\",\"\",総体入力!J24)","v":""},null,"",""]
[null,{"$f":"IF(E16=\"\",\"\",部員名簿!$W$5)","v":""},null,null,{"$f":"IF(総体入力!B25=\"\",\"\",総体入力!B25)","v":""},{"$f":"IF(総体入力!D25=\"\",\"\",総体入力!D25)","v":""},{"$f":"IF(総体入力!F25=\"\",\"\",総体入力!F25)","v":""},"",{"$f":"IF(総体入力!G25=\"\",\"\",総体入力!G25)","v":""},"","",{"$f":"IF(総体入力!E25=\"\",\"\",総体入力!E25)","v":""},{"$f":"IF(E16=\"\",\"\",VLOOKUP($E16,部員名簿!$A$5:$R$103,17,FALSE))","v":""},{"$f":"IF(E16=\"\",\"\",VLOOKUP($E16,部員名簿!$A$5:$R$103,17,FALSE))","v":""},null,{"$f":"IF(E16=\"\",\"\",VLOOKUP($E16,部員名簿!$A$5:$G$103,2,FALSE))","v":""},{"$f":"IF(総体入力!H25=\"\",\"\",総体入力!H25)","v":""},null,"","",{"$f":"IF(総体入力!I25=\"\",\"\",総体入力!I25)","v":""},null,"","",{"$f":"IF(総体入力!J25=\"\",\"\",総体入力!J25)","v":""},null,"",""]
[null,{"$f":"IF(E17=\"\",\"\",部員名簿!$W$5)","v":""},null,null,{"$f":"IF(総体入力!B26=\"\",\"\",総体入力!B26)","v":""},{"$f":"IF(総体入力!D26=\"\",\"\",総体入力!D26)","v":""},{"$f":"IF(総体入力!F26=\"\",\"\",総体入力!F26)","v":""},"",{"$f":"IF(総体入力!G26=\"\",\"\",総体入力!G26)","v":""},"","",{"$f":"IF(総体入力!E26=\"\",\"\",総体入力!E26)","v":""},{"$f":"IF(E17=\"\",\"\",VLOOKUP($E17,部員名簿!$A$5:$R$103,17,FALSE))","v":""},{"$f":"IF(E17=\"\",\"\",VLOOKUP($E17,部員名簿!$A$5:$R$103,17,FALSE))","v":""},null,{"$f":"IF(E17=\"\",\"\",VLOOKUP($E17,部員名簿!$A$5:$G$103,2,FALSE))","v":""},{"$f":"IF(総体入力!H26=\"\",\"\",総体入力!H26)","v":""},null,"","",{"$f":"IF(総体入力!I26=\"\",\"\",総体入力!I26)","v":""},null,"","",{"$f":"IF(総体入力!J26=\"\",\"\",総体入力!J26)","v":""},null,"",""]
[null,{"$f":"IF(E18=\"\",\"\",部員名簿!$W$5)","v":""},null,null,{"$f":"IF(総体入力!B27=\"\",\"\",総体入力!B27)","v":""},{"$f":"IF(総体入力!D27=\"\",\"\",総体入力!D27)","v":""},{"$f":"IF(総体入力!F27=\"\",\"\",総体入力!F27)","v":""},"",{"$f":"IF(総体入力!G27=\"\",\"\",総体入力!G27)","v":""},"","",{"$f":"IF(総体入力!E27=\"\",\"\",総体入力!E27)","v":""},{"$f":"IF(E18=\"\",\"\",VLOOKUP($E18,部員名簿!$A$5:$R$103,17,FALSE))","v":""},{"$f":"IF(E18=\"\",\"\",VLOOKUP($E18,部員名簿!$A$5:$R$103,17,FALSE))","v":""},null,{"$f":"IF(E18=\"\",\"\",VLOOKUP($E18,部員名簿!$A$5:$G$103,2,FALSE))","v":""},{"$f":"IF(総体入力!H27=\"\",\"\",総体入力!H27)","v":""},null,"","",{"$f":"IF(総体入力!I27=\"\",\"\",総体入力!I27)","v":""},null,"","",{"$f":"IF(総体入力!J27=\"\",\"\",総体入力!J27)","v":""},null,"",""]
[null,{"$f":"IF(E19=\"\",\"\",部員名簿!$W$5)","v":""},null,null,{"$f":"IF(総体入力!B28=\"\",\"\",総体入力!B28)","v":""},{"$f":"IF(総体入力!D28=\"\",\"\",総体入力!D28)","v":""},{"$f":"IF(総体入力!F28=\"\",\"\",総体入力!F28)","v":""},"",{"$f":"IF(総体入力!G28=\"\",\"\",総体入力!G28)","v":""},"","",{"$f":"IF(総体入力!E28=\"\",\"\",総体入力!E28)","v":""},{"$f":"IF(E19=\"\",\"\",VLOOKUP($E19,部員名簿!$A$5:$R$103,17,FALSE))","v":""},{"$f":"IF(E19=\"\",\"\",VLOOKUP($E19,部員名簿!$A$5:$R$103,17,FALSE))","v":""},null,{"$f":"IF(E19=\"\",\"\",VLOOKUP($E19,部員名簿!$A$5:$G$103,2,FALSE))","v":""},{"$f":"IF(総体入力!H28=\"\",\"\",総体入力!H28)","v":""},null,"","",{"$f":"IF(総体入力!I28=\"\",\"\",総体入力!I28)","v":""},null,"","",{"$f":"IF(総体入力!J28=\"\",\"\",総体入力!J28)","v":""},null,"",""]
[null,{"$f":"IF(E20=\"\",\"\",部員名簿!$W$5)","v":""},null,null,{"$f":"IF(総体入力!B29=\"\",\"\",総体入力!B29)","v":""},{"$f":"IF(総体入力!D29=\"\",\"\",総体入力!D29)","v":""},{"$f":"IF(総体入力!F29=\"\",\"\",総体入力!F29)","v":""},"",{"$f":"IF(総体入力!G29=\"\",\"\",総体入力!G29)","v":""},"","",{"$f":"IF(総体入力!E29=\"\",\"\",総体入力!E29)","v":""},{"$f":"IF(E20=\"\",\"\",VLOOKUP($E20,部員名簿!$A$5:$R$103,17,FALSE))","v":""},{"$f":"IF(E20=\"\",\"\",VLOOKUP($E20,部員名簿!$A$5:$R$103,17,FALSE))","v":""},null,{"$f":"IF(E20=\"\",\"\",VLOOKUP($E20,部員名簿!$A$5:$G$103,2,FALSE))","v":""},{"$f":"IF(総体入力!H29=\"\",\"\",総体入力!H29)","v":""},null,"","",{"$f":"IF(総体入力!I29=\"\",\"\",総体入力!I29)","v":""},null,"","",{"$f":"IF(総体入力!J29=\"\",\"\",総体入力!J29)","v":""},null,"",""]
[null,{"$f":"IF(E21=\"\",\"\",部員名簿!$W$5)","v":""},null,null,{"$f":"IF(総体入力!B30=\"\",\"\",総体入力!B30)","v":""},{"$f":"IF(総体入力!D30=\"\",\"\",総体入力!D30)","v":""},{"$f":"IF(総体入力!F30=\"\",\"\",総体入力!F30)","v":""},"",{"$f":"IF(総体入力!G30=\"\",\"\",総体入力!G30)","v":""},"","",{"$f":"IF(総体入力!E30=\"\",\"\",総体入力!E30)","v":""},{"$f":"IF(E21=\"\",\"\",VLOOKUP($E21,部員名簿!$A$5:$R$103,17,FALSE))","v":""},{"$f":"IF(E21=\"\",\"\",VLOOKUP($E21,部員名簿!$A$5:$R$103,17,FALSE))","v":""},null,{"$f":"IF(E21=\"\",\"\",VLOOKUP($E21,部員名簿!$A$5:$G$103,2,FALSE))","v":""},{"$f":"IF(総体入力!H30=\"\",\"\",総体入力!H30)","v":""},null,"","",{"$f":"IF(総体入力!I30=\"\",\"\",総体入力!I30)","v":""},null,"","",{"$f":"IF(総体入力!J30=\"\",\"\",総体入力!J30)","v":""},null,"",""]
[null,{"$f":"IF(E22=\"\",\"\",部員名簿!$W$5)","v":""},null,null,{"$f":"IF(総体入力!B31=\"\",\"\",総体入力!B31)","v":""},{"$f":"IF(総体入力!D31=\"\",\"\",総体入力!D31)","v":""},{"$f":"IF(総体入力!F31=\"\",\"\",総体入力!F31)","v":""},"",{"$f":"IF(総体入力!G31=\"\",\"\",総体入力!G31)","v":""},"","",{"$f":"IF(総体入力!E31=\"\",\"\",総体入力!E31)","v":""},{"$f":"IF(E22=\"\",\"\",VLOOKUP($E22,部員名簿!$A$5:$R$103,17,FALSE))","v":""},{"$f":"IF(E22=\"\",\"\",VLOOKUP($E22,部員名簿!$A$5:$R$103,17,FALSE))","v":""},null,{"$f":"IF(E22=\"\",\"\",VLOOKUP($E22,部員名簿!$A$5:$G$103,2,FALSE))","v":""},{"$f":"IF(総体入力!H31=\"\",\"\",総体入力!H31)","v":""},null,"","",{"$f":"IF(総体入力!I31=\"\",\"\",総体入力!I31)","v":""},null,"","",{"$f":"IF(総体入力!J31=\"\",\"\",総体入力!J31)","v":""},null,"",""]
[null,{"$f":"IF(E23=\"\",\"\",部員名簿!$W$5)","v":""},null,null,{"$f":"IF(総体入力!B32=\"\",\"\",総体入力!B32)","v":""},{"$f":"IF(総体入力!D32=\"\",\"\",総体入力!D32)","v":""},{"$f":"IF(総体入力!F32=\"\",\"\",総体入力!F32)","v":""},"",{"$f":"IF(総体入力!G32=\"\",\"\",総体入力!G32)","v":""},"","",{"$f":"IF(総体入力!E32=\"\",\"\",総体入力!E32)","v":""},{"$f":"IF(E23=\"\",\"\",VLOOKUP($E23,部員名簿!$A$5:$R$103,17,FALSE))","v":""},{"$f":"IF(E23=\"\",\"\",VLOOKUP($E23,部員名簿!$A$5:$R$103,17,FALSE))","v":""},null,{"$f":"IF(E23=\"\",\"\",VLOOKUP($E23,部員名簿!$A$5:$G$103,2,FALSE))","v":""},{"$f":"IF(総体入力!H32=\"\",\"\",総体入力!H32)","v":""},null,"","",{"$f":"IF(総体入力!I32=\"\",\"\",総体入力!I32)","v":""},null,"","",{"$f":"IF(総体入力!J32=\"\",\"\",総体入力!J32)","v":""},null,"",""]
[null,{"$f":"IF(E24=\"\",\"\",部員名簿!$W$5)","v":""},null,null,{"$f":"IF(総体入力!B33=\"\",\"\",総体入力!B33)","v":""},{"$f":"IF(総体入力!D33=\"\",\"\",総体入力!D33)","v":""},{"$f":"IF(総体入力!F33=\"\",\"\",総体入力!F33)","v":""},"",{"$f":"IF(総体入力!G33=\"\",\"\",総体入力!G33)","v":""},"","",{"$f":"IF(総体入力!E33=\"\",\"\",総体入力!E33)","v":""},{"$f":"IF(E24=\"\",\"\",VLOOKUP($E24,部員名簿!$A$5:$R$103,17,FALSE))","v":""},{"$f":"IF(E24=\"\",\"\",VLOOKUP($E24,部員名簿!$A$5:$R$103,17,FALSE))","v":""},null,{"$f":"IF(E24=\"\",\"\",VLOOKUP($E24,部員名簿!$A$5:$G$103,2,FALSE))","v":""},{"$f":"IF(総体入力!H33=\"\",\"\",総体入力!H33)","v":""},null,"","",{"$f":"IF(総体入力!I33=\"\",\"\",総体入力!I33)","v":""},null,"","",{"$f":"IF(総体入力!J33=\"\",\"\",総体入力!J33)","v":""},null,"",""]
[null,{"$f":"IF(E25=\"\",\"\",部員名簿!$W$5)","v":""},null,null,{"$f":"IF(総体入力!B34=\"\",\"\",総体入力!B34)","v":""},{"$f":"IF(総体入力!D34=\"\",\"\",総体入力!D34)","v":""},{"$f":"IF(総体入力!F34=\"\",\"\",総体入力!F34)","v":""},"",{"$f":"IF(総体入力!G34=\"\",\"\",総体入力!G34)","v":""},"","",{"$f":"IF(総体入力!E34=\"\",\"\",総体入力!E34)","v":""},{"$f":"IF(E25=\"\",\"\",VLOOKUP($E25,部員名簿!$A$5:$R$103,17,FALSE))","v":""},{"$f":"IF(E25=\"\",\"\",VLOOKUP($E25,部員名簿!$A$5:$R$103,17,FALSE))","v":""},null,{"$f":"IF(E25=\"\",\"\",VLOOKUP($E25,部員名簿!$A$5:$G$103,2,FALSE))","v":""},{"$f":"IF(総体入力!H34=\"\",\"\",総体入力!H34)","v":""},null,"","",{"$f":"IF(総体入力!I34=\"\",\"\",総体入力!I34)","v":""},null,"","",{"$f":"IF(総体入力!J34=\"\",\"\",総体入力!J34)","v":""},null,"",""]
[null,{"$f":"IF(E26=\"\",\"\",部員名簿!$W$5)","v":""},null,null,{"$f":"IF(総体入力!B35=\"\",\"\",総体入力!B35)","v":""},{"$f":"IF(総体入力!D35=\"\",\"\",総体入力!D35)","v":""},{"$f":"IF(総体入力!F35=\"\",\"\",総体入力!F35)","v":""},"",{"$f":"IF(総体入力!G35=\"\",\"\",総体入力!G35)","v":""},"","",{"$f":"IF(総体入力!E35=\"\",\"\",総体入力!E35)","v":""},{"$f":"IF(E26=\"\",\"\",VLOOKUP($E26,部員名簿!$A$5:$R$103,17,FALSE))","v":""},{"$f":"IF(E26=\"\",\"\",VLOOKUP($E26,部員名簿!$A$5:$R$103,17,FALSE))","v":""},null,{"$f":"IF(E26=\"\",\"\",VLOOKUP($E26,部員名簿!$A$5:$G$103,2,FALSE))","v":""},{"$f":"IF(総体入力!H35=\"\",\"\",総体入力!H35)","v":""},null,"","",{"$f":"IF(総体入力!I35=\"\",\"\",総体入力!I35)","v":""},null,"","",{"$f":"IF(総体入力!J35=\"\",\"\",総体入力!J35)","v":""},null,"",""]
[null,{"$f":"IF(E27=\"\",\"\",部員名簿!$W$5)","v":""},null,null,{"$f":"IF(総体入力!B36=\"\",\"\",総体入力!B36)","v":""},{"$f":"IF(総体入力!D36=\"\",\"\",総体入力!D36)","v":""},{"$f":"IF(総体入力!F36=\"\",\"\",総体入力!F36)","v":""},"",{"$f":"IF(総体入力!G36=\"\",\"\",総体入力!G36)","v":""},"","",{"$f":"IF(総体入力!E36=\"\",\"\",総体入力!E36)","v":""},{"$f":"IF(E27=\"\",\"\",VLOOKUP($E27,部員名簿!$A$5:$R$103,17,FALSE))","v":""},{"$f":"IF(E27=\"\",\"\",VLOOKUP($E27,部員名簿!$A$5:$R$103,17,FALSE))","v":""},null,{"$f":"IF(E27=\"\",\"\",VLOOKUP($E27,部員名簿!$A$5:$G$103,2,FALSE))","v":""},{"$f":"IF(総体入力!H36=\"\",\"\",総体入力!H36)","v":""},null,"","",{"$f":"IF(総体入力!I36=\"\",\"\",総体入力!I36)","v":""},null,"","",{"$f":"IF(総体入力!J36=\"\",\"\",総体入力!J36)","v":""},null,"",""]
[null,{"$f":"IF(E28=\"\",\"\",部員名簿!$W$5)","v":""},null,null,{"$f":"IF(総体入力!B37=\"\",\"\",総体入力!B37)","v":""},{"$f":"IF(総体入力!D37=\"\",\"\",総体入力!D37)","v":""},{"$f":"IF(総体入力!F37=\"\",\"\",総体入力!F37)","v":""},"",{"$f":"IF(総体入力!G37=\"\",\"\",総体入力!G37)","v":""},"","",{"$f":"IF(総体入力!E37=\"\",\"\",総体入力!E37)","v":""},{"$f":"IF(E28=\"\",\"\",VLOOKUP($E28,部員名簿!$A$5:$R$103,17,FALSE))","v":""},{"$f":"IF(E28=\"\",\"\",VLOOKUP($E28,部員名簿!$A$5:$R$103,17,FALSE))","v":""},null,{"$f":"IF(E28=\"\",\"\",VLOOKUP($E28,部員名簿!$A$5:$G$103,2,FALSE))","v":""},{"$f":"IF(総体入力!H37=\"\",\"\",総体入力!H37)","v":""},null,"","",{"$f":"IF(総体入力!I37=\"\",\"\",総体入力!I37)","v":""},null,"","",{"$f":"IF(総体入力!J37=\"\",\"\",総体入力!J37)","v":""},null,"",""]
[null,{"$f":"IF(E29=\"\",\"\",部員名簿!$W$5)","v":""},null,null,{"$f":"IF(総体入力!B38=\"\",\"\",総体入力!B38)","v":""},{"$f":"IF(総体入力!D38=\"\",\"\",総体入力!D38)","v":""},{"$f":"IF(総体入力!F38=\"\",\"\",総体入力!F38)","v":""},"",{"$f":"IF(総体入力!G38=\"\",\"\",総体入力!G38)","v":""},"","",{"$f":"IF(総体入力!E38=\"\",\"\",総体入力!E38)","v":""},{"$f":"IF(E29=\"\",\"\",VLOOKUP($E29,部員名簿!$A$5:$R$103,17,FALSE))","v":""},{"$f":"IF(E29=\"\",\"\",VLOOKUP($E29,部員名簿!$A$5:$R$103,17,FALSE))","v":""},null,{"$f":"IF(E29=\"\",\"\",VLOOKUP($E29,部員名簿!$A$5:$G$103,2,FALSE))","v":""},{"$f":"IF(総体入力!H38=\"\",\"\",総体入力!H38)","v":""},null,"","",{"$f":"IF(総体入力!I38=\"\",\"\",総体入力!I38)","v":""},null,"","",{"$f":"IF(総体入力!J38=\"\",\"\",総体入力!J38)","v":""},null,"",""]
[null,{"$f":"IF(E30=\"\",\"\",部員名簿!$W$5)","v":""},null,null,{"$f":"IF(総体入力!B39=\"\",\"\",総体入力!B39)","v":""},{"$f":"IF(総体入力!D39=\"\",\"\",総体入力!D39)","v":""},{"$f":"IF(総体入力!F39=\"\",\"\",総体入力!F39)","v":""},"",{"$f":"IF(総体入力!G39=\"\",\"\",総体入力!G39)","v":""},"","",{"$f":"IF(総体入力!E39=\"\",\"\",総体入力!E39)","v":""},{"$f":"IF(E30=\"\",\"\",VLOOKUP($E30,部員名簿!$A$5:$R$103,17,FALSE))","v":""},{"$f":"IF(E30=\"\",\"\",VLOOKUP($E30,部員名簿!$A$5:$R$103,17,FALSE))","v":""},null,{"$f":"IF(E30=\"\",\"\",VLOOKUP($E30,部員名簿!$A$5:$G$103,2,FALSE))","v":""},{"$f":"IF(総体入力!H39=\"\",\"\",総体入力!H39)","v":""},null,"","",{"$f":"IF(総体入力!I39=\"\",\"\",総体入力!I39)","v":""},null,"","",{"$f":"IF(総体入力!J39=\"\",\"\",総体入力!J39)","v":""},null,"",""]
[null,{"$f":"IF(E31=\"\",\"\",部員名簿!$W$5)","v":""},null,null,{"$f":"IF(総体入力!B40=\"\",\"\",総体入力!B40)","v":""},{"$f":"IF(総体入力!D40=\"\",\"\",総体入力!D40)","v":""},{"$f":"IF(総体入力!F40=\"\",\"\",総体入力!F40)","v":""},"",{"$f":"IF(総体入力!G40=\"\",\"\",総体入力!G40)","v":""},"","",{"$f":"IF(総体入力!E40=\"\",\"\",総体入力!E40)","v":""},{"$f":"IF(E31=\"\",\"\",VLOOKUP($E31,部員名簿!$A$5:$R$103,17,FALSE))","v":""},{"$f":"IF(E31=\"\",\"\",VLOOKUP($E31,部員名簿!$A$5:$R$103,17,FALSE))","v":""},null,{"$f":"IF(E31=\"\",\"\",VLOOKUP($E31,部員名簿!$A$5:$G$103,2,FALSE))","v":""},{"$f":"IF(総体入力!H40=\"\",\"\",総体入力!H40)","v":""},null,"","",{"$f":"IF(総体入力!I40=\"\",\"\",総体入力!I40)","v":""},null,"","",{"$f":"IF(総体入力!J40=\"\",\"\",総体入力!J40)","v":""},null,"",""]
[null,{"$f":"IF(E32=\"\",\"\",部員名簿!$W$5)","v":""},null,null,{"$f":"IF(総体入力!B41=\"\",\"\",総体入力!B41)","v":""},{"$f":"IF(総体入力!D41=\"\",\"\",総体入力!D41)","v":""},{"$f":"IF(総体入力!F41=\"\",\"\",総体入力!F41)","v":""},"",{"$f":"IF(総体入力!G41=\"\",\"\",総体入力!G41)","v":""},"","",{"$f":"IF(総体入力!E41=\"\",\"\",総体入力!E41)","v":""},{"$f":"IF(E32=\"\",\"\",VLOOKUP($E32,部員名簿!$A$5:$R$103,17,FALSE))","v":""},{"$f":"IF(E32=\"\",\"\",VLOOKUP($E32,部員名簿!$A$5:$R$103,17,FALSE))","v":""},null,{"$f":"IF(E32=\"\",\"\",VLOOKUP($E32,部員名簿!$A$5:$G$103,2,FALSE))","v":""},{"$f":"IF(総体入力!H41=\"\",\"\",総体入力!H41)","v":""},null,"","",{"$f":"IF(総体入力!I41=\"\",\"\",総体入力!I41)","v":""},null,"","",{"$f":"IF(総体入力!J41=\"\",\"\",総体入力!J41)","v":""},null,"",""]
[null,{"$f":"IF(E33=\"\",\"\",部員名簿!$W$5)","v":""},null,null,{"$f":"IF(総体入力!B42=\"\",\"\",総体入力!B42)","v":""},{"$f":"IF(総体入力!D42=\"\",\"\",総体入力!D42)","v":""},{"$f":"IF(総体入力!F42=\"\",\"\",総体入力!F42)","v":""},"",{"$f":"IF(総体入力!G42=\"\",\"\",総体入力!G42)","v":""},"","",{"$f":"IF(総体入力!E42=\"\",\"\",総体入力!E42)","v":""},{"$f":"IF(E33=\"\",\"\",VLOOKUP($E33,部員名簿!$A$5:$R$103,17,FALSE))","v":""},{"$f":"IF(E33=\"\",\"\",VLOOKUP($E33,部員名簿!$A$5:$R$103,17,FALSE))","v":""},null,{"$f":"IF(E33=\"\",\"\",VLOOKUP($E33,部員名簿!$A$5:$G$103,2,FALSE))","v":""},{"$f":"IF(総体入力!H42=\"\",\"\",総体入力!H42)","v":""},null,"","",{"$f":"IF(総体入力!I42=\"\",\"\",総体入力!I42)","v":""},null,"","",{"$f":"IF(総体入力!J42=\"\",\"\",総体入力!J42)","v":""},null,"",""]
[null,{"$f":"IF(E34=\"\",\"\",部員名簿!$W$5)","v":""},null,null,{"$f":"IF(総体入力!B43=\"\",\"\",総体入力!B43)","v":""},{"$f":"IF(総体入力!D43=\"\",\"\",総体入力!D43)","v":""},{"$f":"IF(総体入力!F43=\"\",\"\",総体入力!F43)","v":""},"",{"$f":"IF(総体入力!G43=\"\",\"\",総体入力!G43)","v":""},"","",{"$f":"IF(総体入力!E43=\"\",\"\",総体入力!E43)","v":""},{"$f":"IF(E34=\"\",\"\",VLOOKUP($E34,部員名簿!$A$5:$R$103,17,FALSE))","v":""},{"$f":"IF(E34=\"\",\"\",VLOOKUP($E34,部員名簿!$A$5:$R$103,17,FALSE))","v":""},null,{"$f":"IF(E34=\"\",\"\",VLOOKUP($E34,部員名簿!$A$5:$G$103,2,FALSE))","v":""},{"$f":"IF(総体入力!H43=\"\",\"\",総体入力!H43)","v":""},null,"","",{"$f":"IF(総体入力!I43=\"\",\"\",総体入力!I43)","v":""},null,"","",{"$f":"IF(総体入力!J43=\"\",\"\",総体入力!J43)","v":""},null,"",""]
[null,{"$f":"IF(E35=\"\",\"\",部員名簿!$W$5)","v":""},null,null,{"$f":"IF(総体入力!B44=\"\",\"\",総体入力!B44)","v":""},{"$f":"IF(総体入力!D44=\"\",\"\",総体入力!D44)","v":""},{"$f":"IF(総体入力!F44=\"\",\"\",総体入力!F44)","v":""},"",{"$f":"IF(総体入力!G44=\"\",\"\",総体入力!G44)","v":""},"","",{"$f":"IF(総体入力!E44=\"\",\"\",総体入力!E44)","v":""},{"$f":"IF(E35=\"\",\"\",VLOOKUP($E35,部員名簿!$A$5:$R$103,17,FALSE))","v":""},{"$f":"IF(E35=\"\",\"\",VLOOKUP($E35,部員名簿!$A$5:$R$103,17,FALSE))","v":""},null,{"$f":"IF(E35=\"\",\"\",VLOOKUP($E35,部員名簿!$A$5:$G$103,2,FALSE))","v":""},{"$f":"IF(総体入力!H44=\"\",\"\",総体入力!H44)","v":""},null,"","",{"$f":"IF(総体入力!I44=\"\",\"\",総体入力!I44)","v":""},null,"","",{"$f":"IF(総体入力!J44=\"\",\"\",総体入力!J44)","v":""},null,"",""]
[null,{"$f":"IF(E36=\"\",\"\",部員名簿!$W$5)","v":""},null,null,{"$f":"IF(総体入力!B45=\"\",\"\",総体入力!B45)","v":""},{"$f":"IF(総体入力!D45=\"\",\"\",総体入力!D45)","v":""},{"$f":"IF(総体入力!F45=\"\",\"\",総体入力!F45)","v":""},"",{"$f":"IF(総体入力!G45=\"\",\"\",総体入力!G45)","v":""},"","",{"$f":"IF(総体入力!E45=\"\",\"\",総体入力!E45)","v":""},{"$f":"IF(E36=\"\",\"\",VLOOKUP($E36,部員名簿!$A$5:$R$103,17,FALSE))","v":""},{"$f":"IF(E36=\"\",\"\",VLOOKUP($E36,部員名簿!$A$5:$R$103,17,FALSE))","v":""},null,{"$f":"IF(E36=\"\",\"\",VLOOKUP($E36,部員名簿!$A$5:$G$103,2,FALSE))","v":""},{"$f":"IF(総体入力!H45=\"\",\"\",総体入力!H45)","v":""},null,"","",{"$f":"IF(総体入力!I45=\"\",\"\",総体入力!I45)","v":""},null,"","",{"$f":"IF(総体入力!J45=\"\",\"\",総体入力!J45)","v":""},null,"",""]
[null,{"$f":"IF(E37=\"\",\"\",部員名簿!$W$5)","v":""},null,null,{"$f":"IF(総体入力!B46=\"\",\"\",総体入力!B46)","v":""},{"$f":"IF(総体入力!D46=\"\",\"\",総体入力!D46)","v":""},{"$f":"IF(総体入力!F46=\"\",\"\",総体入力!F46)","v":""},"",{"$f":"IF(総体入力!G46=\"\",\"\",総体入力!G46)","v":""},"","",{"$f":"IF(総体入力!E46=\"\",\"\",総体入力!E46)","v":""},{"$f":"IF(E37=\"\",\"\",VLOOKUP($E37,部員名簿!$A$5:$R$103,17,FALSE))","v":""},{"$f":"IF(E37=\"\",\"\",VLOOKUP($E37,部員名簿!$A$5:$R$103,17,FALSE))","v":""},null,{"$f":"IF(E37=\"\",\"\",VLOOKUP($E37,部員名簿!$A$5:$G$103,2,FALSE))","v":""},{"$f":"IF(総体入力!H46=\"\",\"\",総体入力!H46)","v":""},null,"","",{"$f":"IF(総体入力!I46=\"\",\"\",総体入力!I46)","v":""},null,"","",{"$f":"IF(総体入力!J46=\"\",\"\",総体入力!J46)","v":""},null,"",""]
[null,{"$f":"IF(E38=\"\",\"\",部員名簿!$W$5)","v":""},null,null,{"$f":"IF(総体入力!B47=\"\",\"\",総体入力!B47)","v":""},{"$f":"IF(総体入力!D47=\"\",\"\",総体入力!D47)","v":""},{"$f":"IF(総体入力!F47=\"\",\"\",総体入力!F47)","v":""},"",{"$f":"IF(総体入力!G47=\"\",\"\",総体入力!G47)","v":""},"","",{"$f":"IF(総体入力!E47=\"\",\"\",総体入力!E47)","v":""},{"$f":"IF(E38=\"\",\"\",VLOOKUP($E38,部員名簿!$A$5:$R$103,17,FALSE))","v":""},{"$f":"IF(E38=\"\",\"\",VLOOKUP($E38,部員名簿!$A$5:$R$103,17,FALSE))","v":""},null,{"$f":"IF(E38=\"\",\"\",VLOOKUP($E38,部員名簿!$A$5:$G$103,2,FALSE))","v":""},{"$f":"IF(総体入力!H47=\"\",\"\",総体入力!H47)","v":""},null,"","",{"$f":"IF(総体入力!I47=\"\",\"\",総体入力!I47)","v":""},null,"","",{"$f":"IF(総体入力!J47=\"\",\"\",総体入力!J47)","v":""},null,"",""]
[null,{"$f":"IF(E39=\"\",\"\",部員名簿!$W$5)","v":""},null,null,{"$f":"IF(総体入力!B48=\"\",\"\",総体入力!B48)","v":""},{"$f":"IF(総体入力!D48=\"\",\"\",総体入力!D48)","v":""},{"$f":"IF(総体入力!F48=\"\",\"\",総体入力!F48)","v":""},"",{"$f":"IF(総体入力!G48=\"\",\"\",総体入力!G48)","v":""},"","",{"$f":"IF(総体入力!E48=\"\",\"\",総体入力!E48)","v":""},{"$f":"IF(E39=\"\",\"\",VLOOKUP($E39,部員名簿!$A$5:$R$103,17,FALSE))","v":""},{"$f":"IF(E39=\"\",\"\",VLOOKUP($E39,部員名簿!$A$5:$R$103,17,FALSE))","v":""},null,{"$f":"IF(E39=\"\",\"\",VLOOKUP($E39,部員名簿!$A$5:$G$103,2,FALSE))","v":""},{"$f":"IF(総体入力!H48=\"\",\"\",総体入力!H48)","v":""},null,"","",{"$f":"IF(総体入力!I48=\"\",\"\",総体入力!I48)","v":""},null,"","",{"$f":"IF(総体入力!J48=\"\",\"\",総体入力!J48)","v":""},null,"",""]
[null,{"$f":"IF(E40=\"\",\"\",部員名簿!$W$5)","v":""},null,null,{"$f":"IF(総体入力!B49=\"\",\"\",総体入力!B49)","v":""},{"$f":"IF(総体入力!D49=\"\",\"\",総体入力!D49)","v":""},{"$f":"IF(総体入力!F49=\"\",\"\",総体入力!F49)","v":""},"",{"$f":"IF(総体入力!G49=\"\",\"\",総体入力!G49)","v":""},"","",{"$f":"IF(総体入力!E49=\"\",\"\",総体入力!E49)","v":""},{"$f":"IF(E40=\"\",\"\",VLOOKUP($E40,部員名簿!$A$5:$R$103,17,FALSE))","v":""},{"$f":"IF(E40=\"\",\"\",VLOOKUP($E40,部員名簿!$A$5:$R$103,17,FALSE))","v":""},null,{"$f":"IF(E40=\"\",\"\",VLOOKUP($E40,部員名簿!$A$5:$G$103,2,FALSE))","v":""},{"$f":"IF(総体入力!H49=\"\",\"\",総体入力!H49)","v":""},null,"","",{"$f":"IF(総体入力!I49=\"\",\"\",総体入力!I49)","v":""},null,"","",{"$f":"IF(総体入力!J49=\"\",\"\",総体入力!J49)","v":""},null,"",""]
[null,{"$f":"IF(E41=\"\",\"\",部員名簿!$W$5)","v":""},null,null,{"$f":"IF(総体入力!B50=\"\",\"\",総体入力!B50)","v":""},{"$f":"IF(総体入力!D50=\"\",\"\",総体入力!D50)","v":""},{"$f":"IF(総体入力!F50=\"\",\"\",総体入力!F50)","v":""},"",{"$f":"IF(総体入力!G50=\"\",\"\",総体入力!G50)","v":""},"","",{"$f":"IF(総体入力!E50=\"\",\"\",総体入力!E50)","v":""},{"$f":"IF(E41=\"\",\"\",VLOOKUP($E41,部員名簿!$A$5:$R$103,17,FALSE))","v":""},{"$f":"IF(E41=\"\",\"\",VLOOKUP($E41,部員名簿!$A$5:$R$103,17,FALSE))","v":""},null,{"$f":"IF(E41=\"\",\"\",VLOOKUP($E41,部員名簿!$A$5:$G$103,2,FALSE))","v":""},{"$f":"IF(総体入力!H50=\"\",\"\",総体入力!H50)","v":""},null,"","",{"$f":"IF(総体入力!I50=\"\",\"\",総体入力!I50)","v":""},null,"","",{"$f":"IF(総体入力!J50=\"\",\"\",総体入力!J50)","v":""},null,"",""]
[null,{"$f":"IF(E42=\"\",\"\",部員名簿!$W$5)","v":""},null,null,{"$f":"IF(総体入力!B51=\"\",\"\",総体入力!B51)","v":""},{"$f":"IF(総体入力!D51=\"\",\"\",総体入力!D51)","v":""},{"$f":"IF(総体入力!F51=\"\",\"\",総体入力!F51)","v":""},"",{"$f":"IF(総体入力!G51=\"\",\"\",総体入力!G51)","v":""},"","",{"$f":"IF(総体入力!E51=\"\",\"\",総体入力!E51)","v":""},{"$f":"IF(E42=\"\",\"\",VLOOKUP($E42,部員名簿!$A$5:$R$103,17,FALSE))","v":""},{"$f":"IF(E42=\"\",\"\",VLOOKUP($E42,部員名簿!$A$5:$R$103,17,FALSE))","v":""},null,{"$f":"IF(E42=\"\",\"\",VLOOKUP($E42,部員名簿!$A$5:$G$103,2,FALSE))","v":""},{"$f":"IF(総体入力!H51=\"\",\"\",総体入力!H51)","v":""},null,"","",{"$f":"IF(総体入力!I51=\"\",\"\",総体入力!I51)","v":""},null,"","",{"$f":"IF(総体入力!J51=\"\",\"\",総体入力!J51)","v":""},null,"",""]
[]
["競技者NO","所属コード1","所属コード2","ナンバー","ナンバー2","競技者名","競技者名カナ","競技者名略称","競技者名英字","国籍","性別","学年","生年","月日","個人所属地名","陸連コード","参加競技-競技コード1","参加競技-自己記録1","参加競技-オープン参加FLG1","参加競技-記録FLG1","参加競技-競技コード2","参加競技-自己記録2","参加競技-オープン参加FLG2","参加競技-記録FLG2","参加競技-競技コード3","参加競技-自己記録3","参加競技-オープン参加FLG3","参加競技-記録FLG3","参加競技-競技コード4","参加競技-自己記録4","参加競技-オープン参加FLG4","参加競技-記録FLG4","参加競技-競技コード5","参加競技-自己記録5","参加競技-オープン参加FLG5","参加競技-記録FLG5"]
[null,{"$f":"IF(E45=\"\",\"\",部員名簿!$W$5)","v":""},null,null,{"$f":"IF(総体入力!B87=\"\",\"\",総体入力!B87)","v":""},{"$f":"IF(総体入力!D87=\"\",\"\",総体入力!D87)","v":""},{"$f":"IF(総体入力!F87=\"\",\"\",総体入力!F87)","v":""},{"$f":"IF(F45=\"\",\"\",F45)","v":""},{"$f":"IF(総体入力!G87=\"\",\"\",総体入力!G87)","v":""},{"$f":"IF(E45=\"\",\"\",\"JPN\")","v":""},{"$f":"IF(E45=\"\",\"\",2)","v":""},{"$f":"IF(総体入力!E87=\"\",\"\",総体入力!E87)","v":""},{"$f":"IF(E45=\"\",\"\",VLOOKUP($E45,部員名簿!$A$5:$R$103,17,FALSE))","v":""},{"$f":"IF(E45=\"\",\"\",VLOOKUP($E45,部員名簿!$A$5:$R$103,17,FALSE))","v":""},null,{"$f":"IF(E45=\"\",\"\",VLOOKUP($E45,部員名簿!$A$5:$G$103,2,FALSE))","v":""},{"$f":"IF(総体入力!H87=\"\",\"\",総体入力!H87)","v":""},null,{"$f":"IF(Q45=\"\",\"\",0)","v":""},{"$f":"IF(Q45=\"\",\"\",0)","v":""},{"$f":"IF(総体入力!I87=\"\",\"\",総体入力!I87)","v":""},null,{"$f":"IF(U45=\"\",\"\",0)","v":""},{"$f":"IF(U45=\"\",\"\",0)","v":""},{"$f":"IF(総体入力!J87=\"\",\"\",総体入力!J87)","v":""},null,{"$f":"IF(Y45=\"\",\"\",0)","v":""},{"$f":"IF(Y45=\"\",\"\",0)","v":""}]
[null,{"$f":"IF(E46=\"\",\"\",部員名簿!$W$5)","v":""},null,null,{"$f":"IF(総体入力!B88=\"\",\"\",総体入力!B88)","v":""},{"$f":"IF(総体入力!D88=\"\",\"\",総体入力!D88)","v":""},{"$f":"IF(総体入力!F88=\"\",\"\",総体入力!F88)","v":""},{"$f":"IF(F46=\"\",\"\",F46)","v":""},{"$f":"IF(総体入力!G88=\"\",\"\",総体入力!G88)","v":""},"","",{"$f":"IF(総体入力!E88=\"\",\"\",総体入力!E88)","v":""},{"$f":"IF(E46=\"\",\"\",VLOOKUP($E46,部員名簿!$A$5:$R$103,17,FALSE))","v":""},{"$f":"IF(E46=\"\",\"\",VLOOKUP($E46,部員名簿!$A$5:$R$103,17,FALSE))","v":""},null,{"$f":"IF(E46=\"\",\"\",VLOOKUP($E46,部員名簿!$A$5:$G$103,2,FALSE))","v":""},{"$f":"IF(総体入力!H88=\"\",\"\",総体入力!H88)","v":""},null,{"$f":"IF(Q46=\"\",\"\",0)","v":""},{"$f":"IF(Q46=\"\",\"\",0)","v":""},{"$f":"IF(総体入力!I88=\"\",\"\",総体入力!I88)","v":""},null,{"$f":"IF(U46=\"\",\"\",0)","v":""},{"$f":"IF(U46=\"\",\"\",0)","v":""},{"$f":"IF(総体入力!J88=\"\",\"\",総体入力!J88)","v":""},null,{"$f":"IF(Y46=\"\",\"\",0)","v":""},{"$f":"IF(Y46=\"\",\"\",0)","v":""}]
[null,{"$f":"IF(E47=\"\",\"\",部員名簿!$W$5)","v":""},null,null,{"$f":"IF(総体入力!B89=\"\",\"\",総体入力!B89)","v":""},{"$f":"IF(総体入力!D89=\"\",\"\",総体入力!D89)","v":""},{"$f":"IF(総体入力!F89=\"\",\"\",総体入力!F89)","v":""},"",{"$f":"IF(総体入力!G89=\"\",\"\",総体入力!G89)","v":""},"","",{"$f":"IF(総体入力!E89=\"\",\"\",総体入力!E89)","v":""},{"$f":"IF(E47=\"\",\"\",VLOOKUP($E47,部員名簿!$A$5:$R$103,17,FALSE))","v":""},{"$f":"IF(E47=\"\",\"\",VLOOKUP($E47,部員名簿!$A$5:$R$103,17,FALSE))","v":""},null,{"$f":"IF(E47=\"\",\"\",VLOOKUP($E47,部員名簿!$A$5:$G$103,2,FALSE))","v":""},{"$f":"IF(総体入力!H89=\"\",\"\",総体入力!H89)","v":""},null,"","",{"$f":"IF(総体入力!I89=\"\",\"\",総体入力!I89)","v":""},null,"","",{"$f":"IF(総体入力!J89=\"\",\"\",総体入力!J89)","v":""},null,"",""]
[null,{"$f":"IF(E48=\"\",\"\",部員名簿!$W$5)","v":""},null,null,{"$f":"IF(総体入力!B90=\"\",\"\",総体入力!B90)","v":""},{"$f":"IF(総体入力!D90=\"\",\"\",総体入力!D90)","v":""},{"$f":"IF(総体入力!F90=\"\",\"\",総体入力!F90)","v":""},"",{"$f":"IF(総体入力!G90=\"\",\"\",総体入力!G90)","v":""},"","",{"$f":"IF(総体入力!E90=\"\",\"\",総体入力!E90)","v":""},{"$f":"IF(E48=\"\",\"\",VLOOKUP($E48,部員名簿!$A$5:$R$103,17,FALSE))","v":""},{"$f":"IF(E48=\"\",\"\",VLOOKUP($E48,部員名簿!$A$5:$R$103,17,FALSE))","v":""},null,{"$f":"IF(E48=\"\",\"\",VLOOKUP($E48,部員名簿!$A$5:$G$103,2,FALSE))","v":""},{"$f":"IF(総体入力!H90=\"\",\"\",総体入力!H90)","v":""},null,"","",{"$f":"IF(総体入力!I90=\"\",\"\",総体入力!I90)","v":""},null,"","",{"$f":"IF(総体入力!J90=\"\",\"\",総体入力!J90)","v":""},null,"",""]
[null,{"$f":"IF(E49=\"\",\"\",部員名簿!$W$5)","v":""},null,null,{"$f":"IF(総体入力!B91=\"\",\"\",総体入力!B91)","v":""},{"$f":"IF(総体入力!D91=\"\",\"\",総体入力!D91)","v":""},{"$f":"IF(総体入力!F91=\"\",\"\",総体入力!F91)","v":""},"",{"$f":"IF(総体入力!G91=\"\",\"\",総体入力!G91)","v":""},"","",{"$f":"IF(総体入力!E91=\"\",\"\",総体入力!E91)","v":""},{"$f":"IF(E49=\"\",\"\",VLOOKUP($E49,部員名簿!$A$5:$R$103,17,FALSE))","v":""},{"$f":"IF(E49=\"\",\"\",VLOOKUP($E49,部員名簿!$A$5:$R$103,17,FALSE))","v":""},null,{"$f":"IF(E49=\"\",\"\",VLOOKUP($E49,部員名簿!$A$5:$G$103,2,FALSE))","v":""},{"$f":"IF(総体入力!H91=\"\",\"\",総体入力!H91)","v":""},null,"","",{"$f":"IF(総体入力!I91=\"\",\"\",総体入力!I91)","v":""},null,"","",{"$f":"IF(総体入力!J91=\"\",\"\",総体入力!J91)","v":""},null,"",""]
[null,{"$f":"IF(E50=\"\",\"\",部員名簿!$W$5)","v":""},null,null,{"$f":"IF(総体入力!B92=\"\",\"\",総体入力!B92)","v":""},{"$f":"IF(総体入力!D92=\"\",\"\",総体入力!D92)","v":""},{"$f":"IF(総体入力!F92=\"\",\"\",総体入力!F92)","v":""},"",{"$f":"IF(総体入力!G92=\"\",\"\",総体入力!G92)","v":""},"","",{"$f":"IF(総体入力!E92=\"\",\"\",総体入力!E92)","v":""},{"$f":"IF(E50=\"\",\"\",VLOOKUP($E50,部員名簿!$A$5:$R$103,17,FALSE))","v":""},{"$f":"IF(E50=\"\",\"\",VLOOKUP($E50,部員名簿!$A$5:$R$103,17,FALSE))","v":""},null,{"$f":"IF(E50=\"\",\"\",VLOOKUP($E50,部員名簿!$A$5:$G$103,2,FALSE))","v":""},{"$f":"IF(総体入力!H92=\"\",\"\",総体入力!H92)","v":""},null,"","",{"$f":"IF(総体入力!I92=\"\",\"\",総体入力!I92)","v":""},null,"","",{"$f":"IF(総体入力!J92=\"\",\"\",総体入力!J92)","v":""},null,"",""]
[null,{"$f":"IF(E51=\"\",\"\",部員名簿!$W$5)","v":""},null,null,{"$f":"IF(総体入力!B93=\"\",\"\",総体入力!B93)","v":""},{"$f":"IF(総体入力!D93=\"\",\"\",総体入力!D93)","v":""},{"$f":"IF(総体入力!F93=\"\",\"\",総体入力!F93)","v":""},"",{"$f":"IF(総体入力!G93=\"\",\"\",総体入力!G93)","v":""},"","",{"$f":"IF(総体入力!E93=\"\",\"\",総体入力!E93)","v":""},{"$f":"IF(E51=\"\",\"\",VLOOKUP($E51,部員名簿!$A$5:$R$103,17,FALSE))","v":""},{"$f":"IF(E51=\"\",\"\",VLOOKUP($E51,部員名簿!$A$5:$R$103,17,FALSE))","v":""},null,{"$f":"IF(E51=\"\",\"\",VLOOKUP($E51,部員名簿!$A$5:$G$103,2,FALSE))","v":""},{"$f":"IF(総体入力!H93=\"\",\"\",総体入力!H93)","v":""},null,"","",{"$f":"IF(総体入力!I93=\"\",\"\",総体入力!I93)","v":""},null,"","",{"$f":"IF(総体入力!J93=\"\",\"\",総体入力!J93)","v":""},null,"",""]
[null,{"$f":"IF(E52=\"\",\"\",部員名簿!$W$5)","v":""},null,null,{"$f":"IF(総体入力!B94=\"\",\"\",総体入力!B94)","v":""},{"$f":"IF(総体入力!D94=\"\",\"\",総体入力!D94)","v":""},{"$f":"IF(総体入力!F94=\"\",\"\",総体入力!F94)","v":""},"",{"$f":"IF(総体入力!G94=\"\",\"\",総体入力!G94)","v":""},"","",{"$f":"IF(総体入力!E94=\"\",\"\",総体入力!E94)","v":""},{"$f":"IF(E52=\"\",\"\",VLOOKUP($E52,部員名簿!$A$5:$R$103,17,FALSE))","v":""},{"$f":"IF(E52=\"\",\"\",VLOOKUP($E52,部員名簿!$A$5:$R$103,17,FALSE))","v":""},null,{"$f":"IF(E52=\"\",\"\",VLOOKUP($E52,部員名簿!$A$5:$G$103,2,FALSE))","v":""},{"$f":"IF(総体入力!H94=\"\",\"\",総体入力!H94)","v":""},null,"","",{"$f":"IF(総体入力!I94=\"\",\"\",総体入力!I94)","v":""},null,"","",{"$f":"IF(総体入力!J94=\"\",\"\",総体入力!J94)","v":""},null,"",""]
[null,{"$f":"IF(E53=\"\",\"\",部員名簿!$W$5)","v":""},null,null,{"$f":"IF(総体入力!B95=\"\",\"\",総体入力!B95)","v":""},{"$f":"IF(総体入力!D95=\"\",\"\",総体入力!D95)","v":""},{"$f":"IF(総体入力!F95=\"\",\"\",総体入力!F95)","v":""},"",{"$f":"IF(総体入力!G95=\"\",\"\",総体入力!G95)","v":""},"","",{"$f":"IF(総体入力!E95=\"\",\"\",総体入力!E95)","v":""},{"$f":"IF(E53=\"\",\"\",VLOOKUP($E53,部員名簿!$A$5:$R$103,17,FALSE))","v":""},{"$f":"IF(E53=\"\",\"\",VLOOKUP($E53,部員名簿!$A$5:$R$103,17,FALSE))","v":""},null,{"$f":"IF(E53=\"\",\"\",VLOOKUP($E53,部員名簿!$A$5:$G$103,2,FALSE))","v":""},{"$f":"IF(総体入力!H95=\"\",\"\",総体入力!H95)","v":""},null,"","",{"$f":"IF(総体入力!I95=\"\",\"\",総体入力!I95)","v":""},null,"","",{"$f":"IF(総体入力!J95=\"\",\"\",総体入力!J95)","v":""},null,"",""]
[null,{"$f":"IF(E54=\"\",\"\",部員名簿!$W$5)","v":""},null,null,{"$f":"IF(総体入力!B96=\"\",\"\",総体入力!B96)","v":""},{"$f":"IF(総体入力!D96=\"\",\"\",総体入力!D96)","v":""},{"$f":"IF(総体入力!F96=\"\",\"\",総体入力!F96)","v":""},"",{"$f":"IF(総体入力!G96=\"\",\"\",総体入力!G96)","v":""},"","",{"$f":"IF(総体入力!E96=\"\",\"\",総体入力!E96)","v":""},{"$f":"IF(E54=\"\",\"\",VLOOKUP($E54,部員名簿!$A$5:$R$103,17,FALSE))","v":""},{"$f":"IF(E54=\"\",\"\",VLOOKUP($E54,部員名簿!$A$5:$R$103,17,FALSE))","v":""},null,{"$f":"IF(E54=\"\",\"\",VLOOKUP($E54,部員名簿!$A$5:$G$103,2,FALSE))","v":""},{"$f":"IF(総体入力!H96=\"\",\"\",総体入力!H96)","v":""},null,"","",{"$f":"IF(総体入力!I96=\"\",\"\",総体入力!I96)","v":""},null,"","",{"$f":"IF(総体入力!J96=\"\",\"\",総体入力!J96)","v":""},null,"",""]
[null,{"$f":"IF(E55=\"\",\"\",部員名簿!$W$5)","v":""},null,null,{"$f":"IF(総体入力!B97=\"\",\"\",総体入力!B97)","v":""},{"$f":"IF(総体入力!D97=\"\",\"\",総体入力!D97)","v":""},{"$f":"IF(総体入力!F97=\"\",\"\",総体入力!F97)","v":""},"",{"$f":"IF(総体入力!G97=\"\",\"\",総体入力!G97)","v":""},"","",{"$f":"IF(総体入力!E97=\"\",\"\",総体入力!E97)","v":""},{"$f":"IF(E55=\"\",\"\",VLOOKUP($E55,部員名簿!$A$5:$R$103,17,FALSE))","v":""},{"$f":"IF(E55=\"\",\"\",VLOOKUP($E55,部員名簿!$A$5:$R$103,17,FALSE))","v":""},null,{"$f":"IF(E55=\"\",\"\",VLOOKUP($E55,部員名簿!$A$5:$G$103,2,FALSE))","v":""},{"$f":"IF(総体入力!H97=\"\",\"\",総体入力!H97)","v":""},null,"","",{"$f":"IF(総体入力!I97=\"\",\"\",総体入力!I97)","v":""},null,"","",{"$f":"IF(総体入力!J97=\"\",\"\",総体入力!J97)","v":""},null,"",""]
[null,{"$f":"IF(E56=\"\",\"\",部員名簿!$W$5)","v":""},null,null,{"$f":"IF(総体入力!B98=\"\",\"\",総体入力!B98)","v":""},{"$f":"IF(総体入力!D98=\"\",\"\",総体入力!D98)","v":""},{"$f":"IF(総体入力!F98=\"\",\"\",総体入力!F98)","v":""},"",{"$f":"IF(総体入力!G98=\"\",\"\",総体入力!G98)","v":""},"","",{"$f":"IF(総体入力!E98=\"\",\"\",総体入力!E98)","v":""},{"$f":"IF(E56=\"\",\"\",VLOOKUP($E56,部員名簿!$A$5:$R$103,17,FALSE))","v":""},{"$f":"IF(E56=\"\",\"\",VLOOKUP($E56,部員名簿!$A$5:$R$103,17,FALSE))","v":""},null,{"$f":"IF(E56=\"\",\"\",VLOOKUP($E56,部員名簿!$A$5:$G$103,2,FALSE))","v":""},{"$f":"IF(総体入力!H98=\"\",\"\",総体入力!H98)","v":""},null,"","",{"$f":"IF(総体入力!I98=\"\",\"\",総体入力!I98)","v":""},null,"","",{"$f":"IF(総体入力!J98=\"\",\"\",総体入力!J98)","v":""},null,"",""]
[null,{"$f":"IF(E57=\"\",\"\",部員名簿!$W$5)","v":""},null,null,{"$f":"IF(総体入力!B99=\"\",\"\",総体入力!B99)","v":""},{"$f":"IF(総体入力!D99=\"\",\"\",総体入力!D99)","v":""},{"$f":"IF(総体入力!F99=\"\",\"\",総体入力!F99)","v":""},"",{"$f":"IF(総体入力!G99=\"\",\"\",総体入力!G99)","v":""},"","",{"$f":"IF(総体入力!E99=\"\",\"\",総体入力!E99)","v":""},{"$f":"IF(E57=\"\",\"\",VLOOKUP($E57,部員名簿!$A$5:$R$103,17,FALSE))","v":""},{"$f":"IF(E57=\"\",\"\",VLOOKUP($E57,部員名簿!$A$5:$R$103,17,FALSE))","v":""},null,{"$f":"IF(E57=\"\",\"\",VLOOKUP($E57,部員名簿!$A$5:$G$103,2,FALSE))","v":""},{"$f":"IF(総体入力!H99=\"\",\"\",総体入力!H99)","v":""},null,"","",{"$f":"IF(総体入力!I99=\"\",\"\",総体入力!I99)","v":""},null,"","",{"$f":"IF(総体入力!J99=\"\",\"\",総体入力!J99)","v":""},null,"",""]
[null,{"$f":"IF(E58=\"\",\"\",部員名簿!$W$5)","v":""},null,null,{"$f":"IF(総体入力!B100=\"\",\"\",総体入力!B100)","v":""},{"$f":"IF(総体入力!D100=\"\",\"\",総体入力!D100)","v":""},{"$f":"IF(総体入力!F100=\"\",\"\",総体入力!F100)","v":""},"",{"$f":"IF(総体入力!G100=\"\",\"\",総体入力!G100)","v":""},"","",{"$f":"IF(総体入力!E100=\"\",\"\",総体入力!E100)","v":""},{"$f":"IF(E58=\"\",\"\",VLOOKUP($E58,部員名簿!$A$5:$R$103,17,FALSE))","v":""},{"$f":"IF(E58=\"\",\"\",VLOOKUP($E58,部員名簿!$A$5:$R$103,17,FALSE))","v":""},null,{"$f":"IF(E58=\"\",\"\",VLOOKUP($E58,部員名簿!$A$5:$G$103,2,FALSE))","v":""},{"$f":"IF(総体入力!H100=\"\",\"\",総体入力!H100)","v":""},null,"","",{"$f":"IF(総体入力!I100=\"\",\"\",総体入力!I100)","v":""},null,"","",{"$f":"IF(総体入力!J100=\"\",\"\",総体入力!J100)","v":""},null,"",""]
[null,{"$f":"IF(E59=\"\",\"\",部員名簿!$W$5)","v":""},null,null,{"$f":"IF(総体入力!B101=\"\",\"\",総体入力!B101)","v":""},{"$f":"IF(総体入力!D101=\"\",\"\",総体入力!D101)","v":""},{"$f":"IF(総体入力!F101=\"\",\"\",総体入力!F101)","v":""},"",{"$f":"IF(総体入力!G101=\"\",\"\",総体入力!G101)","v":""},"","",{"$f":"IF(総体入力!E101=\"\",\"\",総体入力!E101)","v":""},{"$f":"IF(E59=\"\",\"\",VLOOKUP($E59,部員名簿!$A$5:$R$103,17,FALSE))","v":""},{"$f":"IF(E59=\"\",\"\",VLOOKUP($E59,部員名簿!$A$5:$R$103,17,FALSE))","v":""},null,{"$f":"IF(E59=\"\",\"\",VLOOKUP($E59,部員名簿!$A$5:$G$103,2,FALSE))","v":""},{"$f":"IF(総体入力!H101=\"\",\"\",総体入力!H101)","v":""},null,"","",{"$f":"IF(総体入力!I101=\"\",\"\",総体入力!I101)","v":""},null,"","",{"$f":"IF(総体入力!J101=\"\",\"\",総体入力!J101)","v":""},null,"",""]
[null,{"$f":"IF(E60=\"\",\"\",部員名簿!$W$5)","v":""},null,null,{"$f":"IF(総体入力!B102=\"\",\"\",総体入力!B102)","v":""},{"$f":"IF(総体入力!D102=\"\",\"\",総体入力!D102)","v":""},{"$f":"IF(総体入力!F102=\"\",\"\",総体入力!F102)","v":""},"",{"$f":"IF(総体入力!G102=\"\",\"\",総体入力!G102)","v":""},"","",{"$f":"IF(総体入力!E102=\"\",\"\",総体入力!E102)","v":""},{"$f":"IF(E60=\"\",\"\",VLOOKUP($E60,部員名簿!$A$5:$R$103,17,FALSE))","v":""},{"$f":"IF(E60=\"\",\"\",VLOOKUP($E60,部員名簿!$A$5:$R$103,17,FALSE))","v":""},null,{"$f":"IF(E60=\"\",\"\",VLOOKUP($E60,部員名簿!$A$5:$G$103,2,FALSE))","v":""},{"$f":"IF(総体入力!H102=\"\",\"\",総体入力!H102)","v":""},null,"","",{"$f":"IF(総体入力!I102=\"\",\"\",総体入力!I102)","v":""},null,"","",{"$f":"IF(総体入力!J102=\"\",\"\",総体入力!J102)","v":""},null,"",""]
[null,{"$f":"IF(E61=\"\",\"\",部員名簿!$W$5)","v":""},null,null,{"$f":"IF(総体入力!B103=\"\",\"\",総体入力!B103)","v":""},{"$f":"IF(総体入力!D103=\"\",\"\",総体入力!D103)","v":""},{"$f":"IF(総体入力!F103=\"\",\"\",総体入力!F103)","v":""},"",{"$f":"IF(総体入力!G103=\"\",\"\",総体入力!G103)","v":""},"","",{"$f":"IF(総体入力!E103=\"\",\"\",総体入力!E103)","v":""},{"$f":"IF(E61=\"\",\"\",VLOOKUP($E61,部員名簿!$A$5:$R$103,17,FALSE))","v":""},{"$f":"IF(E61=\"\",\"\",VLOOKUP($E61,部員名簿!$A$5:$R$103,17,FALSE))","v":""},null,{"$f":"IF(E61=\"\",\"\",VLOOKUP($E61,部員名簿!$A$5:$G$103,2,FALSE))","v":""},{"$f":"IF(総体入力!H103=\"\",\"\",総体入力!H103)","v":""},null,"","",{"$f":"IF(総体入力!I103=\"\",\"\",総体入力!I103)","v":""},null,"","",{"$f":"IF(総体入力!J103=\"\",\"\",総体入力!J103)","v":""},null,"",""]
[null,{"$f":"IF(E62=\"\",\"\",部員名簿!$W$5)","v":""},null,null,{"$f":"IF(総体入力!B104=\"\",\"\",総体入力!B104)","v":""},{"$f":"IF(総体入力!D104=\"\",\"\",総体入力!D104)","v":""},{"$f":"IF(総体入力!F104=\"\",\"\",総体入力!F104)","v":""},"",{"$f":"IF(総体入力!G104=\"\",\"\",総体入力!G104)","v":""},"","",{"$f":"IF(総体入力!E104=\"\",\"\",総体入力!E104)","v":""},{"$f":"IF(E62=\"\",\"\",VLOOKUP($E62,部員名簿!$A$5:$R$103,17,FALSE))","v":""},{"$f":"IF(E62=\"\",\"\",VLOOKUP($E62,部員名簿!$A$5:$R$103,17,FALSE))","v":""},null,{"$f":"IF(E62=\"\",\"\",VLOOKUP($E62,部員名簿!$A$5:$G$103,2,FALSE))","v":""},{"$f":"IF(総体入力!H104=\"\",\"\",総体入力!H104)","v":""},null,"","",{"$f":"IF(総体入力!I104=\"\",\"\",総体入力!I104)","v":""},null,"","",{"$f":"IF(総体入力!J104=\"\",\"\",総体入力!J104)","v":""},null,"",""]
[null,{"$f":"IF(E63=\"\",\"\",部員名簿!$W$5)","v":""},null,null,{"$f":"IF(総体入力!B105=\"\",\"\",総体入力!B105)","v":""},{"$f":"IF(総体入力!D105=\"\",\"\",総体入力!D105)","v":""},{"$f":"IF(総体入力!F105=\"\",\"\",総体入力!F105)","v":""},"",{"$f":"IF(総体入力!G105=\"\",\"\",総体入力!G105)","v":""},"","",{"$f":"IF(総体入力!E105=\"\",\"\",総体入力!E105)","v":""},{"$f":"IF(E63=\"\",\"\",VLOOKUP($E63,部員名簿!$A$5:$R$103,17,FALSE))","v":""},{"$f":"IF(E63=\"\",\"\",VLOOKUP($E63,部員名簿!$A$5:$R$103,17,FALSE))","v":""},null,{"$f":"IF(E63=\"\",\"\",VLOOKUP($E63,部員名簿!$A$5:$G$103,2,FALSE))","v":""},{"$f":"IF(総体入力!H105=\"\",\"\",総体入力!H105)","v":""},null,"","",{"$f":"IF(総体入力!I105=\"\",\"\",総体入力!I105)","v":""},null,"","",{"$f":"IF(総体入力!J105=\"\",\"\",総体入力!J105)","v":""},null,"",""]
[null,{"$f":"IF(E64=\"\",\"\",部員名簿!$W$5)","v":""},null,null,{"$f":"IF(総体入力!B106=\"\",\"\",総体入力!B106)","v":""},{"$f":"IF(総体入力!D106=\"\",\"\",総体入力!D106)","v":""},{"$f":"IF(総体入力!F106=\"\",\"\",総体入力!F106)","v":""},"",{"$f":"IF(総体入力!G106=\"\",\"\",総体入力!G106)","v":""},"","",{"$f":"IF(総体入力!E106=\"\",\"\",総体入力!E106)","v":""},{"$f":"IF(E64=\"\",\"\",VLOOKUP($E64,部員名簿!$A$5:$R$103,17,FALSE))","v":""},{"$f":"IF(E64=\"\",\"\",VLOOKUP($E64,部員名簿!$A$5:$R$103,17,FALSE))","v":""},null,{"$f":"IF(E64=\"\",\"\",VLOOKUP($E64,部員名簿!$A$5:$G$103,2,FALSE))","v":""},{"$f":"IF(総体入力!H106=\"\",\"\",総体入力!H106)","v":""},null,"","",{"$f":"IF(総体入力!I106=\"\",\"\",総体入力!I106)","v":""},null,"","",{"$f":"IF(総体入力!J106=\"\",\"\",総体入力!J106)","v":""},null,"",""]
[null,{"$f":"IF(E65=\"\",\"\",部員名簿!$W$5)","v":""},null,null,{"$f":"IF(総体入力!B107=\"\",\"\",総体入力!B107)","v":""},{"$f":"IF(総体入力!D107=\"\",\"\",総体入力!D107)","v":""},{"$f":"IF(総体入力!F107=\"\",\"\",総体入力!F107)","v":""},"",{"$f":"IF(総体入力!G107=\"\",\"\",総体入力!G107)","v":""},"","",{"$f":"IF(総体入力!E107=\"\",\"\",総体入力!E107)","v":""},{"$f":"IF(E65=\"\",\"\",VLOOKUP($E65,部員名簿!$A$5:$R$103,17,FALSE))","v":""},{"$f":"IF(E65=\"\",\"\",VLOOKUP($E65,部員名簿!$A$5:$R$103,17,FALSE))","v":""},null,{"$f":"IF(E65=\"\",\"\",VLOOKUP($E65,部員名簿!$A$5:$G$103,2,FALSE))","v":""},{"$f":"IF(総体入力!H107=\"\",\"\",総体入力!H107)","v":""},null,"","",{"$f":"IF(総体入力!I107=\"\",\"\",総体入力!I107)","v":""},null,"","",{"$f":"IF(総体入力!J107=\"\",\"\",総体入力!J107)","v":""},null,"",""]
[null,{"$f":"IF(E66=\"\",\"\",部員名簿!$W$5)","v":""},null,null,{"$f":"IF(総体入力!B108=\"\",\"\",総体入力!B108)","v":""},{"$f":"IF(総体入力!D108=\"\",\"\",総体入力!D108)","v":""},{"$f":"IF(総体入力!F108=\"\",\"\",総体入力!F108)","v":""},"",{"$f":"IF(総体入力!G108=\"\",\"\",総体入力!G108)","v":""},"","",{"$f":"IF(総体入力!E108=\"\",\"\",総体入力!E108)","v":""},{"$f":"IF(E66=\"\",\"\",VLOOKUP($E66,部員名簿!$A$5:$R$103,17,FALSE))","v":""},{"$f":"IF(E66=\"\",\"\",VLOOKUP($E66,部員名簿!$A$5:$R$103,17,FALSE))","v":""},null,{"$f":"IF(E66=\"\",\"\",VLOOKUP($E66,部員名簿!$A$5:$G$103,2,FALSE))","v":""},{"$f":"IF(総体入力!H108=\"\",\"\",総体入力!H108)","v":""},null,"","",{"$f":"IF(総体入力!I108=\"\",\"\",総体入力!I108)","v":""},null,"","",{"$f":"IF(総体入力!J108=\"\",\"\",総体入力!J108)","v":""},null,"",""]
[null,{"$f":"IF(E67=\"\",\"\",部員名簿!$W$5)","v":""},null,null,{"$f":"IF(総体入力!B109=\"\",\"\",総体入力!B109)","v":""},{"$f":"IF(総体入力!D109=\"\",\"\",総体入力!D109)","v":""},{"$f":"IF(総体入力!F109=\"\",\"\",総体入力!F109)","v":""},"",{"$f":"IF(総体入力!G109=\"\",\"\",総体入力!G109)","v":""},"","",{"$f":"IF(総体入力!E109=\"\",\"\",総体入力!E109)","v":""},{"$f":"IF(E67=\"\",\"\",VLOOKUP($E67,部員名簿!$A$5:$R$103,17,FALSE))","v":""},{"$f":"IF(E67=\"\",\"\",VLOOKUP($E67,部員名簿!$A$5:$R$103,17,FALSE))","v":""},null,{"$f":"IF(E67=\"\",\"\",VLOOKUP($E67,部員名簿!$A$5:$G$103,2,FALSE))","v":""},{"$f":"IF(総体入力!H109=\"\",\"\",総体入力!H109)","v":""},null,"","",{"$f":"IF(総体入力!I109=\"\",\"\",総体入力!I109)","v":""},null,"","",{"$f":"IF(総体入力!J109=\"\",\"\",総体入力!J109)","v":""},null,"",""]
[null,{"$f":"IF(E68=\"\",\"\",部員名簿!$W$5)","v":""},null,null,{"$f":"IF(総体入力!B110=\"\",\"\",総体入力!B110)","v":""},{"$f":"IF(総体入力!D110=\"\",\"\",総体入力!D110)","v":""},{"$f":"IF(総体入力!F110=\"\",\"\",総体入力!F110)","v":""},"",{"$f":"IF(総体入力!G110=\"\",\"\",総体入力!G110)","v":""},"","",{"$f":"IF(総体入力!E110=\"\",\"\",総体入力!E110)","v":""},{"$f":"IF(E68=\"\",\"\",VLOOKUP($E68,部員名簿!$A$5:$R$103,17,FALSE))","v":""},{"$f":"IF(E68=\"\",\"\",VLOOKUP($E68,部員名簿!$A$5:$R$103,17,FALSE))","v":""},null,{"$f":"IF(E68=\"\",\"\",VLOOKUP($E68,部員名簿!$A$5:$G$103,2,FALSE))","v":""},{"$f":"IF(総体入力!H110=\"\",\"\",総体入力!H110)","v":""},null,"","",{"$f":"IF(総体入力!I110=\"\",\"\",総体入力!I110)","v":""},null,"","",{"$f":"IF(総体入力!J110=\"\",\"\",総体入力!J110)","v":""},null,"",""]
[null,{"$f":"IF(E69=\"\",\"\",部員名簿!$W$5)","v":""},null,null,{"$f":"IF(総体入力!B111=\"\",\"\",総体入力!B111)","v":""},{"$f":"IF(総体入力!D111=\"\",\"\",総体入力!D111)","v":""},{"$f":"IF(総体入力!F111=\"\",\"\",総体入力!F111)","v":""},"",{"$f":"IF(総体入力!G111=\"\",\"\",総体入力!G111)","v":""},"","",{"$f":"IF(総体入力!E111=\"\",\"\",総体入力!E111)","v":""},{"$f":"IF(E69=\"\",\"\",VLOOKUP($E69,部員名簿!$A$5:$R$103,17,FALSE))","v":""},{"$f":"IF(E69=\"\",\"\",VLOOKUP($E69,部員名簿!$A$5:$R$103,17,FALSE))","v":""},null,{"$f":"IF(E69=\"\",\"\",VLOOKUP($E69,部員名簿!$A$5:$G$103,2,FALSE))","v":""},{"$f":"IF(総体入力!H111=\"\",\"\",総体入力!H111)","v":""},null,"","",{"$f":"IF(総体入力!I111=\"\",\"\",総体入力!I111)","v":""},null,"","",{"$f":"IF(総体入力!J111=\"\",\"\",総体入力!J111)","v":""},null,"",""]
[null,{"$f":"IF(E70=\"\",\"\",部員名簿!$W$5)","v":""},null,null,{"$f":"IF(総体入力!B112=\"\",\"\",総体入力!B112)","v":""},{"$f":"IF(総体入力!D112=\"\",\"\",総体入力!D112)","v":""},{"$f":"IF(総体入力!F112=\"\",\"\",総体入力!F112)","v":""},"",{"$f":"IF(総体入力!G112=\"\",\"\",総体入力!G112)","v":""},"","",{"$f":"IF(総体入力!E112=\"\",\"\",総体入力!E112)","v":""},{"$f":"IF(E70=\"\",\"\",VLOOKUP($E70,部員名簿!$A$5:$R$103,17,FALSE))","v":""},{"$f":"IF(E70=\"\",\"\",VLOOKUP($E70,部員名簿!$A$5:$R$103,17,FALSE))","v":""},null,{"$f":"IF(E70=\"\",\"\",VLOOKUP($E70,部員名簿!$A$5:$G$103,2,FALSE))","v":""},{"$f":"IF(総体入力!H112=\"\",\"\",総体入力!H112)","v":""},null,"","",{"$f":"IF(総体入力!I112=\"\",\"\",総体入力!I112)","v":""},null,"","",{"$f":"IF(総体入力!J112=\"\",\"\",総体入力!J112)","v":""},null,"",""]
[null,{"$f":"IF(E71=\"\",\"\",部員名簿!$W$5)","v":""},null,null,{"$f":"IF(総体入力!B113=\"\",\"\",総体入力!B113)","v":""},{"$f":"IF(総体入力!D113=\"\",\"\",総体入力!D113)","v":""},{"$f":"IF(総体入力!F113=\"\",\"\",総体入力!F113)","v":""},"",{"$f":"IF(総体入力!G113=\"\",\"\",総体入力!G113)","v":""},"","",{"$f":"IF(総体入力!E113=\"\",\"\",総体入力!E113)","v":""},{"$f":"IF(E71=\"\",\"\",VLOOKUP($E71,部員名簿!$A$5:$R$103,17,FALSE))","v":""},{"$f":"IF(E71=\"\",\"\",VLOOKUP($E71,部員名簿!$A$5:$R$103,17,FALSE))","v":""},null,{"$f":"IF(E71=\"\",\"\",VLOOKUP($E71,部員名簿!$A$5:$G$103,2,FALSE))","v":""},{"$f":"IF(総体入力!H113=\"\",\"\",総体入力!H113)","v":""},null,"","",{"$f":"IF(総体入力!I113=\"\",\"\",総体入力!I113)","v":""},null,"","",{"$f":"IF(総体入力!J113=\"\",\"\",総体入力!J113)","v":""},null,"",""]
[null,{"$f":"IF(E72=\"\",\"\",部員名簿!$W$5)","v":""},null,null,{"$f":"IF(総体入力!B114=\"\",\"\",総体入力!B114)","v":""},{"$f":"IF(総体入力!D114=\"\",\"\",総体入力!D114)","v":""},{"$f":"IF(総体入力!F114=\"\",\"\",総体入力!F114)","v":""},"",{"$f":"IF(総体入力!G114=\"\",\"\",総体入力!G114)","v":""},"","",{"$f":"IF(総体入力!E114=\"\",\"\",総体入力!E114)","v":""},{"$f":"IF(E72=\"\",\"\",VLOOKUP($E72,部員名簿!$A$5:$R$103,17,FALSE))","v":""},{"$f":"IF(E72=\"\",\"\",VLOOKUP($E72,部員名簿!$A$5:$R$103,17,FALSE))","v":""},null,{"$f":"IF(E72=\"\",\"\",VLOOKUP($E72,部員名簿!$A$5:$G$103,2,FALSE))","v":""},{"$f":"IF(総体入力!H114=\"\",\"\",総体入力!H114)","v":""},null,"","",{"$f":"IF(総体入力!I114=\"\",\"\",総体入力!I114)","v":""},null,"","",{"$f":"IF(総体入力!J114=\"\",\"\",総体入力!J114)","v":""},null,"",""]
[null,{"$f":"IF(E73=\"\",\"\",部員名簿!$W$5)","v":""},null,null,{"$f":"IF(総体入力!B115=\"\",\"\",総体入力!B115)","v":""},{"$f":"IF(総体入力!D115=\"\",\"\",総体入力!D115)","v":""},{"$f":"IF(総体入力!F115=\"\",\"\",総体入力!F115)","v":""},"",{"$f":"IF(総体入力!G115=\"\",\"\",総体入力!G115)","v":""},"","",{"$f":"IF(総体入力!E115=\"\",\"\",総体入力!E115)","v":""},{"$f":"IF(E73=\"\",\"\",VLOOKUP($E73,部員名簿!$A$5:$R$103,17,FALSE))","v":""},{"$f":"IF(E73=\"\",\"\",VLOOKUP($E73,部員名簿!$A$5:$R$103,17,FALSE))","v":""},null,{"$f":"IF(E73=\"\",\"\",VLOOKUP($E73,部員名簿!$A$5:$G$103,2,FALSE))","v":""},{"$f":"IF(総体入力!H115=\"\",\"\",総体入力!H115)","v":""},null,"","",{"$f":"IF(総体入力!I115=\"\",\"\",総体入力!I115)","v":""},null,"","",{"$f":"IF(総体入力!J115=\"\",\"\",総体入力!J115)","v":""},null,"",""]
[null,{"$f":"IF(E74=\"\",\"\",部員名簿!$W$5)","v":""},null,null,{"$f":"IF(総体入力!B116=\"\",\"\",総体入力!B116)","v":""},{"$f":"IF(総体入力!D116=\"\",\"\",総体入力!D116)","v":""},{"$f":"IF(総体入力!F116=\"\",\"\",総体入力!F116)","v":""},"",{"$f":"IF(総体入力!G116=\"\",\"\",総体入力!G116)","v":""},"","",{"$f":"IF(総体入力!E116=\"\",\"\",総体入力!E116)","v":""},{"$f":"IF(E74=\"\",\"\",VLOOKUP($E74,部員名簿!$A$5:$R$103,17,FALSE))","v":""},{"$f":"IF(E74=\"\",\"\",VLOOKUP($E74,部員名簿!$A$5:$R$103,17,FALSE))","v":""},null,{"$f":"IF(E74=\"\",\"\",VLOOKUP($E74,部員名簿!$A$5:$G$103,2,FALSE))","v":""},{"$f":"IF(総体入力!H116=\"\",\"\",総体入力!H116)","v":""},null,"","",{"$f":"IF(総体入力!I116=\"\",\"\",総体入力!I116)","v":""},null,"","",{"$f":"IF(総体入力!J116=\"\",\"\",総体入力!J116)","v":""},null,"",""]
[null,{"$f":"IF(E75=\"\",\"\",部員名簿!$W$5)","v":""},null,null,{"$f":"IF(総体入力!B117=\"\",\"\",総体入力!B117)","v":""},{"$f":"IF(総体入力!D117=\"\",\"\",総体入力!D117)","v":""},{"$f":"IF(総体入力!F117=\"\",\"\",総体入力!F117)","v":""},"",{"$f":"IF(総体入力!G117=\"\",\"\",総体入力!G117)","v":""},"","",{"$f":"IF(総体入力!E117=\"\",\"\",総体入力!E117)","v":""},{"$f":"IF(E75=\"\",\"\",VLOOKUP($E75,部員名簿!$A$5:$R$103,17,FALSE))","v":""},{"$f":"IF(E75=\"\",\"\",VLOOKUP($E75,部員名簿!$A$5:$R$103,17,FALSE))","v":""},null,{"$f":"IF(E75=\"\",\"\",VLOOKUP($E75,部員名簿!$A$5:$G$103,2,FALSE))","v":""},{"$f":"IF(総体入力!H117=\"\",\"\",総体入力!H117)","v":""},null,"","",{"$f":"IF(総体入力!I117=\"\",\"\",総体入力!I117)","v":""},null,"","",{"$f":"IF(総体入力!J117=\"\",\"\",総体入力!J117)","v":""},null,"",""]
[null,{"$f":"IF(E76=\"\",\"\",部員名簿!$W$5)","v":""},null,null,{"$f":"IF(総体入力!B118=\"\",\"\",総体入力!B118)","v":""},{"$f":"IF(総体入力!D118=\"\",\"\",総体入力!D118)","v":""},{"$f":"IF(総体入力!F118=\"\",\"\",総体入力!F118)","v":""},"",{"$f":"IF(総体入力!G118=\"\",\"\",総体入力!G118)","v":""},"","",{"$f":"IF(総体入力!E118=\"\",\"\",総体入力!E118)","v":""},{"$f":"IF(E76=\"\",\"\",VLOOKUP($E76,部員名簿!$A$5:$R$103,17,FALSE))","v":""},{"$f":"IF(E76=\"\",\"\",VLOOKUP($E76,部員名簿!$A$5:$R$103,17,FALSE))","v":""},null,{"$f":"IF(E76=\"\",\"\",VLOOKUP($E76,部員名簿!$A$5:$G$103,2,FALSE))","v":""},{"$f":"IF(総体入力!H118=\"\",\"\",総体入力!H118)","v":""},null,"","",{"$f":"IF(総体入力!I118=\"\",\"\",総体入力!I118)","v":""},null,"","",{"$f":"IF(総体入力!J118=\"\",\"\",総体入力!J118)","v":""},null,"",""]
[null,{"$f":"IF(E77=\"\",\"\",部員名簿!$W$5)","v":""},null,null,{"$f":"IF(総体入力!B119=\"\",\"\",総体入力!B119)","v":""},{"$f":"IF(総体入力!D119=\"\",\"\",総体入力!D119)","v":""},{"$f":"IF(総体入力!F119=\"\",\"\",総体入力!F119)","v":""},"",{"$f":"IF(総体入力!G119=\"\",\"\",総体入力!G119)","v":""},"","",{"$f":"IF(総体入力!E119=\"\",\"\",総体入力!E119)","v":""},{"$f":"IF(E77=\"\",\"\",VLOOKUP($E77,部員名簿!$A$5:$R$103,17,FALSE))","v":""},{"$f":"IF(E77=\"\",\"\",VLOOKUP($E77,部員名簿!$A$5:$R$103,17,FALSE))","v":""},null,{"$f":"IF(E77=\"\",\"\",VLOOKUP($E77,部員名簿!$A$5:$G$103,2,FALSE))","v":""},{"$f":"IF(総体入力!H119=\"\",\"\",総体入力!H119)","v":""},null,"","",{"$f":"IF(総体入力!I119=\"\",\"\",総体入力!I119)","v":""},null,"","",{"$f":"IF(総体入力!J119=\"\",\"\",総体入力!J119)","v":""},null,"",""]
[null,{"$f":"IF(E78=\"\",\"\",部員名簿!$W$5)","v":""},null,null,{"$f":"IF(総体入力!B120=\"\",\"\",総体入力!B120)","v":""},{"$f":"IF(総体入力!D120=\"\",\"\",総体入力!D120)","v":""},{"$f":"IF(総体入力!F120=\"\",\"\",総体入力!F120)","v":""},"",{"$f":"IF(総体入力!G120=\"\",\"\",総体入力!G120)","v":""},"","",{"$f":"IF(総体入力!E120=\"\",\"\",総体入力!E120)","v":""},{"$f":"IF(E78=\"\",\"\",VLOOKUP($E78,部員名簿!$A$5:$R$103,17,FALSE))","v":""},{"$f":"IF(E78=\"\",\"\",VLOOKUP($E78,部員名簿!$A$5:$R$103,17,FALSE))","v":""},null,{"$f":"IF(E78=\"\",\"\",VLOOKUP($E78,部員名簿!$A$5:$G$103,2,FALSE))","v":""},{"$f":"IF(総体入力!H120=\"\",\"\",総体入力!H120)","v":""},null,"","",{"$f":"IF(総体入力!I120=\"\",\"\",総体入力!I120)","v":""},null,"","",{"$f":"IF(総体入力!J120=\"\",\"\",総体入力!J120)","v":""},null,"",""]
[null,{"$f":"IF(E79=\"\",\"\",部員名簿!$W$5)","v":""},null,null,{"$f":"IF(総体入力!B121=\"\",\"\",総体入力!B121)","v":""},{"$f":"IF(総体入力!D121=\"\",\"\",総体入力!D121)","v":""},{"$f":"IF(総体入力!F121=\"\",\"\",総体入力!F121)","v":""},"",{"$f":"IF(総体入力!G121=\"\",\"\",総体入力!G121)","v":""},"","",{"$f":"IF(総体入力!E121=\"\",\"\",総体入力!E121)","v":""},{"$f":"IF(E79=\"\",\"\",VLOOKUP($E79,部員名簿!$A$5:$R$103,17,FALSE))","v":""},{"$f":"IF(E79=\"\",\"\",VLOOKUP($E79,部員名簿!$A$5:$R$103,17,FALSE))","v":""},null,{"$f":"IF(E79=\"\",\"\",VLOOKUP($E79,部員名簿!$A$5:$G$103,2,FALSE))","v":""},{"$f":"IF(総体入力!H121=\"\",\"\",総体入力!H121)","v":""},null,"","",{"$f":"IF(総体入力!I121=\"\",\"\",総体入力!I121)","v":""},null,"","",{"$f":"IF(総体入力!J121=\"\",\"\",総体入力!J121)","v":""},null,"",""]
[null,{"$f":"IF(E80=\"\",\"\",部員名簿!$W$5)","v":""},null,null,{"$f":"IF(総体入力!B122=\"\",\"\",総体入力!B122)","v":""},{"$f":"IF(総体入力!D122=\"\",\"\",総体入力!D122)","v":""},{"$f":"IF(総体入力!F122=\"\",\"\",総体入力!F122)","v":""},"",{"$f":"IF(総体入力!G122=\"\",\"\",総体入力!G122)","v":""},"","",{"$f":"IF(総体入力!E122=\"\",\"\",総体入力!E122)","v":""},{"$f":"IF(E80=\"\",\"\",VLOOKUP($E80,部員名簿!$A$5:$R$103,17,FALSE))","v":""},{"$f":"IF(E80=\"\",\"\",VLOOKUP($E80,部員名簿!$A$5:$R$103,17,FALSE))","v":""},null,{"$f":"IF(E80=\"\",\"\",VLOOKUP($E80,部員名簿!$A$5:$G$103,2,FALSE))","v":""},{"$f":"IF(総体入力!H122=\"\",\"\",総体入力!H122)","v":""},null,"","",{"$f":"IF(総体入力!I122=\"\",\"\",総体入力!I122)","v":""},null,"","",{"$f":"IF(総体入力!J122=\"\",\"\",総体入力!J122)","v":""},null,"",""]
[null,{"$f":"IF(E81=\"\",\"\",部員名簿!$W$5)","v":""},null,null,{"$f":"IF(総体入力!B123=\"\",\"\",総体入力!B123)","v":""},{"$f":"IF(総体入力!D123=\"\",\"\",総体入力!D123)","v":""},{"$f":"IF(総体入力!F123=\"\",\"\",総体入力!F123)","v":""},"",{"$f":"IF(総体入力!G123=\"\",\"\",総体入力!G123)","v":""},"","",{"$f":"IF(総体入力!E123=\"\",\"\",総体入力!E123)","v":""},{"$f":"IF(E81=\"\",\"\",VLOOKUP($E81,部員名簿!$A$5:$R$103,17,FALSE))","v":""},{"$f":"IF(E81=\"\",\"\",VLOOKUP($E81,部員名簿!$A$5:$R$103,17,FALSE))","v":""},null,{"$f":"IF(E81=\"\",\"\",VLOOKUP($E81,部員名簿!$A$5:$G$103,2,FALSE))","v":""},{"$f":"IF(総体入力!H123=\"\",\"\",総体入力!H123)","v":""},null,"","",{"$f":"IF(総体入力!I123=\"\",\"\",総体入力!I123)","v":""},null,"","",{"$f":"IF(総体入力!J123=\"\",\"\",総体入力!J123)","v":""},null,"",""]

{"sheet":"競技者マスタ（上陸）","index":10,"n_rows":37,"n_cols":21,"rows_kept":37,"cut":false,"hidden":false,"merged":[]}
["男子",null,null,null,null,null,null,"女子"]
["ナンバー","競技者名","競技者名（カナ）","学年","所属","所属（カナ）",null,"ナンバー","競技者名","競技者名（カナ）","学年","所属","所属（カナ）",null,null,1,"秋田東",740,"秋田市立秋田東中学校","東","ﾋｶﾞｼ"]
[{"$f":"IF(総体入力!B11=\"\",\"\",総体入力!B11)","v":""},{"$f":"IF(総体入力!D11=\"\",\"\",総体入力!D11)","v":""},{"$f":"IF(総体入力!F11=\"\",\"\",総体入力!F11)","v":""},{"$f":"IF(総体入力!E11=\"\",\"\",総体入力!E11)","v":""},{"$f":"IF(総体入力!C11=\"\",\"\",総体入力!C11)","v":""},{"$f":"IF(E3=\"\",\"\",VLOOKUP(E3,$T$2:$U$34,2,FALSE))","v":""},null,{"$f":"IF(総体入力!B87=\"\",\"\",総体入力!B87)","v":""},{"$f":"IF(総体入力!D87=\"\",\"\",総体入力!D87)","v":""},{"$f":"IF(総体入力!F87=\"\",\"\",総体入力!F87)","v":""},{"$f":"IF(総体入力!E87=\"\",\"\",総体入力!E87)","v":""},{"$f":"IF(総体入力!C87=\"\",\"\",総体入力!C87)","v":""},{"$f":"IF(L3=\"\",\"\",VLOOKUP(L3,$T$2:$U$33,2,FALSE))","v":""},null,null,2,"秋田南",741,"秋田市立秋田南中学校","南","ﾐﾅﾐ"]
[{"$f":"IF(総体入力!B12=\"\",\"\",総体入力!B12)","v":""},{"$f":"IF(総体入力!D12=\"\",\"\",総体入力!D12)","v":""},{"$f":"IF(総体入力!F12=\"\",\"\",総体入力!F12)","v":""},{"$f":"IF(総体入力!E12=\"\",\"\",総体入力!E12)","v":""},{"$f":"IF(総体入力!C12=\"\",\"\",総体入力!C12)","v":""},{"$f":"IF(E4=\"\",\"\",VLOOKUP(E4,$T$2:$U$34,2,FALSE))","v":""},null,{"$f":"IF(総体入力!B88=\"\",\"\",総体入力!B88)","v":""},{"$f":"IF(総体入力!D88=\"\",\"\",総体入力!D88)","v":""},{"$f":"IF(総体入力!F88=\"\",\"\",総体入力!F88)","v":""},{"$f":"IF(総体入力!E88=\"\",\"\",総体入力!E88)","v":""},{"$f":"IF(総体入力!C88=\"\",\"\",総体入力!C88)","v":""},{"$f":"IF(L4=\"\",\"\",VLOOKUP(L4,$T$2:$U$33,2,FALSE))","v":""},null,null,3,"山王",742,"秋田市立山王中学校","山王","ｻﾝﾉｳ"]
[{"$f":"IF(総体入力!B13=\"\",\"\",総体入力!B13)","v":""},{"$f":"IF(総体入力!D13=\"\",\"\",総体入力!D13)","v":""},{"$f":"IF(総体入力!F13=\"\",\"\",総体入力!F13)","v":""},{"$f":"IF(総体入力!E13=\"\",\"\",総体入力!E13)","v":""},{"$f":"IF(総体入力!C13=\"\",\"\",総体入力!C13)","v":""},"",null,{"$f":"IF(総体入力!B89=\"\",\"\",総体入力!B89)","v":""},{"$f":"IF(総体入力!D89=\"\",\"\",総体入力!D89)","v":""},{"$f":"IF(総体入力!F89=\"\",\"\",総体入力!F89)","v":""},{"$f":"IF(総体入力!E89=\"\",\"\",総体入力!E89)","v":""},{"$f":"IF(総体入力!C89=\"\",\"\",総体入力!C89)","v":""},"",null,null,4,"土崎",743,"秋田市立土崎中学校","土崎","ﾂﾁｻﾞｷ"]
[{"$f":"IF(総体入力!B14=\"\",\"\",総体入力!B14)","v":""},{"$f":"IF(総体入力!D14=\"\",\"\",総体入力!D14)","v":""},{"$f":"IF(総体入力!F14=\"\",\"\",総体入力!F14)","v":""},{"$f":"IF(総体入力!E14=\"\",\"\",総体入力!E14)","v":""},{"$f":"IF(総体入力!C14=\"\",\"\",総体入力!C14)","v":""},"",null,{"$f":"IF(総体入力!B90=\"\",\"\",総体入力!B90)","v":""},{"$f":"IF(総体入力!D90=\"\",\"\",総体入力!D90)","v":""},{"$f":"IF(総体入力!F90=\"\",\"\",総体入力!F90)","v":""},{"$f":"IF(総体入力!E90=\"\",\"\",総体入力!E90)","v":""},{"$f":"IF(総体入力!C90=\"\",\"\",総体入力!C90)","v":""},"",null,null,5,"将軍野",744,"秋田市立将軍野中学校","将軍野","ｼｮｳｸﾞﾝﾉ"]
[{"$f":"IF(総体入力!B15=\"\",\"\",総体入力!B15)","v":""},{"$f":"IF(総体入力!D15=\"\",\"\",総体入力!D15)","v":""},{"$f":"IF(総体入力!F15=\"\",\"\",総体入力!F15)","v":""},{"$f":"IF(総体入力!E15=\"\",\"\",総体入力!E15)","v":""},{"$f":"IF(総体入力!C15=\"\",\"\",総体入力!C15)","v":""},"",null,{"$f":"IF(総体入力!B91=\"\",\"\",総体入力!B91)","v":""},{"$f":"IF(総体入力!D91=\"\",\"\",総体入力!D91)","v":""},{"$f":"IF(総体入力!F91=\"\",\"\",総体入力!F91)","v":""},{"$f":"IF(総体入力!E91=\"\",\"\",総体入力!E91)","v":""},{"$f":"IF(総体入力!C91=\"\",\"\",総体入力!C91)","v":""},"",null,null,6,"秋田西",745,"秋田市立秋田西中学校","西","ﾆｼ"]
[{"$f":"IF(総体入力!B16=\"\",\"\",総体入力!B16)","v":""},{"$f":"IF(総体入力!D16=\"\",\"\",総体入力!D16)","v":""},{"$f":"IF(総体入力!F16=\"\",\"\",総体入力!F16)","v":""},{"$f":"IF(総体入力!E16=\"\",\"\",総体入力!E16)","v":""},{"$f":"IF(総体入力!C16=\"\",\"\",総体入力!C16)","v":""},"",null,{"$f":"IF(総体入力!B92=\"\",\"\",総体入力!B92)","v":""},{"$f":"IF(総体入力!D92=\"\",\"\",総体入力!D92)","v":""},{"$f":"IF(総体入力!F92=\"\",\"\",総体入力!F92)","v":""},{"$f":"IF(総体入力!E92=\"\",\"\",総体入力!E92)","v":""},{"$f":"IF(総体入力!C92=\"\",\"\",総体入力!C92)","v":""},"",null,null,7,"太平",746,"秋田市立太平中学校","太平","ﾀｲﾍｲ"]
[{"$f":"IF(総体入力!B17=\"\",\"\",総体入力!B17)","v":""},{"$f":"IF(総体入力!D17=\"\",\"\",総体入力!D17)","v":""},{"$f":"IF(総体入力!F17=\"\",\"\",総体入力!F17)","v":""},{"$f":"IF(総体入力!E17=\"\",\"\",総体入力!E17)","v":""},{"$f":"IF(総体入力!C17=\"\",\"\",総体入力!C17)","v":""},"",null,{"$f":"IF(総体入力!B93=\"\",\"\",総体入力!B93)","v":""},{"$f":"IF(総体入力!D93=\"\",\"\",総体入力!D93)","v":""},{"$f":"IF(総体入力!F93=\"\",\"\",総体入力!F93)","v":""},{"$f":"IF(総体入力!E93=\"\",\"\",総体入力!E93)","v":""},{"$f":"IF(総体入力!C93=\"\",\"\",総体入力!C93)","v":""},"",null,null,8,"外旭川",747,"秋田市立外旭川中学校","外旭川","ｿﾄｱｻﾋｶﾜ"]
[{"$f":"IF(総体入力!B18=\"\",\"\",総体入力!B18)","v":""},{"$f":"IF(総体入力!D18=\"\",\"\",総体入力!D18)","v":""},{"$f":"IF(総体入力!F18=\"\",\"\",総体入力!F18)","v":""},{"$f":"IF(総体入力!E18=\"\",\"\",総体入力!E18)","v":""},{"$f":"IF(総体入力!C18=\"\",\"\",総体入力!C18)","v":""},"",null,{"$f":"IF(総体入力!B94=\"\",\"\",総体入力!B94)","v":""},{"$f":"IF(総体入力!D94=\"\",\"\",総体入力!D94)","v":""},{"$f":"IF(総体入力!F94=\"\",\"\",総体入力!F94)","v":""},{"$f":"IF(総体入力!E94=\"\",\"\",総体入力!E94)","v":""},{"$f":"IF(総体入力!C94=\"\",\"\",総体入力!C94)","v":""},"",null,null,9,"秋田北",748,"秋田市立秋田北中学校","北","ｷﾀ"]
[{"$f":"IF(総体入力!B19=\"\",\"\",総体入力!B19)","v":""},{"$f":"IF(総体入力!D19=\"\",\"\",総体入力!D19)","v":""},{"$f":"IF(総体入力!F19=\"\",\"\",総体入力!F19)","v":""},{"$f":"IF(総体入力!E19=\"\",\"\",総体入力!E19)","v":""},{"$f":"IF(総体入力!C19=\"\",\"\",総体入力!C19)","v":""},"",null,{"$f":"IF(総体入力!B95=\"\",\"\",総体入力!B95)","v":""},{"$f":"IF(総体入力!D95=\"\",\"\",総体入力!D95)","v":""},{"$f":"IF(総体入力!F95=\"\",\"\",総体入力!F95)","v":""},{"$f":"IF(総体入力!E95=\"\",\"\",総体入力!E95)","v":""},{"$f":"IF(総体入力!C95=\"\",\"\",総体入力!C95)","v":""},"",null,null,10,"豊岩",750,"秋田市立豊岩中学校","豊岩","ﾄﾖｲﾜ"]
[{"$f":"IF(総体入力!B20=\"\",\"\",総体入力!B20)","v":""},{"$f":"IF(総体入力!D20=\"\",\"\",総体入力!D20)","v":""},{"$f":"IF(総体入力!F20=\"\",\"\",総体入力!F20)","v":""},{"$f":"IF(総体入力!E20=\"\",\"\",総体入力!E20)","v":""},{"$f":"IF(総体入力!C20=\"\",\"\",総体入力!C20)","v":""},"",null,{"$f":"IF(総体入力!B96=\"\",\"\",総体入力!B96)","v":""},{"$f":"IF(総体入力!D96=\"\",\"\",総体入力!D96)","v":""},{"$f":"IF(総体入力!F96=\"\",\"\",総体入力!F96)","v":""},{"$f":"IF(総体入力!E96=\"\",\"\",総体入力!E96)","v":""},{"$f":"IF(総体入力!C96=\"\",\"\",総体入力!C96)","v":""},"",null,null,11,"城南",751,"秋田市立城南中学校","城南","ｼﾞｮｳﾅﾝ"]
[{"$f":"IF(総体入力!B21=\"\",\"\",総体入力!B21)","v":""},{"$f":"IF(総体入力!D21=\"\",\"\",総体入力!D21)","v":""},{"$f":"IF(総体入力!F21=\"\",\"\",総体入力!F21)","v":""},{"$f":"IF(総体入力!E21=\"\",\"\",総体入力!E21)","v":""},{"$f":"IF(総体入力!C21=\"\",\"\",総体入力!C21)","v":""},"",null,{"$f":"IF(総体入力!B97=\"\",\"\",総体入力!B97)","v":""},{"$f":"IF(総体入力!D97=\"\",\"\",総体入力!D97)","v":""},{"$f":"IF(総体入力!F97=\"\",\"\",総体入力!F97)","v":""},{"$f":"IF(総体入力!E97=\"\",\"\",総体入力!E97)","v":""},{"$f":"IF(総体入力!C97=\"\",\"\",総体入力!C97)","v":""},"",null,null,12,"下北手",752,"秋田市立下北手中学校","下北手","ｼﾓｷﾀﾃ"]
[{"$f":"IF(総体入力!B22=\"\",\"\",総体入力!B22)","v":""},{"$f":"IF(総体入力!D22=\"\",\"\",総体入力!D22)","v":""},{"$f":"IF(総体入力!F22=\"\",\"\",総体入力!F22)","v":""},{"$f":"IF(総体入力!E22=\"\",\"\",総体入力!E22)","v":""},{"$f":"IF(総体入力!C22=\"\",\"\",総体入力!C22)","v":""},"",null,{"$f":"IF(総体入力!B98=\"\",\"\",総体入力!B98)","v":""},{"$f":"IF(総体入力!D98=\"\",\"\",総体入力!D98)","v":""},{"$f":"IF(総体入力!F98=\"\",\"\",総体入力!F98)","v":""},{"$f":"IF(総体入力!E98=\"\",\"\",総体入力!E98)","v":""},{"$f":"IF(総体入力!C98=\"\",\"\",総体入力!C98)","v":""},"",null,null,13,"下浜",753,"秋田市立下浜中学校","下浜","ｼﾓﾊﾏ"]
[{"$f":"IF(総体入力!B23=\"\",\"\",総体入力!B23)","v":""},{"$f":"IF(総体入力!D23=\"\",\"\",総体入力!D23)","v":""},{"$f":"IF(総体入力!F23=\"\",\"\",総体入力!F23)","v":""},{"$f":"IF(総体入力!E23=\"\",\"\",総体入力!E23)","v":""},{"$f":"IF(総体入力!C23=\"\",\"\",総体入力!C23)","v":""},"",null,{"$f":"IF(総体入力!B99=\"\",\"\",総体入力!B99)","v":""},{"$f":"IF(総体入力!D99=\"\",\"\",総体入力!D99)","v":""},{"$f":"IF(総体入力!F99=\"\",\"\",総体入力!F99)","v":""},{"$f":"IF(総体入力!E99=\"\",\"\",総体入力!E99)","v":""},{"$f":"IF(総体入力!C99=\"\",\"\",総体入力!C99)","v":""},"",null,null,14,"城東",754,"秋田市立城東中学校","城東","ｼﾞｮｳﾄｳ"]
[{"$f":"IF(総体入力!B24=\"\",\"\",総体入力!B24)","v":""},{"$f":"IF(総体入力!D24=\"\",\"\",総体入力!D24)","v":""},{"$f":"IF(総体入力!F24=\"\",\"\",総体入力!F24)","v":""},{"$f":"IF(総体入力!E24=\"\",\"\",総体入力!E24)","v":""},{"$f":"IF(総体入力!C24=\"\",\"\",総体入力!C24)","v":""},"",null,{"$f":"IF(総体入力!B100=\"\",\"\",総体入力!B100)","v":""},{"$f":"IF(総体入力!D100=\"\",\"\",総体入力!D100)","v":""},{"$f":"IF(総体入力!F100=\"\",\"\",総体入力!F100)","v":""},{"$f":"IF(総体入力!E100=\"\",\"\",総体入力!E100)","v":""},{"$f":"IF(総体入力!C100=\"\",\"\",総体入力!C100)","v":""},"",null,null,15,"泉",755,"秋田市立泉中学校","泉","ｲｽﾞﾐ"]
[{"$f":"IF(総体入力!B25=\"\",\"\",総体入力!B25)","v":""},{"$f":"IF(総体入力!D25=\"\",\"\",総体入力!D25)","v":""},{"$f":"IF(総体入力!F25=\"\",\"\",総体入力!F25)","v":""},{"$f":"IF(総体入力!E25=\"\",\"\",総体入力!E25)","v":""},{"$f":"IF(総体入力!C25=\"\",\"\",総体入力!C25)","v":""},"",null,{"$f":"IF(総体入力!B101=\"\",\"\",総体入力!B101)","v":""},{"$f":"IF(総体入力!D101=\"\",\"\",総体入力!D101)","v":""},{"$f":"IF(総体入力!F101=\"\",\"\",総体入力!F101)","v":""},{"$f":"IF(総体入力!E101=\"\",\"\",総体入力!E101)","v":""},{"$f":"IF(総体入力!C101=\"\",\"\",総体入力!C101)","v":""},"",null,null,16,"御野場",756,"秋田市立御野場中学校","御野場","ｵﾉﾊﾞ"]
[{"$f":"IF(総体入力!B26=\"\",\"\",総体入力!B26)","v":""},{"$f":"IF(総体入力!D26=\"\",\"\",総体入力!D26)","v":""},{"$f":"IF(総体入力!F26=\"\",\"\",総体入力!F26)","v":""},{"$f":"IF(総体入力!E26=\"\",\"\",総体入力!E26)","v":""},{"$f":"IF(総体入力!C26=\"\",\"\",総体入力!C26)","v":""},"",null,{"$f":"IF(総体入力!B102=\"\",\"\",総体入力!B102)","v":""},{"$f":"IF(総体入力!D102=\"\",\"\",総体入力!D102)","v":""},{"$f":"IF(総体入力!F102=\"\",\"\",総体入力!F102)","v":""},{"$f":"IF(総体入力!E102=\"\",\"\",総体入力!E102)","v":""},{"$f":"IF(総体入力!C102=\"\",\"\",総体入力!C102)","v":""},"",null,null,17,"勝平",757,"秋田市立勝平中学校","勝平","ｶﾂﾋﾗ"]
[{"$f":"IF(総体入力!B27=\"\",\"\",総体入力!B27)","v":""},{"$f":"IF(総体入力!D27=\"\",\"\",総体入力!D27)","v":""},{"$f":"IF(総体入力!F27=\"\",\"\",総体入力!F27)","v":""},{"$f":"IF(総体入力!E27=\"\",\"\",総体入力!E27)","v":""},{"$f":"IF(総体入力!C27=\"\",\"\",総体入力!C27)","v":""},"",null,{"$f":"IF(総体入力!B103=\"\",\"\",総体入力!B103)","v":""},{"$f":"IF(総体入力!D103=\"\",\"\",総体入力!D103)","v":""},{"$f":"IF(総体入力!F103=\"\",\"\",総体入力!F103)","v":""},{"$f":"IF(総体入力!E103=\"\",\"\",総体入力!E103)","v":""},{"$f":"IF(総体入力!C103=\"\",\"\",総体入力!C103)","v":""},"",null,null,18,"飯島",758,"秋田市立飯島中学校","飯島","ｲｲｼﾞﾏ"]
[{"$f":"IF(総体入力!B28=\"\",\"\",総体入力!B28)","v":""},{"$f":"IF(総体入力!D28=\"\",\"\",総体入力!D28)","v":""},{"$f":"IF(総体入力!F28=\"\",\"\",総体入力!F28)","v":""},{"$f":"IF(総体入力!E28=\"\",\"\",総体入力!E28)","v":""},{"$f":"IF(総体入力!C28=\"\",\"\",総体入力!C28)","v":""},"",null,{"$f":"IF(総体入力!B104=\"\",\"\",総体入力!B104)","v":""},{"$f":"IF(総体入力!D104=\"\",\"\",総体入力!D104)","v":""},{"$f":"IF(総体入力!F104=\"\",\"\",総体入力!F104)","v":""},{"$f":"IF(総体入力!E104=\"\",\"\",総体入力!E104)","v":""},{"$f":"IF(総体入力!C104=\"\",\"\",総体入力!C104)","v":""},"",null,null,19,"桜",759,"秋田市立桜中学校","桜","ｻｸﾗ"]
[{"$f":"IF(総体入力!B29=\"\",\"\",総体入力!B29)","v":""},{"$f":"IF(総体入力!D29=\"\",\"\",総体入力!D29)","v":""},{"$f":"IF(総体入力!F29=\"\",\"\",総体入力!F29)","v":""},{"$f":"IF(総体入力!E29=\"\",\"\",総体入力!E29)","v":""},{"$f":"IF(総体入力!C29=\"\",\"\",総体入力!C29)","v":""},"",null,{"$f":"IF(総体入力!B105=\"\",\"\",総体入力!B105)","v":""},{"$f":"IF(総体入力!D105=\"\",\"\",総体入力!D105)","v":""},{"$f":"IF(総体入力!F105=\"\",\"\",総体入力!F105)","v":""},{"$f":"IF(総体入力!E105=\"\",\"\",総体入力!E105)","v":""},{"$f":"IF(総体入力!C105=\"\",\"\",総体入力!C105)","v":""},"",null,null,20,"御所野学院",760,"秋田市立御所野学院中学校","御所野学院","ｺﾞｼｮﾉｶﾞｸｲﾝ"]
[{"$f":"IF(総体入力!B30=\"\",\"\",総体入力!B30)","v":""},{"$f":"IF(総体入力!D30=\"\",\"\",総体入力!D30)","v":""},{"$f":"IF(総体入力!F30=\"\",\"\",総体入力!F30)","v":""},{"$f":"IF(総体入力!E30=\"\",\"\",総体入力!E30)","v":""},{"$f":"IF(総体入力!C30=\"\",\"\",総体入力!C30)","v":""},"",null,{"$f":"IF(総体入力!B106=\"\",\"\",総体入力!B106)","v":""},{"$f":"IF(総体入力!D106=\"\",\"\",総体入力!D106)","v":""},{"$f":"IF(総体入力!F106=\"\",\"\",総体入力!F106)","v":""},{"$f":"IF(総体入力!E106=\"\",\"\",総体入力!E106)","v":""},{"$f":"IF(総体入力!C106=\"\",\"\",総体入力!C106)","v":""},"",null,null,21,"秋大附属",701,"秋田大学教育文化学部附属中学校","秋大附","ｼｭｳﾀﾞｲﾌ"]
[{"$f":"IF(総体入力!B31=\"\",\"\",総体入力!B31)","v":""},{"$f":"IF(総体入力!D31=\"\",\"\",総体入力!D31)","v":""},{"$f":"IF(総体入力!F31=\"\",\"\",総体入力!F31)","v":""},{"$f":"IF(総体入力!E31=\"\",\"\",総体入力!E31)","v":""},{"$f":"IF(総体入力!C31=\"\",\"\",総体入力!C31)","v":""},"",null,{"$f":"IF(総体入力!B107=\"\",\"\",総体入力!B107)","v":""},{"$f":"IF(総体入力!D107=\"\",\"\",総体入力!D107)","v":""},{"$f":"IF(総体入力!F107=\"\",\"\",総体入力!F107)","v":""},{"$f":"IF(総体入力!E107=\"\",\"\",総体入力!E107)","v":""},{"$f":"IF(総体入力!C107=\"\",\"\",総体入力!C107)","v":""},"",null,null,22,"聴覚支援",835,"秋田県立聴覚支援学校","聴覚支援","ﾁｮｳｶｸｼｴﾝ"]
[{"$f":"IF(総体入力!B32=\"\",\"\",総体入力!B32)","v":""},{"$f":"IF(総体入力!D32=\"\",\"\",総体入力!D32)","v":""},{"$f":"IF(総体入力!F32=\"\",\"\",総体入力!F32)","v":""},{"$f":"IF(総体入力!E32=\"\",\"\",総体入力!E32)","v":""},{"$f":"IF(総体入力!C32=\"\",\"\",総体入力!C32)","v":""},"",null,{"$f":"IF(総体入力!B108=\"\",\"\",総体入力!B108)","v":""},{"$f":"IF(総体入力!D108=\"\",\"\",総体入力!D108)","v":""},{"$f":"IF(総体入力!F108=\"\",\"\",総体入力!F108)","v":""},{"$f":"IF(総体入力!E108=\"\",\"\",総体入力!E108)","v":""},{"$f":"IF(総体入力!C108=\"\",\"\",総体入力!C108)","v":""},"",null,null,23,"岩見三内",836,"秋田市立岩見三内中学校","岩見山内","ｲﾜﾐｻﾝﾅｲ"]
[{"$f":"IF(総体入力!B33=\"\",\"\",総体入力!B33)","v":""},{"$f":"IF(総体入力!D33=\"\",\"\",総体入力!D33)","v":""},{"$f":"IF(総体入力!F33=\"\",\"\",総体入力!F33)","v":""},{"$f":"IF(総体入力!E33=\"\",\"\",総体入力!E33)","v":""},{"$f":"IF(総体入力!C33=\"\",\"\",総体入力!C33)","v":""},"",null,{"$f":"IF(総体入力!B109=\"\",\"\",総体入力!B109)","v":""},{"$f":"IF(総体入力!D109=\"\",\"\",総体入力!D109)","v":""},{"$f":"IF(総体入力!F109=\"\",\"\",総体入力!F109)","v":""},{"$f":"IF(総体入力!E109=\"\",\"\",総体入力!E109)","v":""},{"$f":"IF(総体入力!C109=\"\",\"\",総体入力!C109)","v":""},"",null,null,24,"河辺",761,"秋田市立河辺中学校","河辺","ｶﾜﾍﾞ"]
[{"$f":"IF(総体入力!B34=\"\",\"\",総体入力!B34)","v":""},{"$f":"IF(総体入力!D34=\"\",\"\",総体入力!D34)","v":""},{"$f":"IF(総体入力!F34=\"\",\"\",総体入力!F34)","v":""},{"$f":"IF(総体入力!E34=\"\",\"\",総体入力!E34)","v":""},{"$f":"IF(総体入力!C34=\"\",\"\",総体入力!C34)","v":""},"",null,{"$f":"IF(総体入力!B110=\"\",\"\",総体入力!B110)","v":""},{"$f":"IF(総体入力!D110=\"\",\"\",総体入力!D110)","v":""},{"$f":"IF(総体入力!F110=\"\",\"\",総体入力!F110)","v":""},{"$f":"IF(総体入力!E110=\"\",\"\",総体入力!E110)","v":""},{"$f":"IF(総体入力!C110=\"\",\"\",総体入力!C110)","v":""},"",null,null,25,"雄和",762,"秋田市立雄和中学校","雄和","ﾕｳﾜ"]
[{"$f":"IF(総体入力!B35=\"\",\"\",総体入力!B35)","v":""},{"$f":"IF(総体入力!D35=\"\",\"\",総体入力!D35)","v":""},{"$f":"IF(総体入力!F35=\"\",\"\",総体入力!F35)","v":""},{"$f":"IF(総体入力!E35=\"\",\"\",総体入力!E35)","v":""},{"$f":"IF(総体入力!C35=\"\",\"\",総体入力!C35)","v":""},"",null,{"$f":"IF(総体入力!B111=\"\",\"\",総体入力!B111)","v":""},{"$f":"IF(総体入力!D111=\"\",\"\",総体入力!D111)","v":""},{"$f":"IF(総体入力!F111=\"\",\"\",総体入力!F111)","v":""},{"$f":"IF(総体入力!E111=\"\",\"\",総体入力!E111)","v":""},{"$f":"IF(総体入力!C111=\"\",\"\",総体入力!C111)","v":""},"",null,null,26,"秋田南中等部",763,"秋田県立秋田南高等学校中等部","秋田南中等部","ｱｷﾀﾐﾅﾐﾁｭｳﾄｳﾌﾞ"]
[{"$f":"IF(総体入力!B36=\"\",\"\",総体入力!B36)","v":""},{"$f":"IF(総体入力!D36=\"\",\"\",総体入力!D36)","v":""},{"$f":"IF(総体入力!F36=\"\",\"\",総体入力!F36)","v":""},{"$f":"IF(総体入力!E36=\"\",\"\",総体入力!E36)","v":""},{"$f":"IF(総体入力!C36=\"\",\"\",総体入力!C36)","v":""},"",null,{"$f":"IF(総体入力!B112=\"\",\"\",総体入力!B112)","v":""},{"$f":"IF(総体入力!D112=\"\",\"\",総体入力!D112)","v":""},{"$f":"IF(総体入力!F112=\"\",\"\",総体入力!F112)","v":""},{"$f":"IF(総体入力!E112=\"\",\"\",総体入力!E112)","v":""},{"$f":"IF(総体入力!C112=\"\",\"\",総体入力!C112)","v":""},"",null,null,27]
[{"$f":"IF(総体入力!B37=\"\",\"\",総体入力!B37)","v":""},{"$f":"IF(総体入力!D37=\"\",\"\",総体入力!D37)","v":""},{"$f":"IF(総体入力!F37=\"\",\"\",総体入力!F37)","v":""},{"$f":"IF(総体入力!E37=\"\",\"\",総体入力!E37)","v":""},{"$f":"IF(総体入力!C37=\"\",\"\",総体入力!C37)","v":""},"",null,{"$f":"IF(総体入力!B113=\"\",\"\",総体入力!B113)","v":""},{"$f":"IF(総体入力!D113=\"\",\"\",総体入力!D113)","v":""},{"$f":"IF(総体入力!F113=\"\",\"\",総体入力!F113)","v":""},{"$f":"IF(総体入力!E113=\"\",\"\",総体入力!E113)","v":""},{"$f":"IF(総体入力!C113=\"\",\"\",総体入力!C113)","v":""},""]
[{"$f":"IF(総体入力!B38=\"\",\"\",総体入力!B38)","v":""},{"$f":"IF(総体入力!D38=\"\",\"\",総体入力!D38)","v":""},{"$f":"IF(総体入力!F38=\"\",\"\",総体入力!F38)","v":""},{"$f":"IF(総体入力!E38=\"\",\"\",総体入力!E38)","v":""},{"$f":"IF(総体入力!C38=\"\",\"\",総体入力!C38)","v":""},"",null,{"$f":"IF(総体入力!B114=\"\",\"\",総体入力!B114)","v":""},{"$f":"IF(総体入力!D114=\"\",\"\",総体入力!D114)","v":""},{"$f":"IF(総体入力!F114=\"\",\"\",総体入力!F114)","v":""},{"$f":"IF(総体入力!E114=\"\",\"\",総体入力!E114)","v":""},{"$f":"IF(総体入力!C114=\"\",\"\",総体入力!C114)","v":""},""]
[{"$f":"IF(総体入力!B39=\"\",\"\",総体入力!B39)","v":""},{"$f":"IF(総体入力!D39=\"\",\"\",総体入力!D39)","v":""},{"$f":"IF(総体入力!F39=\"\",\"\",総体入力!F39)","v":""},{"$f":"IF(総体入力!E39=\"\",\"\",総体入力!E39)","v":""},{"$f":"IF(総体入力!C39=\"\",\"\",総体入力!C39)","v":""},"",null,{"$f":"IF(総体入力!B115=\"\",\"\",総体入力!B115)","v":""},{"$f":"IF(総体入力!D115=\"\",\"\",総体入力!D115)","v":""},{"$f":"IF(総体入力!F115=\"\",\"\",総体入力!F115)","v":""},{"$f":"IF(総体入力!E115=\"\",\"\",総体入力!E115)","v":""},{"$f":"IF(総体入力!C115=\"\",\"\",総体入力!C115)","v":""},""]
[{"$f":"IF(総体入力!B40=\"\",\"\",総体入力!B40)","v":""},{"$f":"IF(総体入力!D40=\"\",\"\",総体入力!D40)","v":""},{"$f":"IF(総体入力!F40=\"\",\"\",総体入力!F40)","v":""},{"$f":"IF(総体入力!E40=\"\",\"\",総体入力!E40)","v":""},{"$f":"IF(総体入力!C40=\"\",\"\",総体入力!C40)","v":""},"",null,{"$f":"IF(総体入力!B116=\"\",\"\",総体入力!B116)","v":""},{"$f":"IF(総体入力!D116=\"\",\"\",総体入力!D116)","v":""},{"$f":"IF(総体入力!F116=\"\",\"\",総体入力!F116)","v":""},{"$f":"IF(総体入力!E116=\"\",\"\",総体入力!E116)","v":""},{"$f":"IF(総体入力!C116=\"\",\"\",総体入力!C116)","v":""},""]
[{"$f":"IF(総体入力!B41=\"\",\"\",総体入力!B41)","v":""},{"$f":"IF(総体入力!D41=\"\",\"\",総体入力!D41)","v":""},{"$f":"IF(総体入力!F41=\"\",\"\",総体入力!F41)","v":""},{"$f":"IF(総体入力!E41=\"\",\"\",総体入力!E41)","v":""},{"$f":"IF(総体入力!C41=\"\",\"\",総体入力!C41)","v":""},""]
[{"$f":"IF(総体入力!B42=\"\",\"\",総体入力!B42)","v":""},{"$f":"IF(総体入力!D42=\"\",\"\",総体入力!D42)","v":""},{"$f":"IF(総体入力!F42=\"\",\"\",総体入力!F42)","v":""},{"$f":"IF(総体入力!E42=\"\",\"\",総体入力!E42)","v":""},{"$f":"IF(総体入力!C42=\"\",\"\",総体入力!C42)","v":""},""]
[{"$f":"IF(総体入力!B43=\"\",\"\",総体入力!B43)","v":""},{"$f":"IF(総体入力!D43=\"\",\"\",総体入力!D43)","v":""},{"$f":"IF(総体入力!F43=\"\",\"\",総体入力!F43)","v":""},{"$f":"IF(総体入力!E43=\"\",\"\",総体入力!E43)","v":""},{"$f":"IF(総体入力!C43=\"\",\"\",総体入力!C43)","v":""},""]
[{"$f":"IF(総体入力!B44=\"\",\"\",総体入力!B44)","v":""},{"$f":"IF(総体入力!D44=\"\",\"\",総体入力!D44)","v":""},{"$f":"IF(総体入力!F44=\"\",\"\",総体入力!F44)","v":""},{"$f":"IF(総体入力!E44=\"\",\"\",総体入力!E44)","v":""},{"$f":"IF(総体入力!C44=\"\",\"\",総体入力!C44)","v":""},""]
[{"$f":"IF(総体入力!B45=\"\",\"\",総体入力!B45)","v":""},{"$f":"IF(総体入力!D45=\"\",\"\",総体入力!D45)","v":""},{"$f":"IF(総体入力!F45=\"\",\"\",総体入力!F45)","v":""},{"$f":"IF(総体入力!E45=\"\",\"\",総体入力!E45)","v":""},{"$f":"IF(総体入力!C45=\"\",\"\",総体入力!C45)","v":""},""]

{"sheet":"使いません","index":11,"n_rows":1,"n_cols":40,"rows_kept":1,"cut":false,"hidden":false,"merged":[]}
["JAAF ID","会員名","会員名カナ","会員名英字(姓)","会員名英字(名)","国籍","性別","登録都道府県コード","登録都道府県名","団体ID","団体名","団体名カナ","団体名略称","団体名略称カナ","生年月日","都道府県(学連)登録番号","旧団体コード","備考","学年","団体区分","陸連団体","地域学連名","支部名","郵便番号","住所(都道府県)","住所(市区町村以下)","住所(建物名)","審判資格","E-mail","E-mail配信希望","連絡先電話番号","出身高校都道府県","出身高校名","出身中学校都道府県","出身中学校名","勤務先名","勤務先郵便番号","勤務先住所","勤務先電話番号","学部"]