{"text_format":"1","workbook":"xlsx","n_sheets":10,"sheets":["必ずお読み下さい","登録データ貼付","新人入力","新人一覧表","新人個表","新人リレー","kyogishaデータ","部員情報","種目コード一覧","（旧）学校コード"],"not_rendered":{"charts":0,"images":0,"macros":1,"external_links":0,"defined_names":9,"comments":1,"pivot_tables":0},"unopened":[],"bounds":{"document_bytes":16777216,"sheet_cells":100000,"rows_first":2000,"rows_last":500,"rows_between":2000,"halvings":0,"cell_chars":16384,"cell_head_chars":4096},"cells_cut":0,"cells_raw":0,"read":"whole","date_system":"1900"}

{"sheet":"必ずお読み下さい","index":0,"n_rows":70,"n_cols":9,"rows_kept":70,"cut":false,"hidden":false,"merged":[[0,0,0,2]]}
["必ず全部読んで下さい！"]
["全県新人大会申込書の作成について",null,null,null,null,null,null,null,"電気計時に設定されています"]
[null,null,null,null,null,null,null,null,"手動計時に設定されています"]
[null,"最初に"]
[null,null,"　今年度の全県新人申し込みファイルを作成しました。基本的な入力についてはこれまで同様になります。部員情報についても、登録データの貼付で対応できるようになっています。現在の陸連登録データでは、氏名の文字揃えを統一することが難しいので、入力された氏名はそのままで構いません。\n　また、シートの保護を解除して入力することは、データの整合性に不備が出る可能性がありますので、絶対になさらないでください。もし不具合等ありましたら、各郡市専門委員長か秋田市立秋田東中学校 今野哲先生まで連絡していただきたいと思います。（秋田西中学校 秋林恭祐）"]
[null,null,null,null,null,null,null,null,"電気計時に設定されています"]
[]
[null,null,null,null,1,null,{"$f":"IF(OR(E8=1,E8=138),\"\",VLOOKUP(E8,部員情報!$P$8:$Q$145,2,FALSE))","v":""},null,{"$f":"IF(G8=\"\",\"\",VLOOKUP(G8,部員情報!$Q$9:$W$145,7,FALSE))","v":""}]
[null,null,null,null,null,null,{"$f":"IF(G8=\"\",\"\",VLOOKUP(G8,部員情報!$Q$9:$R$122,2,FALSE))","v":""}]
[]
[null,null,null,null,5,null,{"$f":"IF(E11=12,\"\",VLOOKUP(E11,D16:E27,2,FALSE))","v":0}]
[null,null,"　"]
[null,null,"　申込書完成までの流れ"]
[null,null,"　　①登録データの貼付、学校情報などを入力する。"]
[null,null,"　　②新人入力シートで、学校名、校長名、監督名、全県新人に出場する選手のアスリートビブス番号、種目、記録などを\n　　　入力する。個表では郡市ごとの色塗り用ボタンをクリックし、個表に色をつける。"]
[null,null,"　　③一覧表、個表、リレー個表をカラー印刷する。（すべてＡ４版になっています）",1,"鹿角",1]
[null,null,"　　④プログラム編成会議では、各校で作成したデータをもとに選手集計などを行いますので、完成したファイルを\n　　　保存した記録媒体（ＦＤやフラッシュメモリ等）、印刷した一覧表、個表、リレー個表を、各郡市専門委員長に提出する。",2,"大館北秋",2]
[null,null,null,3,"能代山本",3]
[null,null,null,4,"男鹿潟上南秋",4]
[null,"１．部員情報を入力する",null,5,null,5]
[null,null,"・この説明書の末尾に「登録データ貼付へ」というボタンがあります。そちらをクリックして，web登録したデータを貼り付けますので，あらかじめ「登録データ貼付」シートを表示しておいてください。",6,"秋田",6]
[null,null,"・ＣＳＶファイルのダウンロードについては，各校においてweb登録システムにログイン後，「団体登録申請」から，自分の管理する団体を選び，ワンタイムパスワードを入力し，下の方にある「加入団体参加者情報CSVファイルダウンロード」のボタンをクリックしてCSVファイルをダウンロードします。ファイル名は変更しないでください。",7,"河辺",7]
[null,null,"・ＣＳＶファイルをダウンロードしたら，そのファイルを開き，行列番号の一番左上の部分をクリックします，そうするとシート全体が選択されるので，そのままの状態でマウスのボタンを右クリックして「コピー」します。次に，この「県新人申し込み」ファイルに移動し，さきほど表示しておいた「登録データ貼付」シートの「Ａ１」セルを右クリックして「貼り付け」を行います。表示し切れていないデータなどもありますが，手を加える必要はありません。",8,"本荘由利",8]
[null,null,null,9,"大曲仙北",9]
[null,null,null,10,"横手平鹿",10]
[null,"２．県新人の入力をする（男女それぞれお願いします）",null,11,"湯沢雄勝",11]
[null,null,"・学校名は、一覧表用です。「秋田市立秋田東」のように○○立をつけたものが入力されているはずです。",12,null,12]
[null,null,"・監督氏名、校長氏名を入力して下さい。"]
[null,null,"・学校名の略称は県大会でのプログラムに記載される学校名です。（上で選択した学校名が入っています）"]
[null,null,"・出場選手のアスリートビブス番号（部員一覧の最も左の欄にふられている番号）を入力します。入力用に、最初に作成した部員情報の一覧を印刷しておくと楽になると思います。入力すると、学校名、氏名、フリガナ、学年が表示されます。"]
[null,null,"・出場選手の出場種目を選択します。個人種目とリレー種目を忘れないで下さい。リストボックス内からの選択ですので表示されたものが間違いないかどうか確認をして下さい。"]
[null,null,"・個人種目のベスト記録を入力します。郡市大会での記録や今年度の公式記録などを入力することになります。\n記録の入力の仕方については、下の例をよく見て間違いのないようにしてください。小数の関係で入力方法を変更します。"]
[null,null,"　　１１秒５３ の場合・・・・・11.53\n　　１０分０９秒０３ の場合・・・・10.09.03\n　　５ｍ３２ の場合・・・・5m32\n　　"]
[null,null,"・個人種目の郡市内順位を入力する。標準記録突破者については、「突破」と入力してください。"]
[null,null,"・リレーの記録を入力します。リレーは１種目につき最大６人まで登録可能ですが、全員の欄に記録を入力する必要はありません。登録される選手の内、一番上に入力されている選手の欄にのみ入力されていればＯＫです。"]
[]
[]
[]
[null,"３．一覧表の確認"]
[null,null,"・新人一覧表シートを表示し、入力内容に間違いがないかどうか確認して下さい。一覧表はＡ4です。印刷する際には用紙サイズの間違いがないようにご注意下さい。"]
[]
[null,"４．個票の作成（個人種目・リレー）"]
[null,null,"・入力シートのデータが個票に反映されているはずです。ここでも間違いがないかどうか確認をお願いします。"]
[null,null,"・個票では色つけを行います。右側に各郡市の色つけ用ボタンがありますので、自分の郡市のボタンを押して下さい。ここでボタンを押すと、通信と新人の個票にも色が付きます。"]
[]
[null,"５．印刷する"]
[null,null,"・一覧表、個票、リレー個票を印刷します。それぞれのシートに印刷ボタンを用意しました。クリックするだけで印刷が可能ですが、今使っているコンピュータで「標準で使うプリンタ」として設定されているプリンタで印刷されます。つまり印刷する際にプリンタの選択ができません。十分ご注意下さい。"]
[null,null,"・一応、各シートにおいて印刷範囲を指定してありますので、印刷ボタンを使用しなくてもずれることなく印刷できるはずです。"]
[null,null,"・用紙サイズは一覧表、個票関係ともにA4になります。"]
[]
[]
[]
[]
[null,"６．保存する"]
[null,null,"・入力と印刷ができあがったら「名前を付けて保存」をしてください。ファイル名の付け方は次の通りです。"]
[null,null,"　　R7県秋季申込み（郡市名＿学校名）　　　例：R7県秋季申込み（秋田＿秋田東）"]
[null,null,"　　郡市名と学校名の間は「アンダーバー」です。Ｓｈｉｆｔキーを押しながら、ひらがなの「ろ」で入力できます。"]
[]
[null,"７．送る"]
[null,null,"・各校監督は、作成したファイルをと印刷した一覧表，個票と一緒に各郡市専門委員長に提出してください。"]
[]
[null,"８．各郡市専門委員長の先生方へのお願い"]
[null,null,"・各郡市専門委員長は、すべての学校のデータをフラッシュメモリーにコピーし、一覧表、個票と共に全県新人のプログラム編成会議の時に持ってきてください。"]
[null,null,"・総体に引き続き、各校の入力シートから必要なデータをコピーし、別のファイルを作成していただきたいと思います。\n「郡市別参加者一覧」というファイルに、各校の「新人入力」から必要な部分をコピーし、「形式を選択して貼り付け→値」で貼り付けてください。全ての学校のデータを貼り付けて完成したら、「郡市別参加者一覧（○○）」というファイル名で保存してください。○○の部分は郡市名を入れてください。Kyogishaデータのコピーも忘れずにお願いします。\n\n　　例　秋田市の場合・・・・・郡市別参加者一覧（秋田）"]
[]
[]
[]
[]
[]
[null,null,"いろいろと不備があるかもしれませんが，よろしくお願いします。"]

{"sheet":"登録データ貼付","index":1,"n_rows":1,"n_cols":43,"rows_kept":1,"cut":false,"hidden":false,"merged":[]}
["年度","JAAF ID","氏名（姓）","氏名（名）","登録番号","フリガナ（姓）","フリガナ（名）","英字（姓）","英字（名）","国籍","性別","登録都道府県番号","登録都道府県名","団体UID","団体ID","団体名","団体名略称1","団体名略称2","生年月日","旧団体コード","備考","学年","団体区分","承認団体名","郵便番号","住所","携帯電話番号","卒業高校名","卒業中学名","メールアドレス","E-mail配信希望","勤務先名","勤務先郵便番号","勤務先都道府県","勤務先市区町村 / 番地 / 建物名","在籍学校都道府県","障がいのクラス","実施している種目","興味がある種目","指導者チェック","役職名","管理者","状態"]

{"sheet":"新人入力","index":2,"n_rows":154,"n_cols":27,"rows_kept":154,"cut":false,"hidden":false,"merged":[[73,1,75,1],[73,2,73,3],[74,2,74,3],[70,2,70,3],[2,11,2,13],[72,2,72,3],[2,2,2,4],[75,2,75,3],[4,2,4,3],[3,2,3,3],[6,2,6,3],[6,1,8,1],[69,2,69,4],[8,2,8,3],[7,2,7,3],[71,2,71,3],[10,14,10,16],[5,2,5,3],[4,12,4,13],[3,12,3,13],[71,12,71,13],[70,12,70,13],[69,11,69,13]]}
["県新人"]
["男子"]
[null,null,"一覧表用データ",null,null,null,null,null,null,null,null,"個表用データ"]
[null,null,"学校名",null,{"$f":"IF(必ずお読み下さい!I8=\"\",\"\",必ずお読み下さい!I8)","v":""},null,null,null,null,null,null,"学校名（略称）",{"$f":"IF(必ずお読み下さい!G8=\"\",\"\",必ずお読み下さい!G8)","v":""}]
[null,null,"監督氏名",null,null,"※",null,null,null,null,null,"郡市名",{"$f":"IF(必ずお読み下さい!G11=\"\",\"\",必ずお読み下さい!G11)","v":0}]
[null,null,"校長名",null,null,"※"]
[null,"引率・監督の特例を適用した場合入力→","引率者"]
[null,null,"代理監督学校名"]
[null,null,"代理監督氏名"]
[null,null,null,null,null,null,null,null,null,null,null,null,null,null,null,null,null,null,null,null,null,null,"否"]
[null,"アスリートビブス№","学校名",1,"氏　　　名","学\n年","フ　リ　ガ　ナ","氏名英字表記","個人\n種目",null,"リレー\n種目","個人種目","個人種目\n郡市予選記録","郡市内\n順位","今年度は一人一種目なので\nこの欄は使用しません。",null,null,"リレー種目","リレー種目\n郡市予選記録"]
[1,null,{"$f":"IF(B12=\"\",\"\",$M$4)","v":""},null,{"$f":"IF($B12=\"\",\"\",VLOOKUP($B12,部員情報!$A$6:$H$104,3,FALSE))","v":""},{"$f":"IF($B12=\"\",\"\",VLOOKUP($B12,部員情報!$A$6:$H$104,8,FALSE))","v":""},{"$f":"IF($B12=\"\",\"\",VLOOKUP($B12,部員情報!$A$6:$H$104,4,FALSE))","v":""},{"$f":"IF($B12=\"\",\"\",VLOOKUP($B12,部員情報!$A$6:$H$104,5,FALSE))","v":""},{"$f":"IF(L12=\"\",\"\",VLOOKUP(L12,$W$12:$X$26,2,FALSE))","v":""},{"$f":"IF(O12=\"\",\"\",VLOOKUP(O12,$W$12:$X$26,2,FALSE))","v":""},{"$f":"IF(R12=\"\",\"\",VLOOKUP(R12,$Z$12:$AA$14,2,FALSE))","v":""},null,null,null,null,null,null,null,null,null,null,null,"１年１００ｍ",1,null,"共通４×１００ｍＲ",22]
[2,null,"",null,{"$f":"IF($B13=\"\",\"\",VLOOKUP($B13,部員情報!$A$6:$H$104,3,FALSE))","v":""},{"$f":"IF($B13=\"\",\"\",VLOOKUP($B13,部員情報!$A$6:$H$104,8,FALSE))","v":""},{"$f":"IF($B13=\"\",\"\",VLOOKUP($B13,部員情報!$A$6:$H$104,4,FALSE))","v":""},{"$f":"IF($B13=\"\",\"\",VLOOKUP($B13,部員情報!$A$6:$H$104,5,FALSE))","v":""},{"$f":"IF(L13=\"\",\"\",VLOOKUP(L13,$W$12:$X$26,2,FALSE))","v":""},{"$f":"IF(O13=\"\",\"\",VLOOKUP(O13,$W$12:$X$26,2,FALSE))","v":""},{"$f":"IF(R13=\"\",\"\",VLOOKUP(R13,$Z$12:$AA$14,2,FALSE))","v":""},null,null,null,null,null,null,null,null,null,null,null,"２年１００ｍ",2]
[3,null,"",null,{"$f":"IF($B14=\"\",\"\",VLOOKUP($B14,部員情報!$A$6:$H$104,3,FALSE))","v":""},{"$f":"IF($B14=\"\",\"\",VLOOKUP($B14,部員情報!$A$6:$H$104,8,FALSE))","v":""},{"$f":"IF($B14=\"\",\"\",VLOOKUP($B14,部員情報!$A$6:$H$104,4,FALSE))","v":""},{"$f":"IF($B14=\"\",\"\",VLOOKUP($B14,部員情報!$A$6:$H$104,5,FALSE))","v":""},"","","",null,null,null,null,null,null,null,null,null,null,null,"共通２００ｍ",3]
[4,null,"",null,{"$f":"IF($B15=\"\",\"\",VLOOKUP($B15,部員情報!$A$6:$H$104,3,FALSE))","v":""},{"$f":"IF($B15=\"\",\"\",VLOOKUP($B15,部員情報!$A$6:$H$104,8,FALSE))","v":""},{"$f":"IF($B15=\"\",\"\",VLOOKUP($B15,部員情報!$A$6:$H$104,4,FALSE))","v":""},{"$f":"IF($B15=\"\",\"\",VLOOKUP($B15,部員情報!$A$6:$H$104,5,FALSE))","v":""},"","","",null,null,null,null,null,null,null,null,null,null,null,"共通４００ｍ",4]
[5,null,"",null,{"$f":"IF($B16=\"\",\"\",VLOOKUP($B16,部員情報!$A$6:$H$104,3,FALSE))","v":""},{"$f":"IF($B16=\"\",\"\",VLOOKUP($B16,部員情報!$A$6:$H$104,8,FALSE))","v":""},{"$f":"IF($B16=\"\",\"\",VLOOKUP($B16,部員情報!$A$6:$H$104,4,FALSE))","v":""},{"$f":"IF($B16=\"\",\"\",VLOOKUP($B16,部員情報!$A$6:$H$104,5,FALSE))","v":""},"","","",null,null,null,null,null,null,null,null,null,null,null,"共通８００ｍ",5]
[6,null,"",null,{"$f":"IF($B17=\"\",\"\",VLOOKUP($B17,部員情報!$A$6:$H$104,3,FALSE))","v":""},{"$f":"IF($B17=\"\",\"\",VLOOKUP($B17,部員情報!$A$6:$H$104,8,FALSE))","v":""},{"$f":"IF($B17=\"\",\"\",VLOOKUP($B17,部員情報!$A$6:$H$104,4,FALSE))","v":""},{"$f":"IF($B17=\"\",\"\",VLOOKUP($B17,部員情報!$A$6:$H$104,5,FALSE))","v":""},"","","",null,null,null,null,null,null,null,null,null,null,null,"１年１５００ｍ",6]
[7,null,"",null,{"$f":"IF($B18=\"\",\"\",VLOOKUP($B18,部員情報!$A$6:$H$104,3,FALSE))","v":""},{"$f":"IF($B18=\"\",\"\",VLOOKUP($B18,部員情報!$A$6:$H$104,8,FALSE))","v":""},{"$f":"IF($B18=\"\",\"\",VLOOKUP($B18,部員情報!$A$6:$H$104,4,FALSE))","v":""},{"$f":"IF($B18=\"\",\"\",VLOOKUP($B18,部員情報!$A$6:$H$104,5,FALSE))","v":""},"","","",null,null,null,null,null,null,null,null,null,null,null,"２年１５００ｍ",7]
[8,null,"",null,{"$f":"IF($B19=\"\",\"\",VLOOKUP($B19,部員情報!$A$6:$H$104,3,FALSE))","v":""},{"$f":"IF($B19=\"\",\"\",VLOOKUP($B19,部員情報!$A$6:$H$104,8,FALSE))","v":""},{"$f":"IF($B19=\"\",\"\",VLOOKUP($B19,部員情報!$A$6:$H$104,4,FALSE))","v":""},{"$f":"IF($B19=\"\",\"\",VLOOKUP($B19,部員情報!$A$6:$H$104,5,FALSE))","v":""},"","","",null,null,null,null,null,null,null,null,null,null,null,"共通３０００ｍ",8]
[9,null,"",null,{"$f":"IF($B20=\"\",\"\",VLOOKUP($B20,部員情報!$A$6:$H$104,3,FALSE))","v":""},{"$f":"IF($B20=\"\",\"\",VLOOKUP($B20,部員情報!$A$6:$H$104,8,FALSE))","v":""},{"$f":"IF($B20=\"\",\"\",VLOOKUP($B20,部員情報!$A$6:$H$104,4,FALSE))","v":""},{"$f":"IF($B20=\"\",\"\",VLOOKUP($B20,部員情報!$A$6:$H$104,5,FALSE))","v":""},"","","",null,null,null,null,null,null,null,null,null,null,null,"共通110mJH",9]
[10,null,"",null,{"$f":"IF($B21=\"\",\"\",VLOOKUP($B21,部員情報!$A$6:$H$104,3,FALSE))","v":""},{"$f":"IF($B21=\"\",\"\",VLOOKUP($B21,部員情報!$A$6:$H$104,8,FALSE))","v":""},{"$f":"IF($B21=\"\",\"\",VLOOKUP($B21,部員情報!$A$6:$H$104,4,FALSE))","v":""},{"$f":"IF($B21=\"\",\"\",VLOOKUP($B21,部員情報!$A$6:$H$104,5,FALSE))","v":""},"","","",null,null,null,null,null,null,null,null,null,null,null,"共通走高跳",10]
[11,null,"",null,{"$f":"IF($B22=\"\",\"\",VLOOKUP($B22,部員情報!$A$6:$H$104,3,FALSE))","v":""},{"$f":"IF($B22=\"\",\"\",VLOOKUP($B22,部員情報!$A$6:$H$104,8,FALSE))","v":""},{"$f":"IF($B22=\"\",\"\",VLOOKUP($B22,部員情報!$A$6:$H$104,4,FALSE))","v":""},{"$f":"IF($B22=\"\",\"\",VLOOKUP($B22,部員情報!$A$6:$H$104,5,FALSE))","v":""},"","","",null,null,null,null,null,null,null,null,null,null,null,"共通棒高跳",11]
[12,null,"",null,{"$f":"IF($B23=\"\",\"\",VLOOKUP($B23,部員情報!$A$6:$H$104,3,FALSE))","v":""},{"$f":"IF($B23=\"\",\"\",VLOOKUP($B23,部員情報!$A$6:$H$104,8,FALSE))","v":""},{"$f":"IF($B23=\"\",\"\",VLOOKUP($B23,部員情報!$A$6:$H$104,4,FALSE))","v":""},{"$f":"IF($B23=\"\",\"\",VLOOKUP($B23,部員情報!$A$6:$H$104,5,FALSE))","v":""},"","","",null,null,null,null,null,null,null,null,null,null,null,"共通走幅跳",12]
[13,null,"",null,{"$f":"IF($B24=\"\",\"\",VLOOKUP($B24,部員情報!$A$6:$H$104,3,FALSE))","v":""},{"$f":"IF($B24=\"\",\"\",VLOOKUP($B24,部員情報!$A$6:$H$104,8,FALSE))","v":""},{"$f":"IF($B24=\"\",\"\",VLOOKUP($B24,部員情報!$A$6:$H$104,4,FALSE))","v":""},{"$f":"IF($B24=\"\",\"\",VLOOKUP($B24,部員情報!$A$6:$H$104,5,FALSE))","v":""},"","","",null,null,null,null,null,null,null,null,null,null,null,"共通砲丸投",13]
[14,null,"",null,{"$f":"IF($B25=\"\",\"\",VLOOKUP($B25,部員情報!$A$6:$H$104,3,FALSE))","v":""},{"$f":"IF($B25=\"\",\"\",VLOOKUP($B25,部員情報!$A$6:$H$104,8,FALSE))","v":""},{"$f":"IF($B25=\"\",\"\",VLOOKUP($B25,部員情報!$A$6:$H$104,4,FALSE))","v":""},{"$f":"IF($B25=\"\",\"\",VLOOKUP($B25,部員情報!$A$6:$H$104,5,FALSE))","v":""},"","","",null,null,null,null,null,null,null,null,null,null,null,"オープン3000",14]
[15,null,"",null,{"$f":"IF($B26=\"\",\"\",VLOOKUP($B26,部員情報!$A$6:$H$104,3,FALSE))","v":""},{"$f":"IF($B26=\"\",\"\",VLOOKUP($B26,部員情報!$A$6:$H$104,8,FALSE))","v":""},{"$f":"IF($B26=\"\",\"\",VLOOKUP($B26,部員情報!$A$6:$H$104,4,FALSE))","v":""},{"$f":"IF($B26=\"\",\"\",VLOOKUP($B26,部員情報!$A$6:$H$104,5,FALSE))","v":""},"","","",null,null,null,null,null,null,null,null,null,null,null,null,0]
[16,null,"",null,{"$f":"IF($B27=\"\",\"\",VLOOKUP($B27,部員情報!$A$6:$H$104,3,FALSE))","v":""},{"$f":"IF($B27=\"\",\"\",VLOOKUP($B27,部員情報!$A$6:$H$104,8,FALSE))","v":""},{"$f":"IF($B27=\"\",\"\",VLOOKUP($B27,部員情報!$A$6:$H$104,4,FALSE))","v":""},{"$f":"IF($B27=\"\",\"\",VLOOKUP($B27,部員情報!$A$6:$H$104,5,FALSE))","v":""},"","",""]
[17,null,"",null,{"$f":"IF($B28=\"\",\"\",VLOOKUP($B28,部員情報!$A$6:$H$104,3,FALSE))","v":""},{"$f":"IF($B28=\"\",\"\",VLOOKUP($B28,部員情報!$A$6:$H$104,8,FALSE))","v":""},{"$f":"IF($B28=\"\",\"\",VLOOKUP($B28,部員情報!$A$6:$H$104,4,FALSE))","v":""},{"$f":"IF($B28=\"\",\"\",VLOOKUP($B28,部員情報!$A$6:$H$104,5,FALSE))","v":""},"","",""]
[18,null,"",null,{"$f":"IF($B29=\"\",\"\",VLOOKUP($B29,部員情報!$A$6:$H$104,3,FALSE))","v":""},{"$f":"IF($B29=\"\",\"\",VLOOKUP($B29,部員情報!$A$6:$H$104,8,FALSE))","v":""},{"$f":"IF($B29=\"\",\"\",VLOOKUP($B29,部員情報!$A$6:$H$104,4,FALSE))","v":""},{"$f":"IF($B29=\"\",\"\",VLOOKUP($B29,部員情報!$A$6:$H$104,5,FALSE))","v":""},"","",""]
[19,null,"",null,{"$f":"IF($B30=\"\",\"\",VLOOKUP($B30,部員情報!$A$6:$H$104,3,FALSE))","v":""},{"$f":"IF($B30=\"\",\"\",VLOOKUP($B30,部員情報!$A$6:$H$104,8,FALSE))","v":""},{"$f":"IF($B30=\"\",\"\",VLOOKUP($B30,部員情報!$A$6:$H$104,4,FALSE))","v":""},{"$f":"IF($B30=\"\",\"\",VLOOKUP($B30,部員情報!$A$6:$H$104,5,FALSE))","v":""},"","","",null,null,null,null,null,null,null,null,null,null,1,"鹿角"]
[20,null,"",null,{"$f":"IF($B31=\"\",\"\",VLOOKUP($B31,部員情報!$A$6:$H$104,3,FALSE))","v":""},{"$f":"IF($B31=\"\",\"\",VLOOKUP($B31,部員情報!$A$6:$H$104,8,FALSE))","v":""},{"$f":"IF($B31=\"\",\"\",VLOOKUP($B31,部員情報!$A$6:$H$104,4,FALSE))","v":""},{"$f":"IF($B31=\"\",\"\",VLOOKUP($B31,部員情報!$A$6:$H$104,5,FALSE))","v":""},"","","",null,null,null,null,null,null,null,null,null,null,2,"大館北秋"]
[21,null,"",null,{"$f":"IF($B32=\"\",\"\",VLOOKUP($B32,部員情報!$A$6:$H$104,3,FALSE))","v":""},{"$f":"IF($B32=\"\",\"\",VLOOKUP($B32,部員情報!$A$6:$H$104,8,FALSE))","v":""},{"$f":"IF($B32=\"\",\"\",VLOOKUP($B32,部員情報!$A$6:$H$104,4,FALSE))","v":""},{"$f":"IF($B32=\"\",\"\",VLOOKUP($B32,部員情報!$A$6:$H$104,5,FALSE))","v":""},"","","",null,null,null,null,null,null,null,null,null,null,3,"能代山本"]
[22,null,"",null,{"$f":"IF($B33=\"\",\"\",VLOOKUP($B33,部員情報!$A$6:$H$104,3,FALSE))","v":""},{"$f":"IF($B33=\"\",\"\",VLOOKUP($B33,部員情報!$A$6:$H$104,8,FALSE))","v":""},{"$f":"IF($B33=\"\",\"\",VLOOKUP($B33,部員情報!$A$6:$H$104,4,FALSE))","v":""},{"$f":"IF($B33=\"\",\"\",VLOOKUP($B33,部員情報!$A$6:$H$104,5,FALSE))","v":""},"","","",null,null,null,null,null,null,null,null,null,null,4,"男鹿"]
[23,null,"",null,{"$f":"IF($B34=\"\",\"\",VLOOKUP($B34,部員情報!$A$6:$H$104,3,FALSE))","v":""},{"$f":"IF($B34=\"\",\"\",VLOOKUP($B34,部員情報!$A$6:$H$104,8,FALSE))","v":""},{"$f":"IF($B34=\"\",\"\",VLOOKUP($B34,部員情報!$A$6:$H$104,4,FALSE))","v":""},{"$f":"IF($B34=\"\",\"\",VLOOKUP($B34,部員情報!$A$6:$H$104,5,FALSE))","v":""},"","","",null,null,null,null,null,null,null,null,null,null,5,"南秋"]
[24,null,"",null,{"$f":"IF($B35=\"\",\"\",VLOOKUP($B35,部員情報!$A$6:$H$104,3,FALSE))","v":""},{"$f":"IF($B35=\"\",\"\",VLOOKUP($B35,部員情報!$A$6:$H$104,8,FALSE))","v":""},{"$f":"IF($B35=\"\",\"\",VLOOKUP($B35,部員情報!$A$6:$H$104,4,FALSE))","v":""},{"$f":"IF($B35=\"\",\"\",VLOOKUP($B35,部員情報!$A$6:$H$104,5,FALSE))","v":""},"","","",null,null,null,null,null,null,null,null,null,null,6,"秋田"]
[25,null,"",null,{"$f":"IF($B36=\"\",\"\",VLOOKUP($B36,部員情報!$A$6:$H$104,3,FALSE))","v":""},{"$f":"IF($B36=\"\",\"\",VLOOKUP($B36,部員情報!$A$6:$H$104,8,FALSE))","v":""},{"$f":"IF($B36=\"\",\"\",VLOOKUP($B36,部員情報!$A$6:$H$104,4,FALSE))","v":""},{"$f":"IF($B36=\"\",\"\",VLOOKUP($B36,部員情報!$A$6:$H$104,5,FALSE))","v":""},"","","",null,null,null,null,null,null,null,null,null,null,7,"河辺"]
[26,null,"",null,{"$f":"IF($B37=\"\",\"\",VLOOKUP($B37,部員情報!$A$6:$H$104,3,FALSE))","v":""},{"$f":"IF($B37=\"\",\"\",VLOOKUP($B37,部員情報!$A$6:$H$104,8,FALSE))","v":""},{"$f":"IF($B37=\"\",\"\",VLOOKUP($B37,部員情報!$A$6:$H$104,4,FALSE))","v":""},{"$f":"IF($B37=\"\",\"\",VLOOKUP($B37,部員情報!$A$6:$H$104,5,FALSE))","v":""},"","","",null,null,null,null,null,null,null,null,null,null,8,"本荘由利"]
[27,null,"",null,{"$f":"IF($B38=\"\",\"\",VLOOKUP($B38,部員情報!$A$6:$H$104,3,FALSE))","v":""},{"$f":"IF($B38=\"\",\"\",VLOOKUP($B38,部員情報!$A$6:$H$104,8,FALSE))","v":""},{"$f":"IF($B38=\"\",\"\",VLOOKUP($B38,部員情報!$A$6:$H$104,4,FALSE))","v":""},{"$f":"IF($B38=\"\",\"\",VLOOKUP($B38,部員情報!$A$6:$H$104,5,FALSE))","v":""},"","","",null,null,null,null,null,null,null,null,null,null,9,"大曲仙北"]
[28,null,"",null,{"$f":"IF($B39=\"\",\"\",VLOOKUP($B39,部員情報!$A$6:$H$104,3,FALSE))","v":""},{"$f":"IF($B39=\"\",\"\",VLOOKUP($B39,部員情報!$A$6:$H$104,8,FALSE))","v":""},{"$f":"IF($B39=\"\",\"\",VLOOKUP($B39,部員情報!$A$6:$H$104,4,FALSE))","v":""},{"$f":"IF($B39=\"\",\"\",VLOOKUP($B39,部員情報!$A$6:$H$104,5,FALSE))","v":""},"","","",null,null,null,null,null,null,null,null,null,null,10,"横手平鹿"]
[29,null,"",null,{"$f":"IF($B40=\"\",\"\",VLOOKUP($B40,部員情報!$A$6:$H$104,3,FALSE))","v":""},{"$f":"IF($B40=\"\",\"\",VLOOKUP($B40,部員情報!$A$6:$H$104,8,FALSE))","v":""},{"$f":"IF($B40=\"\",\"\",VLOOKUP($B40,部員情報!$A$6:$H$104,4,FALSE))","v":""},{"$f":"IF($B40=\"\",\"\",VLOOKUP($B40,部員情報!$A$6:$H$104,5,FALSE))","v":""},"","","",null,null,null,null,null,null,null,null,null,null,11,"湯沢雄勝"]
[30,null,"",null,{"$f":"IF($B41=\"\",\"\",VLOOKUP($B41,部員情報!$A$6:$H$104,3,FALSE))","v":""},{"$f":"IF($B41=\"\",\"\",VLOOKUP($B41,部員情報!$A$6:$H$104,8,FALSE))","v":""},{"$f":"IF($B41=\"\",\"\",VLOOKUP($B41,部員情報!$A$6:$H$104,4,FALSE))","v":""},{"$f":"IF($B41=\"\",\"\",VLOOKUP($B41,部員情報!$A$6:$H$104,5,FALSE))","v":""},"","",""]
[]
[]
[]
[]
[]
[]
[]
[null,"１年４×１００ｍＲ"]
[null,null,null,null,null,null,null,null,null,null,null,null,null,null,null,null,null,null,null,null,null,null,"１年生リレー"]
[null,null,null,null,null,null,null,null,null,null,null,null,null,null,null,null,null,null,null,null,null,null,{"$f":"COUNTIF($R$12:$R$41,Z12)","v":0}]
[null,null,null,null,null,null,null,null,null,null,null,null,null,null,null,null,null,null,null,null,null,null,"共通リレー"]
[null,null,null,null,null,null,null,null,null,null,null,null,null,null,null,null,null,null,null,null,null,null,{"$f":"COUNTIF($R$12:$R$41,Z13)","v":0}]
[]
[]
[]
[null,"共通４×１００ｍＲ"]
[null,{"$f":"_xlfn._xlws.FILTER(CHOOSE({1,2,3}, B12:B41, E12:E41, F12:F41), R12:R41<>\"\")","v":{"$error":"#VALUE!"}}]
[]
[]
[]
[]
[]
[]
[]
[]
[]
[]
["女子"]
[null,null,"一覧表用データ",null,null,null,null,null,null,null,null,"個表用データ"]
[null,null,"学校名",null,{"$f":"IF(E4=\"\",\"\",E4)","v":""},null,null,null,null,null,null,"学校名（略称）",{"$f":"IF(M4=\"\",\"\",M4)","v":""}]
[null,null,"監督氏名",null,null,"※",null,null,null,null,null,"郡市名",{"$f":"IF(M5=\"\",\"\",M5)","v":0}]
[null,null,"校長名",null,{"$f":"IF(E6=\"\",\"\",E6)","v":""},"※"]
[null,"引率・監督の特例を適用した場合入力→","引率者"]
[null,null,"代理監督学校名"]
[null,null,"代理監督氏名"]
[]
[null,"アスリートビブス№","学校名",1,"氏　　　名","学\n年","フ　リ　ガ　ナ","氏名英字表記","個人\n種目",null,"リレー\n種目","個人種目","個人種目\n郡市予選記録","郡市内\n順位","オープン3000\n入力欄","3000ｍの\n記録",null,"リレー種目","リレー種目\n郡市予選記録"]
[1,null,{"$f":"IF(B79=\"\",\"\",$M$71)","v":""},null,{"$f":"IF($B79=\"\",\"\",VLOOKUP($B79,部員情報!$A$6:$H$104,3,FALSE))","v":""},{"$f":"IF($B79=\"\",\"\",VLOOKUP($B79,部員情報!$A$6:$H$104,8,FALSE))","v":""},{"$f":"IF($B79=\"\",\"\",VLOOKUP($B79,部員情報!$A$6:$H$104,4,FALSE))","v":""},{"$f":"IF($B79=\"\",\"\",VLOOKUP($B79,部員情報!$A$6:$H$104,5,FALSE))","v":""},{"$f":"IF(L79=\"\",\"\",VLOOKUP(L79,$W$79:$X$90,2,FALSE))","v":""},{"$f":"IF(O79=\"\",\"\",VLOOKUP(O79,$W$79:$X$90,2,FALSE))","v":""},{"$f":"IF(R79=\"\",\"\",VLOOKUP(R79,$Z$79:$AA$81,2,FALSE))","v":""},null,null,null,null,null,null,null,null,null,null,null,"１年１００ｍ",31,null,"共通４×１００ｍＲ",51]
[2,null,"",null,{"$f":"IF($B80=\"\",\"\",VLOOKUP($B80,部員情報!$A$6:$H$104,3,FALSE))","v":""},{"$f":"IF($B80=\"\",\"\",VLOOKUP($B80,部員情報!$A$6:$H$104,8,FALSE))","v":""},{"$f":"IF($B80=\"\",\"\",VLOOKUP($B80,部員情報!$A$6:$H$104,4,FALSE))","v":""},{"$f":"IF($B80=\"\",\"\",VLOOKUP($B80,部員情報!$A$6:$H$104,5,FALSE))","v":""},{"$f":"IF(L80=\"\",\"\",VLOOKUP(L80,$W$79:$X$90,2,FALSE))","v":""},{"$f":"IF(O80=\"\",\"\",VLOOKUP(O80,$W$79:$X$90,2,FALSE))","v":""},{"$f":"IF(R80=\"\",\"\",VLOOKUP(R80,$Z$79:$AA$81,2,FALSE))","v":""},null,null,null,null,null,null,null,null,null,null,null,"２年１００ｍ",32]
[3,null,"",null,{"$f":"IF($B81=\"\",\"\",VLOOKUP($B81,部員情報!$A$6:$H$104,3,FALSE))","v":""},{"$f":"IF($B81=\"\",\"\",VLOOKUP($B81,部員情報!$A$6:$H$104,8,FALSE))","v":""},{"$f":"IF($B81=\"\",\"\",VLOOKUP($B81,部員情報!$A$6:$H$104,4,FALSE))","v":""},{"$f":"IF($B81=\"\",\"\",VLOOKUP($B81,部員情報!$A$6:$H$104,5,FALSE))","v":""},"","","",null,null,null,null,null,null,null,null,null,null,null,"共通２００ｍ",33]
[4,null,"",null,{"$f":"IF($B82=\"\",\"\",VLOOKUP($B82,部員情報!$A$6:$H$104,3,FALSE))","v":""},{"$f":"IF($B82=\"\",\"\",VLOOKUP($B82,部員情報!$A$6:$H$104,8,FALSE))","v":""},{"$f":"IF($B82=\"\",\"\",VLOOKUP($B82,部員情報!$A$6:$H$104,4,FALSE))","v":""},{"$f":"IF($B82=\"\",\"\",VLOOKUP($B82,部員情報!$A$6:$H$104,5,FALSE))","v":""},"","","",null,null,null,null,null,null,null,null,null,null,null,"共通８００ｍ",34]
[5,null,"",null,{"$f":"IF($B83=\"\",\"\",VLOOKUP($B83,部員情報!$A$6:$H$104,3,FALSE))","v":""},{"$f":"IF($B83=\"\",\"\",VLOOKUP($B83,部員情報!$A$6:$H$104,8,FALSE))","v":""},{"$f":"IF($B83=\"\",\"\",VLOOKUP($B83,部員情報!$A$6:$H$104,4,FALSE))","v":""},{"$f":"IF($B83=\"\",\"\",VLOOKUP($B83,部員情報!$A$6:$H$104,5,FALSE))","v":""},"","","",null,null,null,null,null,null,null,null,null,null,null,"１年１５００ｍ",35]
[6,null,"",null,{"$f":"IF($B84=\"\",\"\",VLOOKUP($B84,部員情報!$A$6:$H$104,3,FALSE))","v":""},{"$f":"IF($B84=\"\",\"\",VLOOKUP($B84,部員情報!$A$6:$H$104,8,FALSE))","v":""},{"$f":"IF($B84=\"\",\"\",VLOOKUP($B84,部員情報!$A$6:$H$104,4,FALSE))","v":""},{"$f":"IF($B84=\"\",\"\",VLOOKUP($B84,部員情報!$A$6:$H$104,5,FALSE))","v":""},"","","",null,null,null,null,null,null,null,null,null,null,null,"２年１５００ｍ",36]
[7,null,"",null,{"$f":"IF($B85=\"\",\"\",VLOOKUP($B85,部員情報!$A$6:$H$104,3,FALSE))","v":""},{"$f":"IF($B85=\"\",\"\",VLOOKUP($B85,部員情報!$A$6:$H$104,8,FALSE))","v":""},{"$f":"IF($B85=\"\",\"\",VLOOKUP($B85,部員情報!$A$6:$H$104,4,FALSE))","v":""},{"$f":"IF($B85=\"\",\"\",VLOOKUP($B85,部員情報!$A$6:$H$104,5,FALSE))","v":""},"","","",null,null,null,null,null,null,null,null,null,null,null,"共通１００ｍＨ",37]
[8,null,"",null,{"$f":"IF($B86=\"\",\"\",VLOOKUP($B86,部員情報!$A$6:$H$104,3,FALSE))","v":""},{"$f":"IF($B86=\"\",\"\",VLOOKUP($B86,部員情報!$A$6:$H$104,8,FALSE))","v":""},{"$f":"IF($B86=\"\",\"\",VLOOKUP($B86,部員情報!$A$6:$H$104,4,FALSE))","v":""},{"$f":"IF($B86=\"\",\"\",VLOOKUP($B86,部員情報!$A$6:$H$104,5,FALSE))","v":""},"","","",null,null,null,null,null,null,null,null,null,null,null,"共通走高跳",38]
[9,null,"",null,{"$f":"IF($B87=\"\",\"\",VLOOKUP($B87,部員情報!$A$6:$H$104,3,FALSE))","v":""},{"$f":"IF($B87=\"\",\"\",VLOOKUP($B87,部員情報!$A$6:$H$104,8,FALSE))","v":""},{"$f":"IF($B87=\"\",\"\",VLOOKUP($B87,部員情報!$A$6:$H$104,4,FALSE))","v":""},{"$f":"IF($B87=\"\",\"\",VLOOKUP($B87,部員情報!$A$6:$H$104,5,FALSE))","v":""},"","","",null,null,null,null,null,null,null,null,null,null,null,"共通走幅跳",39]
[10,null,"",null,{"$f":"IF($B88=\"\",\"\",VLOOKUP($B88,部員情報!$A$6:$H$104,3,FALSE))","v":""},{"$f":"IF($B88=\"\",\"\",VLOOKUP($B88,部員情報!$A$6:$H$104,8,FALSE))","v":""},{"$f":"IF($B88=\"\",\"\",VLOOKUP($B88,部員情報!$A$6:$H$104,4,FALSE))","v":""},{"$f":"IF($B88=\"\",\"\",VLOOKUP($B88,部員情報!$A$6:$H$104,5,FALSE))","v":""},"","","",null,null,null,null,null,null,null,null,null,null,null,"共通砲丸投",40]
[11,null,"",null,{"$f":"IF($B89=\"\",\"\",VLOOKUP($B89,部員情報!$A$6:$H$104,3,FALSE))","v":""},{"$f":"IF($B89=\"\",\"\",VLOOKUP($B89,部員情報!$A$6:$H$104,8,FALSE))","v":""},{"$f":"IF($B89=\"\",\"\",VLOOKUP($B89,部員情報!$A$6:$H$104,4,FALSE))","v":""},{"$f":"IF($B89=\"\",\"\",VLOOKUP($B89,部員情報!$A$6:$H$104,5,FALSE))","v":""},"","","",null,null,null,null,null,null,null,null,null,null,null,"ｵｰﾌﾟﾝ３０００ｍ",41]
[12,null,"",null,{"$f":"IF($B90=\"\",\"\",VLOOKUP($B90,部員情報!$A$6:$H$104,3,FALSE))","v":""},{"$f":"IF($B90=\"\",\"\",VLOOKUP($B90,部員情報!$A$6:$H$104,8,FALSE))","v":""},{"$f":"IF($B90=\"\",\"\",VLOOKUP($B90,部員情報!$A$6:$H$104,4,FALSE))","v":""},{"$f":"IF($B90=\"\",\"\",VLOOKUP($B90,部員情報!$A$6:$H$104,5,FALSE))","v":""},"","","",null,null,null,null,null,null,null,null,null,null,null,null,0]
[13,null,"",null,{"$f":"IF($B91=\"\",\"\",VLOOKUP($B91,部員情報!$A$6:$H$104,3,FALSE))","v":""},{"$f":"IF($B91=\"\",\"\",VLOOKUP($B91,部員情報!$A$6:$H$104,8,FALSE))","v":""},{"$f":"IF($B91=\"\",\"\",VLOOKUP($B91,部員情報!$A$6:$H$104,4,FALSE))","v":""},{"$f":"IF($B91=\"\",\"\",VLOOKUP($B91,部員情報!$A$6:$H$104,5,FALSE))","v":""},"","",""]
[14,null,"",null,{"$f":"IF($B92=\"\",\"\",VLOOKUP($B92,部員情報!$A$6:$H$104,3,FALSE))","v":""},{"$f":"IF($B92=\"\",\"\",VLOOKUP($B92,部員情報!$A$6:$H$104,8,FALSE))","v":""},{"$f":"IF($B92=\"\",\"\",VLOOKUP($B92,部員情報!$A$6:$H$104,4,FALSE))","v":""},{"$f":"IF($B92=\"\",\"\",VLOOKUP($B92,部員情報!$A$6:$H$104,5,FALSE))","v":""},"","",""]
[15,null,"",null,{"$f":"IF($B93=\"\",\"\",VLOOKUP($B93,部員情報!$A$6:$H$104,3,FALSE))","v":""},{"$f":"IF($B93=\"\",\"\",VLOOKUP($B93,部員情報!$A$6:$H$104,8,FALSE))","v":""},{"$f":"IF($B93=\"\",\"\",VLOOKUP($B93,部員情報!$A$6:$H$104,4,FALSE))","v":""},{"$f":"IF($B93=\"\",\"\",VLOOKUP($B93,部員情報!$A$6:$H$104,5,FALSE))","v":""},"","",""]
[16,null,"",null,{"$f":"IF($B94=\"\",\"\",VLOOKUP($B94,部員情報!$A$6:$H$104,3,FALSE))","v":""},{"$f":"IF($B94=\"\",\"\",VLOOKUP($B94,部員情報!$A$6:$H$104,8,FALSE))","v":""},{"$f":"IF($B94=\"\",\"\",VLOOKUP($B94,部員情報!$A$6:$H$104,4,FALSE))","v":""},{"$f":"IF($B94=\"\",\"\",VLOOKUP($B94,部員情報!$A$6:$H$104,5,FALSE))","v":""},"","",""]
[17,null,"",null,{"$f":"IF($B95=\"\",\"\",VLOOKUP($B95,部員情報!$A$6:$H$104,3,FALSE))","v":""},{"$f":"IF($B95=\"\",\"\",VLOOKUP($B95,部員情報!$A$6:$H$104,8,FALSE))","v":""},{"$f":"IF($B95=\"\",\"\",VLOOKUP($B95,部員情報!$A$6:$H$104,4,FALSE))","v":""},{"$f":"IF($B95=\"\",\"\",VLOOKUP($B95,部員情報!$A$6:$H$104,5,FALSE))","v":""},"","",""]
[18,null,"",null,{"$f":"IF($B96=\"\",\"\",VLOOKUP($B96,部員情報!$A$6:$H$104,3,FALSE))","v":""},{"$f":"IF($B96=\"\",\"\",VLOOKUP($B96,部員情報!$A$6:$H$104,8,FALSE))","v":""},{"$f":"IF($B96=\"\",\"\",VLOOKUP($B96,部員情報!$A$6:$H$104,4,FALSE))","v":""},{"$f":"IF($B96=\"\",\"\",VLOOKUP($B96,部員情報!$A$6:$H$104,5,FALSE))","v":""},"","",""]
[19,null,"",null,{"$f":"IF($B97=\"\",\"\",VLOOKUP($B97,部員情報!$A$6:$H$104,3,FALSE))","v":""},{"$f":"IF($B97=\"\",\"\",VLOOKUP($B97,部員情報!$A$6:$H$104,8,FALSE))","v":""},{"$f":"IF($B97=\"\",\"\",VLOOKUP($B97,部員情報!$A$6:$H$104,4,FALSE))","v":""},{"$f":"IF($B97=\"\",\"\",VLOOKUP($B97,部員情報!$A$6:$H$104,5,FALSE))","v":""},"","",""]
[20,null,"",null,{"$f":"IF($B98=\"\",\"\",VLOOKUP($B98,部員情報!$A$6:$H$104,3,FALSE))","v":""},{"$f":"IF($B98=\"\",\"\",VLOOKUP($B98,部員情報!$A$6:$H$104,8,FALSE))","v":""},{"$f":"IF($B98=\"\",\"\",VLOOKUP($B98,部員情報!$A$6:$H$104,4,FALSE))","v":""},{"$f":"IF($B98=\"\",\"\",VLOOKUP($B98,部員情報!$A$6:$H$104,5,FALSE))","v":""},"","",""]
[21,null,"",null,{"$f":"IF($B99=\"\",\"\",VLOOKUP($B99,部員情報!$A$6:$H$104,3,FALSE))","v":""},{"$f":"IF($B99=\"\",\"\",VLOOKUP($B99,部員情報!$A$6:$H$104,8,FALSE))","v":""},{"$f":"IF($B99=\"\",\"\",VLOOKUP($B99,部員情報!$A$6:$H$104,4,FALSE))","v":""},{"$f":"IF($B99=\"\",\"\",VLOOKUP($B99,部員情報!$A$6:$H$104,5,FALSE))","v":""},"","",""]
[22,null,"",null,{"$f":"IF($B100=\"\",\"\",VLOOKUP($B100,部員情報!$A$6:$H$104,3,FALSE))","v":""},{"$f":"IF($B100=\"\",\"\",VLOOKUP($B100,部員情報!$A$6:$H$104,8,FALSE))","v":""},{"$f":"IF($B100=\"\",\"\",VLOOKUP($B100,部員情報!$A$6:$H$104,4,FALSE))","v":""},{"$f":"IF($B100=\"\",\"\",VLOOKUP($B100,部員情報!$A$6:$H$104,5,FALSE))","v":""},"","",""]
[23,null,"",null,{"$f":"IF($B101=\"\",\"\",VLOOKUP($B101,部員情報!$A$6:$H$104,3,FALSE))","v":""},{"$f":"IF($B101=\"\",\"\",VLOOKUP($B101,部員情報!$A$6:$H$104,8,FALSE))","v":""},{"$f":"IF($B101=\"\",\"\",VLOOKUP($B101,部員情報!$A$6:$H$104,4,FALSE))","v":""},{"$f":"IF($B101=\"\",\"\",VLOOKUP($B101,部員情報!$A$6:$H$104,5,FALSE))","v":""},"","",""]
[24,null,"",null,{"$f":"IF($B102=\"\",\"\",VLOOKUP($B102,部員情報!$A$6:$H$104,3,FALSE))","v":""},{"$f":"IF($B102=\"\",\"\",VLOOKUP($B102,部員情報!$A$6:$H$104,8,FALSE))","v":""},{"$f":"IF($B102=\"\",\"\",VLOOKUP($B102,部員情報!$A$6:$H$104,4,FALSE))","v":""},{"$f":"IF($B102=\"\",\"\",VLOOKUP($B102,部員情報!$A$6:$H$104,5,FALSE))","v":""},"","",""]
[25,null,"",null,{"$f":"IF($B103=\"\",\"\",VLOOKUP($B103,部員情報!$A$6:$H$104,3,FALSE))","v":""},{"$f":"IF($B103=\"\",\"\",VLOOKUP($B103,部員情報!$A$6:$H$104,8,FALSE))","v":""},{"$f":"IF($B103=\"\",\"\",VLOOKUP($B103,部員情報!$A$6:$H$104,4,FALSE))","v":""},{"$f":"IF($B103=\"\",\"\",VLOOKUP($B103,部員情報!$A$6:$H$104,5,FALSE))","v":""},"","",""]
[26,null,"",null,{"$f":"IF($B104=\"\",\"\",VLOOKUP($B104,部員情報!$A$6:$H$104,3,FALSE))","v":""},{"$f":"IF($B104=\"\",\"\",VLOOKUP($B104,部員情報!$A$6:$H$104,8,FALSE))","v":""},{"$f":"IF($B104=\"\",\"\",VLOOKUP($B104,部員情報!$A$6:$H$104,4,FALSE))","v":""},{"$f":"IF($B104=\"\",\"\",VLOOKUP($B104,部員情報!$A$6:$H$104,5,FALSE))","v":""},"","",""]
[27,null,"",null,{"$f":"IF($B105=\"\",\"\",VLOOKUP($B105,部員情報!$A$6:$H$104,3,FALSE))","v":""},{"$f":"IF($B105=\"\",\"\",VLOOKUP($B105,部員情報!$A$6:$H$104,8,FALSE))","v":""},{"$f":"IF($B105=\"\",\"\",VLOOKUP($B105,部員情報!$A$6:$H$104,4,FALSE))","v":""},{"$f":"IF($B105=\"\",\"\",VLOOKUP($B105,部員情報!$A$6:$H$104,5,FALSE))","v":""},"","",""]
[28,null,"",null,{"$f":"IF($B106=\"\",\"\",VLOOKUP($B106,部員情報!$A$6:$H$104,3,FALSE))","v":""},{"$f":"IF($B106=\"\",\"\",VLOOKUP($B106,部員情報!$A$6:$H$104,8,FALSE))","v":""},{"$f":"IF($B106=\"\",\"\",VLOOKUP($B106,部員情報!$A$6:$H$104,4,FALSE))","v":""},{"$f":"IF($B106=\"\",\"\",VLOOKUP($B106,部員情報!$A$6:$H$104,5,FALSE))","v":""},"","",""]
[29,null,"",null,{"$f":"IF($B107=\"\",\"\",VLOOKUP($B107,部員情報!$A$6:$H$104,3,FALSE))","v":""},{"$f":"IF($B107=\"\",\"\",VLOOKUP($B107,部員情報!$A$6:$H$104,8,FALSE))","v":""},{"$f":"IF($B107=\"\",\"\",VLOOKUP($B107,部員情報!$A$6:$H$104,4,FALSE))","v":""},{"$f":"IF($B107=\"\",\"\",VLOOKUP($B107,部員情報!$A$6:$H$104,5,FALSE))","v":""},"","",""]
[30,null,"",null,{"$f":"IF($B108=\"\",\"\",VLOOKUP($B108,部員情報!$A$6:$H$104,3,FALSE))","v":""},{"$f":"IF($B108=\"\",\"\",VLOOKUP($B108,部員情報!$A$6:$H$104,8,FALSE))","v":""},{"$f":"IF($B108=\"\",\"\",VLOOKUP($B108,部員情報!$A$6:$H$104,4,FALSE))","v":""},{"$f":"IF($B108=\"\",\"\",VLOOKUP($B108,部員情報!$A$6:$H$104,5,FALSE))","v":""},"","",""]
[]
[]
[]
[]
[]
[]
[]
[null,"１年４×１００ｍＲ"]
[null,null,null,null,null,null,null,null,null,null,null,null,null,null,null,null,null,null,null,null,null,null,"１年生リレー"]
[null,null,null,null,null,null,null,null,null,null,null,null,null,null,null,null,null,null,null,null,null,null,{"$f":"COUNTIF($R$79:$R$108,Z79)","v":0}]
[null,null,null,null,null,null,null,null,null,null,null,null,null,null,null,null,null,null,null,null,null,null,"共通リレー"]
[null,null,null,null,null,null,null,null,null,null,null,null,null,null,null,null,null,null,null,null,null,null,{"$f":"COUNTIF($R$79:$R$108,Z80)","v":0}]
[]
[]
[null,null,"",null,"","","",null,"","",""]
[null,"共通４×１００ｍＲ",null,null,"","","",null,"","",""]
[null,{"$f":"_xlfn._xlws.FILTER(CHOOSE({1,2,3}, B79:B108, E79:E108, F79:F108), R79:R108<>\"\")","v":{"$error":"#VALUE!"}}]
[]
[]
[]
[]
[]
[null,null,"",null,"","","",null,"","",""]
[null,null,"",null,"","","",null,"","",""]
[null,null,"",null,"","","",null,"","",""]
[null,null,"",null,"","","",null,"","",""]
[null,null,"",null,"","","",null,"","",""]
[null,null,"",null,"","","",null,"","",""]
[null,null,"",null,"","","",null,"","",""]
[null,null,"",null,"","","",null,"","",""]
[null,null,"",null,"","","",null,"","",""]
[null,null,"",null,"","","",null,"","",""]
[null,null,"",null,"","","",null,"","",""]
[null,null,"",null,"","","",null,"","",""]
[null,null,"",null,"","","",null,"","",""]
[null,null,"",null,"","","",null,"","",""]
[null,null,"",null,"","","",null,"","",""]
[null,null,"",null,"","","",null,"","",""]
[null,null,"",null,"","","",null,"","",""]
[null,null,"",null,"","","",null,"","",""]
[null,null,"",null,"","","",null,"","",""]
[null,null,"",null,"","","",null,"","",""]
[null,null,"",null,"","","",null,"","",""]
[null,null,"",null,"","","",null,"","",""]
[null,null,"",null,"","","",null,"","",""]
[null,null,"",null,"","","",null,"","",""]

{"sheet":"新人一覧表","index":3,"n_rows":59,"n_cols":49,"rows_kept":59,"cut":false,"hidden":false,"merged":[[2,0,2,19],[2,28,2,45],[4,16,4,17],[4,41,4,42],[4,30,4,36],[4,2,4,9],[43,39,43,42],[5,48,9,49],[41,11,41,12],[41,13,41,16],[41,37,41,38],[41,39,41,42],[38,28,38,31],[40,28,40,45],[37,13,37,19],[37,39,37,44],[38,32,38,36],[41,17,41,18],[5,22,9,23],[43,37,43,38],[41,29,41,35],[43,11,43,12],[43,13,43,16],[46,7,46,10],[38,0,38,4],[38,5,38,10],[40,0,40,19],[41,1,41,9],[47,28,47,45],[46,11,46,12],[46,13,46,14],[47,0,47,19],[46,2,46,3],[46,4,46,6],[46,30,46,31],[46,32,46,33],[46,34,46,37],[46,38,46,40],[46,15,46,18],[46,41,46,44]]}
[]
[]
[{"$f":"CONCATENATE(B58,C58,D58)","v":"第64回　秋田県中学校秋季陸上競技大会　　参加申込書（一覧表）男子"},null,null,null,null,null,null,null,null,null,null,null,null,null,null,null,null,null,null,null,null,null,null,null,null,null,null,null,{"$f":"CONCATENATE(B58,C58,D59)","v":"第64回　秋田県中学校秋季陸上競技大会　　参加申込書（一覧表）女子"}]
[]
[null,"学校名（",{"$f":"IF(新人入力!E4=\"\",\"\",新人入力!E4)","v":""},null,null,null,null,null,null,null,"）",null,null,null,null,null,"参加人数",null,{"$f":"IF(COUNTA(新人入力!B12:B41)=0,\"\",COUNTA(新人入力!B12:B41))","v":""},"人",null,null,null,null,null,null,null,null,null,"学校名（",{"$f":"C5","v":""},null,null,null,null,null,null,"）",null,null,null,"参加人数",null,{"$f":"IF(COUNTA(新人入力!B79:B108)=0,\"\",COUNTA(新人入力!B79:B108))","v":""},"人"]
["ｱｽﾘｰﾄ\nﾋﾞﾌﾞｽ","名　前","フリガナ","学年","１年\n100","２年\n100","共通\n200","共通\n400","共通\n800","１年\n1500","２年\n1500","共通\n3000","共110\nJH","共通\n走高","共通\n棒高","共通\n走幅","共通\n砲丸","共通\n400R","ｵｰﾌﾟﾝ\n3000",null,null,null,"印刷は、「通常使うプリンタ」に設定されているプリンタで印刷されます。設定を確認してから印刷ボタンを押してください。Ａ４版で印刷されます。",null,null,null,null,null,"ｱｽﾘｰﾄ\nﾋﾞﾌﾞｽ","名　前","フリガナ","学年","１年\n100","２年\n100","共通\n200","共通\n800","１年\n1500","２年\n1500","共通\n100H","共通\n走高","共通\n走幅","共通\n砲丸","共通\n400R","ｵｰﾌﾟﾝ\n3000",null,null,null,null,"印刷は、「通常使うプリンタ」に設定されているプリンタで印刷されます。設定を確認してから印刷ボタンを押してください。Ａ４版で印刷されます。"]
[{"$f":"IF(新人入力!B12=\"\",\"\",新人入力!B12)","v":""},{"$f":"IF(新人入力!E12=\"\",\"\",新人入力!E12)","v":""},{"$f":"IF(新人入力!G12=\"\",\"\",新人入力!G12)","v":""},{"$f":"IF(新人入力!F12=\"\",\"\",新人入力!F12)","v":""},{"$f":"IF(OR(新人入力!$I12=1,新人入力!$J12=1),\"○\",\"\")","v":""},{"$f":"IF(OR(新人入力!$I12=2,新人入力!$J12=2),\"○\",\"\")","v":""},{"$f":"IF(OR(新人入力!$I12=3,新人入力!$J12=3),\"○\",\"\")","v":""},{"$f":"IF(OR(新人入力!$I12=4,新人入力!$J12=4),\"○\",\"\")","v":""},{"$f":"IF(OR(新人入力!$I12=5,新人入力!$J12=5),\"○\",\"\")","v":""},{"$f":"IF(OR(新人入力!$I12=6,新人入力!$J12=6),\"○\",\"\")","v":""},{"$f":"IF(OR(新人入力!$I12=7,新人入力!$J12=7),\"○\",\"\")","v":""},{"$f":"IF(OR(新人入力!$I12=8,新人入力!$J12=8),\"○\",\"\")","v":""},{"$f":"IF(OR(新人入力!$I12=9,新人入力!$J12=9),\"○\",\"\")","v":""},{"$f":"IF(OR(新人入力!$I12=10,新人入力!$J12=10),\"○\",\"\")","v":""},{"$f":"IF(OR(新人入力!$I12=11,新人入力!$J12=11),\"○\",\"\")","v":""},{"$f":"IF(OR(新人入力!$I12=12,新人入力!$J12=12),\"○\",\"\")","v":""},{"$f":"IF(OR(新人入力!$I12=13,新人入力!$J12=13),\"○\",\"\")","v":""},{"$f":"IF(新人入力!$K12=22,\"○\",\"\")","v":""},{"$f":"IF(OR(新人入力!$I12=14,新人入力!$J12=9),\"○\",\"\")","v":""},null,null,null,null,null,null,null,null,null,{"$f":"IF(新人入力!B79=\"\",\"\",新人入力!B79)","v":""},{"$f":"IF(新人入力!E79=\"\",\"\",新人入力!E79)","v":""},{"$f":"IF(新人入力!G79=\"\",\"\",新人入力!G79)","v":""},{"$f":"IF(新人入力!F79=\"\",\"\",新人入力!F79)","v":""},{"$f":"IF(OR(新人入力!$I79=31,新人入力!$J79=31),\"○\",\"\")","v":""},{"$f":"IF(OR(新人入力!$I79=32,新人入力!$J79=32),\"○\",\"\")","v":""},{"$f":"IF(OR(新人入力!$I79=33,新人入力!$J79=33),\"○\",\"\")","v":""},{"$f":"IF(OR(新人入力!$I79=34,新人入力!$J79=34),\"○\",\"\")","v":""},{"$f":"IF(OR(新人入力!$I79=35,新人入力!$J79=35),\"○\",\"\")","v":""},{"$f":"IF(OR(新人入力!$I79=36,新人入力!$J79=36),\"○\",\"\")","v":""},{"$f":"IF(OR(新人入力!$I79=37,新人入力!$J79=37),\"○\",\"\")","v":""},{"$f":"IF(OR(新人入力!$I79=38,新人入力!$J79=38),\"○\",\"\")","v":""},{"$f":"IF(OR(新人入力!$I79=39,新人入力!$J79=39),\"○\",\"\")","v":""},{"$f":"IF(OR(新人入力!$I79=40,新人入力!$J79=40),\"○\",\"\")","v":""},{"$f":"IF(新人入力!$K79=51,\"○\",\"\")","v":""},{"$f":"IF(OR(新人入力!$I79=41,新人入力!$J79=41),\"○\",\"\")","v":""}]
[{"$f":"IF(新人入力!B13=\"\",\"\",新人入力!B13)","v":""},{"$f":"IF(新人入力!E13=\"\",\"\",新人入力!E13)","v":""},{"$f":"IF(新人入力!G13=\"\",\"\",新人入力!G13)","v":""},{"$f":"IF(新人入力!F13=\"\",\"\",新人入力!F13)","v":""},{"$f":"IF(OR(新人入力!$I13=1,新人入力!$J13=1),\"○\",\"\")","v":""},{"$f":"IF(OR(新人入力!$I13=2,新人入力!$J13=2),\"○\",\"\")","v":""},{"$f":"IF(OR(新人入力!$I13=3,新人入力!$J13=3),\"○\",\"\")","v":""},{"$f":"IF(OR(新人入力!$I13=4,新人入力!$J13=4),\"○\",\"\")","v":""},{"$f":"IF(OR(新人入力!$I13=5,新人入力!$J13=5),\"○\",\"\")","v":""},{"$f":"IF(OR(新人入力!$I13=6,新人入力!$J13=6),\"○\",\"\")","v":""},{"$f":"IF(OR(新人入力!$I13=7,新人入力!$J13=7),\"○\",\"\")","v":""},{"$f":"IF(OR(新人入力!$I13=8,新人入力!$J13=8),\"○\",\"\")","v":""},{"$f":"IF(OR(新人入力!$I13=9,新人入力!$J13=9),\"○\",\"\")","v":""},{"$f":"IF(OR(新人入力!$I13=10,新人入力!$J13=10),\"○\",\"\")","v":""},{"$f":"IF(OR(新人入力!$I13=11,新人入力!$J13=11),\"○\",\"\")","v":""},{"$f":"IF(OR(新人入力!$I13=12,新人入力!$J13=12),\"○\",\"\")","v":""},{"$f":"IF(OR(新人入力!$I13=13,新人入力!$J13=13),\"○\",\"\")","v":""},{"$f":"IF(新人入力!$K13=22,\"○\",\"\")","v":""},{"$f":"IF(OR(新人入力!$I13=14,新人入力!$J13=9),\"○\",\"\")","v":""},null,null,null,null,null,null,null,null,null,{"$f":"IF(新人入力!B80=\"\",\"\",新人入力!B80)","v":""},{"$f":"IF(新人入力!E80=\"\",\"\",新人入力!E80)","v":""},{"$f":"IF(新人入力!G80=\"\",\"\",新人入力!G80)","v":""},{"$f":"IF(新人入力!F80=\"\",\"\",新人入力!F80)","v":""},{"$f":"IF(OR(新人入力!$I80=31,新人入力!$J80=31),\"○\",\"\")","v":""},{"$f":"IF(OR(新人入力!$I80=32,新人入力!$J80=32),\"○\",\"\")","v":""},{"$f":"IF(OR(新人入力!$I80=33,新人入力!$J80=33),\"○\",\"\")","v":""},{"$f":"IF(OR(新人入力!$I80=34,新人入力!$J80=34),\"○\",\"\")","v":""},{"$f":"IF(OR(新人入力!$I80=35,新人入力!$J80=35),\"○\",\"\")","v":""},{"$f":"IF(OR(新人入力!$I80=36,新人入力!$J80=36),\"○\",\"\")","v":""},{"$f":"IF(OR(新人入力!$I80=37,新人入力!$J80=37),\"○\",\"\")","v":""},{"$f":"IF(OR(新人入力!$I80=38,新人入力!$J80=38),\"○\",\"\")","v":""},{"$f":"IF(OR(新人入力!$I80=39,新人入力!$J80=39),\"○\",\"\")","v":""},{"$f":"IF(OR(新人入力!$I80=40,新人入力!$J80=40),\"○\",\"\")","v":""},{"$f":"IF(新人入力!$K80=51,\"○\",\"\")","v":""},{"$f":"IF(OR(新人入力!$I80=41,新人入力!$J80=41),\"○\",\"\")","v":""}]
[{"$f":"IF(新人入力!B14=\"\",\"\",新人入力!B14)","v":""},{"$f":"IF(新人入力!E14=\"\",\"\",新人入力!E14)","v":""},{"$f":"IF(新人入力!G14=\"\",\"\",新人入力!G14)","v":""},{"$f":"IF(新人入力!F14=\"\",\"\",新人入力!F14)","v":""},{"$f":"IF(OR(新人入力!$I14=1,新人入力!$J14=1),\"○\",\"\")","v":""},{"$f":"IF(OR(新人入力!$I14=2,新人入力!$J14=2),\"○\",\"\")","v":""},{"$f":"IF(OR(新人入力!$I14=3,新人入力!$J14=3),\"○\",\"\")","v":""},{"$f":"IF(OR(新人入力!$I14=4,新人入力!$J14=4),\"○\",\"\")","v":""},{"$f":"IF(OR(新人入力!$I14=5,新人入力!$J14=5),\"○\",\"\")","v":""},{"$f":"IF(OR(新人入力!$I14=6,新人入力!$J14=6),\"○\",\"\")","v":""},{"$f":"IF(OR(新人入力!$I14=7,新人入力!$J14=7),\"○\",\"\")","v":""},{"$f":"IF(OR(新人入力!$I14=8,新人入力!$J14=8),\"○\",\"\")","v":""},{"$f":"IF(OR(新人入力!$I14=9,新人入力!$J14=9),\"○\",\"\")","v":""},{"$f":"IF(OR(新人入力!$I14=10,新人入力!$J14=10),\"○\",\"\")","v":""},{"$f":"IF(OR(新人入力!$I14=11,新人入力!$J14=11),\"○\",\"\")","v":""},{"$f":"IF(OR(新人入力!$I14=12,新人入力!$J14=12),\"○\",\"\")","v":""},{"$f":"IF(OR(新人入力!$I14=13,新人入力!$J14=13),\"○\",\"\")","v":""},{"$f":"IF(新人入力!$K14=22,\"○\",\"\")","v":""},{"$f":"IF(OR(新人入力!$I14=14,新人入力!$J14=9),\"○\",\"\")","v":""},null,null,null,null,null,null,null,null,null,{"$f":"IF(新人入力!B81=\"\",\"\",新人入力!B81)","v":""},{"$f":"IF(新人入力!E81=\"\",\"\",新人入力!E81)","v":""},{"$f":"IF(新人入力!G81=\"\",\"\",新人入力!G81)","v":""},{"$f":"IF(新人入力!F81=\"\",\"\",新人入力!F81)","v":""},{"$f":"IF(OR(新人入力!$I81=31,新人入力!$J81=31),\"○\",\"\")","v":""},{"$f":"IF(OR(新人入力!$I81=32,新人入力!$J81=32),\"○\",\"\")","v":""},{"$f":"IF(OR(新人入力!$I81=33,新人入力!$J81=33),\"○\",\"\")","v":""},{"$f":"IF(OR(新人入力!$I81=34,新人入力!$J81=34),\"○\",\"\")","v":""},{"$f":"IF(OR(新人入力!$I81=35,新人入力!$J81=35),\"○\",\"\")","v":""},{"$f":"IF(OR(新人入力!$I81=36,新人入力!$J81=36),\"○\",\"\")","v":""},{"$f":"IF(OR(新人入力!$I81=37,新人入力!$J81=37),\"○\",\"\")","v":""},{"$f":"IF(OR(新人入力!$I81=38,新人入力!$J81=38),\"○\",\"\")","v":""},{"$f":"IF(OR(新人入力!$I81=39,新人入力!$J81=39),\"○\",\"\")","v":""},{"$f":"IF(OR(新人入力!$I81=40,新人入力!$J81=40),\"○\",\"\")","v":""},{"$f":"IF(新人入力!$K81=51,\"○\",\"\")","v":""},{"$f":"IF(OR(新人入力!$I81=41,新人入力!$J81=41),\"○\",\"\")","v":""}]
[{"$f":"IF(新人入力!B15=\"\",\"\",新人入力!B15)","v":""},{"$f":"IF(新人入力!E15=\"\",\"\",新人入力!E15)","v":""},{"$f":"IF(新人入力!G15=\"\",\"\",新人入力!G15)","v":""},{"$f":"IF(新人入力!F15=\"\",\"\",新人入力!F15)","v":""},{"$f":"IF(OR(新人入力!$I15=1,新人入力!$J15=1),\"○\",\"\")","v":""},{"$f":"IF(OR(新人入力!$I15=2,新人入力!$J15=2),\"○\",\"\")","v":""},{"$f":"IF(OR(新人入力!$I15=3,新人入力!$J15=3),\"○\",\"\")","v":""},{"$f":"IF(OR(新人入力!$I15=4,新人入力!$J15=4),\"○\",\"\")","v":""},{"$f":"IF(OR(新人入力!$I15=5,新人入力!$J15=5),\"○\",\"\")","v":""},{"$f":"IF(OR(新人入力!$I15=6,新人入力!$J15=6),\"○\",\"\")","v":""},{"$f":"IF(OR(新人入力!$I15=7,新人入力!$J15=7),\"○\",\"\")","v":""},{"$f":"IF(OR(新人入力!$I15=8,新人入力!$J15=8),\"○\",\"\")","v":""},{"$f":"IF(OR(新人入力!$I15=9,新人入力!$J15=9),\"○\",\"\")","v":""},{"$f":"IF(OR(新人入力!$I15=10,新人入力!$J15=10),\"○\",\"\")","v":""},{"$f":"IF(OR(新人入力!$I15=11,新人入力!$J15=11),\"○\",\"\")","v":""},{"$f":"IF(OR(新人入力!$I15=12,新人入力!$J15=12),\"○\",\"\")","v":""},{"$f":"IF(OR(新人入力!$I15=13,新人入力!$J15=13),\"○\",\"\")","v":""},{"$f":"IF(新人入力!$K15=22,\"○\",\"\")","v":""},{"$f":"IF(OR(新人入力!$I15=14,新人入力!$J15=9),\"○\",\"\")","v":""},null,null,null,null,null,null,null,null,null,{"$f":"IF(新人入力!B82=\"\",\"\",新人入力!B82)","v":""},{"$f":"IF(新人入力!E82=\"\",\"\",新人入力!E82)","v":""},{"$f":"IF(新人入力!G82=\"\",\"\",新人入力!G82)","v":""},{"$f":"IF(新人入力!F82=\"\",\"\",新人入力!F82)","v":""},{"$f":"IF(OR(新人入力!$I82=31,新人入力!$J82=31),\"○\",\"\")","v":""},{"$f":"IF(OR(新人入力!$I82=32,新人入力!$J82=32),\"○\",\"\")","v":""},{"$f":"IF(OR(新人入力!$I82=33,新人入力!$J82=33),\"○\",\"\")","v":""},{"$f":"IF(OR(新人入力!$I82=34,新人入力!$J82=34),\"○\",\"\")","v":""},{"$f":"IF(OR(新人入力!$I82=35,新人入力!$J82=35),\"○\",\"\")","v":""},{"$f":"IF(OR(新人入力!$I82=36,新人入力!$J82=36),\"○\",\"\")","v":""},{"$f":"IF(OR(新人入力!$I82=37,新人入力!$J82=37),\"○\",\"\")","v":""},{"$f":"IF(OR(新人入力!$I82=38,新人入力!$J82=38),\"○\",\"\")","v":""},{"$f":"IF(OR(新人入力!$I82=39,新人入力!$J82=39),\"○\",\"\")","v":""},{"$f":"IF(OR(新人入力!$I82=40,新人入力!$J82=40),\"○\",\"\")","v":""},{"$f":"IF(新人入力!$K82=51,\"○\",\"\")","v":""},{"$f":"IF(OR(新人入力!$I82=41,新人入力!$J82=41),\"○\",\"\")","v":""}]
[{"$f":"IF(新人入力!B16=\"\",\"\",新人入力!B16)","v":""},{"$f":"IF(新人入力!E16=\"\",\"\",新人入力!E16)","v":""},{"$f":"IF(新人入力!G16=\"\",\"\",新人入力!G16)","v":""},{"$f":"IF(新人入力!F16=\"\",\"\",新人入力!F16)","v":""},{"$f":"IF(OR(新人入力!$I16=1,新人入力!$J16=1),\"○\",\"\")","v":""},{"$f":"IF(OR(新人入力!$I16=2,新人入力!$J16=2),\"○\",\"\")","v":""},{"$f":"IF(OR(新人入力!$I16=3,新人入力!$J16=3),\"○\",\"\")","v":""},{"$f":"IF(OR(新人入力!$I16=4,新人入力!$J16=4),\"○\",\"\")","v":""},{"$f":"IF(OR(新人入力!$I16=5,新人入力!$J16=5),\"○\",\"\")","v":""},{"$f":"IF(OR(新人入力!$I16=6,新人入力!$J16=6),\"○\",\"\")","v":""},{"$f":"IF(OR(新人入力!$I16=7,新人入力!$J16=7),\"○\",\"\")","v":""},{"$f":"IF(OR(新人入力!$I16=8,新人入力!$J16=8),\"○\",\"\")","v":""},{"$f":"IF(OR(新人入力!$I16=9,新人入力!$J16=9),\"○\",\"\")","v":""},{"$f":"IF(OR(新人入力!$I16=10,新人入力!$J16=10),\"○\",\"\")","v":""},{"$f":"IF(OR(新人入力!$I16=11,新人入力!$J16=11),\"○\",\"\")","v":""},{"$f":"IF(OR(新人入力!$I16=12,新人入力!$J16=12),\"○\",\"\")","v":""},{"$f":"IF(OR(新人入力!$I16=13,新人入力!$J16=13),\"○\",\"\")","v":""},{"$f":"IF(新人入力!$K16=22,\"○\",\"\")","v":""},{"$f":"IF(OR(新人入力!$I16=14,新人入力!$J16=9),\"○\",\"\")","v":""},null,null,null,null,null,null,null,null,null,{"$f":"IF(新人入力!B83=\"\",\"\",新人入力!B83)","v":""},{"$f":"IF(新人入力!E83=\"\",\"\",新人入力!E83)","v":""},{"$f":"IF(新人入力!G83=\"\",\"\",新人入力!G83)","v":""},{"$f":"IF(新人入力!F83=\"\",\"\",新人入力!F83)","v":""},{"$f":"IF(OR(新人入力!$I83=31,新人入力!$J83=31),\"○\",\"\")","v":""},{"$f":"IF(OR(新人入力!$I83=32,新人入力!$J83=32),\"○\",\"\")","v":""},{"$f":"IF(OR(新人入力!$I83=33,新人入力!$J83=33),\"○\",\"\")","v":""},{"$f":"IF(OR(新人入力!$I83=34,新人入力!$J83=34),\"○\",\"\")","v":""},{"$f":"IF(OR(新人入力!$I83=35,新人入力!$J83=35),\"○\",\"\")","v":""},{"$f":"IF(OR(新人入力!$I83=36,新人入力!$J83=36),\"○\",\"\")","v":""},{"$f":"IF(OR(新人入力!$I83=37,新人入力!$J83=37),\"○\",\"\")","v":""},{"$f":"IF(OR(新人入力!$I83=38,新人入力!$J83=38),\"○\",\"\")","v":""},{"$f":"IF(OR(新人入力!$I83=39,新人入力!$J83=39),\"○\",\"\")","v":""},{"$f":"IF(OR(新人入力!$I83=40,新人入力!$J83=40),\"○\",\"\")","v":""},{"$f":"IF(新人入力!$K83=51,\"○\",\"\")","v":""},{"$f":"IF(OR(新人入力!$I83=41,新人入力!$J83=41),\"○\",\"\")","v":""}]
[{"$f":"IF(新人入力!B17=\"\",\"\",新人入力!B17)","v":""},{"$f":"IF(新人入力!E17=\"\",\"\",新人入力!E17)","v":""},{"$f":"IF(新人入力!G17=\"\",\"\",新人入力!G17)","v":""},{"$f":"IF(新人入力!F17=\"\",\"\",新人入力!F17)","v":""},{"$f":"IF(OR(新人入力!$I17=1,新人入力!$J17=1),\"○\",\"\")","v":""},{"$f":"IF(OR(新人入力!$I17=2,新人入力!$J17=2),\"○\",\"\")","v":""},{"$f":"IF(OR(新人入力!$I17=3,新人入力!$J17=3),\"○\",\"\")","v":""},{"$f":"IF(OR(新人入力!$I17=4,新人入力!$J17=4),\"○\",\"\")","v":""},{"$f":"IF(OR(新人入力!$I17=5,新人入力!$J17=5),\"○\",\"\")","v":""},{"$f":"IF(OR(新人入力!$I17=6,新人入力!$J17=6),\"○\",\"\")","v":""},{"$f":"IF(OR(新人入力!$I17=7,新人入力!$J17=7),\"○\",\"\")","v":""},{"$f":"IF(OR(新人入力!$I17=8,新人入力!$J17=8),\"○\",\"\")","v":""},{"$f":"IF(OR(新人入力!$I17=9,新人入力!$J17=9),\"○\",\"\")","v":""},{"$f":"IF(OR(新人入力!$I17=10,新人入力!$J17=10),\"○\",\"\")","v":""},{"$f":"IF(OR(新人入力!$I17=11,新人入力!$J17=11),\"○\",\"\")","v":""},{"$f":"IF(OR(新人入力!$I17=12,新人入力!$J17=12),\"○\",\"\")","v":""},{"$f":"IF(OR(新人入力!$I17=13,新人入力!$J17=13),\"○\",\"\")","v":""},{"$f":"IF(新人入力!$K17=22,\"○\",\"\")","v":""},{"$f":"IF(OR(新人入力!$I17=14,新人入力!$J17=9),\"○\",\"\")","v":""},null,null,null,null,null,null,null,null,null,{"$f":"IF(新人入力!B84=\"\",\"\",新人入力!B84)","v":""},{"$f":"IF(新人入力!E84=\"\",\"\",新人入力!E84)","v":""},{"$f":"IF(新人入力!G84=\"\",\"\",新人入力!G84)","v":""},{"$f":"IF(新人入力!F84=\"\",\"\",新人入力!F84)","v":""},{"$f":"IF(OR(新人入力!$I84=31,新人入力!$J84=31),\"○\",\"\")","v":""},{"$f":"IF(OR(新人入力!$I84=32,新人入力!$J84=32),\"○\",\"\")","v":""},{"$f":"IF(OR(新人入力!$I84=33,新人入力!$J84=33),\"○\",\"\")","v":""},{"$f":"IF(OR(新人入力!$I84=34,新人入力!$J84=34),\"○\",\"\")","v":""},{"$f":"IF(OR(新人入力!$I84=35,新人入力!$J84=35),\"○\",\"\")","v":""},{"$f":"IF(OR(新人入力!$I84=36,新人入力!$J84=36),\"○\",\"\")","v":""},{"$f":"IF(OR(新人入力!$I84=37,新人入力!$J84=37),\"○\",\"\")","v":""},{"$f":"IF(OR(新人入力!$I84=38,新人入力!$J84=38),\"○\",\"\")","v":""},{"$f":"IF(OR(新人入力!$I84=39,新人入力!$J84=39),\"○\",\"\")","v":""},{"$f":"IF(OR(新人入力!$I84=40,新人入力!$J84=40),\"○\",\"\")","v":""},{"$f":"IF(新人入力!$K84=51,\"○\",\"\")","v":""},{"$f":"IF(OR(新人入力!$I84=41,新人入力!$J84=41),\"○\",\"\")","v":""}]
[{"$f":"IF(新人入力!B18=\"\",\"\",新人入力!B18)","v":""},{"$f":"IF(新人入力!E18=\"\",\"\",新人入力!E18)","v":""},{"$f":"IF(新人入力!G18=\"\",\"\",新人入力!G18)","v":""},{"$f":"IF(新人入力!F18=\"\",\"\",新人入力!F18)","v":""},{"$f":"IF(OR(新人入力!$I18=1,新人入力!$J18=1),\"○\",\"\")","v":""},{"$f":"IF(OR(新人入力!$I18=2,新人入力!$J18=2),\"○\",\"\")","v":""},{"$f":"IF(OR(新人入力!$I18=3,新人入力!$J18=3),\"○\",\"\")","v":""},{"$f":"IF(OR(新人入力!$I18=4,新人入力!$J18=4),\"○\",\"\")","v":""},{"$f":"IF(OR(新人入力!$I18=5,新人入力!$J18=5),\"○\",\"\")","v":""},{"$f":"IF(OR(新人入力!$I18=6,新人入力!$J18=6),\"○\",\"\")","v":""},{"$f":"IF(OR(新人入力!$I18=7,新人入力!$J18=7),\"○\",\"\")","v":""},{"$f":"IF(OR(新人入力!$I18=8,新人入力!$J18=8),\"○\",\"\")","v":""},{"$f":"IF(OR(新人入力!$I18=9,新人入力!$J18=9),\"○\",\"\")","v":""},{"$f":"IF(OR(新人入力!$I18=10,新人入力!$J18=10),\"○\",\"\")","v":""},{"$f":"IF(OR(新人入力!$I18=11,新人入力!$J18=11),\"○\",\"\")","v":""},{"$f":"IF(OR(新人入力!$I18=12,新人入力!$J18=12),\"○\",\"\")","v":""},{"$f":"IF(OR(新人入力!$I18=13,新人入力!$J18=13),\"○\",\"\")","v":""},{"$f":"IF(新人入力!$K18=22,\"○\",\"\")","v":""},{"$f":"IF(OR(新人入力!$I18=14,新人入力!$J18=9),\"○\",\"\")","v":""},null,null,null,null,null,null,null,null,null,{"$f":"IF(新人入力!B85=\"\",\"\",新人入力!B85)","v":""},{"$f":"IF(新人入力!E85=\"\",\"\",新人入力!E85)","v":""},{"$f":"IF(新人入力!G85=\"\",\"\",新人入力!G85)","v":""},{"$f":"IF(新人入力!F85=\"\",\"\",新人入力!F85)","v":""},{"$f":"IF(OR(新人入力!$I85=31,新人入力!$J85=31),\"○\",\"\")","v":""},{"$f":"IF(OR(新人入力!$I85=32,新人入力!$J85=32),\"○\",\"\")","v":""},{"$f":"IF(OR(新人入力!$I85=33,新人入力!$J85=33),\"○\",\"\")","v":""},{"$f":"IF(OR(新人入力!$I85=34,新人入力!$J85=34),\"○\",\"\")","v":""},{"$f":"IF(OR(新人入力!$I85=35,新人入力!$J85=35),\"○\",\"\")","v":""},{"$f":"IF(OR(新人入力!$I85=36,新人入力!$J85=36),\"○\",\"\")","v":""},{"$f":"IF(OR(新人入力!$I85=37,新人入力!$J85=37),\"○\",\"\")","v":""},{"$f":"IF(OR(新人入力!$I85=38,新人入力!$J85=38),\"○\",\"\")","v":""},{"$f":"IF(OR(新人入力!$I85=39,新人入力!$J85=39),\"○\",\"\")","v":""},{"$f":"IF(OR(新人入力!$I85=40,新人入力!$J85=40),\"○\",\"\")","v":""},{"$f":"IF(新人入力!$K85=51,\"○\",\"\")","v":""},{"$f":"IF(OR(新人入力!$I85=41,新人入力!$J85=41),\"○\",\"\")","v":""}]
[{"$f":"IF(新人入力!B19=\"\",\"\",新人入力!B19)","v":""},{"$f":"IF(新人入力!E19=\"\",\"\",新人入力!E19)","v":""},{"$f":"IF(新人入力!G19=\"\",\"\",新人入力!G19)","v":""},{"$f":"IF(新人入力!F19=\"\",\"\",新人入力!F19)","v":""},{"$f":"IF(OR(新人入力!$I19=1,新人入力!$J19=1),\"○\",\"\")","v":""},{"$f":"IF(OR(新人入力!$I19=2,新人入力!$J19=2),\"○\",\"\")","v":""},{"$f":"IF(OR(新人入力!$I19=3,新人入力!$J19=3),\"○\",\"\")","v":""},{"$f":"IF(OR(新人入力!$I19=4,新人入力!$J19=4),\"○\",\"\")","v":""},{"$f":"IF(OR(新人入力!$I19=5,新人入力!$J19=5),\"○\",\"\")","v":""},{"$f":"IF(OR(新人入力!$I19=6,新人入力!$J19=6),\"○\",\"\")","v":""},{"$f":"IF(OR(新人入力!$I19=7,新人入力!$J19=7),\"○\",\"\")","v":""},{"$f":"IF(OR(新人入力!$I19=8,新人入力!$J19=8),\"○\",\"\")","v":""},{"$f":"IF(OR(新人入力!$I19=9,新人入力!$J19=9),\"○\",\"\")","v":""},{"$f":"IF(OR(新人入力!$I19=10,新人入力!$J19=10),\"○\",\"\")","v":""},{"$f":"IF(OR(新人入力!$I19=11,新人入力!$J19=11),\"○\",\"\")","v":""},{"$f":"IF(OR(新人入力!$I19=12,新人入力!$J19=12),\"○\",\"\")","v":""},{"$f":"IF(OR(新人入力!$I19=13,新人入力!$J19=13),\"○\",\"\")","v":""},{"$f":"IF(新人入力!$K19=22,\"○\",\"\")","v":""},{"$f":"IF(OR(新人入力!$I19=14,新人入力!$J19=9),\"○\",\"\")","v":""},null,null,null,null,null,null,null,null,null,{"$f":"IF(新人入力!B86=\"\",\"\",新人入力!B86)","v":""},{"$f":"IF(新人入力!E86=\"\",\"\",新人入力!E86)","v":""},{"$f":"IF(新人入力!G86=\"\",\"\",新人入力!G86)","v":""},{"$f":"IF(新人入力!F86=\"\",\"\",新人入力!F86)","v":""},{"$f":"IF(OR(新人入力!$I86=31,新人入力!$J86=31),\"○\",\"\")","v":""},{"$f":"IF(OR(新人入力!$I86=32,新人入力!$J86=32),\"○\",\"\")","v":""},{"$f":"IF(OR(新人入力!$I86=33,新人入力!$J86=33),\"○\",\"\")","v":""},{"$f":"IF(OR(新人入力!$I86=34,新人入力!$J86=34),\"○\",\"\")","v":""},{"$f":"IF(OR(新人入力!$I86=35,新人入力!$J86=35),\"○\",\"\")","v":""},{"$f":"IF(OR(新人入力!$I86=36,新人入力!$J86=36),\"○\",\"\")","v":""},{"$f":"IF(OR(新人入力!$I86=37,新人入力!$J86=37),\"○\",\"\")","v":""},{"$f":"IF(OR(新人入力!$I86=38,新人入力!$J86=38),\"○\",\"\")","v":""},{"$f":"IF(OR(新人入力!$I86=39,新人入力!$J86=39),\"○\",\"\")","v":""},{"$f":"IF(OR(新人入力!$I86=40,新人入力!$J86=40),\"○\",\"\")","v":""},{"$f":"IF(新人入力!$K86=51,\"○\",\"\")","v":""},{"$f":"IF(OR(新人入力!$I86=41,新人入力!$J86=41),\"○\",\"\")","v":""}]
[{"$f":"IF(新人入力!B20=\"\",\"\",新人入力!B20)","v":""},{"$f":"IF(新人入力!E20=\"\",\"\",新人入力!E20)","v":""},{"$f":"IF(新人入力!G20=\"\",\"\",新人入力!G20)","v":""},{"$f":"IF(新人入力!F20=\"\",\"\",新人入力!F20)","v":""},{"$f":"IF(OR(新人入力!$I20=1,新人入力!$J20=1),\"○\",\"\")","v":""},{"$f":"IF(OR(新人入力!$I20=2,新人入力!$J20=2),\"○\",\"\")","v":""},{"$f":"IF(OR(新人入力!$I20=3,新人入力!$J20=3),\"○\",\"\")","v":""},{"$f":"IF(OR(新人入力!$I20=4,新人入力!$J20=4),\"○\",\"\")","v":""},{"$f":"IF(OR(新人入力!$I20=5,新人入力!$J20=5),\"○\",\"\")","v":""},{"$f":"IF(OR(新人入力!$I20=6,新人入力!$J20=6),\"○\",\"\")","v":""},{"$f":"IF(OR(新人入力!$I20=7,新人入力!$J20=7),\"○\",\"\")","v":""},{"$f":"IF(OR(新人入力!$I20=8,新人入力!$J20=8),\"○\",\"\")","v":""},{"$f":"IF(OR(新人入力!$I20=9,新人入力!$J20=9),\"○\",\"\")","v":""},{"$f":"IF(OR(新人入力!$I20=10,新人入力!$J20=10),\"○\",\"\")","v":""},{"$f":"IF(OR(新人入力!$I20=11,新人入力!$J20=11),\"○\",\"\")","v":""},{"$f":"IF(OR(新人入力!$I20=12,新人入力!$J20=12),\"○\",\"\")","v":""},{"$f":"IF(OR(新人入力!$I20=13,新人入力!$J20=13),\"○\",\"\")","v":""},{"$f":"IF(新人入力!$K20=22,\"○\",\"\")","v":""},{"$f":"IF(OR(新人入力!$I20=14,新人入力!$J20=9),\"○\",\"\")","v":""},null,null,null,null,null,null,null,null,null,{"$f":"IF(新人入力!B87=\"\",\"\",新人入力!B87)","v":""},{"$f":"IF(新人入力!E87=\"\",\"\",新人入力!E87)","v":""},{"$f":"IF(新人入力!G87=\"\",\"\",新人入力!G87)","v":""},{"$f":"IF(新人入力!F87=\"\",\"\",新人入力!F87)","v":""},{"$f":"IF(OR(新人入力!$I87=31,新人入力!$J87=31),\"○\",\"\")","v":""},{"$f":"IF(OR(新人入力!$I87=32,新人入力!$J87=32),\"○\",\"\")","v":""},{"$f":"IF(OR(新人入力!$I87=33,新人入力!$J87=33),\"○\",\"\")","v":""},{"$f":"IF(OR(新人入力!$I87=34,新人入力!$J87=34),\"○\",\"\")","v":""},{"$f":"IF(OR(新人入力!$I87=35,新人入力!$J87=35),\"○\",\"\")","v":""},{"$f":"IF(OR(新人入力!$I87=36,新人入力!$J87=36),\"○\",\"\")","v":""},{"$f":"IF(OR(新人入力!$I87=37,新人入力!$J87=37),\"○\",\"\")","v":""},{"$f":"IF(OR(新人入力!$I87=38,新人入力!$J87=38),\"○\",\"\")","v":""},{"$f":"IF(OR(新人入力!$I87=39,新人入力!$J87=39),\"○\",\"\")","v":""},{"$f":"IF(OR(新人入力!$I87=40,新人入力!$J87=40),\"○\",\"\")","v":""},{"$f":"IF(新人入力!$K87=51,\"○\",\"\")","v":""},{"$f":"IF(OR(新人入力!$I87=41,新人入力!$J87=41),\"○\",\"\")","v":""}]
[{"$f":"IF(新人入力!B21=\"\",\"\",新人入力!B21)","v":""},{"$f":"IF(新人入力!E21=\"\",\"\",新人入力!E21)","v":""},{"$f":"IF(新人入力!G21=\"\",\"\",新人入力!G21)","v":""},{"$f":"IF(新人入力!F21=\"\",\"\",新人入力!F21)","v":""},{"$f":"IF(OR(新人入力!$I21=1,新人入力!$J21=1),\"○\",\"\")","v":""},{"$f":"IF(OR(新人入力!$I21=2,新人入力!$J21=2),\"○\",\"\")","v":""},{"$f":"IF(OR(新人入力!$I21=3,新人入力!$J21=3),\"○\",\"\")","v":""},{"$f":"IF(OR(新人入力!$I21=4,新人入力!$J21=4),\"○\",\"\")","v":""},{"$f":"IF(OR(新人入力!$I21=5,新人入力!$J21=5),\"○\",\"\")","v":""},{"$f":"IF(OR(新人入力!$I21=6,新人入力!$J21=6),\"○\",\"\")","v":""},{"$f":"IF(OR(新人入力!$I21=7,新人入力!$J21=7),\"○\",\"\")","v":""},{"$f":"IF(OR(新人入力!$I21=8,新人入力!$J21=8),\"○\",\"\")","v":""},{"$f":"IF(OR(新人入力!$I21=9,新人入力!$J21=9),\"○\",\"\")","v":""},{"$f":"IF(OR(新人入力!$I21=10,新人入力!$J21=10),\"○\",\"\")","v":""},{"$f":"IF(OR(新人入力!$I21=11,新人入力!$J21=11),\"○\",\"\")","v":""},{"$f":"IF(OR(新人入力!$I21=12,新人入力!$J21=12),\"○\",\"\")","v":""},{"$f":"IF(OR(新人入力!$I21=13,新人入力!$J21=13),\"○\",\"\")","v":""},{"$f":"IF(新人入力!$K21=22,\"○\",\"\")","v":""},{"$f":"IF(OR(新人入力!$I21=14,新人入力!$J21=9),\"○\",\"\")","v":""},null,null,null,null,null,null,null,null,null,{"$f":"IF(新人入力!B88=\"\",\"\",新人入力!B88)","v":""},{"$f":"IF(新人入力!E88=\"\",\"\",新人入力!E88)","v":""},{"$f":"IF(新人入力!G88=\"\",\"\",新人入力!G88)","v":""},{"$f":"IF(新人入力!F88=\"\",\"\",新人入力!F88)","v":""},{"$f":"IF(OR(新人入力!$I88=31,新人入力!$J88=31),\"○\",\"\")","v":""},{"$f":"IF(OR(新人入力!$I88=32,新人入力!$J88=32),\"○\",\"\")","v":""},{"$f":"IF(OR(新人入力!$I88=33,新人入力!$J88=33),\"○\",\"\")","v":""},{"$f":"IF(OR(新人入力!$I88=34,新人入力!$J88=34),\"○\",\"\")","v":""},{"$f":"IF(OR(新人入力!$I88=35,新人入力!$J88=35),\"○\",\"\")","v":""},{"$f":"IF(OR(新人入力!$I88=36,新人入力!$J88=36),\"○\",\"\")","v":""},{"$f":"IF(OR(新人入力!$I88=37,新人入力!$J88=37),\"○\",\"\")","v":""},{"$f":"IF(OR(新人入力!$I88=38,新人入力!$J88=38),\"○\",\"\")","v":""},{"$f":"IF(OR(新人入力!$I88=39,新人入力!$J88=39),\"○\",\"\")","v":""},{"$f":"IF(OR(新人入力!$I88=40,新人入力!$J88=40),\"○\",\"\")","v":""},{"$f":"IF(新人入力!$K88=51,\"○\",\"\")","v":""},{"$f":"IF(OR(新人入力!$I88=41,新人入力!$J88=41),\"○\",\"\")","v":""}]
[{"$f":"IF(新人入力!B22=\"\",\"\",新人入力!B22)","v":""},{"$f":"IF(新人入力!E22=\"\",\"\",新人入力!E22)","v":""},{"$f":"IF(新人入力!G22=\"\",\"\",新人入力!G22)","v":""},{"$f":"IF(新人入力!F22=\"\",\"\",新人入力!F22)","v":""},{"$f":"IF(OR(新人入力!$I22=1,新人入力!$J22=1),\"○\",\"\")","v":""},{"$f":"IF(OR(新人入力!$I22=2,新人入力!$J22=2),\"○\",\"\")","v":""},{"$f":"IF(OR(新人入力!$I22=3,新人入力!$J22=3),\"○\",\"\")","v":""},{"$f":"IF(OR(新人入力!$I22=4,新人入力!$J22=4),\"○\",\"\")","v":""},{"$f":"IF(OR(新人入力!$I22=5,新人入力!$J22=5),\"○\",\"\")","v":""},{"$f":"IF(OR(新人入力!$I22=6,新人入力!$J22=6),\"○\",\"\")","v":""},{"$f":"IF(OR(新人入力!$I22=7,新人入力!$J22=7),\"○\",\"\")","v":""},{"$f":"IF(OR(新人入力!$I22=8,新人入力!$J22=8),\"○\",\"\")","v":""},{"$f":"IF(OR(新人入力!$I22=9,新人入力!$J22=9),\"○\",\"\")","v":""},{"$f":"IF(OR(新人入力!$I22=10,新人入力!$J22=10),\"○\",\"\")","v":""},{"$f":"IF(OR(新人入力!$I22=11,新人入力!$J22=11),\"○\",\"\")","v":""},{"$f":"IF(OR(新人入力!$I22=12,新人入力!$J22=12),\"○\",\"\")","v":""},{"$f":"IF(OR(新人入力!$I22=13,新人入力!$J22=13),\"○\",\"\")","v":""},{"$f":"IF(新人入力!$K22=22,\"○\",\"\")","v":""},{"$f":"IF(OR(新人入力!$I22=14,新人入力!$J22=9),\"○\",\"\")","v":""},null,null,null,null,null,null,null,null,null,{"$f":"IF(新人入力!B89=\"\",\"\",新人入力!B89)","v":""},{"$f":"IF(新人入力!E89=\"\",\"\",新人入力!E89)","v":""},{"$f":"IF(新人入力!G89=\"\",\"\",新人入力!G89)","v":""},{"$f":"IF(新人入力!F89=\"\",\"\",新人入力!F89)","v":""},{"$f":"IF(OR(新人入力!$I89=31,新人入力!$J89=31),\"○\",\"\")","v":""},{"$f":"IF(OR(新人入力!$I89=32,新人入力!$J89=32),\"○\",\"\")","v":""},{"$f":"IF(OR(新人入力!$I89=33,新人入力!$J89=33),\"○\",\"\")","v":""},{"$f":"IF(OR(新人入力!$I89=34,新人入力!$J89=34),\"○\",\"\")","v":""},{"$f":"IF(OR(新人入力!$I89=35,新人入力!$J89=35),\"○\",\"\")","v":""},{"$f":"IF(OR(新人入力!$I89=36,新人入力!$J89=36),\"○\",\"\")","v":""},{"$f":"IF(OR(新人入力!$I89=37,新人入力!$J89=37),\"○\",\"\")","v":""},{"$f":"IF(OR(新人入力!$I89=38,新人入力!$J89=38),\"○\",\"\")","v":""},{"$f":"IF(OR(新人入力!$I89=39,新人入力!$J89=39),\"○\",\"\")","v":""},{"$f":"IF(OR(新人入力!$I89=40,新人入力!$J89=40),\"○\",\"\")","v":""},{"$f":"IF(新人入力!$K89=51,\"○\",\"\")","v":""},{"$f":"IF(OR(新人入力!$I89=41,新人入力!$J89=41),\"○\",\"\")","v":""}]
[{"$f":"IF(新人入力!B23=\"\",\"\",新人入力!B23)","v":""},{"$f":"IF(新人入力!E23=\"\",\"\",新人入力!E23)","v":""},{"$f":"IF(新人入力!G23=\"\",\"\",新人入力!G23)","v":""},{"$f":"IF(新人入力!F23=\"\",\"\",新人入力!F23)","v":""},{"$f":"IF(OR(新人入力!$I23=1,新人入力!$J23=1),\"○\",\"\")","v":""},{"$f":"IF(OR(新人入力!$I23=2,新人入力!$J23=2),\"○\",\"\")","v":""},{"$f":"IF(OR(新人入力!$I23=3,新人入力!$J23=3),\"○\",\"\")","v":""},{"$f":"IF(OR(新人入力!$I23=4,新人入力!$J23=4),\"○\",\"\")","v":""},{"$f":"IF(OR(新人入力!$I23=5,新人入力!$J23=5),\"○\",\"\")","v":""},{"$f":"IF(OR(新人入力!$I23=6,新人入力!$J23=6),\"○\",\"\")","v":""},{"$f":"IF(OR(新人入力!$I23=7,新人入力!$J23=7),\"○\",\"\")","v":""},{"$f":"IF(OR(新人入力!$I23=8,新人入力!$J23=8),\"○\",\"\")","v":""},{"$f":"IF(OR(新人入力!$I23=9,新人入力!$J23=9),\"○\",\"\")","v":""},{"$f":"IF(OR(新人入力!$I23=10,新人入力!$J23=10),\"○\",\"\")","v":""},{"$f":"IF(OR(新人入力!$I23=11,新人入力!$J23=11),\"○\",\"\")","v":""},{"$f":"IF(OR(新人入力!$I23=12,新人入力!$J23=12),\"○\",\"\")","v":""},{"$f":"IF(OR(新人入力!$I23=13,新人入力!$J23=13),\"○\",\"\")","v":""},{"$f":"IF(新人入力!$K23=22,\"○\",\"\")","v":""},{"$f":"IF(OR(新人入力!$I23=14,新人入力!$J23=9),\"○\",\"\")","v":""},null,null,null,null,null,null,null,null,null,{"$f":"IF(新人入力!B90=\"\",\"\",新人入力!B90)","v":""},{"$f":"IF(新人入力!E90=\"\",\"\",新人入力!E90)","v":""},{"$f":"IF(新人入力!G90=\"\",\"\",新人入力!G90)","v":""},{"$f":"IF(新人入力!F90=\"\",\"\",新人入力!F90)","v":""},{"$f":"IF(OR(新人入力!$I90=31,新人入力!$J90=31),\"○\",\"\")","v":""},{"$f":"IF(OR(新人入力!$I90=32,新人入力!$J90=32),\"○\",\"\")","v":""},{"$f":"IF(OR(新人入力!$I90=33,新人入力!$J90=33),\"○\",\"\")","v":""},{"$f":"IF(OR(新人入力!$I90=34,新人入力!$J90=34),\"○\",\"\")","v":""},{"$f":"IF(OR(新人入力!$I90=35,新人入力!$J90=35),\"○\",\"\")","v":""},{"$f":"IF(OR(新人入力!$I90=36,新人入力!$J90=36),\"○\",\"\")","v":""},{"$f":"IF(OR(新人入力!$I90=37,新人入力!$J90=37),\"○\",\"\")","v":""},{"$f":"IF(OR(新人入力!$I90=38,新人入力!$J90=38),\"○\",\"\")","v":""},{"$f":"IF(OR(新人入力!$I90=39,新人入力!$J90=39),\"○\",\"\")","v":""},{"$f":"IF(OR(新人入力!$I90=40,新人入力!$J90=40),\"○\",\"\")","v":""},{"$f":"IF(新人入力!$K90=51,\"○\",\"\")","v":""},{"$f":"IF(OR(新人入力!$I90=41,新人入力!$J90=41),\"○\",\"\")","v":""}]
[{"$f":"IF(新人入力!B24=\"\",\"\",新人入力!B24)","v":""},{"$f":"IF(新人入力!E24=\"\",\"\",新人入力!E24)","v":""},{"$f":"IF(新人入力!G24=\"\",\"\",新人入力!G24)","v":""},{"$f":"IF(新人入力!F24=\"\",\"\",新人入力!F24)","v":""},{"$f":"IF(OR(新人入力!$I24=1,新人入力!$J24=1),\"○\",\"\")","v":""},{"$f":"IF(OR(新人入力!$I24=2,新人入力!$J24=2),\"○\",\"\")","v":""},{"$f":"IF(OR(新人入力!$I24=3,新人入力!$J24=3),\"○\",\"\")","v":""},{"$f":"IF(OR(新人入力!$I24=4,新人入力!$J24=4),\"○\",\"\")","v":""},{"$f":"IF(OR(新人入力!$I24=5,新人入力!$J24=5),\"○\",\"\")","v":""},{"$f":"IF(OR(新人入力!$I24=6,新人入力!$J24=6),\"○\",\"\")","v":""},{"$f":"IF(OR(新人入力!$I24=7,新人入力!$J24=7),\"○\",\"\")","v":""},{"$f":"IF(OR(新人入力!$I24=8,新人入力!$J24=8),\"○\",\"\")","v":""},{"$f":"IF(OR(新人入力!$I24=9,新人入力!$J24=9),\"○\",\"\")","v":""},{"$f":"IF(OR(新人入力!$I24=10,新人入力!$J24=10),\"○\",\"\")","v":""},{"$f":"IF(OR(新人入力!$I24=11,新人入力!$J24=11),\"○\",\"\")","v":""},{"$f":"IF(OR(新人入力!$I24=12,新人入力!$J24=12),\"○\",\"\")","v":""},{"$f":"IF(OR(新人入力!$I24=13,新人入力!$J24=13),\"○\",\"\")","v":""},{"$f":"IF(新人入力!$K24=22,\"○\",\"\")","v":""},{"$f":"IF(OR(新人入力!$I24=14,新人入力!$J24=9),\"○\",\"\")","v":""},null,null,null,null,null,null,null,null,null,{"$f":"IF(新人入力!B91=\"\",\"\",新人入力!B91)","v":""},{"$f":"IF(新人入力!E91=\"\",\"\",新人入力!E91)","v":""},{"$f":"IF(新人入力!G91=\"\",\"\",新人入力!G91)","v":""},{"$f":"IF(新人入力!F91=\"\",\"\",新人入力!F91)","v":""},{"$f":"IF(OR(新人入力!$I91=31,新人入力!$J91=31),\"○\",\"\")","v":""},{"$f":"IF(OR(新人入力!$I91=32,新人入力!$J91=32),\"○\",\"\")","v":""},{"$f":"IF(OR(新人入力!$I91=33,新人入力!$J91=33),\"○\",\"\")","v":""},{"$f":"IF(OR(新人入力!$I91=34,新人入力!$J91=34),\"○\",\"\")","v":""},{"$f":"IF(OR(新人入力!$I91=35,新人入力!$J91=35),\"○\",\"\")","v":""},{"$f":"IF(OR(新人入力!$I91=36,新人入力!$J91=36),\"○\",\"\")","v":""},{"$f":"IF(OR(新人入力!$I91=37,新人入力!$J91=37),\"○\",\"\")","v":""},{"$f":"IF(OR(新人入力!$I91=38,新人入力!$J91=38),\"○\",\"\")","v":""},{"$f":"IF(OR(新人入力!$I91=39,新人入力!$J91=39),\"○\",\"\")","v":""},{"$f":"IF(OR(新人入力!$I91=40,新人入力!$J91=40),\"○\",\"\")","v":""},{"$f":"IF(新人入力!$K91=51,\"○\",\"\")","v":""},{"$f":"IF(OR(新人入力!$I91=41,新人入力!$J91=41),\"○\",\"\")","v":""}]
[{"$f":"IF(新人入力!B25=\"\",\"\",新人入力!B25)","v":""},{"$f":"IF(新人入力!E25=\"\",\"\",新人入力!E25)","v":""},{"$f":"IF(新人入力!G25=\"\",\"\",新人入力!G25)","v":""},{"$f":"IF(新人入力!F25=\"\",\"\",新人入力!F25)","v":""},{"$f":"IF(OR(新人入力!$I25=1,新人入力!$J25=1),\"○\",\"\")","v":""},{"$f":"IF(OR(新人入力!$I25=2,新人入力!$J25=2),\"○\",\"\")","v":""},{"$f":"IF(OR(新人入力!$I25=3,新人入力!$J25=3),\"○\",\"\")","v":""},{"$f":"IF(OR(新人入力!$I25=4,新人入力!$J25=4),\"○\",\"\")","v":""},{"$f":"IF(OR(新人入力!$I25=5,新人入力!$J25=5),\"○\",\"\")","v":""},{"$f":"IF(OR(新人入力!$I25=6,新人入力!$J25=6),\"○\",\"\")","v":""},{"$f":"IF(OR(新人入力!$I25=7,新人入力!$J25=7),\"○\",\"\")","v":""},{"$f":"IF(OR(新人入力!$I25=8,新人入力!$J25=8),\"○\",\"\")","v":""},{"$f":"IF(OR(新人入力!$I25=9,新人入力!$J25=9),\"○\",\"\")","v":""},{"$f":"IF(OR(新人入力!$I25=10,新人入力!$J25=10),\"○\",\"\")","v":""},{"$f":"IF(OR(新人入力!$I25=11,新人入力!$J25=11),\"○\",\"\")","v":""},{"$f":"IF(OR(新人入力!$I25=12,新人入力!$J25=12),\"○\",\"\")","v":""},{"$f":"IF(OR(新人入力!$I25=13,新人入力!$J25=13),\"○\",\"\")","v":""},{"$f":"IF(新人入力!$K25=22,\"○\",\"\")","v":""},{"$f":"IF(OR(新人入力!$I25=14,新人入力!$J25=9),\"○\",\"\")","v":""},null,null,null,null,null,null,null,null,null,{"$f":"IF(新人入力!B92=\"\",\"\",新人入力!B92)","v":""},{"$f":"IF(新人入力!E92=\"\",\"\",新人入力!E92)","v":""},{"$f":"IF(新人入力!G92=\"\",\"\",新人入力!G92)","v":""},{"$f":"IF(新人入力!F92=\"\",\"\",新人入力!F92)","v":""},{"$f":"IF(OR(新人入力!$I92=31,新人入力!$J92=31),\"○\",\"\")","v":""},{"$f":"IF(OR(新人入力!$I92=32,新人入力!$J92=32),\"○\",\"\")","v":""},{"$f":"IF(OR(新人入力!$I92=33,新人入力!$J92=33),\"○\",\"\")","v":""},{"$f":"IF(OR(新人入力!$I92=34,新人入力!$J92=34),\"○\",\"\")","v":""},{"$f":"IF(OR(新人入力!$I92=35,新人入力!$J92=35),\"○\",\"\")","v":""},{"$f":"IF(OR(新人入力!$I92=36,新人入力!$J92=36),\"○\",\"\")","v":""},{"$f":"IF(OR(新人入力!$I92=37,新人入力!$J92=37),\"○\",\"\")","v":""},{"$f":"IF(OR(新人入力!$I92=38,新人入力!$J92=38),\"○\",\"\")","v":""},{"$f":"IF(OR(新人入力!$I92=39,新人入力!$J92=39),\"○\",\"\")","v":""},{"$f":"IF(OR(新人入力!$I92=40,新人入力!$J92=40),\"○\",\"\")","v":""},{"$f":"IF(新人入力!$K92=51,\"○\",\"\")","v":""},{"$f":"IF(OR(新人入力!$I92=41,新人入力!$J92=41),\"○\",\"\")","v":""}]
[{"$f":"IF(新人入力!B26=\"\",\"\",新人入力!B26)","v":""},{"$f":"IF(新人入力!E26=\"\",\"\",新人入力!E26)","v":""},{"$f":"IF(新人入力!G26=\"\",\"\",新人入力!G26)","v":""},{"$f":"IF(新人入力!F26=\"\",\"\",新人入力!F26)","v":""},{"$f":"IF(OR(新人入力!$I26=1,新人入力!$J26=1),\"○\",\"\")","v":""},{"$f":"IF(OR(新人入力!$I26=2,新人入力!$J26=2),\"○\",\"\")","v":""},{"$f":"IF(OR(新人入力!$I26=3,新人入力!$J26=3),\"○\",\"\")","v":""},{"$f":"IF(OR(新人入力!$I26=4,新人入力!$J26=4),\"○\",\"\")","v":""},{"$f":"IF(OR(新人入力!$I26=5,新人入力!$J26=5),\"○\",\"\")","v":""},{"$f":"IF(OR(新人入力!$I26=6,新人入力!$J26=6),\"○\",\"\")","v":""},{"$f":"IF(OR(新人入力!$I26=7,新人入力!$J26=7),\"○\",\"\")","v":""},{"$f":"IF(OR(新人入力!$I26=8,新人入力!$J26=8),\"○\",\"\")","v":""},{"$f":"IF(OR(新人入力!$I26=9,新人入力!$J26=9),\"○\",\"\")","v":""},{"$f":"IF(OR(新人入力!$I26=10,新人入力!$J26=10),\"○\",\"\")","v":""},{"$f":"IF(OR(新人入力!$I26=11,新人入力!$J26=11),\"○\",\"\")","v":""},{"$f":"IF(OR(新人入力!$I26=12,新人入力!$J26=12),\"○\",\"\")","v":""},{"$f":"IF(OR(新人入力!$I26=13,新人入力!$J26=13),\"○\",\"\")","v":""},{"$f":"IF(新人入力!$K26=22,\"○\",\"\")","v":""},{"$f":"IF(OR(新人入力!$I26=14,新人入力!$J26=9),\"○\",\"\")","v":""},null,null,null,null,null,null,null,null,null,{"$f":"IF(新人入力!B93=\"\",\"\",新人入力!B93)","v":""},{"$f":"IF(新人入力!E93=\"\",\"\",新人入力!E93)","v":""},{"$f":"IF(新人入力!G93=\"\",\"\",新人入力!G93)","v":""},{"$f":"IF(新人入力!F93=\"\",\"\",新人入力!F93)","v":""},{"$f":"IF(OR(新人入力!$I93=31,新人入力!$J93=31),\"○\",\"\")","v":""},{"$f":"IF(OR(新人入力!$I93=32,新人入力!$J93=32),\"○\",\"\")","v":""},{"$f":"IF(OR(新人入力!$I93=33,新人入力!$J93=33),\"○\",\"\")","v":""},{"$f":"IF(OR(新人入力!$I93=34,新人入力!$J93=34),\"○\",\"\")","v":""},{"$f":"IF(OR(新人入力!$I93=35,新人入力!$J93=35),\"○\",\"\")","v":""},{"$f":"IF(OR(新人入力!$I93=36,新人入力!$J93=36),\"○\",\"\")","v":""},{"$f":"IF(OR(新人入力!$I93=37,新人入力!$J93=37),\"○\",\"\")","v":""},{"$f":"IF(OR(新人入力!$I93=38,新人入力!$J93=38),\"○\",\"\")","v":""},{"$f":"IF(OR(新人入力!$I93=39,新人入力!$J93=39),\"○\",\"\")","v":""},{"$f":"IF(OR(新人入力!$I93=40,新人入力!$J93=40),\"○\",\"\")","v":""},{"$f":"IF(新人入力!$K93=51,\"○\",\"\")","v":""},{"$f":"IF(OR(新人入力!$I93=41,新人入力!$J93=41),\"○\",\"\")","v":""}]
[{"$f":"IF(新人入力!B27=\"\",\"\",新人入力!B27)","v":""},{"$f":"IF(新人入力!E27=\"\",\"\",新人入力!E27)","v":""},{"$f":"IF(新人入力!G27=\"\",\"\",新人入力!G27)","v":""},{"$f":"IF(新人入力!F27=\"\",\"\",新人入力!F27)","v":""},{"$f":"IF(OR(新人入力!$I27=1,新人入力!$J27=1),\"○\",\"\")","v":""},{"$f":"IF(OR(新人入力!$I27=2,新人入力!$J27=2),\"○\",\"\")","v":""},{"$f":"IF(OR(新人入力!$I27=3,新人入力!$J27=3),\"○\",\"\")","v":""},{"$f":"IF(OR(新人入力!$I27=4,新人入力!$J27=4),\"○\",\"\")","v":""},{"$f":"IF(OR(新人入力!$I27=5,新人入力!$J27=5),\"○\",\"\")","v":""},{"$f":"IF(OR(新人入力!$I27=6,新人入力!$J27=6),\"○\",\"\")","v":""},{"$f":"IF(OR(新人入力!$I27=7,新人入力!$J27=7),\"○\",\"\")","v":""},{"$f":"IF(OR(新人入力!$I27=8,新人入力!$J27=8),\"○\",\"\")","v":""},{"$f":"IF(OR(新人入力!$I27=9,新人入力!$J27=9),\"○\",\"\")","v":""},{"$f":"IF(OR(新人入力!$I27=10,新人入力!$J27=10),\"○\",\"\")","v":""},{"$f":"IF(OR(新人入力!$I27=11,新人入力!$J27=11),\"○\",\"\")","v":""},{"$f":"IF(OR(新人入力!$I27=12,新人入力!$J27=12),\"○\",\"\")","v":""},{"$f":"IF(OR(新人入力!$I27=13,新人入力!$J27=13),\"○\",\"\")","v":""},{"$f":"IF(新人入力!$K27=22,\"○\",\"\")","v":""},{"$f":"IF(OR(新人入力!$I27=14,新人入力!$J27=9),\"○\",\"\")","v":""},null,null,null,null,null,null,null,null,null,{"$f":"IF(新人入力!B94=\"\",\"\",新人入力!B94)","v":""},{"$f":"IF(新人入力!E94=\"\",\"\",新人入力!E94)","v":""},{"$f":"IF(新人入力!G94=\"\",\"\",新人入力!G94)","v":""},{"$f":"IF(新人入力!F94=\"\",\"\",新人入力!F94)","v":""},{"$f":"IF(OR(新人入力!$I94=31,新人入力!$J94=31),\"○\",\"\")","v":""},{"$f":"IF(OR(新人入力!$I94=32,新人入力!$J94=32),\"○\",\"\")","v":""},{"$f":"IF(OR(新人入力!$I94=33,新人入力!$J94=33),\"○\",\"\")","v":""},{"$f":"IF(OR(新人入力!$I94=34,新人入力!$J94=34),\"○\",\"\")","v":""},{"$f":"IF(OR(新人入力!$I94=35,新人入力!$J94=35),\"○\",\"\")","v":""},{"$f":"IF(OR(新人入力!$I94=36,新人入力!$J94=36),\"○\",\"\")","v":""},{"$f":"IF(OR(新人入力!$I94=37,新人入力!$J94=37),\"○\",\"\")","v":""},{"$f":"IF(OR(新人入力!$I94=38,新人入力!$J94=38),\"○\",\"\")","v":""},{"$f":"IF(OR(新人入力!$I94=39,新人入力!$J94=39),\"○\",\"\")","v":""},{"$f":"IF(OR(新人入力!$I94=40,新人入力!$J94=40),\"○\",\"\")","v":""},{"$f":"IF(新人入力!$K94=51,\"○\",\"\")","v":""},{"$f":"IF(OR(新人入力!$I94=41,新人入力!$J94=41),\"○\",\"\")","v":""}]
[{"$f":"IF(新人入力!B28=\"\",\"\",新人入力!B28)","v":""},{"$f":"IF(新人入力!E28=\"\",\"\",新人入力!E28)","v":""},{"$f":"IF(新人入力!G28=\"\",\"\",新人入力!G28)","v":""},{"$f":"IF(新人入力!F28=\"\",\"\",新人入力!F28)","v":""},{"$f":"IF(OR(新人入力!$I28=1,新人入力!$J28=1),\"○\",\"\")","v":""},{"$f":"IF(OR(新人入力!$I28=2,新人入力!$J28=2),\"○\",\"\")","v":""},{"$f":"IF(OR(新人入力!$I28=3,新人入力!$J28=3),\"○\",\"\")","v":""},{"$f":"IF(OR(新人入力!$I28=4,新人入力!$J28=4),\"○\",\"\")","v":""},{"$f":"IF(OR(新人入力!$I28=5,新人入力!$J28=5),\"○\",\"\")","v":""},{"$f":"IF(OR(新人入力!$I28=6,新人入力!$J28=6),\"○\",\"\")","v":""},{"$f":"IF(OR(新人入力!$I28=7,新人入力!$J28=7),\"○\",\"\")","v":""},{"$f":"IF(OR(新人入力!$I28=8,新人入力!$J28=8),\"○\",\"\")","v":""},{"$f":"IF(OR(新人入力!$I28=9,新人入力!$J28=9),\"○\",\"\")","v":""},{"$f":"IF(OR(新人入力!$I28=10,新人入力!$J28=10),\"○\",\"\")","v":""},{"$f":"IF(OR(新人入力!$I28=11,新人入力!$J28=11),\"○\",\"\")","v":""},{"$f":"IF(OR(新人入力!$I28=12,新人入力!$J28=12),\"○\",\"\")","v":""},{"$f":"IF(OR(新人入力!$I28=13,新人入力!$J28=13),\"○\",\"\")","v":""},{"$f":"IF(新人入力!$K28=22,\"○\",\"\")","v":""},{"$f":"IF(OR(新人入力!$I28=14,新人入力!$J28=9),\"○\",\"\")","v":""},null,null,null,null,null,null,null,null,null,{"$f":"IF(新人入力!B95=\"\",\"\",新人入力!B95)","v":""},{"$f":"IF(新人入力!E95=\"\",\"\",新人入力!E95)","v":""},{"$f":"IF(新人入力!G95=\"\",\"\",新人入力!G95)","v":""},{"$f":"IF(新人入力!F95=\"\",\"\",新人入力!F95)","v":""},{"$f":"IF(OR(新人入力!$I95=31,新人入力!$J95=31),\"○\",\"\")","v":""},{"$f":"IF(OR(新人入力!$I95=32,新人入力!$J95=32),\"○\",\"\")","v":""},{"$f":"IF(OR(新人入力!$I95=33,新人入力!$J95=33),\"○\",\"\")","v":""},{"$f":"IF(OR(新人入力!$I95=34,新人入力!$J95=34),\"○\",\"\")","v":""},{"$f":"IF(OR(新人入力!$I95=35,新人入力!$J95=35),\"○\",\"\")","v":""},{"$f":"IF(OR(新人入力!$I95=36,新人入力!$J95=36),\"○\",\"\")","v":""},{"$f":"IF(OR(新人入力!$I95=37,新人入力!$J95=37),\"○\",\"\")","v":""},{"$f":"IF(OR(新人入力!$I95=38,新人入力!$J95=38),\"○\",\"\")","v":""},{"$f":"IF(OR(新人入力!$I95=39,新人入力!$J95=39),\"○\",\"\")","v":""},{"$f":"IF(OR(新人入力!$I95=40,新人入力!$J95=40),\"○\",\"\")","v":""},{"$f":"IF(新人入力!$K95=51,\"○\",\"\")","v":""},{"$f":"IF(OR(新人入力!$I95=41,新人入力!$J95=41),\"○\",\"\")","v":""}]
[{"$f":"IF(新人入力!B29=\"\",\"\",新人入力!B29)","v":""},{"$f":"IF(新人入力!E29=\"\",\"\",新人入力!E29)","v":""},{"$f":"IF(新人入力!G29=\"\",\"\",新人入力!G29)","v":""},{"$f":"IF(新人入力!F29=\"\",\"\",新人入力!F29)","v":""},{"$f":"IF(OR(新人入力!$I29=1,新人入力!$J29=1),\"○\",\"\")","v":""},{"$f":"IF(OR(新人入力!$I29=2,新人入力!$J29=2),\"○\",\"\")","v":""},{"$f":"IF(OR(新人入力!$I29=3,新人入力!$J29=3),\"○\",\"\")","v":""},{"$f":"IF(OR(新人入力!$I29=4,新人入力!$J29=4),\"○\",\"\")","v":""},{"$f":"IF(OR(新人入力!$I29=5,新人入力!$J29=5),\"○\",\"\")","v":""},{"$f":"IF(OR(新人入力!$I29=6,新人入力!$J29=6),\"○\",\"\")","v":""},{"$f":"IF(OR(新人入力!$I29=7,新人入力!$J29=7),\"○\",\"\")","v":""},{"$f":"IF(OR(新人入力!$I29=8,新人入力!$J29=8),\"○\",\"\")","v":""},{"$f":"IF(OR(新人入力!$I29=9,新人入力!$J29=9),\"○\",\"\")","v":""},{"$f":"IF(OR(新人入力!$I29=10,新人入力!$J29=10),\"○\",\"\")","v":""},{"$f":"IF(OR(新人入力!$I29=11,新人入力!$J29=11),\"○\",\"\")","v":""},{"$f":"IF(OR(新人入力!$I29=12,新人入力!$J29=12),\"○\",\"\")","v":""},{"$f":"IF(OR(新人入力!$I29=13,新人入力!$J29=13),\"○\",\"\")","v":""},{"$f":"IF(新人入力!$K29=22,\"○\",\"\")","v":""},{"$f":"IF(OR(新人入力!$I29=14,新人入力!$J29=9),\"○\",\"\")","v":""},null,null,null,null,null,null,null,null,null,{"$f":"IF(新人入力!B96=\"\",\"\",新人入力!B96)","v":""},{"$f":"IF(新人入力!E96=\"\",\"\",新人入力!E96)","v":""},{"$f":"IF(新人入力!G96=\"\",\"\",新人入力!G96)","v":""},{"$f":"IF(新人入力!F96=\"\",\"\",新人入力!F96)","v":""},{"$f":"IF(OR(新人入力!$I96=31,新人入力!$J96=31),\"○\",\"\")","v":""},{"$f":"IF(OR(新人入力!$I96=32,新人入力!$J96=32),\"○\",\"\")","v":""},{"$f":"IF(OR(新人入力!$I96=33,新人入力!$J96=33),\"○\",\"\")","v":""},{"$f":"IF(OR(新人入力!$I96=34,新人入力!$J96=34),\"○\",\"\")","v":""},{"$f":"IF(OR(新人入力!$I96=35,新人入力!$J96=35),\"○\",\"\")","v":""},{"$f":"IF(OR(新人入力!$I96=36,新人入力!$J96=36),\"○\",\"\")","v":""},{"$f":"IF(OR(新人入力!$I96=37,新人入力!$J96=37),\"○\",\"\")","v":""},{"$f":"IF(OR(新人入力!$I96=38,新人入力!$J96=38),\"○\",\"\")","v":""},{"$f":"IF(OR(新人入力!$I96=39,新人入力!$J96=39),\"○\",\"\")","v":""},{"$f":"IF(OR(新人入力!$I96=40,新人入力!$J96=40),\"○\",\"\")","v":""},{"$f":"IF(新人入力!$K96=51,\"○\",\"\")","v":""},{"$f":"IF(OR(新人入力!$I96=41,新人入力!$J96=41),\"○\",\"\")","v":""}]
[{"$f":"IF(新人入力!B30=\"\",\"\",新人入力!B30)","v":""},{"$f":"IF(新人入力!E30=\"\",\"\",新人入力!E30)","v":""},{"$f":"IF(新人入力!G30=\"\",\"\",新人入力!G30)","v":""},{"$f":"IF(新人入力!F30=\"\",\"\",新人入力!F30)","v":""},{"$f":"IF(OR(新人入力!$I30=1,新人入力!$J30=1),\"○\",\"\")","v":""},{"$f":"IF(OR(新人入力!$I30=2,新人入力!$J30=2),\"○\",\"\")","v":""},{"$f":"IF(OR(新人入力!$I30=3,新人入力!$J30=3),\"○\",\"\")","v":""},{"$f":"IF(OR(新人入力!$I30=4,新人入力!$J30=4),\"○\",\"\")","v":""},{"$f":"IF(OR(新人入力!$I30=5,新人入力!$J30=5),\"○\",\"\")","v":""},{"$f":"IF(OR(新人入力!$I30=6,新人入力!$J30=6),\"○\",\"\")","v":""},{"$f":"IF(OR(新人入力!$I30=7,新人入力!$J30=7),\"○\",\"\")","v":""},{"$f":"IF(OR(新人入力!$I30=8,新人入力!$J30=8),\"○\",\"\")","v":""},{"$f":"IF(OR(新人入力!$I30=9,新人入力!$J30=9),\"○\",\"\")","v":""},{"$f":"IF(OR(新人入力!$I30=10,新人入力!$J30=10),\"○\",\"\")","v":""},{"$f":"IF(OR(新人入力!$I30=11,新人入力!$J30=11),\"○\",\"\")","v":""},{"$f":"IF(OR(新人入力!$I30=12,新人入力!$J30=12),\"○\",\"\")","v":""},{"$f":"IF(OR(新人入力!$I30=13,新人入力!$J30=13),\"○\",\"\")","v":""},{"$f":"IF(新人入力!$K30=22,\"○\",\"\")","v":""},{"$f":"IF(OR(新人入力!$I30=14,新人入力!$J30=9),\"○\",\"\")","v":""},null,null,null,null,null,null,null,null,null,{"$f":"IF(新人入力!B97=\"\",\"\",新人入力!B97)","v":""},{"$f":"IF(新人入力!E97=\"\",\"\",新人入力!E97)","v":""},{"$f":"IF(新人入力!G97=\"\",\"\",新人入力!G97)","v":""},{"$f":"IF(新人入力!F97=\"\",\"\",新人入力!F97)","v":""},{"$f":"IF(OR(新人入力!$I97=31,新人入力!$J97=31),\"○\",\"\")","v":""},{"$f":"IF(OR(新人入力!$I97=32,新人入力!$J97=32),\"○\",\"\")","v":""},{"$f":"IF(OR(新人入力!$I97=33,新人入力!$J97=33),\"○\",\"\")","v":""},{"$f":"IF(OR(新人入力!$I97=34,新人入力!$J97=34),\"○\",\"\")","v":""},{"$f":"IF(OR(新人入力!$I97=35,新人入力!$J97=35),\"○\",\"\")","v":""},{"$f":"IF(OR(新人入力!$I97=36,新人入力!$J97=36),\"○\",\"\")","v":""},{"$f":"IF(OR(新人入力!$I97=37,新人入力!$J97=37),\"○\",\"\")","v":""},{"$f":"IF(OR(新人入力!$I97=38,新人入力!$J97=38),\"○\",\"\")","v":""},{"$f":"IF(OR(新人入力!$I97=39,新人入力!$J97=39),\"○\",\"\")","v":""},{"$f":"IF(OR(新人入力!$I97=40,新人入力!$J97=40),\"○\",\"\")","v":""},{"$f":"IF(新人入力!$K97=51,\"○\",\"\")","v":""},{"$f":"IF(OR(新人入力!$I97=41,新人入力!$J97=41),\"○\",\"\")","v":""}]
[{"$f":"IF(新人入力!B31=\"\",\"\",新人入力!B31)","v":""},{"$f":"IF(新人入力!E31=\"\",\"\",新人入力!E31)","v":""},{"$f":"IF(新人入力!G31=\"\",\"\",新人入力!G31)","v":""},{"$f":"IF(新人入力!F31=\"\",\"\",新人入力!F31)","v":""},{"$f":"IF(OR(新人入力!$I31=1,新人入力!$J31=1),\"○\",\"\")","v":""},{"$f":"IF(OR(新人入力!$I31=2,新人入力!$J31=2),\"○\",\"\")","v":""},{"$f":"IF(OR(新人入力!$I31=3,新人入力!$J31=3),\"○\",\"\")","v":""},{"$f":"IF(OR(新人入力!$I31=4,新人入力!$J31=4),\"○\",\"\")","v":""},{"$f":"IF(OR(新人入力!$I31=5,新人入力!$J31=5),\"○\",\"\")","v":""},{"$f":"IF(OR(新人入力!$I31=6,新人入力!$J31=6),\"○\",\"\")","v":""},{"$f":"IF(OR(新人入力!$I31=7,新人入力!$J31=7),\"○\",\"\")","v":""},{"$f":"IF(OR(新人入力!$I31=8,新人入力!$J31=8),\"○\",\"\")","v":""},{"$f":"IF(OR(新人入力!$I31=9,新人入力!$J31=9),\"○\",\"\")","v":""},{"$f":"IF(OR(新人入力!$I31=10,新人入力!$J31=10),\"○\",\"\")","v":""},{"$f":"IF(OR(新人入力!$I31=11,新人入力!$J31=11),\"○\",\"\")","v":""},{"$f":"IF(OR(新人入力!$I31=12,新人入力!$J31=12),\"○\",\"\")","v":""},{"$f":"IF(OR(新人入力!$I31=13,新人入力!$J31=13),\"○\",\"\")","v":""},{"$f":"IF(新人入力!$K31=22,\"○\",\"\")","v":""},{"$f":"IF(OR(新人入力!$I31=14,新人入力!$J31=9),\"○\",\"\")","v":""},null,null,null,null,null,null,null,null,null,{"$f":"IF(新人入力!B98=\"\",\"\",新人入力!B98)","v":""},{"$f":"IF(新人入力!E98=\"\",\"\",新人入力!E98)","v":""},{"$f":"IF(新人入力!G98=\"\",\"\",新人入力!G98)","v":""},{"$f":"IF(新人入力!F98=\"\",\"\",新人入力!F98)","v":""},{"$f":"IF(OR(新人入力!$I98=31,新人入力!$J98=31),\"○\",\"\")","v":""},{"$f":"IF(OR(新人入力!$I98=32,新人入力!$J98=32),\"○\",\"\")","v":""},{"$f":"IF(OR(新人入力!$I98=33,新人入力!$J98=33),\"○\",\"\")","v":""},{"$f":"IF(OR(新人入力!$I98=34,新人入力!$J98=34),\"○\",\"\")","v":""},{"$f":"IF(OR(新人入力!$I98=35,新人入力!$J98=35),\"○\",\"\")","v":""},{"$f":"IF(OR(新人入力!$I98=36,新人入力!$J98=36),\"○\",\"\")","v":""},{"$f":"IF(OR(新人入力!$I98=37,新人入力!$J98=37),\"○\",\"\")","v":""},{"$f":"IF(OR(新人入力!$I98=38,新人入力!$J98=38),\"○\",\"\")","v":""},{"$f":"IF(OR(新人入力!$I98=39,新人入力!$J98=39),\"○\",\"\")","v":""},{"$f":"IF(OR(新人入力!$I98=40,新人入力!$J98=40),\"○\",\"\")","v":""},{"$f":"IF(新人入力!$K98=51,\"○\",\"\")","v":""},{"$f":"IF(OR(新人入力!$I98=41,新人入力!$J98=41),\"○\",\"\")","v":""}]
[{"$f":"IF(新人入力!B32=\"\",\"\",新人入力!B32)","v":""},{"$f":"IF(新人入力!E32=\"\",\"\",新人入力!E32)","v":""},{"$f":"IF(新人入力!G32=\"\",\"\",新人入力!G32)","v":""},{"$f":"IF(新人入力!F32=\"\",\"\",新人入力!F32)","v":""},{"$f":"IF(OR(新人入力!$I32=1,新人入力!$J32=1),\"○\",\"\")","v":""},{"$f":"IF(OR(新人入力!$I32=2,新人入力!$J32=2),\"○\",\"\")","v":""},{"$f":"IF(OR(新人入力!$I32=3,新人入力!$J32=3),\"○\",\"\")","v":""},{"$f":"IF(OR(新人入力!$I32=4,新人入力!$J32=4),\"○\",\"\")","v":""},{"$f":"IF(OR(新人入力!$I32=5,新人入力!$J32=5),\"○\",\"\")","v":""},{"$f":"IF(OR(新人入力!$I32=6,新人入力!$J32=6),\"○\",\"\")","v":""},{"$f":"IF(OR(新人入力!$I32=7,新人入力!$J32=7),\"○\",\"\")","v":""},{"$f":"IF(OR(新人入力!$I32=8,新人入力!$J32=8),\"○\",\"\")","v":""},{"$f":"IF(OR(新人入力!$I32=9,新人入力!$J32=9),\"○\",\"\")","v":""},{"$f":"IF(OR(新人入力!$I32=10,新人入力!$J32=10),\"○\",\"\")","v":""},{"$f":"IF(OR(新人入力!$I32=11,新人入力!$J32=11),\"○\",\"\")","v":""},{"$f":"IF(OR(新人入力!$I32=12,新人入力!$J32=12),\"○\",\"\")","v":""},{"$f":"IF(OR(新人入力!$I32=13,新人入力!$J32=13),\"○\",\"\")","v":""},{"$f":"IF(新人入力!$K32=22,\"○\",\"\")","v":""},{"$f":"IF(OR(新人入力!$I32=14,新人入力!$J32=9),\"○\",\"\")","v":""},null,null,null,null,null,null,null,null,null,{"$f":"IF(新人入力!B99=\"\",\"\",新人入力!B99)","v":""},{"$f":"IF(新人入力!E99=\"\",\"\",新人入力!E99)","v":""},{"$f":"IF(新人入力!G99=\"\",\"\",新人入力!G99)","v":""},{"$f":"IF(新人入力!F99=\"\",\"\",新人入力!F99)","v":""},{"$f":"IF(OR(新人入力!$I99=31,新人入力!$J99=31),\"○\",\"\")","v":""},{"$f":"IF(OR(新人入力!$I99=32,新人入力!$J99=32),\"○\",\"\")","v":""},{"$f":"IF(OR(新人入力!$I99=33,新人入力!$J99=33),\"○\",\"\")","v":""},{"$f":"IF(OR(新人入力!$I99=34,新人入力!$J99=34),\"○\",\"\")","v":""},{"$f":"IF(OR(新人入力!$I99=35,新人入力!$J99=35),\"○\",\"\")","v":""},{"$f":"IF(OR(新人入力!$I99=36,新人入力!$J99=36),\"○\",\"\")","v":""},{"$f":"IF(OR(新人入力!$I99=37,新人入力!$J99=37),\"○\",\"\")","v":""},{"$f":"IF(OR(新人入力!$I99=38,新人入力!$J99=38),\"○\",\"\")","v":""},{"$f":"IF(OR(新人入力!$I99=39,新人入力!$J99=39),\"○\",\"\")","v":""},{"$f":"IF(OR(新人入力!$I99=40,新人入力!$J99=40),\"○\",\"\")","v":""},{"$f":"IF(新人入力!$K99=51,\"○\",\"\")","v":""},{"$f":"IF(OR(新人入力!$I99=41,新人入力!$J99=41),\"○\",\"\")","v":""}]
[{"$f":"IF(新人入力!B33=\"\",\"\",新人入力!B33)","v":""},{"$f":"IF(新人入力!E33=\"\",\"\",新人入力!E33)","v":""},{"$f":"IF(新人入力!G33=\"\",\"\",新人入力!G33)","v":""},{"$f":"IF(新人入力!F33=\"\",\"\",新人入力!F33)","v":""},{"$f":"IF(OR(新人入力!$I33=1,新人入力!$J33=1),\"○\",\"\")","v":""},{"$f":"IF(OR(新人入力!$I33=2,新人入力!$J33=2),\"○\",\"\")","v":""},{"$f":"IF(OR(新人入力!$I33=3,新人入力!$J33=3),\"○\",\"\")","v":""},{"$f":"IF(OR(新人入力!$I33=4,新人入力!$J33=4),\"○\",\"\")","v":""},{"$f":"IF(OR(新人入力!$I33=5,新人入力!$J33=5),\"○\",\"\")","v":""},{"$f":"IF(OR(新人入力!$I33=6,新人入力!$J33=6),\"○\",\"\")","v":""},{"$f":"IF(OR(新人入力!$I33=7,新人入力!$J33=7),\"○\",\"\")","v":""},{"$f":"IF(OR(新人入力!$I33=8,新人入力!$J33=8),\"○\",\"\")","v":""},{"$f":"IF(OR(新人入力!$I33=9,新人入力!$J33=9),\"○\",\"\")","v":""},{"$f":"IF(OR(新人入力!$I33=10,新人入力!$J33=10),\"○\",\"\")","v":""},{"$f":"IF(OR(新人入力!$I33=11,新人入力!$J33=11),\"○\",\"\")","v":""},{"$f":"IF(OR(新人入力!$I33=12,新人入力!$J33=12),\"○\",\"\")","v":""},{"$f":"IF(OR(新人入力!$I33=13,新人入力!$J33=13),\"○\",\"\")","v":""},{"$f":"IF(新人入力!$K33=22,\"○\",\"\")","v":""},{"$f":"IF(OR(新人入力!$I33=14,新人入力!$J33=9),\"○\",\"\")","v":""},null,null,null,null,null,null,null,null,null,{"$f":"IF(新人入力!B100=\"\",\"\",新人入力!B100)","v":""},{"$f":"IF(新人入力!E100=\"\",\"\",新人入力!E100)","v":""},{"$f":"IF(新人入力!G100=\"\",\"\",新人入力!G100)","v":""},{"$f":"IF(新人入力!F100=\"\",\"\",新人入力!F100)","v":""},{"$f":"IF(OR(新人入力!$I100=31,新人入力!$J100=31),\"○\",\"\")","v":""},{"$f":"IF(OR(新人入力!$I100=32,新人入力!$J100=32),\"○\",\"\")","v":""},{"$f":"IF(OR(新人入力!$I100=33,新人入力!$J100=33),\"○\",\"\")","v":""},{"$f":"IF(OR(新人入力!$I100=34,新人入力!$J100=34),\"○\",\"\")","v":""},{"$f":"IF(OR(新人入力!$I100=35,新人入力!$J100=35),\"○\",\"\")","v":""},{"$f":"IF(OR(新人入力!$I100=36,新人入力!$J100=36),\"○\",\"\")","v":""},{"$f":"IF(OR(新人入力!$I100=37,新人入力!$J100=37),\"○\",\"\")","v":""},{"$f":"IF(OR(新人入力!$I100=38,新人入力!$J100=38),\"○\",\"\")","v":""},{"$f":"IF(OR(新人入力!$I100=39,新人入力!$J100=39),\"○\",\"\")","v":""},{"$f":"IF(OR(新人入力!$I100=40,新人入力!$J100=40),\"○\",\"\")","v":""},{"$f":"IF(新人入力!$K100=51,\"○\",\"\")","v":""},{"$f":"IF(OR(新人入力!$I100=41,新人入力!$J100=41),\"○\",\"\")","v":""}]
[{"$f":"IF(新人入力!B34=\"\",\"\",新人入力!B34)","v":""},{"$f":"IF(新人入力!E34=\"\",\"\",新人入力!E34)","v":""},{"$f":"IF(新人入力!G34=\"\",\"\",新人入力!G34)","v":""},{"$f":"IF(新人入力!F34=\"\",\"\",新人入力!F34)","v":""},{"$f":"IF(OR(新人入力!$I34=1,新人入力!$J34=1),\"○\",\"\")","v":""},{"$f":"IF(OR(新人入力!$I34=2,新人入力!$J34=2),\"○\",\"\")","v":""},{"$f":"IF(OR(新人入力!$I34=3,新人入力!$J34=3),\"○\",\"\")","v":""},{"$f":"IF(OR(新人入力!$I34=4,新人入力!$J34=4),\"○\",\"\")","v":""},{"$f":"IF(OR(新人入力!$I34=5,新人入力!$J34=5),\"○\",\"\")","v":""},{"$f":"IF(OR(新人入力!$I34=6,新人入力!$J34=6),\"○\",\"\")","v":""},{"$f":"IF(OR(新人入力!$I34=7,新人入力!$J34=7),\"○\",\"\")","v":""},{"$f":"IF(OR(新人入力!$I34=8,新人入力!$J34=8),\"○\",\"\")","v":""},{"$f":"IF(OR(新人入力!$I34=9,新人入力!$J34=9),\"○\",\"\")","v":""},{"$f":"IF(OR(新人入力!$I34=10,新人入力!$J34=10),\"○\",\"\")","v":""},{"$f":"IF(OR(新人入力!$I34=11,新人入力!$J34=11),\"○\",\"\")","v":""},{"$f":"IF(OR(新人入力!$I34=12,新人入力!$J34=12),\"○\",\"\")","v":""},{"$f":"IF(OR(新人入力!$I34=13,新人入力!$J34=13),\"○\",\"\")","v":""},{"$f":"IF(新人入力!$K34=22,\"○\",\"\")","v":""},{"$f":"IF(OR(新人入力!$I34=14,新人入力!$J34=9),\"○\",\"\")","v":""},null,null,null,null,null,null,null,null,null,{"$f":"IF(新人入力!B101=\"\",\"\",新人入力!B101)","v":""},{"$f":"IF(新人入力!E101=\"\",\"\",新人入力!E101)","v":""},{"$f":"IF(新人入力!G101=\"\",\"\",新人入力!G101)","v":""},{"$f":"IF(新人入力!F101=\"\",\"\",新人入力!F101)","v":""},{"$f":"IF(OR(新人入力!$I101=31,新人入力!$J101=31),\"○\",\"\")","v":""},{"$f":"IF(OR(新人入力!$I101=32,新人入力!$J101=32),\"○\",\"\")","v":""},{"$f":"IF(OR(新人入力!$I101=33,新人入力!$J101=33),\"○\",\"\")","v":""},{"$f":"IF(OR(新人入力!$I101=34,新人入力!$J101=34),\"○\",\"\")","v":""},{"$f":"IF(OR(新人入力!$I101=35,新人入力!$J101=35),\"○\",\"\")","v":""},{"$f":"IF(OR(新人入力!$I101=36,新人入力!$J101=36),\"○\",\"\")","v":""},{"$f":"IF(OR(新人入力!$I101=37,新人入力!$J101=37),\"○\",\"\")","v":""},{"$f":"IF(OR(新人入力!$I101=38,新人入力!$J101=38),\"○\",\"\")","v":""},{"$f":"IF(OR(新人入力!$I101=39,新人入力!$J101=39),\"○\",\"\")","v":""},{"$f":"IF(OR(新人入力!$I101=40,新人入力!$J101=40),\"○\",\"\")","v":""},{"$f":"IF(新人入力!$K101=51,\"○\",\"\")","v":""},{"$f":"IF(OR(新人入力!$I101=41,新人入力!$J101=41),\"○\",\"\")","v":""}]
[{"$f":"IF(新人入力!B35=\"\",\"\",新人入力!B35)","v":""},{"$f":"IF(新人入力!E35=\"\",\"\",新人入力!E35)","v":""},{"$f":"IF(新人入力!G35=\"\",\"\",新人入力!G35)","v":""},{"$f":"IF(新人入力!F35=\"\",\"\",新人入力!F35)","v":""},{"$f":"IF(OR(新人入力!$I35=1,新人入力!$J35=1),\"○\",\"\")","v":""},{"$f":"IF(OR(新人入力!$I35=2,新人入力!$J35=2),\"○\",\"\")","v":""},{"$f":"IF(OR(新人入力!$I35=3,新人入力!$J35=3),\"○\",\"\")","v":""},{"$f":"IF(OR(新人入力!$I35=4,新人入力!$J35=4),\"○\",\"\")","v":""},{"$f":"IF(OR(新人入力!$I35=5,新人入力!$J35=5),\"○\",\"\")","v":""},{"$f":"IF(OR(新人入力!$I35=6,新人入力!$J35=6),\"○\",\"\")","v":""},{"$f":"IF(OR(新人入力!$I35=7,新人入力!$J35=7),\"○\",\"\")","v":""},{"$f":"IF(OR(新人入力!$I35=8,新人入力!$J35=8),\"○\",\"\")","v":""},{"$f":"IF(OR(新人入力!$I35=9,新人入力!$J35=9),\"○\",\"\")","v":""},{"$f":"IF(OR(新人入力!$I35=10,新人入力!$J35=10),\"○\",\"\")","v":""},{"$f":"IF(OR(新人入力!$I35=11,新人入力!$J35=11),\"○\",\"\")","v":""},{"$f":"IF(OR(新人入力!$I35=12,新人入力!$J35=12),\"○\",\"\")","v":""},{"$f":"IF(OR(新人入力!$I35=13,新人入力!$J35=13),\"○\",\"\")","v":""},{"$f":"IF(新人入力!$K35=22,\"○\",\"\")","v":""},{"$f":"IF(OR(新人入力!$I35=14,新人入力!$J35=9),\"○\",\"\")","v":""},null,null,null,null,null,null,null,null,null,{"$f":"IF(新人入力!B102=\"\",\"\",新人入力!B102)","v":""},{"$f":"IF(新人入力!E102=\"\",\"\",新人入力!E102)","v":""},{"$f":"IF(新人入力!G102=\"\",\"\",新人入力!G102)","v":""},{"$f":"IF(新人入力!F102=\"\",\"\",新人入力!F102)","v":""},{"$f":"IF(OR(新人入力!$I102=31,新人入力!$J102=31),\"○\",\"\")","v":""},{"$f":"IF(OR(新人入力!$I102=32,新人入力!$J102=32),\"○\",\"\")","v":""},{"$f":"IF(OR(新人入力!$I102=33,新人入力!$J102=33),\"○\",\"\")","v":""},{"$f":"IF(OR(新人入力!$I102=34,新人入力!$J102=34),\"○\",\"\")","v":""},{"$f":"IF(OR(新人入力!$I102=35,新人入力!$J102=35),\"○\",\"\")","v":""},{"$f":"IF(OR(新人入力!$I102=36,新人入力!$J102=36),\"○\",\"\")","v":""},{"$f":"IF(OR(新人入力!$I102=37,新人入力!$J102=37),\"○\",\"\")","v":""},{"$f":"IF(OR(新人入力!$I102=38,新人入力!$J102=38),\"○\",\"\")","v":""},{"$f":"IF(OR(新人入力!$I102=39,新人入力!$J102=39),\"○\",\"\")","v":""},{"$f":"IF(OR(新人入力!$I102=40,新人入力!$J102=40),\"○\",\"\")","v":""},{"$f":"IF(新人入力!$K102=51,\"○\",\"\")","v":""},{"$f":"IF(OR(新人入力!$I102=41,新人入力!$J102=41),\"○\",\"\")","v":""}]
[{"$f":"IF(新人入力!B36=\"\",\"\",新人入力!B36)","v":""},{"$f":"IF(新人入力!E36=\"\",\"\",新人入力!E36)","v":""},{"$f":"IF(新人入力!G36=\"\",\"\",新人入力!G36)","v":""},{"$f":"IF(新人入力!F36=\"\",\"\",新人入力!F36)","v":""},{"$f":"IF(OR(新人入力!$I36=1,新人入力!$J36=1),\"○\",\"\")","v":""},{"$f":"IF(OR(新人入力!$I36=2,新人入力!$J36=2),\"○\",\"\")","v":""},{"$f":"IF(OR(新人入力!$I36=3,新人入力!$J36=3),\"○\",\"\")","v":""},{"$f":"IF(OR(新人入力!$I36=4,新人入力!$J36=4),\"○\",\"\")","v":""},{"$f":"IF(OR(新人入力!$I36=5,新人入力!$J36=5),\"○\",\"\")","v":""},{"$f":"IF(OR(新人入力!$I36=6,新人入力!$J36=6),\"○\",\"\")","v":""},{"$f":"IF(OR(新人入力!$I36=7,新人入力!$J36=7),\"○\",\"\")","v":""},{"$f":"IF(OR(新人入力!$I36=8,新人入力!$J36=8),\"○\",\"\")","v":""},{"$f":"IF(OR(新人入力!$I36=9,新人入力!$J36=9),\"○\",\"\")","v":""},{"$f":"IF(OR(新人入力!$I36=10,新人入力!$J36=10),\"○\",\"\")","v":""},{"$f":"IF(OR(新人入力!$I36=11,新人入力!$J36=11),\"○\",\"\")","v":""},{"$f":"IF(OR(新人入力!$I36=12,新人入力!$J36=12),\"○\",\"\")","v":""},{"$f":"IF(OR(新人入力!$I36=13,新人入力!$J36=13),\"○\",\"\")","v":""},{"$f":"IF(新人入力!$K36=22,\"○\",\"\")","v":""},{"$f":"IF(OR(新人入力!$I36=14,新人入力!$J36=9),\"○\",\"\")","v":""},null,null,null,null,null,null,null,null,null,{"$f":"IF(新人入力!B103=\"\",\"\",新人入力!B103)","v":""},{"$f":"IF(新人入力!E103=\"\",\"\",新人入力!E103)","v":""},{"$f":"IF(新人入力!G103=\"\",\"\",新人入力!G103)","v":""},{"$f":"IF(新人入力!F103=\"\",\"\",新人入力!F103)","v":""},{"$f":"IF(OR(新人入力!$I103=31,新人入力!$J103=31),\"○\",\"\")","v":""},{"$f":"IF(OR(新人入力!$I103=32,新人入力!$J103=32),\"○\",\"\")","v":""},{"$f":"IF(OR(新人入力!$I103=33,新人入力!$J103=33),\"○\",\"\")","v":""},{"$f":"IF(OR(新人入力!$I103=34,新人入力!$J103=34),\"○\",\"\")","v":""},{"$f":"IF(OR(新人入力!$I103=35,新人入力!$J103=35),\"○\",\"\")","v":""},{"$f":"IF(OR(新人入力!$I103=36,新人入力!$J103=36),\"○\",\"\")","v":""},{"$f":"IF(OR(新人入力!$I103=37,新人入力!$J103=37),\"○\",\"\")","v":""},{"$f":"IF(OR(新人入力!$I103=38,新人入力!$J103=38),\"○\",\"\")","v":""},{"$f":"IF(OR(新人入力!$I103=39,新人入力!$J103=39),\"○\",\"\")","v":""},{"$f":"IF(OR(新人入力!$I103=40,新人入力!$J103=40),\"○\",\"\")","v":""},{"$f":"IF(新人入力!$K103=51,\"○\",\"\")","v":""},{"$f":"IF(OR(新人入力!$I103=41,新人入力!$J103=41),\"○\",\"\")","v":""}]
[{"$f":"IF(新人入力!B37=\"\",\"\",新人入力!B37)","v":""},{"$f":"IF(新人入力!E37=\"\",\"\",新人入力!E37)","v":""},{"$f":"IF(新人入力!G37=\"\",\"\",新人入力!G37)","v":""},{"$f":"IF(新人入力!F37=\"\",\"\",新人入力!F37)","v":""},{"$f":"IF(OR(新人入力!$I37=1,新人入力!$J37=1),\"○\",\"\")","v":""},{"$f":"IF(OR(新人入力!$I37=2,新人入力!$J37=2),\"○\",\"\")","v":""},{"$f":"IF(OR(新人入力!$I37=3,新人入力!$J37=3),\"○\",\"\")","v":""},{"$f":"IF(OR(新人入力!$I37=4,新人入力!$J37=4),\"○\",\"\")","v":""},{"$f":"IF(OR(新人入力!$I37=5,新人入力!$J37=5),\"○\",\"\")","v":""},{"$f":"IF(OR(新人入力!$I37=6,新人入力!$J37=6),\"○\",\"\")","v":""},{"$f":"IF(OR(新人入力!$I37=7,新人入力!$J37=7),\"○\",\"\")","v":""},{"$f":"IF(OR(新人入力!$I37=8,新人入力!$J37=8),\"○\",\"\")","v":""},{"$f":"IF(OR(新人入力!$I37=9,新人入力!$J37=9),\"○\",\"\")","v":""},{"$f":"IF(OR(新人入力!$I37=10,新人入力!$J37=10),\"○\",\"\")","v":""},{"$f":"IF(OR(新人入力!$I37=11,新人入力!$J37=11),\"○\",\"\")","v":""},{"$f":"IF(OR(新人入力!$I37=12,新人入力!$J37=12),\"○\",\"\")","v":""},{"$f":"IF(OR(新人入力!$I37=13,新人入力!$J37=13),\"○\",\"\")","v":""},{"$f":"IF(新人入力!$K37=22,\"○\",\"\")","v":""},{"$f":"IF(OR(新人入力!$I37=14,新人入力!$J37=9),\"○\",\"\")","v":""},null,null,null,null,null,null,null,null,null,{"$f":"IF(新人入力!B104=\"\",\"\",新人入力!B104)","v":""},{"$f":"IF(新人入力!E104=\"\",\"\",新人入力!E104)","v":""},{"$f":"IF(新人入力!G104=\"\",\"\",新人入力!G104)","v":""},{"$f":"IF(新人入力!F104=\"\",\"\",新人入力!F104)","v":""},{"$f":"IF(OR(新人入力!$I104=31,新人入力!$J104=31),\"○\",\"\")","v":""},{"$f":"IF(OR(新人入力!$I104=32,新人入力!$J104=32),\"○\",\"\")","v":""},{"$f":"IF(OR(新人入力!$I104=33,新人入力!$J104=33),\"○\",\"\")","v":""},{"$f":"IF(OR(新人入力!$I104=34,新人入力!$J104=34),\"○\",\"\")","v":""},{"$f":"IF(OR(新人入力!$I104=35,新人入力!$J104=35),\"○\",\"\")","v":""},{"$f":"IF(OR(新人入力!$I104=36,新人入力!$J104=36),\"○\",\"\")","v":""},{"$f":"IF(OR(新人入力!$I104=37,新人入力!$J104=37),\"○\",\"\")","v":""},{"$f":"IF(OR(新人入力!$I104=38,新人入力!$J104=38),\"○\",\"\")","v":""},{"$f":"IF(OR(新人入力!$I104=39,新人入力!$J104=39),\"○\",\"\")","v":""},{"$f":"IF(OR(新人入力!$I104=40,新人入力!$J104=40),\"○\",\"\")","v":""},{"$f":"IF(新人入力!$K104=51,\"○\",\"\")","v":""},{"$f":"IF(OR(新人入力!$I104=41,新人入力!$J104=41),\"○\",\"\")","v":""}]
[{"$f":"IF(新人入力!B38=\"\",\"\",新人入力!B38)","v":""},{"$f":"IF(新人入力!E38=\"\",\"\",新人入力!E38)","v":""},{"$f":"IF(新人入力!G38=\"\",\"\",新人入力!G38)","v":""},{"$f":"IF(新人入力!F38=\"\",\"\",新人入力!F38)","v":""},{"$f":"IF(OR(新人入力!$I38=1,新人入力!$J38=1),\"○\",\"\")","v":""},{"$f":"IF(OR(新人入力!$I38=2,新人入力!$J38=2),\"○\",\"\")","v":""},{"$f":"IF(OR(新人入力!$I38=3,新人入力!$J38=3),\"○\",\"\")","v":""},{"$f":"IF(OR(新人入力!$I38=4,新人入力!$J38=4),\"○\",\"\")","v":""},{"$f":"IF(OR(新人入力!$I38=5,新人入力!$J38=5),\"○\",\"\")","v":""},{"$f":"IF(OR(新人入力!$I38=6,新人入力!$J38=6),\"○\",\"\")","v":""},{"$f":"IF(OR(新人入力!$I38=7,新人入力!$J38=7),\"○\",\"\")","v":""},{"$f":"IF(OR(新人入力!$I38=8,新人入力!$J38=8),\"○\",\"\")","v":""},{"$f":"IF(OR(新人入力!$I38=9,新人入力!$J38=9),\"○\",\"\")","v":""},{"$f":"IF(OR(新人入力!$I38=10,新人入力!$J38=10),\"○\",\"\")","v":""},{"$f":"IF(OR(新人入力!$I38=11,新人入力!$J38=11),\"○\",\"\")","v":""},{"$f":"IF(OR(新人入力!$I38=12,新人入力!$J38=12),\"○\",\"\")","v":""},{"$f":"IF(OR(新人入力!$I38=13,新人入力!$J38=13),\"○\",\"\")","v":""},{"$f":"IF(新人入力!$K38=22,\"○\",\"\")","v":""},{"$f":"IF(OR(新人入力!$I38=14,新人入力!$J38=9),\"○\",\"\")","v":""},null,null,null,null,null,null,null,null,null,{"$f":"IF(新人入力!B105=\"\",\"\",新人入力!B105)","v":""},{"$f":"IF(新人入力!E105=\"\",\"\",新人入力!E105)","v":""},{"$f":"IF(新人入力!G105=\"\",\"\",新人入力!G105)","v":""},{"$f":"IF(新人入力!F105=\"\",\"\",新人入力!F105)","v":""},{"$f":"IF(OR(新人入力!$I105=31,新人入力!$J105=31),\"○\",\"\")","v":""},{"$f":"IF(OR(新人入力!$I105=32,新人入力!$J105=32),\"○\",\"\")","v":""},{"$f":"IF(OR(新人入力!$I105=33,新人入力!$J105=33),\"○\",\"\")","v":""},{"$f":"IF(OR(新人入力!$I105=34,新人入力!$J105=34),\"○\",\"\")","v":""},{"$f":"IF(OR(新人入力!$I105=35,新人入力!$J105=35),\"○\",\"\")","v":""},{"$f":"IF(OR(新人入力!$I105=36,新人入力!$J105=36),\"○\",\"\")","v":""},{"$f":"IF(OR(新人入力!$I105=37,新人入力!$J105=37),\"○\",\"\")","v":""},{"$f":"IF(OR(新人入力!$I105=38,新人入力!$J105=38),\"○\",\"\")","v":""},{"$f":"IF(OR(新人入力!$I105=39,新人入力!$J105=39),\"○\",\"\")","v":""},{"$f":"IF(OR(新人入力!$I105=40,新人入力!$J105=40),\"○\",\"\")","v":""},{"$f":"IF(新人入力!$K105=51,\"○\",\"\")","v":""},{"$f":"IF(OR(新人入力!$I105=41,新人入力!$J105=41),\"○\",\"\")","v":""}]
[{"$f":"IF(新人入力!B39=\"\",\"\",新人入力!B39)","v":""},{"$f":"IF(新人入力!E39=\"\",\"\",新人入力!E39)","v":""},{"$f":"IF(新人入力!G39=\"\",\"\",新人入力!G39)","v":""},{"$f":"IF(新人入力!F39=\"\",\"\",新人入力!F39)","v":""},{"$f":"IF(OR(新人入力!$I39=1,新人入力!$J39=1),\"○\",\"\")","v":""},{"$f":"IF(OR(新人入力!$I39=2,新人入力!$J39=2),\"○\",\"\")","v":""},{"$f":"IF(OR(新人入力!$I39=3,新人入力!$J39=3),\"○\",\"\")","v":""},{"$f":"IF(OR(新人入力!$I39=4,新人入力!$J39=4),\"○\",\"\")","v":""},{"$f":"IF(OR(新人入力!$I39=5,新人入力!$J39=5),\"○\",\"\")","v":""},{"$f":"IF(OR(新人入力!$I39=6,新人入力!$J39=6),\"○\",\"\")","v":""},{"$f":"IF(OR(新人入力!$I39=7,新人入力!$J39=7),\"○\",\"\")","v":""},{"$f":"IF(OR(新人入力!$I39=8,新人入力!$J39=8),\"○\",\"\")","v":""},{"$f":"IF(OR(新人入力!$I39=9,新人入力!$J39=9),\"○\",\"\")","v":""},{"$f":"IF(OR(新人入力!$I39=10,新人入力!$J39=10),\"○\",\"\")","v":""},{"$f":"IF(OR(新人入力!$I39=11,新人入力!$J39=11),\"○\",\"\")","v":""},{"$f":"IF(OR(新人入力!$I39=12,新人入力!$J39=12),\"○\",\"\")","v":""},{"$f":"IF(OR(新人入力!$I39=13,新人入力!$J39=13),\"○\",\"\")","v":""},{"$f":"IF(新人入力!$K39=22,\"○\",\"\")","v":""},{"$f":"IF(OR(新人入力!$I39=14,新人入力!$J39=9),\"○\",\"\")","v":""},null,null,null,null,null,null,null,null,null,{"$f":"IF(新人入力!B106=\"\",\"\",新人入力!B106)","v":""},{"$f":"IF(新人入力!E106=\"\",\"\",新人入力!E106)","v":""},{"$f":"IF(新人入力!G106=\"\",\"\",新人入力!G106)","v":""},{"$f":"IF(新人入力!F106=\"\",\"\",新人入力!F106)","v":""},{"$f":"IF(OR(新人入力!$I106=31,新人入力!$J106=31),\"○\",\"\")","v":""},{"$f":"IF(OR(新人入力!$I106=32,新人入力!$J106=32),\"○\",\"\")","v":""},{"$f":"IF(OR(新人入力!$I106=33,新人入力!$J106=33),\"○\",\"\")","v":""},{"$f":"IF(OR(新人入力!$I106=34,新人入力!$J106=34),\"○\",\"\")","v":""},{"$f":"IF(OR(新人入力!$I106=35,新人入力!$J106=35),\"○\",\"\")","v":""},{"$f":"IF(OR(新人入力!$I106=36,新人入力!$J106=36),\"○\",\"\")","v":""},{"$f":"IF(OR(新人入力!$I106=37,新人入力!$J106=37),\"○\",\"\")","v":""},{"$f":"IF(OR(新人入力!$I106=38,新人入力!$J106=38),\"○\",\"\")","v":""},{"$f":"IF(OR(新人入力!$I106=39,新人入力!$J106=39),\"○\",\"\")","v":""},{"$f":"IF(OR(新人入力!$I106=40,新人入力!$J106=40),\"○\",\"\")","v":""},{"$f":"IF(新人入力!$K106=51,\"○\",\"\")","v":""},{"$f":"IF(OR(新人入力!$I106=41,新人入力!$J106=41),\"○\",\"\")","v":""}]
[{"$f":"IF(新人入力!B40=\"\",\"\",新人入力!B40)","v":""},{"$f":"IF(新人入力!E40=\"\",\"\",新人入力!E40)","v":""},{"$f":"IF(新人入力!G40=\"\",\"\",新人入力!G40)","v":""},{"$f":"IF(新人入力!F40=\"\",\"\",新人入力!F40)","v":""},{"$f":"IF(OR(新人入力!$I40=1,新人入力!$J40=1),\"○\",\"\")","v":""},{"$f":"IF(OR(新人入力!$I40=2,新人入力!$J40=2),\"○\",\"\")","v":""},{"$f":"IF(OR(新人入力!$I40=3,新人入力!$J40=3),\"○\",\"\")","v":""},{"$f":"IF(OR(新人入力!$I40=4,新人入力!$J40=4),\"○\",\"\")","v":""},{"$f":"IF(OR(新人入力!$I40=5,新人入力!$J40=5),\"○\",\"\")","v":""},{"$f":"IF(OR(新人入力!$I40=6,新人入力!$J40=6),\"○\",\"\")","v":""},{"$f":"IF(OR(新人入力!$I40=7,新人入力!$J40=7),\"○\",\"\")","v":""},{"$f":"IF(OR(新人入力!$I40=8,新人入力!$J40=8),\"○\",\"\")","v":""},{"$f":"IF(OR(新人入力!$I40=9,新人入力!$J40=9),\"○\",\"\")","v":""},{"$f":"IF(OR(新人入力!$I40=10,新人入力!$J40=10),\"○\",\"\")","v":""},{"$f":"IF(OR(新人入力!$I40=11,新人入力!$J40=11),\"○\",\"\")","v":""},{"$f":"IF(OR(新人入力!$I40=12,新人入力!$J40=12),\"○\",\"\")","v":""},{"$f":"IF(OR(新人入力!$I40=13,新人入力!$J40=13),\"○\",\"\")","v":""},{"$f":"IF(新人入力!$K40=22,\"○\",\"\")","v":""},{"$f":"IF(OR(新人入力!$I40=14,新人入力!$J40=9),\"○\",\"\")","v":""},null,null,null,null,null,null,null,null,null,{"$f":"IF(新人入力!B107=\"\",\"\",新人入力!B107)","v":""},{"$f":"IF(新人入力!E107=\"\",\"\",新人入力!E107)","v":""},{"$f":"IF(新人入力!G107=\"\",\"\",新人入力!G107)","v":""},{"$f":"IF(新人入力!F107=\"\",\"\",新人入力!F107)","v":""},{"$f":"IF(OR(新人入力!$I107=31,新人入力!$J107=31),\"○\",\"\")","v":""},{"$f":"IF(OR(新人入力!$I107=32,新人入力!$J107=32),\"○\",\"\")","v":""},{"$f":"IF(OR(新人入力!$I107=33,新人入力!$J107=33),\"○\",\"\")","v":""},{"$f":"IF(OR(新人入力!$I107=34,新人入力!$J107=34),\"○\",\"\")","v":""},{"$f":"IF(OR(新人入力!$I107=35,新人入力!$J107=35),\"○\",\"\")","v":""},{"$f":"IF(OR(新人入力!$I107=36,新人入力!$J107=36),\"○\",\"\")","v":""},{"$f":"IF(OR(新人入力!$I107=37,新人入力!$J107=37),\"○\",\"\")","v":""},{"$f":"IF(OR(新人入力!$I107=38,新人入力!$J107=38),\"○\",\"\")","v":""},{"$f":"IF(OR(新人入力!$I107=39,新人入力!$J107=39),\"○\",\"\")","v":""},{"$f":"IF(OR(新人入力!$I107=40,新人入力!$J107=40),\"○\",\"\")","v":""},{"$f":"IF(新人入力!$K107=51,\"○\",\"\")","v":""},{"$f":"IF(OR(新人入力!$I107=41,新人入力!$J107=41),\"○\",\"\")","v":""}]
[{"$f":"IF(新人入力!B41=\"\",\"\",新人入力!B41)","v":""},{"$f":"IF(新人入力!E41=\"\",\"\",新人入力!E41)","v":""},{"$f":"IF(新人入力!G41=\"\",\"\",新人入力!G41)","v":""},{"$f":"IF(新人入力!F41=\"\",\"\",新人入力!F41)","v":""},{"$f":"IF(OR(新人入力!$I41=1,新人入力!$J41=1),\"○\",\"\")","v":""},{"$f":"IF(OR(新人入力!$I41=2,新人入力!$J41=2),\"○\",\"\")","v":""},{"$f":"IF(OR(新人入力!$I41=3,新人入力!$J41=3),\"○\",\"\")","v":""},{"$f":"IF(OR(新人入力!$I41=4,新人入力!$J41=4),\"○\",\"\")","v":""},{"$f":"IF(OR(新人入力!$I41=5,新人入力!$J41=5),\"○\",\"\")","v":""},{"$f":"IF(OR(新人入力!$I41=6,新人入力!$J41=6),\"○\",\"\")","v":""},{"$f":"IF(OR(新人入力!$I41=7,新人入力!$J41=7),\"○\",\"\")","v":""},{"$f":"IF(OR(新人入力!$I41=8,新人入力!$J41=8),\"○\",\"\")","v":""},{"$f":"IF(OR(新人入力!$I41=9,新人入力!$J41=9),\"○\",\"\")","v":""},{"$f":"IF(OR(新人入力!$I41=10,新人入力!$J41=10),\"○\",\"\")","v":""},{"$f":"IF(OR(新人入力!$I41=11,新人入力!$J41=11),\"○\",\"\")","v":""},{"$f":"IF(OR(新人入力!$I41=12,新人入力!$J41=12),\"○\",\"\")","v":""},{"$f":"IF(OR(新人入力!$I41=13,新人入力!$J41=13),\"○\",\"\")","v":""},{"$f":"IF(新人入力!$K41=22,\"○\",\"\")","v":""},{"$f":"IF(OR(新人入力!$I41=14,新人入力!$J41=9),\"○\",\"\")","v":""},null,null,null,null,null,null,null,null,null,{"$f":"IF(新人入力!B108=\"\",\"\",新人入力!B108)","v":""},{"$f":"IF(新人入力!E108=\"\",\"\",新人入力!E108)","v":""},{"$f":"IF(新人入力!G108=\"\",\"\",新人入力!G108)","v":""},{"$f":"IF(新人入力!F108=\"\",\"\",新人入力!F108)","v":""},{"$f":"IF(OR(新人入力!$I108=31,新人入力!$J108=31),\"○\",\"\")","v":""},{"$f":"IF(OR(新人入力!$I108=32,新人入力!$J108=32),\"○\",\"\")","v":""},{"$f":"IF(OR(新人入力!$I108=33,新人入力!$J108=33),\"○\",\"\")","v":""},{"$f":"IF(OR(新人入力!$I108=34,新人入力!$J108=34),\"○\",\"\")","v":""},{"$f":"IF(OR(新人入力!$I108=35,新人入力!$J108=35),\"○\",\"\")","v":""},{"$f":"IF(OR(新人入力!$I108=36,新人入力!$J108=36),\"○\",\"\")","v":""},{"$f":"IF(OR(新人入力!$I108=37,新人入力!$J108=37),\"○\",\"\")","v":""},{"$f":"IF(OR(新人入力!$I108=38,新人入力!$J108=38),\"○\",\"\")","v":""},{"$f":"IF(OR(新人入力!$I108=39,新人入力!$J108=39),\"○\",\"\")","v":""},{"$f":"IF(OR(新人入力!$I108=40,新人入力!$J108=40),\"○\",\"\")","v":""},{"$f":"IF(新人入力!$K108=51,\"○\",\"\")","v":""},{"$f":"IF(OR(新人入力!$I108=41,新人入力!$J108=41),\"○\",\"\")","v":""}]
[]
[null,null,null,null,null,null,null,null,null,null,null,null,null,{"$f":"TODAY()","v":"2025-08-01"},null,null,null,null,null,null,null,null,null,null,null,null,null,null,null,null,null,null,null,null,null,null,null,null,null,{"$f":"TODAY()","v":"2025-08-01"}]
["秋田県中学校体育連盟　会　長",null,null,null,null,"佐々木正宣",null,null,null,null,null,"様",null,null,null,null,null,null,null,null,null,null,null,null,null,null,null,null,"秋田県中学校体育連盟　会　長",null,null,null,{"$f":"F39","v":"佐々木正宣"},null,null,null,null,"様"]
[]
["上記の生徒は大会要項に照らし適格者であり，学校代表としてふさわしく，\n保護者の同意を得ておりますので，大会への参加を申し込みいたします。",null,null,null,null,null,null,null,null,null,null,null,null,null,null,null,null,null,null,null,null,null,null,null,null,null,null,null,"上記の生徒は大会要項に照らし適格者であり，学校代表としてふさわしく，\n保護者の同意を得ておりますので，大会への参加を申し込みいたします。"]
[null,{"$f":"IF(新人入力!E4=\"\",\"\",新人入力!E4)","v":""},null,null,null,null,null,null,null,null,null,"校　長",null,{"$f":"IF(新人入力!E6=\"\",\"\",新人入力!E6)","v":""},null,null,null,"職印",null,null,null,null,null,null,null,null,null,null,null,{"$f":"IF(新人入力!E4=\"\",\"\",新人入力!E4)","v":""},null,null,null,null,null,null,null,"校　長",null,{"$f":"IF(新人入力!E73=\"\",\"\",新人入力!E73)","v":""},null,null,null,"職印"]
[]
[null,null,null,null,null,null,null,null,null,null,null,"監　督",null,{"$f":"IF(新人入力!E5=\"\",\"\",新人入力!E5)","v":""},null,null,null,"印",null,null,null,null,null,null,null,null,null,null,null,null,null,null,null,null,null,null,null,"監　督",null,{"$f":"IF(新人入力!E72=\"\",\"\",新人入力!E72)","v":""},null,null,null,"印"]
[]
[]
[null,"※　引率者",{"$f":"IF(新人入力!E7=\"\",\"\",新人入力!E7)","v":""},null,"代理監督者",null,null,{"$f":"IF(新人入力!E8=\"\",\"\",新人入力!E8)","v":""},null,null,null,"中学校",null,"（氏名）",null,{"$f":"IF(新人入力!E9=\"\",\"\",新人入力!E9)","v":""},null,null,null,null,null,null,null,null,null,null,null,null,null,"※　引率者",{"$f":"IF(新人入力!E74=\"\",\"\",新人入力!E74)","v":""},null,"代理監督者",null,{"$f":"IF(新人入力!E75=\"\",\"\",新人入力!E75)","v":""},null,null,null,"中学校　　（氏名）",null,null,{"$f":"IF(新人入力!E76=\"\",\"\",新人入力!E76)","v":""}]
["注）　出場種目に○をつけて下さい。男子は黒で記入して下さい。引率・監督者の特例を適用した場合は、※の欄を記入して下さい。",null,null,null,null,null,null,null,null,null,null,null,null,null,null,null,null,null,null,null,null,null,null,null,null,null,null,null,"注）　出場種目に○をつけて下さい。女子は赤で記入して下さい。引率・監督者の特例を適用した場合は、※の欄を記入して下さい。"]
[]
[]
[]
[]
[]
[]
[]
[null,{"$f":"TODAY()","v":"2025-08-01"}]
[null,{"$f":"YEAR(B56)","v":2025}]
[null,"第",{"$f":"B57-1961","v":64},"回　秋田県中学校秋季陸上競技大会　　参加申込書（一覧表）男子"]
[null,null,null,"回　秋田県中学校秋季陸上競技大会　　参加申込書（一覧表）女子"]

{"sheet":"新人個表","index":4,"n_rows":362,"n_cols":49,"rows_kept":362,"cut":false,"hidden":false,"merged":[[353,37,357,37],[353,35,357,35],[353,36,354,36],[341,29,345,29],[341,30,345,30],[341,31,345,31],[358,27,358,28],[359,27,363,27],[359,28,363,28],[359,29,363,29],[359,40,363,40],[361,36,363,36],[359,34,363,34],[359,35,363,35],[359,36,360,36],[359,37,363,37],[347,40,351,40],[349,36,351,36],[359,30,363,30],[359,31,363,31],[359,32,363,32],[359,33,363,33],[304,38,363,38],[353,40,357,40],[355,36,357,36],[353,34,357,34],[352,27,352,28],[353,27,357,27],[353,28,357,28],[353,29,357,29],[347,37,351,37],[353,30,357,30],[353,31,357,31],[353,32,357,32],[353,33,357,33],[341,40,345,40],[343,36,345,36],[341,36,342,36],[341,37,345,37],[329,40,333,40],[331,36,333,36],[329,36,330,36],[329,37,333,37],[334,27,334,28],[335,27,339,27],[335,28,339,28],[335,29,339,29],[335,30,339,30],[335,31,339,31],[347,34,351,34],[347,35,351,35],[347,30,351,30],[347,31,351,31],[347,32,351,32],[347,33,351,33],[347,36,348,36],[346,27,346,28],[347,27,351,27],[347,28,351,28],[347,29,351,29],[341,34,345,34],[341,35,345,35],[341,32,345,32],[341,33,345,33],[340,27,340,28],[341,27,345,27],[341,28,345,28],[328,27,328,28],[329,27,333,27],[329,28,333,28],[329,29,333,29],[329,30,333,30],[329,31,333,31],[329,32,333,32],[329,33,333,33],[329,34,333,34],[329,35,333,35],[335,32,339,32],[335,33,339,33],[335,34,339,34],[335,35,339,35],[323,36,324,36],[323,37,327,37],[323,40,327,40],[325,36,327,36],[323,30,327,30],[323,31,327,31],[323,32,327,32],[323,33,327,33],[323,34,327,34],[323,35,327,35],[335,36,336,36],[335,37,339,37],[335,40,339,40],[337,36,339,36],[322,27,322,28],[323,27,327,27],[323,28,327,28],[323,29,327,29],[317,34,321,34],[317,35,321,35],[317,32,321,32],[317,33,321,33],[316,27,316,28],[317,27,321,27],[317,28,321,28],[317,29,321,29],[317,30,321,30],[317,31,321,31],[311,36,312,36],[311,37,315,37],[311,40,315,40],[313,36,315,36],[317,40,321,40],[319,36,321,36],[317,36,318,36],[317,37,321,37],[305,40,309,40],[307,36,309,36],[305,36,306,36],[305,37,309,37],[310,27,310,28],[311,27,315,27],[311,28,315,28],[311,29,315,29],[311,30,315,30],[311,31,315,31],[304,27,304,28],[305,27,309,27],[305,28,309,28],[305,29,309,29],[305,30,309,30],[305,31,309,31],[305,32,309,32],[305,33,309,33],[305,34,309,34],[305,35,309,35],[311,32,315,32],[311,33,315,33],[311,34,315,34],[311,35,315,35],[299,36,300,36],[299,37,303,37],[299,40,303,40],[301,36,303,36],[299,30,303,30],[299,31,303,31],[299,32,303,32],[299,33,303,33],[299,34,303,34],[299,35,303,35],[298,27,298,28],[299,27,303,27],[299,28,303,28],[299,29,303,29],[293,34,297,34],[293,35,297,35],[293,32,297,32],[293,33,297,33],[292,27,292,28],[293,27,297,27],[293,28,297,28],[293,29,297,29],[293,30,297,30],[293,31,297,31],[287,36,288,36],[287,37,291,37],[287,40,291,40],[289,36,291,36],[293,40,297,40],[295,36,297,36],[293,36,294,36],[293,37,297,37],[281,40,285,40],[283,36,285,36],[281,36,282,36],[281,37,285,37],[286,27,286,28],[287,27,291,27],[287,28,291,28],[287,29,291,29],[287,30,291,30],[287,31,291,31],[280,27,280,28],[281,27,285,27],[281,28,285,28],[281,29,285,29],[281,30,285,30],[281,31,285,31],[281,32,285,32],[281,33,285,33],[281,34,285,34],[281,35,285,35],[287,32,291,32],[287,33,291,33],[287,34,291,34],[287,35,291,35],[275,36,276,36],[275,37,279,37],[275,40,279,40],[277,36,279,36],[275,30,279,30],[275,31,279,31],[275,32,279,32],[275,33,279,33],[275,34,279,34],[275,35,279,35],[275,27,279,27],[275,28,279,28],[275,29,279,29],[269,34,273,34],[269,35,273,35],[269,32,273,32],[269,33,273,33],[269,27,273,27],[269,28,273,28],[269,29,273,29],[269,30,273,30],[269,31,273,31],[274,27,274,28],[262,27,262,28],[263,27,267,27],[263,28,267,28],[263,29,267,29],[263,30,267,30],[269,40,273,40],[271,36,273,36],[269,36,270,36],[269,37,273,37],[268,27,268,28],[257,28,261,28],[257,29,261,29],[257,30,261,30],[257,31,261,31],[257,32,261,32],[257,33,261,33],[257,34,261,34],[257,35,261,35],[263,31,267,31],[263,32,267,32],[263,33,267,33],[263,34,267,34],[263,35,267,35],[263,40,267,40],[265,36,267,36],[257,40,261,40],[259,36,261,36],[257,36,258,36],[251,34,255,34],[251,35,255,35],[257,37,261,37],[263,36,264,36],[263,37,267,37],[250,27,250,28],[251,27,255,27],[251,28,255,28],[251,29,255,29],[251,36,252,36],[251,37,255,37],[253,36,255,36],[245,40,249,40],[247,36,249,36],[245,36,246,36],[245,37,249,37],[251,30,255,30],[251,31,255,31],[251,32,255,32],[251,33,255,33],[251,40,255,40],[244,38,303,38],[244,27,244,28],[245,27,249,27],[245,28,249,28],[245,29,249,29],[245,30,249,30],[245,31,249,31],[245,32,249,32],[245,33,249,33],[256,27,256,28],[257,27,261,27],[239,34,243,34],[239,35,243,35],[239,36,240,36],[239,37,243,37],[239,32,243,32],[239,33,243,33],[245,34,249,34],[245,35,249,35],[239,40,243,40],[241,36,243,36],[233,40,237,40],[235,36,237,36],[233,36,234,36],[233,37,237,37],[238,27,238,28],[239,27,243,27],[239,28,243,28],[239,29,243,29],[239,30,243,30],[239,31,243,31],[233,32,237,32],[233,33,237,33],[233,34,237,34],[233,35,237,35],[232,27,232,28],[233,27,237,27],[233,28,237,28],[233,29,237,29],[233,30,237,30],[233,31,237,31],[227,36,228,36],[227,37,231,37],[227,40,231,40],[229,36,231,36],[227,30,231,30],[227,31,231,31],[227,32,231,32],[227,33,231,33],[227,34,231,34],[227,35,231,35],[226,27,226,28],[227,27,231,27],[227,28,231,28],[227,29,231,29],[221,33,225,33],[221,34,225,34],[221,32,225,32],[221,35,225,35],[221,40,225,40],[223,36,225,36],[215,35,219,35],[221,36,222,36],[221,37,225,37],[217,36,219,36],[220,27,220,28],[221,27,225,27],[221,28,225,28],[221,29,225,29],[221,30,225,30],[221,31,225,31],[214,27,214,28],[215,27,219,27],[215,28,219,28],[215,29,219,29],[215,30,219,30],[215,31,219,31],[215,32,219,32],[215,33,219,33],[215,34,219,34],[215,36,216,36],[215,37,219,37],[209,30,213,30],[209,31,213,31],[209,32,213,32],[209,33,213,33],[208,27,208,28],[209,27,213,27],[209,28,213,28],[209,29,213,29],[203,34,207,34],[203,35,207,35],[209,36,210,36],[209,37,213,37],[211,36,213,36],[209,34,213,34],[209,35,213,35],[203,30,207,30],[203,31,207,31],[203,32,207,32],[203,33,207,33],[185,33,189,33],[185,34,189,34],[185,35,189,35],[185,40,189,40],[202,27,202,28],[203,27,207,27],[203,28,207,28],[203,29,207,29],[197,30,201,30],[197,31,201,31],[197,35,201,35],[197,32,201,32],[197,33,201,33],[196,27,196,28],[197,27,201,27],[197,28,201,28],[197,29,201,29],[190,27,190,28],[191,27,195,27],[191,28,195,28],[191,29,195,29],[191,34,195,34],[191,35,195,35],[191,30,195,30],[191,31,195,31],[191,32,195,32],[191,33,195,33],[186,43,186,44],[187,36,189,36],[189,42,189,44],[184,38,243,38],[191,40,195,40],[184,27,184,28],[185,27,189,27],[185,28,189,28],[185,29,189,29],[185,30,189,30],[185,31,189,31],[176,36,177,36],[176,37,180,37],[176,40,180,40],[178,36,180,36],[185,36,186,36],[185,37,189,37],[197,36,198,36],[197,37,201,37],[199,36,201,36],[197,34,201,34],[197,40,201,40],[203,40,207,40],[209,40,213,40],[215,40,219,40],[191,36,192,36],[191,37,195,37],[193,36,195,36],[203,36,204,36],[203,37,207,37],[205,36,207,36],[185,32,189,32],[170,40,174,40],[172,36,174,36],[170,36,171,36],[170,37,174,37],[175,27,175,28],[176,27,180,27],[176,28,180,28],[176,29,180,29],[176,30,180,30],[176,31,180,31],[169,27,169,28],[170,27,174,27],[170,28,174,28],[170,29,174,29],[170,30,174,30],[170,31,174,31],[170,32,174,32],[170,33,174,33],[170,34,174,34],[170,35,174,35],[176,32,180,32],[176,33,180,33],[176,34,180,34],[176,35,180,35],[140,28,144,28],[140,29,144,29],[164,36,165,36],[164,37,168,37],[164,40,168,40],[166,36,168,36],[164,30,168,30],[164,31,168,31],[164,32,168,32],[164,33,168,33],[164,34,168,34],[164,35,168,35],[163,27,163,28],[164,27,168,27],[164,28,168,28],[164,29,168,29],[158,34,162,34],[158,35,162,35],[158,32,162,32],[158,33,162,33],[158,40,162,40],[160,36,162,36],[158,36,159,36],[158,37,162,37],[157,27,157,28],[158,27,162,27],[158,28,162,28],[158,29,162,29],[158,30,162,30],[158,31,162,31],[152,40,156,40],[154,36,156,36],[146,40,150,40],[148,36,150,36],[146,36,147,36],[146,37,150,37],[152,36,153,36],[152,37,156,37],[151,27,151,28],[152,27,156,27],[152,28,156,28],[152,29,156,29],[146,35,150,35],[152,30,156,30],[152,31,156,31],[152,32,156,32],[152,33,156,33],[152,34,156,34],[152,35,156,35],[134,34,138,34],[134,35,138,35],[134,40,138,40],[136,36,138,36],[134,30,138,30],[134,31,138,31],[134,32,138,32],[134,33,138,33],[134,37,138,37],[133,27,133,28],[134,27,138,27],[134,28,138,28],[134,29,138,29],[145,27,145,28],[146,27,150,27],[146,28,150,28],[146,29,150,29],[140,37,144,37],[140,31,144,31],[140,32,144,32],[140,33,144,33],[140,36,141,36],[140,40,144,40],[142,36,144,36],[146,30,150,30],[146,31,150,31],[140,34,144,34],[140,35,144,35],[146,32,150,32],[146,33,150,33],[146,34,150,34],[140,30,144,30],[128,34,132,34],[128,35,132,35],[128,32,132,32],[128,33,132,33],[128,36,129,36],[128,37,132,37],[128,40,132,40],[130,36,132,36],[122,40,126,40],[124,36,126,36],[122,36,123,36],[122,37,126,37],[121,38,180,38],[134,36,135,36],[127,27,127,28],[128,27,132,27],[128,28,132,28],[128,29,132,29],[128,30,132,30],[128,31,132,31],[122,32,126,32],[122,33,126,33],[122,34,126,34],[122,35,126,35],[121,27,121,28],[122,27,126,27],[122,28,126,28],[122,29,126,29],[122,30,126,30],[122,31,126,31],[139,27,139,28],[140,27,144,27],[116,36,117,36],[116,37,120,37],[116,40,120,40],[118,36,120,36],[116,30,120,30],[116,31,120,31],[116,32,120,32],[116,33,120,33],[116,34,120,34],[116,35,120,35],[115,27,115,28],[116,27,120,27],[116,28,120,28],[116,29,120,29],[110,34,114,34],[110,35,114,35],[110,32,114,32],[110,33,114,33],[109,27,109,28],[110,27,114,27],[110,28,114,28],[110,29,114,29],[110,30,114,30],[110,31,114,31],[104,36,105,36],[104,37,108,37],[104,40,108,40],[106,36,108,36],[110,40,114,40],[112,36,114,36],[110,36,111,36],[110,37,114,37],[98,40,102,40],[100,36,102,36],[98,36,99,36],[98,37,102,37],[103,27,103,28],[104,27,108,27],[104,28,108,28],[104,29,108,29],[104,30,108,30],[104,31,108,31],[97,27,97,28],[98,27,102,27],[98,28,102,28],[98,29,102,29],[98,30,102,30],[98,31,102,31],[98,32,102,32],[98,33,102,33],[98,34,102,34],[98,35,102,35],[104,32,108,32],[104,33,108,33],[104,34,108,34],[104,35,108,35],[92,36,93,36],[92,37,96,37],[92,40,96,40],[94,36,96,36],[92,30,96,30],[92,31,96,31],[92,32,96,32],[92,33,96,33],[92,34,96,34],[92,35,96,35],[92,27,96,27],[92,28,96,28],[92,29,96,29],[86,34,90,34],[86,35,90,35],[86,32,90,32],[86,33,90,33],[86,27,90,27],[86,28,90,28],[86,29,90,29],[86,30,90,30],[86,31,90,31],[91,27,91,28],[79,27,79,28],[80,27,84,27],[80,28,84,28],[80,29,84,29],[80,30,84,30],[86,40,90,40],[88,36,90,36],[86,36,87,36],[86,37,90,37],[85,27,85,28],[74,28,78,28],[74,29,78,29],[74,30,78,30],[74,31,78,31],[74,32,78,32],[74,33,78,33],[74,34,78,34],[74,35,78,35],[80,31,84,31],[80,32,84,32],[80,33,84,33],[80,34,84,34],[80,35,84,35],[80,40,84,40],[82,36,84,36],[74,40,78,40],[76,36,78,36],[74,36,75,36],[68,34,72,34],[68,35,72,35],[74,37,78,37],[80,36,81,36],[80,37,84,37],[67,27,67,28],[68,27,72,27],[68,28,72,28],[68,29,72,29],[68,36,69,36],[68,37,72,37],[70,36,72,36],[62,40,66,40],[64,36,66,36],[62,36,63,36],[62,37,66,37],[68,30,72,30],[68,31,72,31],[68,32,72,32],[68,33,72,33],[68,40,72,40],[61,38,120,38],[61,27,61,28],[62,27,66,27],[62,28,66,28],[62,29,66,29],[62,30,66,30],[62,31,66,31],[62,32,66,32],[62,33,66,33],[73,27,73,28],[74,27,78,27],[56,34,60,34],[56,35,60,35],[56,36,57,36],[56,37,60,37],[56,32,60,32],[56,33,60,33],[62,34,66,34],[62,35,66,35],[56,40,60,40],[58,36,60,36],[50,40,54,40],[52,36,54,36],[50,36,51,36],[50,37,54,37],[55,27,55,28],[56,27,60,27],[56,28,60,28],[56,29,60,29],[56,30,60,30],[56,31,60,31],[50,32,54,32],[50,33,54,33],[50,34,54,34],[50,35,54,35],[49,27,49,28],[50,27,54,27],[50,28,54,28],[50,29,54,29],[50,30,54,30],[50,31,54,31],[44,36,45,36],[44,37,48,37],[44,40,48,40],[46,36,48,36],[44,30,48,30],[44,31,48,31],[44,32,48,32],[44,33,48,33],[44,34,48,34],[44,35,48,35],[43,27,43,28],[44,27,48,27],[44,28,48,28],[44,29,48,29],[38,40,42,40],[40,36,42,36],[32,35,36,35],[38,36,39,36],[38,37,42,37],[34,36,36,36],[37,27,37,28],[38,27,42,27],[38,28,42,28],[38,29,42,29],[38,30,42,30],[38,31,42,31],[31,27,31,28],[32,27,36,27],[32,28,36,28],[32,29,36,29],[32,30,36,30],[32,31,36,31],[32,32,36,32],[32,33,36,33],[32,34,36,34],[25,27,25,28],[26,27,30,27],[26,28,30,28],[26,29,30,29],[20,34,24,34],[20,35,24,35],[26,36,27,36],[26,37,30,37],[28,36,30,36],[26,34,30,34],[26,35,30,35],[20,30,24,30],[20,31,24,31],[20,32,24,32],[20,33,24,33],[38,33,42,33],[38,34,42,34],[38,32,42,32],[38,35,42,35],[32,36,33,36],[32,37,36,37],[26,30,30,30],[26,31,30,31],[26,32,30,32],[26,33,30,33],[2,34,6,34],[2,35,6,35],[2,40,6,40],[19,27,19,28],[20,27,24,27],[20,28,24,28],[20,29,24,29],[14,30,18,30],[14,31,18,31],[14,32,18,32],[14,33,18,33],[13,27,13,28],[14,27,18,27],[14,28,18,28],[14,29,18,29],[8,34,12,34],[8,35,12,35],[14,36,15,36],[14,37,18,37],[16,36,18,36],[14,34,18,34],[14,35,18,35],[8,30,12,30],[8,31,12,31],[8,32,12,32],[8,33,12,33],[353,10,357,10],[353,8,357,8],[353,9,354,9],[3,43,3,44],[4,36,6,36],[6,42,6,44],[1,38,60,38],[8,40,12,40],[14,40,18,40],[20,40,24,40],[2,36,3,36],[2,37,6,37],[1,27,1,28],[2,27,6,27],[2,28,6,28],[2,29,6,29],[2,30,6,30],[2,31,6,31],[2,32,6,32],[2,33,6,33],[7,27,7,28],[8,27,12,27],[8,28,12,28],[8,29,12,29],[26,40,30,40],[32,40,36,40],[8,36,9,36],[8,37,12,37],[10,36,12,36],[20,36,21,36],[20,37,24,37],[22,36,24,36],[341,2,345,2],[341,3,345,3],[341,4,345,4],[358,0,358,1],[359,0,363,0],[359,1,363,1],[359,2,363,2],[359,13,363,13],[361,9,363,9],[359,7,363,7],[359,8,363,8],[359,9,360,9],[359,10,363,10],[347,13,351,13],[349,9,351,9],[359,3,363,3],[359,4,363,4],[359,5,363,5],[359,6,363,6],[304,11,363,11],[353,13,357,13],[355,9,357,9],[353,7,357,7],[352,0,352,1],[353,0,357,0],[353,1,357,1],[353,2,357,2],[347,10,351,10],[353,3,357,3],[353,4,357,4],[353,5,357,5],[353,6,357,6],[341,13,345,13],[343,9,345,9],[341,9,342,9],[341,10,345,10],[329,13,333,13],[331,9,333,9],[329,9,330,9],[329,10,333,10],[334,0,334,1],[335,0,339,0],[335,1,339,1],[335,2,339,2],[335,3,339,3],[335,4,339,4],[347,7,351,7],[347,8,351,8],[347,3,351,3],[347,4,351,4],[347,5,351,5],[347,6,351,6],[347,9,348,9],[346,0,346,1],[347,0,351,0],[347,1,351,1],[347,2,351,2],[341,7,345,7],[341,8,345,8],[341,5,345,5],[341,6,345,6],[340,0,340,1],[341,0,345,0],[341,1,345,1],[328,0,328,1],[329,0,333,0],[329,1,333,1],[329,2,333,2],[329,3,333,3],[329,4,333,4],[329,5,333,5],[329,6,333,6],[329,7,333,7],[329,8,333,8],[335,5,339,5],[335,6,339,6],[335,7,339,7],[335,8,339,8],[323,9,324,9],[323,10,327,10],[323,13,327,13],[325,9,327,9],[323,3,327,3],[323,4,327,4],[323,5,327,5],[323,6,327,6],[323,7,327,7],[323,8,327,8],[335,9,336,9],[335,10,339,10],[335,13,339,13],[337,9,339,9],[322,0,322,1],[323,0,327,0],[323,1,327,1],[323,2,327,2],[317,7,321,7],[317,8,321,8],[317,5,321,5],[317,6,321,6],[316,0,316,1],[317,0,321,0],[317,1,321,1],[317,2,321,2],[317,3,321,3],[317,4,321,4],[311,9,312,9],[311,10,315,10],[311,13,315,13],[313,9,315,9],[317,13,321,13],[319,9,321,9],[317,9,318,9],[317,10,321,10],[305,13,309,13],[307,9,309,9],[305,9,306,9],[305,10,309,10],[310,0,310,1],[311,0,315,0],[311,1,315,1],[311,2,315,2],[311,3,315,3],[311,4,315,4],[304,0,304,1],[305,0,309,0],[305,1,309,1],[305,2,309,2],[305,3,309,3],[305,4,309,4],[305,5,309,5],[305,6,309,6],[305,7,309,7],[305,8,309,8],[311,5,315,5],[311,6,315,6],[311,7,315,7],[311,8,315,8],[299,9,300,9],[299,10,303,10],[299,13,303,13],[301,9,303,9],[299,3,303,3],[299,4,303,4],[299,5,303,5],[299,6,303,6],[299,7,303,7]],"merged_total":1700,"flags":["merged_cut"]}
[]
["新人種目",null,"組","レーン・順","アスリートビブス","名　　　前","学　　校","学年","色","郡市・順位","ベスト記録","男子個人種目１　１ページ目",null,"種目コード",null,null,null,null,null,"男子種目１",null,null,null,null,null,null,null,"新人種目",null,"組","レーン・順","アスリートビブス","名　　　前","学　　校","学年","色","郡市・順位","ベスト記録","男子個人種目２　１ページ目",null,"種目コード",null,null,null,null,null,"男子種目２"]
[{"$f":"IF(N3=\"\",\"\",VLOOKUP(N3,P$8:R$33,2))","v":""},{"$f":"IF(N3=\"\",\"\",VLOOKUP(N3,P$8:R$33,3))","v":""},null,null,{"$f":"IF(新人入力!B12=\"\",\"\",新人入力!B12)","v":""},{"$f":"IF(新人入力!E12=\"\",\"\",新人入力!E12)","v":""},{"$f":"IF(F3=\"\",\"\",新人入力!M$4)","v":""},{"$f":"IF(新人入力!F12=\"\",\"\",新人入力!F12)","v":""},null,{"$f":"IF(F3=\"\",\"\",VLOOKUP($Z$3,新人入力!$V$30:$W$41,2,FALSE))","v":""},{"$f":"IF(新人入力!M12=\"\",\"\",新人入力!M12)","v":""},null,null,{"$f":"新人入力!I12","v":""},null,null,null,null,null,null,null,"１～１０",null,null,null,{"$f":"必ずお読み下さい!E11","v":5},null,{"$f":"IF(AO3=\"\",\"\",VLOOKUP(AO3,AQ$8:AS$33,2))","v":""},{"$f":"IF(AO3=\"\",\"\",VLOOKUP(AO3,AQ$8:AS$33,3))","v":""},null,null,{"$f":"IF(E3=\"\",\"\",E3)","v":""},{"$f":"IF(新人入力!E12=\"\",\"\",新人入力!E12)","v":""},{"$f":"IF(AG3=\"\",\"\",新人入力!M$4)","v":""},{"$f":"IF(新人入力!F12=\"\",\"\",新人入力!F12)","v":""},null,{"$f":"IF(AG3=\"\",\"\",VLOOKUP($Z$3,新人入力!$V$30:$W$41,2,FALSE))","v":""},{"$f":"IF(新人入力!P12=\"\",\"\",新人入力!P12)","v":""},null,null,{"$f":"新人入力!J12","v":""},null,null,null,null,null,null,null,"１～１０"]
[]
[null,null,null,null,null,null,null,null,null,{"$f":"IF(新人入力!N12=\"\",\"\",新人入力!N12)","v":""},null,null,null,null,null,null,null,null,null,null,null,null,null,null,null,null,null,null,null,null,null,null,null,null,null,null,{"$f":"IF(新人入力!Q12=\"\",\"\",新人入力!Q12)","v":""}]
[null,null,null,null,null,null,null,null,null,null,null,null,null,null,null,null,null,null,null,null,null,"１１～２０",null,null,null,null,null,null,null,null,null,null,null,null,null,null,null,null,null,null,null,null,null,null,null,null,null,null,"１１～２０"]
[null,null,null,null,null,null,null,null,null,null,null,null,null,null,null,"種目コード一覧",null,null,null,null,null,null,null,null,null,null,null,null,null,null,null,null,null,null,null,null,null,null,null,null,null,null,"種目コード一覧"]
["新人種目",null,"組","レーン・順","アスリートビブス","名　　　前","学　　校","学年","色","郡市・順位","ベスト記録",null,null,"種目コード",null,1,"男","１年１００ｍ",null,null,null,null,null,null,null,null,null,"新人種目",null,"組","レーン・順","アスリートビブス","名　　　前","学　　校","学年","色","郡市・順位","ベスト記録",null,null,"種目コード",null,1,"男","１年１００ｍ"]
[{"$f":"IF(N9=\"\",\"\",VLOOKUP(N9,P$8:R$33,2))","v":""},{"$f":"IF(N9=\"\",\"\",VLOOKUP(N9,P$8:R$33,3))","v":""},null,null,{"$f":"IF(新人入力!B13=\"\",\"\",新人入力!B13)","v":""},{"$f":"IF(新人入力!E13=\"\",\"\",新人入力!E13)","v":""},{"$f":"IF(F9=\"\",\"\",新人入力!M$4)","v":""},{"$f":"IF(新人入力!F13=\"\",\"\",新人入力!F13)","v":""},null,{"$f":"IF(F9=\"\",\"\",VLOOKUP($Z$3,新人入力!$V$30:$W$41,2,FALSE))","v":""},{"$f":"IF(新人入力!M13=\"\",\"\",新人入力!M13)","v":""},null,null,{"$f":"新人入力!I13","v":""},null,2,"男","２年１００ｍ",null,null,null,"２１～３０",null,null,null,null,null,{"$f":"IF(AO9=\"\",\"\",VLOOKUP(AO9,AQ$8:AS$33,2))","v":""},{"$f":"IF(AO9=\"\",\"\",VLOOKUP(AO9,AQ$8:AS$33,3))","v":""},null,null,{"$f":"IF(E9=\"\",\"\",E9)","v":""},{"$f":"IF(新人入力!E13=\"\",\"\",新人入力!E13)","v":""},{"$f":"IF(AG9=\"\",\"\",新人入力!M$4)","v":""},{"$f":"IF(新人入力!F13=\"\",\"\",新人入力!F13)","v":""},null,{"$f":"IF(AG9=\"\",\"\",VLOOKUP($Z$3,新人入力!$V$30:$W$41,2,FALSE))","v":""},{"$f":"IF(新人入力!P13=\"\",\"\",新人入力!P13)","v":""},null,null,{"$f":"新人入力!J13","v":""},null,2,"男","２年１００ｍ",null,null,null,"２１～３０"]
[null,null,null,null,null,null,null,null,null,null,null,null,null,null,null,3,"男","共通２００ｍ",null,null,null,null,null,null,null,null,null,null,null,null,null,null,null,null,null,null,null,null,null,null,null,null,3,"男","共通２００ｍ"]
[null,null,null,null,null,null,null,null,null,{"$f":"IF(新人入力!N13=\"\",\"\",新人入力!N13)","v":""},null,null,null,null,null,4,"男","共通４００ｍ",null,null,null,null,null,null,null,null,null,null,null,null,null,null,null,null,null,null,{"$f":"IF(新人入力!Q13=\"\",\"\",新人入力!Q13)","v":""},null,null,null,null,null,4,"男","共通４００ｍ"]
[null,null,null,null,null,null,null,null,null,null,null,null,null,null,null,5,"男","共通８００ｍ",null,null,null,null,null,null,null,null,null,null,null,null,null,null,null,null,null,null,null,null,null,null,null,null,5,"男","共通８００ｍ"]
[null,null,null,null,null,null,null,null,null,null,null,null,null,null,null,6,"男","１年１５００ｍ",null,"各郡市色塗り",null,null,null,null,null,null,null,null,null,null,null,null,null,null,null,null,null,null,null,null,null,null,6,"男","１年１５００ｍ"]
["新人種目",null,"組","レーン・順","アスリートビブス","名　　　前","学　　校","学年","色","郡市・順位","ベスト記録",null,null,"種目コード",null,7,"男","２年１５００ｍ",null,"該当する郡市のボタンをクリック",null,null,null,null,null,null,null,"新人種目",null,"組","レーン・順","アスリートビブス","名　　　前","学　　校","学年","色","郡市・順位","ベスト記録",null,null,"種目コード",null,7,"男","２年１５００ｍ"]
[{"$f":"IF(N15=\"\",\"\",VLOOKUP(N15,P$8:R$33,2))","v":""},{"$f":"IF(N15=\"\",\"\",VLOOKUP(N15,P$8:R$33,3))","v":""},null,null,{"$f":"IF(新人入力!B14=\"\",\"\",新人入力!B14)","v":""},{"$f":"IF(新人入力!E14=\"\",\"\",新人入力!E14)","v":""},{"$f":"IF(F15=\"\",\"\",新人入力!M$4)","v":""},{"$f":"IF(新人入力!F14=\"\",\"\",新人入力!F14)","v":""},null,{"$f":"IF(F15=\"\",\"\",VLOOKUP($Z$3,新人入力!$V$30:$W$41,2,FALSE))","v":""},{"$f":"IF(新人入力!M14=\"\",\"\",新人入力!M14)","v":""},null,null,{"$f":"新人入力!I14","v":""},null,8,"男","共通３０００ｍ",null,null,null,null,null,null,null,null,null,{"$f":"IF(AO15=\"\",\"\",VLOOKUP(AO15,AQ$8:AS$33,2))","v":""},{"$f":"IF(AO15=\"\",\"\",VLOOKUP(AO15,AQ$8:AS$33,3))","v":""},null,null,{"$f":"IF(E15=\"\",\"\",E15)","v":""},{"$f":"IF(新人入力!E14=\"\",\"\",新人入力!E14)","v":""},{"$f":"IF(AG15=\"\",\"\",新人入力!M$4)","v":""},{"$f":"IF(新人入力!F14=\"\",\"\",新人入力!F14)","v":""},null,{"$f":"IF(AG15=\"\",\"\",VLOOKUP($Z$3,新人入力!$V$30:$W$41,2,FALSE))","v":""},{"$f":"IF(新人入力!P14=\"\",\"\",新人入力!P14)","v":""},null,null,{"$f":"新人入力!J14","v":""},null,8,"男","共通３０００ｍ"]
[null,null,null,null,null,null,null,null,null,null,null,null,null,null,null,9,"男","共通110mJH",null,null,null,null,null,null,null,null,null,null,null,null,null,null,null,null,null,null,null,null,null,null,null,null,9,"男","共通110mJH"]
[null,null,null,null,null,null,null,null,null,{"$f":"IF(新人入力!N14=\"\",\"\",新人入力!N14)","v":""},null,null,null,null,null,10,"男","共通走高跳",null,null,null,null,null,null,null,null,null,null,null,null,null,null,null,null,null,null,{"$f":"IF(新人入力!Q14=\"\",\"\",新人入力!Q14)","v":""},null,null,null,null,null,10,"男","共通走高跳"]
[null,null,null,null,null,null,null,null,null,null,null,null,null,null,null,11,"男","共通棒高跳",null,null,null,null,null,null,null,null,null,null,null,null,null,null,null,null,null,null,null,null,null,null,null,null,11,"男","共通棒高跳"]
[null,null,null,null,null,null,null,null,null,null,null,null,null,null,null,12,"男","共通走幅跳",null,null,null,null,null,null,null,null,null,null,null,null,null,null,null,null,null,null,null,null,null,null,null,null,12,"男","共通走幅跳"]
["新人種目",null,"組","レーン・順","アスリートビブス","名　　　前","学　　校","学年","色","郡市・順位","ベスト記録",null,null,"種目コード",null,13,"男","共通砲丸投",null,null,null,null,null,null,null,null,null,"新人種目",null,"組","レーン・順","アスリートビブス","名　　　前","学　　校","学年","色","郡市・順位","ベスト記録",null,null,"種目コード",null,13,"男","共通砲丸投"]
[{"$f":"IF(N21=\"\",\"\",VLOOKUP(N21,P$8:R$33,2))","v":""},{"$f":"IF(N21=\"\",\"\",VLOOKUP(N21,P$8:R$33,3))","v":""},null,null,{"$f":"IF(新人入力!B15=\"\",\"\",新人入力!B15)","v":""},{"$f":"IF(新人入力!E15=\"\",\"\",新人入力!E15)","v":""},{"$f":"IF(F21=\"\",\"\",新人入力!M$4)","v":""},{"$f":"IF(新人入力!F15=\"\",\"\",新人入力!F15)","v":""},null,{"$f":"IF(F21=\"\",\"\",VLOOKUP($Z$3,新人入力!$V$30:$W$41,2,FALSE))","v":""},{"$f":"IF(新人入力!M15=\"\",\"\",新人入力!M15)","v":""},null,null,{"$f":"新人入力!I15","v":""},null,14,"男","ｵｰﾌﾟﾝ3000m",null,null,null,null,null,null,null,null,null,{"$f":"IF(AO21=\"\",\"\",VLOOKUP(AO21,AQ$8:AS$33,2))","v":""},{"$f":"IF(AO21=\"\",\"\",VLOOKUP(AO21,AQ$8:AS$33,3))","v":""},null,null,{"$f":"IF(E21=\"\",\"\",E21)","v":""},{"$f":"IF(新人入力!E15=\"\",\"\",新人入力!E15)","v":""},{"$f":"IF(AG21=\"\",\"\",新人入力!M$4)","v":""},{"$f":"IF(新人入力!F15=\"\",\"\",新人入力!F15)","v":""},null,{"$f":"IF(AG21=\"\",\"\",VLOOKUP($Z$3,新人入力!$V$30:$W$41,2,FALSE))","v":""},{"$f":"IF(新人入力!P15=\"\",\"\",新人入力!P15)","v":""},null,null,{"$f":"新人入力!J15","v":""},null,14,"男","ｵｰﾌﾟﾝ3000m"]
[null,null,null,null,null,null,null,null,null,null,null,null,null,null,null,15,null,null,null,null,null,null,null,null,null,null,null,null,null,null,null,null,null,null,null,null,null,null,null,null,null,null,0]
[null,null,null,null,null,null,null,null,null,{"$f":"IF(新人入力!N15=\"\",\"\",新人入力!N15)","v":""},null,null,null,null,null,null,null,null,null,null,null,null,null,null,null,null,null,null,null,null,null,null,null,null,null,null,{"$f":"IF(新人入力!Q15=\"\",\"\",新人入力!Q15)","v":""}]
[]
[]
["新人種目",null,"組","レーン・順","アスリートビブス","名　　　前","学　　校","学年","色","郡市・順位","ベスト記録",null,null,"種目コード",null,null,null,null,null,null,null,null,null,null,null,null,null,"新人種目",null,"組","レーン・順","アスリートビブス","名　　　前","学　　校","学年","色","郡市・順位","ベスト記録",null,null,"種目コード"]
[{"$f":"IF(N27=\"\",\"\",VLOOKUP(N27,P$8:R$33,2))","v":""},{"$f":"IF(N27=\"\",\"\",VLOOKUP(N27,P$8:R$33,3))","v":""},null,null,{"$f":"IF(新人入力!B16=\"\",\"\",新人入力!B16)","v":""},{"$f":"IF(新人入力!E16=\"\",\"\",新人入力!E16)","v":""},{"$f":"IF(F27=\"\",\"\",新人入力!M$4)","v":""},{"$f":"IF(新人入力!F16=\"\",\"\",新人入力!F16)","v":""},null,{"$f":"IF(F27=\"\",\"\",VLOOKUP($Z$3,新人入力!$V$30:$W$41,2,FALSE))","v":""},{"$f":"IF(新人入力!M16=\"\",\"\",新人入力!M16)","v":""},null,null,{"$f":"新人入力!I16","v":""},null,null,null,null,null,null,null,null,null,null,null,null,null,{"$f":"IF(AO27=\"\",\"\",VLOOKUP(AO27,AQ$8:AS$33,2))","v":""},{"$f":"IF(AO27=\"\",\"\",VLOOKUP(AO27,AQ$8:AS$33,3))","v":""},null,null,{"$f":"IF(E27=\"\",\"\",E27)","v":""},{"$f":"IF(新人入力!E16=\"\",\"\",新人入力!E16)","v":""},{"$f":"IF(AG27=\"\",\"\",新人入力!M$4)","v":""},{"$f":"IF(新人入力!F16=\"\",\"\",新人入力!F16)","v":""},null,{"$f":"IF(AG27=\"\",\"\",VLOOKUP($Z$3,新人入力!$V$30:$W$41,2,FALSE))","v":""},{"$f":"IF(新人入力!P16=\"\",\"\",新人入力!P16)","v":""},null,null,{"$f":"新人入力!J16","v":""}]
[]
[null,null,null,null,null,null,null,null,null,{"$f":"IF(新人入力!N16=\"\",\"\",新人入力!N16)","v":""},null,null,null,null,null,null,null,null,null,null,null,null,null,null,null,null,null,null,null,null,null,null,null,null,null,null,{"$f":"IF(新人入力!Q16=\"\",\"\",新人入力!Q16)","v":""}]
[]
[]
["新人種目",null,"組","レーン・順","アスリートビブス","名　　　前","学　　校","学年","色","郡市・順位","ベスト記録",null,null,"種目コード",null,null,null,null,null,null,null,null,null,null,null,null,null,"新人種目",null,"組","レーン・順","アスリートビブス","名　　　前","学　　校","学年","色","郡市・順位","ベスト記録",null,null,"種目コード"]
[{"$f":"IF(N33=\"\",\"\",VLOOKUP(N33,P$8:R$33,2))","v":""},{"$f":"IF(N33=\"\",\"\",VLOOKUP(N33,P$8:R$33,3))","v":""},null,null,{"$f":"IF(新人入力!B17=\"\",\"\",新人入力!B17)","v":""},{"$f":"IF(新人入力!E17=\"\",\"\",新人入力!E17)","v":""},{"$f":"IF(F33=\"\",\"\",新人入力!M$4)","v":""},{"$f":"IF(新人入力!F17=\"\",\"\",新人入力!F17)","v":""},null,{"$f":"IF(F33=\"\",\"\",VLOOKUP($Z$3,新人入力!$V$30:$W$41,2,FALSE))","v":""},{"$f":"IF(新人入力!M17=\"\",\"\",新人入力!M17)","v":""},null,null,{"$f":"新人入力!I17","v":""},null,null,null,null,null,null,null,null,null,null,null,null,null,{"$f":"IF(AO33=\"\",\"\",VLOOKUP(AO33,AQ$8:AS$33,2))","v":""},{"$f":"IF(AO33=\"\",\"\",VLOOKUP(AO33,AQ$8:AS$33,3))","v":""},null,null,{"$f":"IF(E33=\"\",\"\",E33)","v":""},{"$f":"IF(新人入力!E17=\"\",\"\",新人入力!E17)","v":""},{"$f":"IF(AG33=\"\",\"\",新人入力!M$4)","v":""},{"$f":"IF(新人入力!F17=\"\",\"\",新人入力!F17)","v":""},null,{"$f":"IF(AG33=\"\",\"\",VLOOKUP($Z$3,新人入力!$V$30:$W$41,2,FALSE))","v":""},{"$f":"IF(新人入力!P17=\"\",\"\",新人入力!P17)","v":""},null,null,{"$f":"新人入力!J17","v":""}]
[]
[null,null,null,null,null,null,null,null,null,{"$f":"IF(新人入力!N17=\"\",\"\",新人入力!N17)","v":""},null,null,null,null,null,null,null,null,null,null,null,null,null,null,null,null,null,null,null,null,null,null,null,null,null,null,{"$f":"IF(新人入力!Q17=\"\",\"\",新人入力!Q17)","v":""}]
[]
[]
["新人種目",null,"組","レーン・順","アスリートビブス","名　　　前","学　　校","学年","色","郡市・順位","ベスト記録",null,null,"種目コード",null,null,null,null,null,null,null,null,null,null,null,null,null,"新人種目",null,"組","レーン・順","アスリートビブス","名　　　前","学　　校","学年","色","郡市・順位","ベスト記録",null,null,"種目コード"]
[{"$f":"IF(N39=\"\",\"\",VLOOKUP(N39,P$8:R$33,2))","v":""},{"$f":"IF(N39=\"\",\"\",VLOOKUP(N39,P$8:R$33,3))","v":""},null,null,{"$f":"IF(新人入力!B18=\"\",\"\",新人入力!B18)","v":""},{"$f":"IF(新人入力!E18=\"\",\"\",新人入力!E18)","v":""},{"$f":"IF(F39=\"\",\"\",新人入力!M$4)","v":""},{"$f":"IF(新人入力!F18=\"\",\"\",新人入力!F18)","v":""},null,{"$f":"IF(F39=\"\",\"\",VLOOKUP($Z$3,新人入力!$V$30:$W$41,2,FALSE))","v":""},{"$f":"IF(新人入力!M18=\"\",\"\",新人入力!M18)","v":""},null,null,{"$f":"新人入力!I18","v":""},null,null,null,null,null,null,null,null,null,null,null,null,null,{"$f":"IF(AO39=\"\",\"\",VLOOKUP(AO39,AQ$8:AS$33,2))","v":""},{"$f":"IF(AO39=\"\",\"\",VLOOKUP(AO39,AQ$8:AS$33,3))","v":""},null,null,{"$f":"IF(E39=\"\",\"\",E39)","v":""},{"$f":"IF(新人入力!E18=\"\",\"\",新人入力!E18)","v":""},{"$f":"IF(AG39=\"\",\"\",新人入力!M$4)","v":""},{"$f":"IF(新人入力!F18=\"\",\"\",新人入力!F18)","v":""},null,{"$f":"IF(AG39=\"\",\"\",VLOOKUP($Z$3,新人入力!$V$30:$W$41,2,FALSE))","v":""},{"$f":"IF(新人入力!P18=\"\",\"\",新人入力!P18)","v":""},null,null,{"$f":"新人入力!J18","v":""}]
[]
[null,null,null,null,null,null,null,null,null,{"$f":"IF(新人入力!N18=\"\",\"\",新人入力!N18)","v":""},null,null,null,null,null,null,null,null,null,null,null,null,null,null,null,null,null,null,null,null,null,null,null,null,null,null,{"$f":"IF(新人入力!Q18=\"\",\"\",新人入力!Q18)","v":""}]
[]
[]
["新人種目",null,"組","レーン・順","アスリートビブス","名　　　前","学　　校","学年","色","郡市・順位","ベスト記録",null,null,"種目コード",null,null,null,null,null,null,null,null,null,null,null,null,null,"新人種目",null,"組","レーン・順","アスリートビブス","名　　　前","学　　校","学年","色","郡市・順位","ベスト記録",null,null,"種目コード"]
[{"$f":"IF(N45=\"\",\"\",VLOOKUP(N45,P$8:R$33,2))","v":""},{"$f":"IF(N45=\"\",\"\",VLOOKUP(N45,P$8:R$33,3))","v":""},null,null,{"$f":"IF(新人入力!B19=\"\",\"\",新人入力!B19)","v":""},{"$f":"IF(新人入力!E19=\"\",\"\",新人入力!E19)","v":""},{"$f":"IF(F45=\"\",\"\",新人入力!M$4)","v":""},{"$f":"IF(新人入力!F19=\"\",\"\",新人入力!F19)","v":""},null,{"$f":"IF(F45=\"\",\"\",VLOOKUP($Z$3,新人入力!$V$30:$W$41,2,FALSE))","v":""},{"$f":"IF(新人入力!M19=\"\",\"\",新人入力!M19)","v":""},null,null,{"$f":"新人入力!I19","v":""},null,null,null,null,null,null,null,null,null,null,null,null,null,{"$f":"IF(AO45=\"\",\"\",VLOOKUP(AO45,AQ$8:AS$33,2))","v":""},{"$f":"IF(AO45=\"\",\"\",VLOOKUP(AO45,AQ$8:AS$33,3))","v":""},null,null,{"$f":"IF(E45=\"\",\"\",E45)","v":""},{"$f":"IF(新人入力!E19=\"\",\"\",新人入力!E19)","v":""},{"$f":"IF(AG45=\"\",\"\",新人入力!M$4)","v":""},{"$f":"IF(新人入力!F19=\"\",\"\",新人入力!F19)","v":""},null,{"$f":"IF(AG45=\"\",\"\",VLOOKUP($Z$3,新人入力!$V$30:$W$41,2,FALSE))","v":""},{"$f":"IF(新人入力!P19=\"\",\"\",新人入力!P19)","v":""},null,null,{"$f":"新人入力!J19","v":""}]
[]
[null,null,null,null,null,null,null,null,null,{"$f":"IF(新人入力!N19=\"\",\"\",新人入力!N19)","v":""},null,null,null,null,null,null,null,null,null,null,null,null,null,null,null,null,null,null,null,null,null,null,null,null,null,null,{"$f":"IF(新人入力!Q19=\"\",\"\",新人入力!Q19)","v":""}]
[]
[]
["新人種目",null,"組","レーン・順","アスリートビブス","名　　　前","学　　校","学年","色","郡市・順位","ベスト記録",null,null,"種目コード",null,null,null,null,null,null,null,null,null,null,null,null,null,"新人種目",null,"組","レーン・順","アスリートビブス","名　　　前","学　　校","学年","色","郡市・順位","ベスト記録",null,null,"種目コード"]
[{"$f":"IF(N51=\"\",\"\",VLOOKUP(N51,P$8:R$33,2))","v":""},{"$f":"IF(N51=\"\",\"\",VLOOKUP(N51,P$8:R$33,3))","v":""},null,null,{"$f":"IF(新人入力!B20=\"\",\"\",新人入力!B20)","v":""},{"$f":"IF(新人入力!E20=\"\",\"\",新人入力!E20)","v":""},{"$f":"IF(F51=\"\",\"\",新人入力!M$4)","v":""},{"$f":"IF(新人入力!F20=\"\",\"\",新人入力!F20)","v":""},null,{"$f":"IF(F51=\"\",\"\",VLOOKUP($Z$3,新人入力!$V$30:$W$41,2,FALSE))","v":""},{"$f":"IF(新人入力!M20=\"\",\"\",新人入力!M20)","v":""},null,null,{"$f":"新人入力!I20","v":""},null,null,null,null,null,null,null,null,null,null,null,null,null,{"$f":"IF(AO51=\"\",\"\",VLOOKUP(AO51,AQ$8:AS$33,2))","v":""},{"$f":"IF(AO51=\"\",\"\",VLOOKUP(AO51,AQ$8:AS$33,3))","v":""},null,null,{"$f":"IF(E51=\"\",\"\",E51)","v":""},{"$f":"IF(新人入力!E20=\"\",\"\",新人入力!E20)","v":""},{"$f":"IF(AG51=\"\",\"\",新人入力!M$4)","v":""},{"$f":"IF(新人入力!F20=\"\",\"\",新人入力!F20)","v":""},null,{"$f":"IF(AG51=\"\",\"\",VLOOKUP($Z$3,新人入力!$V$30:$W$41,2,FALSE))","v":""},{"$f":"IF(新人入力!P20=\"\",\"\",新人入力!P20)","v":""},null,null,{"$f":"新人入力!J20","v":""}]
[]
[null,null,null,null,null,null,null,null,null,{"$f":"IF(新人入力!N20=\"\",\"\",新人入力!N20)","v":""},null,null,null,null,null,null,null,null,null,null,null,null,null,null,null,null,null,null,null,null,null,null,null,null,null,null,{"$f":"IF(新人入力!Q20=\"\",\"\",新人入力!Q20)","v":""}]
[]
[]
["新人種目",null,"組","レーン・順","アスリートビブス","名　　　前","学　　校","学年","色","郡市・順位","ベスト記録",null,null,"種目コード",null,null,null,null,null,null,null,null,null,null,null,null,null,"新人種目",null,"組","レーン・順","アスリートビブス","名　　　前","学　　校","学年","色","郡市・順位","ベスト記録",null,null,"種目コード"]
[{"$f":"IF(N57=\"\",\"\",VLOOKUP(N57,P$8:R$33,2))","v":""},{"$f":"IF(N57=\"\",\"\",VLOOKUP(N57,P$8:R$33,3))","v":""},null,null,{"$f":"IF(新人入力!B21=\"\",\"\",新人入力!B21)","v":""},{"$f":"IF(新人入力!E21=\"\",\"\",新人入力!E21)","v":""},{"$f":"IF(F57=\"\",\"\",新人入力!M$4)","v":""},{"$f":"IF(新人入力!F21=\"\",\"\",新人入力!F21)","v":""},null,{"$f":"IF(F57=\"\",\"\",VLOOKUP($Z$3,新人入力!$V$30:$W$41,2,FALSE))","v":""},{"$f":"IF(新人入力!M21=\"\",\"\",新人入力!M21)","v":""},null,null,{"$f":"新人入力!I21","v":""},null,null,null,null,null,null,null,null,null,null,null,null,null,{"$f":"IF(AO57=\"\",\"\",VLOOKUP(AO57,AQ$8:AS$33,2))","v":""},{"$f":"IF(AO57=\"\",\"\",VLOOKUP(AO57,AQ$8:AS$33,3))","v":""},null,null,{"$f":"IF(E57=\"\",\"\",E57)","v":""},{"$f":"IF(新人入力!E21=\"\",\"\",新人入力!E21)","v":""},{"$f":"IF(AG57=\"\",\"\",新人入力!M$4)","v":""},{"$f":"IF(新人入力!F21=\"\",\"\",新人入力!F21)","v":""},null,{"$f":"IF(AG57=\"\",\"\",VLOOKUP($Z$3,新人入力!$V$30:$W$41,2,FALSE))","v":""},{"$f":"IF(新人入力!P21=\"\",\"\",新人入力!P21)","v":""},null,null,{"$f":"新人入力!J21","v":""}]
[]
[null,null,null,null,null,null,null,null,null,{"$f":"IF(新人入力!N21=\"\",\"\",新人入力!N21)","v":""},null,null,null,null,null,null,null,null,null,null,null,null,null,null,null,null,null,null,null,null,null,null,null,null,null,null,{"$f":"IF(新人入力!Q21=\"\",\"\",新人入力!Q21)","v":""}]
[]
[]
["新人種目",null,"組","レーン・順","アスリートビブス","名　　　前","学　　校","学年","色","郡市・順位","ベスト記録","男子個人種目１　２ページ目",null,"種目コード",null,null,null,null,null,null,null,null,null,null,null,null,null,"新人種目",null,"組","レーン・順","アスリートビブス","名　　　前","学　　校","学年","色","郡市・順位","ベスト記録","男子個人種目２　２ページ目",null,"種目コード"]
[{"$f":"IF(N63=\"\",\"\",VLOOKUP(N63,P$8:R$33,2))","v":""},{"$f":"IF(N63=\"\",\"\",VLOOKUP(N63,P$8:R$33,3))","v":""},null,null,{"$f":"IF(新人入力!B22=\"\",\"\",新人入力!B22)","v":""},{"$f":"IF(新人入力!E22=\"\",\"\",新人入力!E22)","v":""},{"$f":"IF(F63=\"\",\"\",新人入力!M$4)","v":""},{"$f":"IF(新人入力!F22=\"\",\"\",新人入力!F22)","v":""},null,{"$f":"IF(F63=\"\",\"\",VLOOKUP($Z$3,新人入力!$V$30:$W$41,2,FALSE))","v":""},{"$f":"IF(新人入力!M22=\"\",\"\",新人入力!M22)","v":""},null,null,{"$f":"新人入力!I22","v":""},null,null,null,null,null,null,null,null,null,null,null,null,null,{"$f":"IF(AO63=\"\",\"\",VLOOKUP(AO63,AQ$8:AS$33,2))","v":""},{"$f":"IF(AO63=\"\",\"\",VLOOKUP(AO63,AQ$8:AS$33,3))","v":""},null,null,{"$f":"IF(E63=\"\",\"\",E63)","v":""},{"$f":"IF(新人入力!E22=\"\",\"\",新人入力!E22)","v":""},{"$f":"IF(AG63=\"\",\"\",新人入力!M$4)","v":""},{"$f":"IF(新人入力!F22=\"\",\"\",新人入力!F22)","v":""},null,{"$f":"IF(AG63=\"\",\"\",VLOOKUP($Z$3,新人入力!$V$30:$W$41,2,FALSE))","v":""},{"$f":"IF(新人入力!P22=\"\",\"\",新人入力!P22)","v":""},null,null,{"$f":"新人入力!J22","v":""}]
[]
[null,null,null,null,null,null,null,null,null,{"$f":"IF(新人入力!N22=\"\",\"\",新人入力!N22)","v":""},null,null,null,null,null,null,null,null,null,null,null,null,null,null,null,null,null,null,null,null,null,null,null,null,null,null,{"$f":"IF(新人入力!Q22=\"\",\"\",新人入力!Q22)","v":""}]
[]
[]
["新人種目",null,"組","レーン・順","アスリートビブス","名　　　前","学　　校","学年","色","郡市・順位","ベスト記録",null,null,"種目コード",null,null,null,null,null,null,null,null,null,null,null,null,null,"新人種目",null,"組","レーン・順","アスリートビブス","名　　　前","学　　校","学年","色","郡市・順位","ベスト記録",null,null,"種目コード"]
[{"$f":"IF(N69=\"\",\"\",VLOOKUP(N69,P$8:R$33,2))","v":""},{"$f":"IF(N69=\"\",\"\",VLOOKUP(N69,P$8:R$33,3))","v":""},null,null,{"$f":"IF(新人入力!B23=\"\",\"\",新人入力!B23)","v":""},{"$f":"IF(新人入力!E23=\"\",\"\",新人入力!E23)","v":""},{"$f":"IF(F69=\"\",\"\",新人入力!M$4)","v":""},{"$f":"IF(新人入力!F23=\"\",\"\",新人入力!F23)","v":""},null,{"$f":"IF(F69=\"\",\"\",VLOOKUP($Z$3,新人入力!$V$30:$W$41,2,FALSE))","v":""},{"$f":"IF(新人入力!M23=\"\",\"\",新人入力!M23)","v":""},null,null,{"$f":"新人入力!I23","v":""},null,null,null,null,null,null,null,null,null,null,null,null,null,{"$f":"IF(AO69=\"\",\"\",VLOOKUP(AO69,AQ$8:AS$33,2))","v":""},{"$f":"IF(AO69=\"\",\"\",VLOOKUP(AO69,AQ$8:AS$33,3))","v":""},null,null,{"$f":"IF(E69=\"\",\"\",E69)","v":""},{"$f":"IF(新人入力!E23=\"\",\"\",新人入力!E23)","v":""},{"$f":"IF(AG69=\"\",\"\",新人入力!M$4)","v":""},{"$f":"IF(新人入力!F23=\"\",\"\",新人入力!F23)","v":""},null,{"$f":"IF(AG69=\"\",\"\",VLOOKUP($Z$3,新人入力!$V$30:$W$41,2,FALSE))","v":""},{"$f":"IF(新人入力!P23=\"\",\"\",新人入力!P23)","v":""},null,null,{"$f":"新人入力!J23","v":""}]
[]
[null,null,null,null,null,null,null,null,null,{"$f":"IF(新人入力!N23=\"\",\"\",新人入力!N23)","v":""},null,null,null,null,null,null,null,null,null,null,null,null,null,null,null,null,null,null,null,null,null,null,null,null,null,null,{"$f":"IF(新人入力!Q23=\"\",\"\",新人入力!Q23)","v":""}]
[]
[]
["新人種目",null,"組","レーン・順","アスリートビブス","名　　　前","学　　校","学年","色","郡市・順位","ベスト記録",null,null,"種目コード",null,null,null,null,null,null,null,null,null,null,null,null,null,"新人種目",null,"組","レーン・順","アスリートビブス","名　　　前","学　　校","学年","色","郡市・順位","ベスト記録",null,null,"種目コード"]
[{"$f":"IF(N75=\"\",\"\",VLOOKUP(N75,P$8:R$33,2))","v":""},{"$f":"IF(N75=\"\",\"\",VLOOKUP(N75,P$8:R$33,3))","v":""},null,null,{"$f":"IF(新人入力!B24=\"\",\"\",新人入力!B24)","v":""},{"$f":"IF(新人入力!E24=\"\",\"\",新人入力!E24)","v":""},{"$f":"IF(F75=\"\",\"\",新人入力!M$4)","v":""},{"$f":"IF(新人入力!F24=\"\",\"\",新人入力!F24)","v":""},null,{"$f":"IF(F75=\"\",\"\",VLOOKUP($Z$3,新人入力!$V$30:$W$41,2,FALSE))","v":""},{"$f":"IF(新人入力!M24=\"\",\"\",新人入力!M24)","v":""},null,null,{"$f":"新人入力!I24","v":""},null,null,null,null,null,null,null,null,null,null,null,null,null,{"$f":"IF(AO75=\"\",\"\",VLOOKUP(AO75,AQ$8:AS$33,2))","v":""},{"$f":"IF(AO75=\"\",\"\",VLOOKUP(AO75,AQ$8:AS$33,3))","v":""},null,null,{"$f":"IF(E75=\"\",\"\",E75)","v":""},{"$f":"IF(新人入力!E24=\"\",\"\",新人入力!E24)","v":""},{"$f":"IF(AG75=\"\",\"\",新人入力!M$4)","v":""},{"$f":"IF(新人入力!F24=\"\",\"\",新人入力!F24)","v":""},null,{"$f":"IF(AG75=\"\",\"\",VLOOKUP($Z$3,新人入力!$V$30:$W$41,2,FALSE))","v":""},{"$f":"IF(新人入力!P24=\"\",\"\",新人入力!P24)","v":""},null,null,{"$f":"新人入力!J24","v":""}]
[]
[null,null,null,null,null,null,null,null,null,{"$f":"IF(新人入力!N24=\"\",\"\",新人入力!N24)","v":""},null,null,null,null,null,null,null,null,null,null,null,null,null,null,null,null,null,null,null,null,null,null,null,null,null,null,{"$f":"IF(新人入力!Q24=\"\",\"\",新人入力!Q24)","v":""}]
[]
[]
["新人種目",null,"組","レーン・順","アスリートビブス","名　　　前","学　　校","学年","色","郡市・順位","ベスト記録",null,null,"種目コード",null,null,null,null,null,null,null,null,null,null,null,null,null,"新人種目",null,"組","レーン・順","アスリートビブス","名　　　前","学　　校","学年","色","郡市・順位","ベスト記録",null,null,"種目コード"]
[{"$f":"IF(N81=\"\",\"\",VLOOKUP(N81,P$8:R$33,2))","v":""},{"$f":"IF(N81=\"\",\"\",VLOOKUP(N81,P$8:R$33,3))","v":""},null,null,{"$f":"IF(新人入力!B25=\"\",\"\",新人入力!B25)","v":""},{"$f":"IF(新人入力!E25=\"\",\"\",新人入力!E25)","v":""},{"$f":"IF(F81=\"\",\"\",新人入力!M$4)","v":""},{"$f":"IF(新人入力!F25=\"\",\"\",新人入力!F25)","v":""},null,{"$f":"IF(F81=\"\",\"\",VLOOKUP($Z$3,新人入力!$V$30:$W$41,2,FALSE))","v":""},{"$f":"IF(新人入力!M25=\"\",\"\",新人入力!M25)","v":""},null,null,{"$f":"新人入力!I25","v":""},null,null,null,null,null,null,null,null,null,null,null,null,null,{"$f":"IF(AO81=\"\",\"\",VLOOKUP(AO81,AQ$8:AS$33,2))","v":""},{"$f":"IF(AO81=\"\",\"\",VLOOKUP(AO81,AQ$8:AS$33,3))","v":""},null,null,{"$f":"IF(E81=\"\",\"\",E81)","v":""},{"$f":"IF(新人入力!E25=\"\",\"\",新人入力!E25)","v":""},{"$f":"IF(AG81=\"\",\"\",新人入力!M$4)","v":""},{"$f":"IF(新人入力!F25=\"\",\"\",新人入力!F25)","v":""},null,{"$f":"IF(AG81=\"\",\"\",VLOOKUP($Z$3,新人入力!$V$30:$W$41,2,FALSE))","v":""},{"$f":"IF(新人入力!P25=\"\",\"\",新人入力!P25)","v":""},null,null,{"$f":"新人入力!J25","v":""}]
[]
[null,null,null,null,null,null,null,null,null,{"$f":"IF(新人入力!N25=\"\",\"\",新人入力!N25)","v":""},null,null,null,null,null,null,null,null,null,null,null,null,null,null,null,null,null,null,null,null,null,null,null,null,null,null,{"$f":"IF(新人入力!Q25=\"\",\"\",新人入力!Q25)","v":""}]
[]
[]
["新人種目",null,"組","レーン・順","アスリートビブス","名　　　前","学　　校","学年","色","郡市・順位","ベスト記録",null,null,"種目コード",null,null,null,null,null,null,null,null,null,null,null,null,null,"新人種目",null,"組","レーン・順","アスリートビブス","名　　　前","学　　校","学年","色","郡市・順位","ベスト記録",null,null,"種目コード"]
[{"$f":"IF(N87=\"\",\"\",VLOOKUP(N87,P$8:R$33,2))","v":""},{"$f":"IF(N87=\"\",\"\",VLOOKUP(N87,P$8:R$33,3))","v":""},null,null,{"$f":"IF(新人入力!B26=\"\",\"\",新人入力!B26)","v":""},{"$f":"IF(新人入力!E26=\"\",\"\",新人入力!E26)","v":""},{"$f":"IF(F87=\"\",\"\",新人入力!M$4)","v":""},{"$f":"IF(新人入力!F26=\"\",\"\",新人入力!F26)","v":""},null,{"$f":"IF(F87=\"\",\"\",VLOOKUP($Z$3,新人入力!$V$30:$W$41,2,FALSE))","v":""},{"$f":"IF(新人入力!M26=\"\",\"\",新人入力!M26)","v":""},null,null,{"$f":"新人入力!I26","v":""},null,null,null,null,null,null,null,null,null,null,null,null,null,{"$f":"IF(AO87=\"\",\"\",VLOOKUP(AO87,AQ$8:AS$33,2))","v":""},{"$f":"IF(AO87=\"\",\"\",VLOOKUP(AO87,AQ$8:AS$33,3))","v":""},null,null,{"$f":"IF(E87=\"\",\"\",E87)","v":""},{"$f":"IF(新人入力!E26=\"\",\"\",新人入力!E26)","v":""},{"$f":"IF(AG87=\"\",\"\",新人入力!M$4)","v":""},{"$f":"IF(新人入力!F26=\"\",\"\",新人入力!F26)","v":""},null,{"$f":"IF(AG87=\"\",\"\",VLOOKUP($Z$3,新人入力!$V$30:$W$41,2,FALSE))","v":""},{"$f":"IF(新人入力!P26=\"\",\"\",新人入力!P26)","v":""},null,null,{"$f":"新人入力!J26","v":""}]
[]
[null,null,null,null,null,null,null,null,null,{"$f":"IF(新人入力!N26=\"\",\"\",新人入力!N26)","v":""},null,null,null,null,null,null,null,null,null,null,null,null,null,null,null,null,null,null,null,null,null,null,null,null,null,null,{"$f":"IF(新人入力!Q26=\"\",\"\",新人入力!Q26)","v":""}]
[]
[]
["新人種目",null,"組","レーン・順","アスリートビブス","名　　　前","学　　校","学年","色","郡市・順位","ベスト記録",null,null,"種目コード",null,null,null,null,null,null,null,null,null,null,null,null,null,"新人種目",null,"組","レーン・順","アスリートビブス","名　　　前","学　　校","学年","色","郡市・順位","ベスト記録",null,null,"種目コード"]
[{"$f":"IF(N93=\"\",\"\",VLOOKUP(N93,P$8:R$33,2))","v":""},{"$f":"IF(N93=\"\",\"\",VLOOKUP(N93,P$8:R$33,3))","v":""},null,null,{"$f":"IF(新人入力!B27=\"\",\"\",新人入力!B27)","v":""},{"$f":"IF(新人入力!E27=\"\",\"\",新人入力!E27)","v":""},{"$f":"IF(F93=\"\",\"\",新人入力!M$4)","v":""},{"$f":"IF(新人入力!F27=\"\",\"\",新人入力!F27)","v":""},null,{"$f":"IF(F93=\"\",\"\",VLOOKUP($Z$3,新人入力!$V$30:$W$41,2,FALSE))","v":""},{"$f":"IF(新人入力!M27=\"\",\"\",新人入力!M27)","v":""},null,null,{"$f":"新人入力!I27","v":""},null,null,null,null,null,null,null,null,null,null,null,null,null,{"$f":"IF(AO93=\"\",\"\",VLOOKUP(AO93,AQ$8:AS$33,2))","v":""},{"$f":"IF(AO93=\"\",\"\",VLOOKUP(AO93,AQ$8:AS$33,3))","v":""},null,null,{"$f":"IF(E93=\"\",\"\",E93)","v":""},{"$f":"IF(新人入力!E27=\"\",\"\",新人入力!E27)","v":""},{"$f":"IF(AG93=\"\",\"\",新人入力!M$4)","v":""},{"$f":"IF(新人入力!F27=\"\",\"\",新人入力!F27)","v":""},null,{"$f":"IF(AG93=\"\",\"\",VLOOKUP($Z$3,新人入力!$V$30:$W$41,2,FALSE))","v":""},{"$f":"IF(新人入力!P27=\"\",\"\",新人入力!P27)","v":""},null,null,{"$f":"新人入力!J27","v":""}]
[]
[null,null,null,null,null,null,null,null,null,{"$f":"IF(新人入力!N27=\"\",\"\",新人入力!N27)","v":""},null,null,null,null,null,null,null,null,null,null,null,null,null,null,null,null,null,null,null,null,null,null,null,null,null,null,{"$f":"IF(新人入力!Q27=\"\",\"\",新人入力!Q27)","v":""}]
[]
[]
["新人種目",null,"組","レーン・順","アスリートビブス","名　　　前","学　　校","学年","色","郡市・順位","ベスト記録",null,null,"種目コード",null,null,null,null,null,null,null,null,null,null,null,null,null,"新人種目",null,"組","レーン・順","アスリートビブス","名　　　前","学　　校","学年","色","郡市・順位","ベスト記録",null,null,"種目コード"]
[{"$f":"IF(N99=\"\",\"\",VLOOKUP(N99,P$8:R$33,2))","v":""},{"$f":"IF(N99=\"\",\"\",VLOOKUP(N99,P$8:R$33,3))","v":""},null,null,{"$f":"IF(新人入力!B28=\"\",\"\",新人入力!B28)","v":""},{"$f":"IF(新人入力!E28=\"\",\"\",新人入力!E28)","v":""},{"$f":"IF(F99=\"\",\"\",新人入力!M$4)","v":""},{"$f":"IF(新人入力!F28=\"\",\"\",新人入力!F28)","v":""},null,{"$f":"IF(F99=\"\",\"\",VLOOKUP($Z$3,新人入力!$V$30:$W$41,2,FALSE))","v":""},{"$f":"IF(新人入力!M28=\"\",\"\",新人入力!M28)","v":""},null,null,{"$f":"新人入力!I28","v":""},null,null,null,null,null,null,null,null,null,null,null,null,null,{"$f":"IF(AO99=\"\",\"\",VLOOKUP(AO99,AQ$8:AS$33,2))","v":""},{"$f":"IF(AO99=\"\",\"\",VLOOKUP(AO99,AQ$8:AS$33,3))","v":""},null,null,{"$f":"IF(E99=\"\",\"\",E99)","v":""},{"$f":"IF(新人入力!E28=\"\",\"\",新人入力!E28)","v":""},{"$f":"IF(AG99=\"\",\"\",新人入力!M$4)","v":""},{"$f":"IF(新人入力!F28=\"\",\"\",新人入力!F28)","v":""},null,{"$f":"IF(AG99=\"\",\"\",VLOOKUP($Z$3,新人入力!$V$30:$W$41,2,FALSE))","v":""},{"$f":"IF(新人入力!P28=\"\",\"\",新人入力!P28)","v":""},null,null,{"$f":"新人入力!J28","v":""}]
[]
[null,null,null,null,null,null,null,null,null,{"$f":"IF(新人入力!N28=\"\",\"\",新人入力!N28)","v":""},null,null,null,null,null,null,null,null,null,null,null,null,null,null,null,null,null,null,null,null,null,null,null,null,null,null,{"$f":"IF(新人入力!Q28=\"\",\"\",新人入力!Q28)","v":""}]
[]
[]
["新人種目",null,"組","レーン・順","アスリートビブス","名　　　前","学　　校","学年","色","郡市・順位","ベスト記録",null,null,"種目コード",null,null,null,null,null,null,null,null,null,null,null,null,null,"新人種目",null,"組","レーン・順","アスリートビブス","名　　　前","学　　校","学年","色","郡市・順位","ベスト記録",null,null,"種目コード"]
[{"$f":"IF(N105=\"\",\"\",VLOOKUP(N105,P$8:R$33,2))","v":""},{"$f":"IF(N105=\"\",\"\",VLOOKUP(N105,P$8:R$33,3))","v":""},null,null,{"$f":"IF(新人入力!B29=\"\",\"\",新人入力!B29)","v":""},{"$f":"IF(新人入力!E29=\"\",\"\",新人入力!E29)","v":""},{"$f":"IF(F105=\"\",\"\",新人入力!M$4)","v":""},{"$f":"IF(新人入力!F29=\"\",\"\",新人入力!F29)","v":""},null,{"$f":"IF(F105=\"\",\"\",VLOOKUP($Z$3,新人入力!$V$30:$W$41,2,FALSE))","v":""},{"$f":"IF(新人入力!M29=\"\",\"\",新人入力!M29)","v":""},null,null,{"$f":"新人入力!I29","v":""},null,null,null,null,null,null,null,null,null,null,null,null,null,{"$f":"IF(AO105=\"\",\"\",VLOOKUP(AO105,AQ$8:AS$33,2))","v":""},{"$f":"IF(AO105=\"\",\"\",VLOOKUP(AO105,AQ$8:AS$33,3))","v":""},null,null,{"$f":"IF(E105=\"\",\"\",E105)","v":""},{"$f":"IF(新人入力!E29=\"\",\"\",新人入力!E29)","v":""},{"$f":"IF(AG105=\"\",\"\",新人入力!M$4)","v":""},{"$f":"IF(新人入力!F29=\"\",\"\",新人入力!F29)","v":""},null,{"$f":"IF(AG105=\"\",\"\",VLOOKUP($Z$3,新人入力!$V$30:$W$41,2,FALSE))","v":""},{"$f":"IF(新人入力!P29=\"\",\"\",新人入力!P29)","v":""},null,null,{"$f":"新人入力!J29","v":""}]
[]
[null,null,null,null,null,null,null,null,null,{"$f":"IF(新人入力!N29=\"\",\"\",新人入力!N29)","v":""},null,null,null,null,null,null,null,null,null,null,null,null,null,null,null,null,null,null,null,null,null,null,null,null,null,null,{"$f":"IF(新人入力!Q29=\"\",\"\",新人入力!Q29)","v":""}]
[]
[]
["新人種目",null,"組","レーン・順","アスリートビブス","名　　　前","学　　校","学年","色","郡市・順位","ベスト記録",null,null,"種目コード",null,null,null,null,null,null,null,null,null,null,null,null,null,"新人種目",null,"組","レーン・順","アスリートビブス","名　　　前","学　　校","学年","色","郡市・順位","ベスト記録",null,null,"種目コード"]
[{"$f":"IF(N111=\"\",\"\",VLOOKUP(N111,P$8:R$33,2))","v":""},{"$f":"IF(N111=\"\",\"\",VLOOKUP(N111,P$8:R$33,3))","v":""},null,null,{"$f":"IF(新人入力!B30=\"\",\"\",新人入力!B30)","v":""},{"$f":"IF(新人入力!E30=\"\",\"\",新人入力!E30)","v":""},{"$f":"IF(F111=\"\",\"\",新人入力!M$4)","v":""},{"$f":"IF(新人入力!F30=\"\",\"\",新人入力!F30)","v":""},null,{"$f":"IF(F111=\"\",\"\",VLOOKUP($Z$3,新人入力!$V$30:$W$41,2,FALSE))","v":""},{"$f":"IF(新人入力!M30=\"\",\"\",新人入力!M30)","v":""},null,null,{"$f":"新人入力!I30","v":""},null,null,null,null,null,null,null,null,null,null,null,null,null,{"$f":"IF(AO111=\"\",\"\",VLOOKUP(AO111,AQ$8:AS$33,2))","v":""},{"$f":"IF(AO111=\"\",\"\",VLOOKUP(AO111,AQ$8:AS$33,3))","v":""},null,null,{"$f":"IF(E111=\"\",\"\",E111)","v":""},{"$f":"IF(新人入力!E30=\"\",\"\",新人入力!E30)","v":""},{"$f":"IF(AG111=\"\",\"\",新人入力!M$4)","v":""},{"$f":"IF(新人入力!F30=\"\",\"\",新人入力!F30)","v":""},null,{"$f":"IF(AG111=\"\",\"\",VLOOKUP($Z$3,新人入力!$V$30:$W$41,2,FALSE))","v":""},{"$f":"IF(新人入力!P30=\"\",\"\",新人入力!P30)","v":""},null,null,{"$f":"新人入力!J30","v":""}]
[]
[null,null,null,null,null,null,null,null,null,{"$f":"IF(新人入力!N30=\"\",\"\",新人入力!N30)","v":""},null,null,null,null,null,null,null,null,null,null,null,null,null,null,null,null,null,null,null,null,null,null,null,null,null,null,{"$f":"IF(新人入力!Q30=\"\",\"\",新人入力!Q30)","v":""}]
[]
[]
["新人種目",null,"組","レーン・順","アスリートビブス","名　　　前","学　　校","学年","色","郡市・順位","ベスト記録",null,null,"種目コード",null,null,null,null,null,null,null,null,null,null,null,null,null,"新人種目",null,"組","レーン・順","アスリートビブス","名　　　前","学　　校","学年","色","郡市・順位","ベスト記録",null,null,"種目コード"]
[{"$f":"IF(N117=\"\",\"\",VLOOKUP(N117,P$8:R$33,2))","v":""},{"$f":"IF(N117=\"\",\"\",VLOOKUP(N117,P$8:R$33,3))","v":""},null,null,{"$f":"IF(新人入力!B31=\"\",\"\",新人入力!B31)","v":""},{"$f":"IF(新人入力!E31=\"\",\"\",新人入力!E31)","v":""},{"$f":"IF(F117=\"\",\"\",新人入力!M$4)","v":""},{"$f":"IF(新人入力!F31=\"\",\"\",新人入力!F31)","v":""},null,{"$f":"IF(F117=\"\",\"\",VLOOKUP($Z$3,新人入力!$V$30:$W$41,2,FALSE))","v":""},{"$f":"IF(新人入力!M31=\"\",\"\",新人入力!M31)","v":""},null,null,{"$f":"新人入力!I31","v":""},null,null,null,null,null,null,null,null,null,null,null,null,null,{"$f":"IF(AO117=\"\",\"\",VLOOKUP(AO117,AQ$8:AS$33,2))","v":""},{"$f":"IF(AO117=\"\",\"\",VLOOKUP(AO117,AQ$8:AS$33,3))","v":""},null,null,{"$f":"IF(E117=\"\",\"\",E117)","v":""},{"$f":"IF(新人入力!E31=\"\",\"\",新人入力!E31)","v":""},{"$f":"IF(AG117=\"\",\"\",新人入力!M$4)","v":""},{"$f":"IF(新人入力!F31=\"\",\"\",新人入力!F31)","v":""},null,{"$f":"IF(AG117=\"\",\"\",VLOOKUP($Z$3,新人入力!$V$30:$W$41,2,FALSE))","v":""},{"$f":"IF(新人入力!P31=\"\",\"\",新人入力!P31)","v":""},null,null,{"$f":"新人入力!J31","v":""}]
[]
[null,null,null,null,null,null,null,null,null,{"$f":"IF(新人入力!N31=\"\",\"\",新人入力!N31)","v":""},null,null,null,null,null,null,null,null,null,null,null,null,null,null,null,null,null,null,null,null,null,null,null,null,null,null,{"$f":"IF(新人入力!Q31=\"\",\"\",新人入力!Q31)","v":""}]
[]
[]
["新人種目",null,"組","レーン・順","アスリートビブス","名　　　前","学　　校","学年","色","郡市・順位","ベスト記録","男子個人種目１　３ページ目",null,"種目コード",null,null,null,null,null,null,null,null,null,null,null,null,null,"新人種目",null,"組","レーン・順","アスリートビブス","名　　　前","学　　校","学年","色","郡市・順位","ベスト記録","男子個人種目２　３ページ目",null,"種目コード"]
[{"$f":"IF(N123=\"\",\"\",VLOOKUP(N123,P$8:R$33,2))","v":""},{"$f":"IF(N123=\"\",\"\",VLOOKUP(N123,P$8:R$33,3))","v":""},null,null,{"$f":"IF(新人入力!B32=\"\",\"\",新人入力!B32)","v":""},{"$f":"IF(新人入力!E32=\"\",\"\",新人入力!E32)","v":""},{"$f":"IF(F123=\"\",\"\",新人入力!M$4)","v":""},{"$f":"IF(新人入力!F32=\"\",\"\",新人入力!F32)","v":""},null,{"$f":"IF(F123=\"\",\"\",VLOOKUP($Z$3,新人入力!$V$30:$W$41,2,FALSE))","v":""},{"$f":"IF(新人入力!M32=\"\",\"\",新人入力!M32)","v":""},null,null,{"$f":"新人入力!I32","v":""},null,null,null,null,null,null,null,null,null,null,null,null,null,{"$f":"IF(AO123=\"\",\"\",VLOOKUP(AO123,AQ$8:AS$33,2))","v":""},{"$f":"IF(AO123=\"\",\"\",VLOOKUP(AO123,AQ$8:AS$33,3))","v":""},null,null,{"$f":"IF(E123=\"\",\"\",E123)","v":""},{"$f":"IF(新人入力!E32=\"\",\"\",新人入力!E32)","v":""},{"$f":"IF(AG123=\"\",\"\",新人入力!M$4)","v":""},{"$f":"IF(新人入力!F32=\"\",\"\",新人入力!F32)","v":""},null,{"$f":"IF(AG123=\"\",\"\",VLOOKUP($Z$3,新人入力!$V$30:$W$41,2,FALSE))","v":""},{"$f":"IF(新人入力!P32=\"\",\"\",新人入力!P32)","v":""},null,null,{"$f":"新人入力!J32","v":""}]
[]
[null,null,null,null,null,null,null,null,null,{"$f":"IF(新人入力!N32=\"\",\"\",新人入力!N32)","v":""},null,null,null,null,null,null,null,null,null,null,null,null,null,null,null,null,null,null,null,null,null,null,null,null,null,null,{"$f":"IF(新人入力!Q32=\"\",\"\",新人入力!Q32)","v":""}]
[]
[]
["新人種目",null,"組","レーン・順","アスリートビブス","名　　　前","学　　校","学年","色","郡市・順位","ベスト記録",null,null,"種目コード",null,null,null,null,null,null,null,null,null,null,null,null,null,"新人種目",null,"組","レーン・順","アスリートビブス","名　　　前","学　　校","学年","色","郡市・順位","ベスト記録",null,null,"種目コード"]
[{"$f":"IF(N129=\"\",\"\",VLOOKUP(N129,P$8:R$33,2))","v":""},{"$f":"IF(N129=\"\",\"\",VLOOKUP(N129,P$8:R$33,3))","v":""},null,null,{"$f":"IF(新人入力!B33=\"\",\"\",新人入力!B33)","v":""},{"$f":"IF(新人入力!E33=\"\",\"\",新人入力!E33)","v":""},{"$f":"IF(F129=\"\",\"\",新人入力!M$4)","v":""},{"$f":"IF(新人入力!F33=\"\",\"\",新人入力!F33)","v":""},null,{"$f":"IF(F129=\"\",\"\",VLOOKUP($Z$3,新人入力!$V$30:$W$41,2,FALSE))","v":""},{"$f":"IF(新人入力!M33=\"\",\"\",新人入力!M33)","v":""},null,null,{"$f":"新人入力!I33","v":""},null,null,null,null,null,null,null,null,null,null,null,null,null,{"$f":"IF(AO129=\"\",\"\",VLOOKUP(AO129,AQ$8:AS$33,2))","v":""},{"$f":"IF(AO129=\"\",\"\",VLOOKUP(AO129,AQ$8:AS$33,3))","v":""},null,null,{"$f":"IF(E129=\"\",\"\",E129)","v":""},{"$f":"IF(新人入力!E33=\"\",\"\",新人入力!E33)","v":""},{"$f":"IF(AG129=\"\",\"\",新人入力!M$4)","v":""},{"$f":"IF(新人入力!F33=\"\",\"\",新人入力!F33)","v":""},null,{"$f":"IF(AG129=\"\",\"\",VLOOKUP($Z$3,新人入力!$V$30:$W$41,2,FALSE))","v":""},{"$f":"IF(新人入力!P33=\"\",\"\",新人入力!P33)","v":""},null,null,{"$f":"新人入力!J33","v":""}]
[]
[null,null,null,null,null,null,null,null,null,{"$f":"IF(新人入力!N33=\"\",\"\",新人入力!N33)","v":""},null,null,null,null,null,null,null,null,null,null,null,null,null,null,null,null,null,null,null,null,null,null,null,null,null,null,{"$f":"IF(新人入力!Q33=\"\",\"\",新人入力!Q33)","v":""}]
[]
[]
["新人種目",null,"組","レーン・順","アスリートビブス","名　　　前","学　　校","学年","色","郡市・順位","ベスト記録",null,null,"種目コード",null,null,null,null,null,null,null,null,null,null,null,null,null,"新人種目",null,"組","レーン・順","アスリートビブス","名　　　前","学　　校","学年","色","郡市・順位","ベスト記録",null,null,"種目コード"]
[{"$f":"IF(N135=\"\",\"\",VLOOKUP(N135,P$8:R$33,2))","v":""},{"$f":"IF(N135=\"\",\"\",VLOOKUP(N135,P$8:R$33,3))","v":""},null,null,{"$f":"IF(新人入力!B34=\"\",\"\",新人入力!B34)","v":""},{"$f":"IF(新人入力!E34=\"\",\"\",新人入力!E34)","v":""},{"$f":"IF(F135=\"\",\"\",新人入力!M$4)","v":""},{"$f":"IF(新人入力!F34=\"\",\"\",新人入力!F34)","v":""},null,{"$f":"IF(F135=\"\",\"\",VLOOKUP($Z$3,新人入力!$V$30:$W$41,2,FALSE))","v":""},{"$f":"IF(新人入力!M34=\"\",\"\",新人入力!M34)","v":""},null,null,{"$f":"新人入力!I34","v":""},null,null,null,null,null,null,null,null,null,null,null,null,null,{"$f":"IF(AO135=\"\",\"\",VLOOKUP(AO135,AQ$8:AS$33,2))","v":""},{"$f":"IF(AO135=\"\",\"\",VLOOKUP(AO135,AQ$8:AS$33,3))","v":""},null,null,{"$f":"IF(E135=\"\",\"\",E135)","v":""},{"$f":"IF(新人入力!E34=\"\",\"\",新人入力!E34)","v":""},{"$f":"IF(AG135=\"\",\"\",新人入力!M$4)","v":""},{"$f":"IF(新人入力!F34=\"\",\"\",新人入力!F34)","v":""},null,{"$f":"IF(AG135=\"\",\"\",VLOOKUP($Z$3,新人入力!$V$30:$W$41,2,FALSE))","v":""},{"$f":"IF(新人入力!P34=\"\",\"\",新人入力!P34)","v":""},null,null,{"$f":"新人入力!J34","v":""}]
[]
[null,null,null,null,null,null,null,null,null,{"$f":"IF(新人入力!N34=\"\",\"\",新人入力!N34)","v":""},null,null,null,null,null,null,null,null,null,null,null,null,null,null,null,null,null,null,null,null,null,null,null,null,null,null,{"$f":"IF(新人入力!Q34=\"\",\"\",新人入力!Q34)","v":""}]
[]
[]
["新人種目",null,"組","レーン・順","アスリートビブス","名　　　前","学　　校","学年","色","郡市・順位","ベスト記録",null,null,"種目コード",null,null,null,null,null,null,null,null,null,null,null,null,null,"新人種目",null,"組","レーン・順","アスリートビブス","名　　　前","学　　校","学年","色","郡市・順位","ベスト記録",null,null,"種目コード"]
[{"$f":"IF(N141=\"\",\"\",VLOOKUP(N141,P$8:R$33,2))","v":""},{"$f":"IF(N141=\"\",\"\",VLOOKUP(N141,P$8:R$33,3))","v":""},null,null,{"$f":"IF(新人入力!B35=\"\",\"\",新人入力!B35)","v":""},{"$f":"IF(新人入力!E35=\"\",\"\",新人入力!E35)","v":""},{"$f":"IF(F141=\"\",\"\",新人入力!M$4)","v":""},{"$f":"IF(新人入力!F35=\"\",\"\",新人入力!F35)","v":""},null,{"$f":"IF(F141=\"\",\"\",VLOOKUP($Z$3,新人入力!$V$30:$W$41,2,FALSE))","v":""},{"$f":"IF(新人入力!M35=\"\",\"\",新人入力!M35)","v":""},null,null,{"$f":"新人入力!I35","v":""},null,null,null,null,null,null,null,null,null,null,null,null,null,{"$f":"IF(AO141=\"\",\"\",VLOOKUP(AO141,AQ$8:AS$33,2))","v":""},{"$f":"IF(AO141=\"\",\"\",VLOOKUP(AO141,AQ$8:AS$33,3))","v":""},null,null,{"$f":"IF(E141=\"\",\"\",E141)","v":""},{"$f":"IF(新人入力!E35=\"\",\"\",新人入力!E35)","v":""},{"$f":"IF(AG141=\"\",\"\",新人入力!M$4)","v":""},{"$f":"IF(新人入力!F35=\"\",\"\",新人入力!F35)","v":""},null,{"$f":"IF(AG141=\"\",\"\",VLOOKUP($Z$3,新人入力!$V$30:$W$41,2,FALSE))","v":""},{"$f":"IF(新人入力!P35=\"\",\"\",新人入力!P35)","v":""},null,null,{"$f":"新人入力!J35","v":""}]
[]
[null,null,null,null,null,null,null,null,null,{"$f":"IF(新人入力!N35=\"\",\"\",新人入力!N35)","v":""},null,null,null,null,null,null,null,null,null,null,null,null,null,null,null,null,null,null,null,null,null,null,null,null,null,null,{"$f":"IF(新人入力!Q35=\"\",\"\",新人入力!Q35)","v":""}]
[]
[]
["新人種目",null,"組","レーン・順","アスリートビブス","名　　　前","学　　校","学年","色","郡市・順位","ベスト記録",null,null,"種目コード",null,null,null,null,null,null,null,null,null,null,null,null,null,"新人種目",null,"組","レーン・順","アスリートビブス","名　　　前","学　　校","学年","色","郡市・順位","ベスト記録",null,null,"種目コード"]
[{"$f":"IF(N147=\"\",\"\",VLOOKUP(N147,P$8:R$33,2))","v":""},{"$f":"IF(N147=\"\",\"\",VLOOKUP(N147,P$8:R$33,3))","v":""},null,null,{"$f":"IF(新人入力!B36=\"\",\"\",新人入力!B36)","v":""},{"$f":"IF(新人入力!E36=\"\",\"\",新人入力!E36)","v":""},{"$f":"IF(F147=\"\",\"\",新人入力!M$4)","v":""},{"$f":"IF(新人入力!F36=\"\",\"\",新人入力!F36)","v":""},null,{"$f":"IF(F147=\"\",\"\",VLOOKUP($Z$3,新人入力!$V$30:$W$41,2,FALSE))","v":""},{"$f":"IF(新人入力!M36=\"\",\"\",新人入力!M36)","v":""},null,null,{"$f":"新人入力!I36","v":""},null,null,null,null,null,null,null,null,null,null,null,null,null,{"$f":"IF(AO147=\"\",\"\",VLOOKUP(AO147,AQ$8:AS$33,2))","v":""},{"$f":"IF(AO147=\"\",\"\",VLOOKUP(AO147,AQ$8:AS$33,3))","v":""},null,null,{"$f":"IF(E147=\"\",\"\",E147)","v":""},{"$f":"IF(新人入力!E36=\"\",\"\",新人入力!E36)","v":""},{"$f":"IF(AG147=\"\",\"\",新人入力!M$4)","v":""},{"$f":"IF(新人入力!F36=\"\",\"\",新人入力!F36)","v":""},null,{"$f":"IF(AG147=\"\",\"\",VLOOKUP($Z$3,新人入力!$V$30:$W$41,2,FALSE))","v":""},{"$f":"IF(新人入力!P36=\"\",\"\",新人入力!P36)","v":""},null,null,{"$f":"新人入力!J36","v":""}]
[]
[null,null,null,null,null,null,null,null,null,{"$f":"IF(新人入力!N36=\"\",\"\",新人入力!N36)","v":""},null,null,null,null,null,null,null,null,null,null,null,null,null,null,null,null,null,null,null,null,null,null,null,null,null,null,{"$f":"IF(新人入力!Q36=\"\",\"\",新人入力!Q36)","v":""}]
[]
[]
["新人種目",null,"組","レーン・順","アスリートビブス","名　　　前","学　　校","学年","色","郡市・順位","ベスト記録",null,null,"種目コード",null,null,null,null,null,null,null,null,null,null,null,null,null,"新人種目",null,"組","レーン・順","アスリートビブス","名　　　前","学　　校","学年","色","郡市・順位","ベスト記録",null,null,"種目コード"]
[{"$f":"IF(N153=\"\",\"\",VLOOKUP(N153,P$8:R$33,2))","v":""},{"$f":"IF(N153=\"\",\"\",VLOOKUP(N153,P$8:R$33,3))","v":""},null,null,{"$f":"IF(新人入力!B37=\"\",\"\",新人入力!B37)","v":""},{"$f":"IF(新人入力!E37=\"\",\"\",新人入力!E37)","v":""},{"$f":"IF(F153=\"\",\"\",新人入力!M$4)","v":""},{"$f":"IF(新人入力!F37=\"\",\"\",新人入力!F37)","v":""},null,{"$f":"IF(F153=\"\",\"\",VLOOKUP($Z$3,新人入力!$V$30:$W$41,2,FALSE))","v":""},{"$f":"IF(新人入力!M37=\"\",\"\",新人入力!M37)","v":""},null,null,{"$f":"新人入力!I37","v":""},null,null,null,null,null,null,null,null,null,null,null,null,null,{"$f":"IF(AO153=\"\",\"\",VLOOKUP(AO153,AQ$8:AS$33,2))","v":""},{"$f":"IF(AO153=\"\",\"\",VLOOKUP(AO153,AQ$8:AS$33,3))","v":""},null,null,{"$f":"IF(E153=\"\",\"\",E153)","v":""},{"$f":"IF(新人入力!E37=\"\",\"\",新人入力!E37)","v":""},{"$f":"IF(AG153=\"\",\"\",新人入力!M$4)","v":""},{"$f":"IF(新人入力!F37=\"\",\"\",新人入力!F37)","v":""},null,{"$f":"IF(AG153=\"\",\"\",VLOOKUP($Z$3,新人入力!$V$30:$W$41,2,FALSE))","v":""},{"$f":"IF(新人入力!P37=\"\",\"\",新人入力!P37)","v":""},null,null,{"$f":"新人入力!J37","v":""}]
[]
[null,null,null,null,null,null,null,null,null,{"$f":"IF(新人入力!N37=\"\",\"\",新人入力!N37)","v":""},null,null,null,null,null,null,null,null,null,null,null,null,null,null,null,null,null,null,null,null,null,null,null,null,null,null,{"$f":"IF(新人入力!Q37=\"\",\"\",新人入力!Q37)","v":""}]
[]
[]
["新人種目",null,"組","レーン・順","アスリートビブス","名　　　前","学　　校","学年","色","郡市・順位","ベスト記録",null,null,"種目コード",null,null,null,null,null,null,null,null,null,null,null,null,null,"新人種目",null,"組","レーン・順","アスリートビブス","名　　　前","学　　校","学年","色","郡市・順位","ベスト記録",null,null,"種目コード"]
[{"$f":"IF(N159=\"\",\"\",VLOOKUP(N159,P$8:R$33,2))","v":""},{"$f":"IF(N159=\"\",\"\",VLOOKUP(N159,P$8:R$33,3))","v":""},null,null,{"$f":"IF(新人入力!B38=\"\",\"\",新人入力!B38)","v":""},{"$f":"IF(新人入力!E38=\"\",\"\",新人入力!E38)","v":""},{"$f":"IF(F159=\"\",\"\",新人入力!M$4)","v":""},{"$f":"IF(新人入力!F38=\"\",\"\",新人入力!F38)","v":""},null,{"$f":"IF(F159=\"\",\"\",VLOOKUP($Z$3,新人入力!$V$30:$W$41,2,FALSE))","v":""},{"$f":"IF(新人入力!M38=\"\",\"\",新人入力!M38)","v":""},null,null,{"$f":"新人入力!I38","v":""},null,null,null,null,null,null,null,null,null,null,null,null,null,{"$f":"IF(AO159=\"\",\"\",VLOOKUP(AO159,AQ$8:AS$33,2))","v":""},{"$f":"IF(AO159=\"\",\"\",VLOOKUP(AO159,AQ$8:AS$33,3))","v":""},null,null,{"$f":"IF(E159=\"\",\"\",E159)","v":""},{"$f":"IF(新人入力!E38=\"\",\"\",新人入力!E38)","v":""},{"$f":"IF(AG159=\"\",\"\",新人入力!M$4)","v":""},{"$f":"IF(新人入力!F38=\"\",\"\",新人入力!F38)","v":""},null,{"$f":"IF(AG159=\"\",\"\",VLOOKUP($Z$3,新人入力!$V$30:$W$41,2,FALSE))","v":""},{"$f":"IF(新人入力!P38=\"\",\"\",新人入力!P38)","v":""},null,null,{"$f":"新人入力!J38","v":""}]
[]
[null,null,null,null,null,null,null,null,null,{"$f":"IF(新人入力!N38=\"\",\"\",新人入力!N38)","v":""},null,null,null,null,null,null,null,null,null,null,null,null,null,null,null,null,null,null,null,null,null,null,null,null,null,null,{"$f":"IF(新人入力!Q38=\"\",\"\",新人入力!Q38)","v":""}]
[]
[]
["新人種目",null,"組","レーン・順","アスリートビブス","名　　　前","学　　校","学年","色","郡市・順位","ベスト記録",null,null,"種目コード",null,null,null,null,null,null,null,null,null,null,null,null,null,"新人種目",null,"組","レーン・順","アスリートビブス","名　　　前","学　　校","学年","色","郡市・順位","ベスト記録",null,null,"種目コード"]
[{"$f":"IF(N165=\"\",\"\",VLOOKUP(N165,P$8:R$33,2))","v":""},{"$f":"IF(N165=\"\",\"\",VLOOKUP(N165,P$8:R$33,3))","v":""},null,null,{"$f":"IF(新人入力!B39=\"\",\"\",新人入力!B39)","v":""},{"$f":"IF(新人入力!E39=\"\",\"\",新人入力!E39)","v":""},{"$f":"IF(F165=\"\",\"\",新人入力!M$4)","v":""},{"$f":"IF(新人入力!F39=\"\",\"\",新人入力!F39)","v":""},null,{"$f":"IF(F165=\"\",\"\",VLOOKUP($Z$3,新人入力!$V$30:$W$41,2,FALSE))","v":""},{"$f":"IF(新人入力!M39=\"\",\"\",新人入力!M39)","v":""},null,null,{"$f":"新人入力!I39","v":""},null,null,null,null,null,null,null,null,null,null,null,null,null,{"$f":"IF(AO165=\"\",\"\",VLOOKUP(AO165,AQ$8:AS$33,2))","v":""},{"$f":"IF(AO165=\"\",\"\",VLOOKUP(AO165,AQ$8:AS$33,3))","v":""},null,null,{"$f":"IF(E165=\"\",\"\",E165)","v":""},{"$f":"IF(新人入力!E39=\"\",\"\",新人入力!E39)","v":""},{"$f":"IF(AG165=\"\",\"\",新人入力!M$4)","v":""},{"$f":"IF(新人入力!F39=\"\",\"\",新人入力!F39)","v":""},null,{"$f":"IF(AG165=\"\",\"\",VLOOKUP($Z$3,新人入力!$V$30:$W$41,2,FALSE))","v":""},{"$f":"IF(新人入力!P39=\"\",\"\",新人入力!P39)","v":""},null,null,{"$f":"新人入力!J39","v":""}]
[]
[null,null,null,null,null,null,null,null,null,{"$f":"IF(新人入力!N39=\"\",\"\",新人入力!N39)","v":""},null,null,null,null,null,null,null,null,null,null,null,null,null,null,null,null,null,null,null,null,null,null,null,null,null,null,{"$f":"IF(新人入力!Q39=\"\",\"\",新人入力!Q39)","v":""}]
[]
[]
["新人種目",null,"組","レーン・順","アスリートビブス","名　　　前","学　　校","学年","色","郡市・順位","ベスト記録",null,null,"種目コード",null,null,null,null,null,null,null,null,null,null,null,null,null,"新人種目",null,"組","レーン・順","アスリートビブス","名　　　前","学　　校","学年","色","郡市・順位","ベスト記録",null,null,"種目コード"]
[{"$f":"IF(N171=\"\",\"\",VLOOKUP(N171,P$8:R$33,2))","v":""},{"$f":"IF(N171=\"\",\"\",VLOOKUP(N171,P$8:R$33,3))","v":""},null,null,{"$f":"IF(新人入力!B40=\"\",\"\",新人入力!B40)","v":""},{"$f":"IF(新人入力!E40=\"\",\"\",新人入力!E40)","v":""},{"$f":"IF(F171=\"\",\"\",新人入力!M$4)","v":""},{"$f":"IF(新人入力!F40=\"\",\"\",新人入力!F40)","v":""},null,{"$f":"IF(F171=\"\",\"\",VLOOKUP($Z$3,新人入力!$V$30:$W$41,2,FALSE))","v":""},{"$f":"IF(新人入力!M40=\"\",\"\",新人入力!M40)","v":""},null,null,{"$f":"新人入力!I40","v":""},null,null,null,null,null,null,null,null,null,null,null,null,null,{"$f":"IF(AO171=\"\",\"\",VLOOKUP(AO171,AQ$8:AS$33,2))","v":""},{"$f":"IF(AO171=\"\",\"\",VLOOKUP(AO171,AQ$8:AS$33,3))","v":""},null,null,{"$f":"IF(E171=\"\",\"\",E171)","v":""},{"$f":"IF(新人入力!E40=\"\",\"\",新人入力!E40)","v":""},{"$f":"IF(AG171=\"\",\"\",新人入力!M$4)","v":""},{"$f":"IF(新人入力!F40=\"\",\"\",新人入力!F40)","v":""},null,{"$f":"IF(AG171=\"\",\"\",VLOOKUP($Z$3,新人入力!$V$30:$W$41,2,FALSE))","v":""},{"$f":"IF(新人入力!P40=\"\",\"\",新人入力!P40)","v":""},null,null,{"$f":"新人入力!J40","v":""}]
[]
[null,null,null,null,null,null,null,null,null,{"$f":"IF(新人入力!N40=\"\",\"\",新人入力!N40)","v":""},null,null,null,null,null,null,null,null,null,null,null,null,null,null,null,null,null,null,null,null,null,null,null,null,null,null,{"$f":"IF(新人入力!Q40=\"\",\"\",新人入力!Q40)","v":""}]
[]
[]
["新人種目",null,"組","レーン・順","アスリートビブス","名　　　前","学　　校","学年","色","郡市・順位","ベスト記録",null,null,"種目コード",null,null,null,null,null,null,null,null,null,null,null,null,null,"新人種目",null,"組","レーン・順","アスリートビブス","名　　　前","学　　校","学年","色","郡市・順位","ベスト記録",null,null,"種目コード"]
[{"$f":"IF(N177=\"\",\"\",VLOOKUP(N177,P$8:R$33,2))","v":""},{"$f":"IF(N177=\"\",\"\",VLOOKUP(N177,P$8:R$33,3))","v":""},null,null,{"$f":"IF(新人入力!B41=\"\",\"\",新人入力!B41)","v":""},{"$f":"IF(新人入力!E41=\"\",\"\",新人入力!E41)","v":""},{"$f":"IF(F177=\"\",\"\",新人入力!M$4)","v":""},{"$f":"IF(新人入力!F41=\"\",\"\",新人入力!F41)","v":""},null,{"$f":"IF(F177=\"\",\"\",VLOOKUP($Z$3,新人入力!$V$30:$W$41,2,FALSE))","v":""},{"$f":"IF(新人入力!M41=\"\",\"\",新人入力!M41)","v":""},null,null,{"$f":"新人入力!I41","v":""},null,null,null,null,null,null,null,null,null,null,null,null,null,{"$f":"IF(AO177=\"\",\"\",VLOOKUP(AO177,AQ$8:AS$33,2))","v":""},{"$f":"IF(AO177=\"\",\"\",VLOOKUP(AO177,AQ$8:AS$33,3))","v":""},null,null,{"$f":"IF(E177=\"\",\"\",E177)","v":""},{"$f":"IF(新人入力!E41=\"\",\"\",新人入力!E41)","v":""},{"$f":"IF(AG177=\"\",\"\",新人入力!M$4)","v":""},{"$f":"IF(新人入力!F41=\"\",\"\",新人入力!F41)","v":""},null,{"$f":"IF(AG177=\"\",\"\",VLOOKUP($Z$3,新人入力!$V$30:$W$41,2,FALSE))","v":""},{"$f":"IF(新人入力!P41=\"\",\"\",新人入力!P41)","v":""},null,null,{"$f":"新人入力!J41","v":""}]
[]
[null,null,null,null,null,null,null,null,null,{"$f":"IF(新人入力!N41=\"\",\"\",新人入力!N41)","v":""},null,null,null,null,null,null,null,null,null,null,null,null,null,null,null,null,null,null,null,null,null,null,null,null,null,null,{"$f":"IF(新人入力!Q41=\"\",\"\",新人入力!Q41)","v":""}]
[]
[]
[]
[]
[]
["新人種目",null,"組","レーン・順","アスリートビブス","名　　　前","学　　校","学年","色","郡市・順位","ベスト記録","女子個人種目１　１ページ目",null,"種目コード",null,null,null,null,null,"女子種目１",null,null,null,null,null,null,null,"新人種目",null,"組","レーン・順","アスリートビブス","名　　　前","学　　校","学年","色","郡市・順位","ベスト記録","女子個人種目２　１ページ目",null,"種目コード",null,null,null,null,null,"女子種目２"]
[{"$f":"IF(N186=\"\",\"\",VLOOKUP(N186,P$191:R$216,2))","v":""},{"$f":"IF(N186=\"\",\"\",VLOOKUP(N186,P$191:R$216,3))","v":""},null,null,{"$f":"IF(新人入力!B79=\"\",\"\",新人入力!B79)","v":""},{"$f":"IF(新人入力!E79=\"\",\"\",新人入力!E79)","v":""},{"$f":"IF(F186=\"\",\"\",新人入力!M$4)","v":""},{"$f":"IF(新人入力!F79=\"\",\"\",新人入力!F79)","v":""},null,{"$f":"IF(F186=\"\",\"\",VLOOKUP($Z$3,新人入力!$V$30:$W$41,2,FALSE))","v":""},{"$f":"IF(新人入力!M79=\"\",\"\",新人入力!M79)","v":""},null,null,{"$f":"新人入力!I79","v":""},null,null,null,null,null,null,null,"１～１０",null,null,null,null,null,{"$f":"IF(AO186=\"\",\"\",VLOOKUP(AO186,AQ$191:AS$216,2))","v":""},{"$f":"IF(AO186=\"\",\"\",VLOOKUP(AO186,AQ$191:AS$216,3))","v":""},null,null,{"$f":"IF(E186=\"\",\"\",E186)","v":""},{"$f":"IF(新人入力!E79=\"\",\"\",新人入力!E79)","v":""},{"$f":"IF(AG186=\"\",\"\",新人入力!M$4)","v":""},{"$f":"IF(新人入力!F79=\"\",\"\",新人入力!F79)","v":""},null,{"$f":"IF(AG186=\"\",\"\",VLOOKUP($Z$3,新人入力!$V$30:$W$41,2,FALSE))","v":""},{"$f":"IF(新人入力!P79=\"\",\"\",新人入力!P79)","v":""},null,null,{"$f":"新人入力!J79","v":""},null,null,null,null,null,null,null,"１～１０"]
[]
[null,null,null,null,null,null,null,null,null,{"$f":"IF(新人入力!N79=\"\",\"\",新人入力!N79)","v":""},null,null,null,null,null,null,null,null,null,null,null,null,null,null,null,null,null,null,null,null,null,null,null,null,null,null,{"$f":"IF(新人入力!Q79=\"\",\"\",新人入力!Q79)","v":""}]
[null,null,null,null,null,null,null,null,null,null,null,null,null,null,null,null,null,null,null,null,null,"１１～２０",null,null,null,null,null,null,null,null,null,null,null,null,null,null,null,null,null,null,null,null,null,null,null,null,null,null,"１１～２０"]
[null,null,null,null,null,null,null,null,null,null,null,null,null,null,null,"種目コード一覧",null,null,null,null,null,null,null,null,null,null,null,null,null,null,null,null,null,null,null,null,null,null,null,null,null,null,"種目コード一覧"]
["新人種目",null,"組","レーン・順","アスリートビブス","名　　　前","学　　校","学年","色","郡市・順位","ベスト記録",null,null,"種目コード",null,31,"女","１年１００ｍ",null,null,null,null,null,null,null,null,null,"新人種目",null,"組","レーン・順","アスリートビブス","名　　　前","学　　校","学年","色","郡市・順位","ベスト記録",null,null,"種目コード",null,31,"女","１年１００ｍ"]
[{"$f":"IF(N192=\"\",\"\",VLOOKUP(N192,P$191:R$216,2))","v":""},{"$f":"IF(N192=\"\",\"\",VLOOKUP(N192,P$191:R$216,3))","v":""},null,null,{"$f":"IF(新人入力!B80=\"\",\"\",新人入力!B80)","v":""},{"$f":"IF(新人入力!E80=\"\",\"\",新人入力!E80)","v":""},{"$f":"IF(F192=\"\",\"\",新人入力!M$4)","v":""},{"$f":"IF(新人入力!F80=\"\",\"\",新人入力!F80)","v":""},null,{"$f":"IF(F192=\"\",\"\",VLOOKUP($Z$3,新人入力!$V$30:$W$41,2,FALSE))","v":""},{"$f":"IF(新人入力!M80=\"\",\"\",新人入力!M80)","v":""},null,null,{"$f":"新人入力!I80","v":""},null,32,"女","２年１００ｍ",null,null,null,"２１～３０",null,null,null,null,null,{"$f":"IF(AO192=\"\",\"\",VLOOKUP(AO192,AQ$191:AS$216,2))","v":""},{"$f":"IF(AO192=\"\",\"\",VLOOKUP(AO192,AQ$191:AS$216,3))","v":""},null,null,{"$f":"IF(E192=\"\",\"\",E192)","v":""},{"$f":"IF(新人入力!E80=\"\",\"\",新人入力!E80)","v":""},{"$f":"IF(AG192=\"\",\"\",新人入力!M$4)","v":""},{"$f":"IF(新人入力!F80=\"\",\"\",新人入力!F80)","v":""},null,{"$f":"IF(AG192=\"\",\"\",VLOOKUP($Z$3,新人入力!$V$30:$W$41,2,FALSE))","v":""},{"$f":"IF(新人入力!P80=\"\",\"\",新人入力!P80)","v":""},null,null,{"$f":"新人入力!J80","v":""},null,32,"女","２年１００ｍ",null,null,null,"２１～３０"]
[null,null,null,null,null,null,null,null,null,null,null,null,null,null,null,33,"女","共通２００ｍ",null,null,null,null,null,null,null,null,null,null,null,null,null,null,null,null,null,null,null,null,null,null,null,null,33,"女","共通２００ｍ"]
[null,null,null,null,null,null,null,null,null,{"$f":"IF(新人入力!N80=\"\",\"\",新人入力!N80)","v":""},null,null,null,null,null,34,"女","共通８００ｍ",null,null,null,null,null,null,null,null,null,null,null,null,null,null,null,null,null,null,{"$f":"IF(新人入力!Q80=\"\",\"\",新人入力!Q80)","v":""},null,null,null,null,null,34,"女","共通８００ｍ"]
[null,null,null,null,null,null,null,null,null,null,null,null,null,null,null,35,"女","１年１５００ｍ",null,null,null,null,null,null,null,null,null,null,null,null,null,null,null,null,null,null,null,null,null,null,null,null,35,"女","１年１５００ｍ"]
[null,null,null,null,null,null,null,null,null,null,null,null,null,null,null,36,"女","２年１５００ｍ",null,null,null,null,null,null,null,null,null,null,null,null,null,null,null,null,null,null,null,null,null,null,null,null,36,"女","２年１５００ｍ"]
["新人種目",null,"組","レーン・順","アスリートビブス","名　　　前","学　　校","学年","色","郡市・順位","ベスト記録",null,null,"種目コード",null,37,"女","共通１００ｍＨ",null,null,null,null,null,null,null,null,null,"新人種目",null,"組","レーン・順","アスリートビブス","名　　　前","学　　校","学年","色","郡市・順位","ベスト記録",null,null,"種目コード",null,37,"女","共通１００ｍＨ"]
[{"$f":"IF(N198=\"\",\"\",VLOOKUP(N198,P$191:R$216,2))","v":""},{"$f":"IF(N198=\"\",\"\",VLOOKUP(N198,P$191:R$216,3))","v":""},null,null,{"$f":"IF(新人入力!B81=\"\",\"\",新人入力!B81)","v":""},{"$f":"IF(新人入力!E81=\"\",\"\",新人入力!E81)","v":""},{"$f":"IF(F198=\"\",\"\",新人入力!M$4)","v":""},{"$f":"IF(新人入力!F81=\"\",\"\",新人入力!F81)","v":""},null,{"$f":"IF(F198=\"\",\"\",VLOOKUP($Z$3,新人入力!$V$30:$W$41,2,FALSE))","v":""},{"$f":"IF(新人入力!M81=\"\",\"\",新人入力!M81)","v":""},null,null,{"$f":"新人入力!I81","v":""},null,38,"女","共通走高跳",null,null,null,null,null,null,null,null,null,{"$f":"IF(AO198=\"\",\"\",VLOOKUP(AO198,AQ$191:AS$216,2))","v":""},{"$f":"IF(AO198=\"\",\"\",VLOOKUP(AO198,AQ$191:AS$216,3))","v":""},null,null,{"$f":"IF(E198=\"\",\"\",E198)","v":""},{"$f":"IF(新人入力!E81=\"\",\"\",新人入力!E81)","v":""},{"$f":"IF(AG198=\"\",\"\",新人入力!M$4)","v":""},{"$f":"IF(新人入力!F81=\"\",\"\",新人入力!F81)","v":""},null,{"$f":"IF(AG198=\"\",\"\",VLOOKUP($Z$3,新人入力!$V$30:$W$41,2,FALSE))","v":""},{"$f":"IF(新人入力!P81=\"\",\"\",新人入力!P81)","v":""},null,null,{"$f":"新人入力!J81","v":""},null,38,"女","共通走高跳"]
[null,null,null,null,null,null,null,null,null,null,null,null,null,null,null,39,"女","共通走幅跳",null,null,null,null,null,null,null,null,null,null,null,null,null,null,null,null,null,null,null,null,null,null,null,null,39,"女","共通走幅跳"]
[null,null,null,null,null,null,null,null,null,{"$f":"IF(新人入力!N81=\"\",\"\",新人入力!N81)","v":""},null,null,null,null,null,40,"女","共通砲丸投",null,null,null,null,null,null,null,null,null,null,null,null,null,null,null,null,null,null,{"$f":"IF(新人入力!Q81=\"\",\"\",新人入力!Q81)","v":""},null,null,null,null,null,40,"女","共通砲丸投"]
[null,null,null,null,null,null,null,null,null,null,null,null,null,null,null,41,"女","ｵｰﾌﾟﾝ３０００ｍ",null,null,null,null,null,null,null,null,null,null,null,null,null,null,null,null,null,null,null,null,null,null,null,null,41,"女","ｵｰﾌﾟﾝ３０００ｍ"]
[null,null,null,null,null,null,null,null,null,null,null,null,null,null,null,42,null,null,null,null,null,null,null,null,null,null,null,null,null,null,null,null,null,null,null,null,null,null,null,null,null,null,0]
["新人種目",null,"組","レーン・順","アスリートビブス","名　　　前","学　　校","学年","色","郡市・順位","ベスト記録",null,null,"種目コード",null,null,null,null,null,null,null,null,null,null,null,null,null,"新人種目",null,"組","レーン・順","アスリートビブス","名　　　前","学　　校","学年","色","郡市・順位","ベスト記録",null,null,"種目コード"]
[{"$f":"IF(N204=\"\",\"\",VLOOKUP(N204,P$191:R$216,2))","v":""},{"$f":"IF(N204=\"\",\"\",VLOOKUP(N204,P$191:R$216,3))","v":""},null,null,{"$f":"IF(新人入力!B82=\"\",\"\",新人入力!B82)","v":""},{"$f":"IF(新人入力!E82=\"\",\"\",新人入力!E82)","v":""},{"$f":"IF(F204=\"\",\"\",新人入力!M$4)","v":""},{"$f":"IF(新人入力!F82=\"\",\"\",新人入力!F82)","v":""},null,{"$f":"IF(F204=\"\",\"\",VLOOKUP($Z$3,新人入力!$V$30:$W$41,2,FALSE))","v":""},{"$f":"IF(新人入力!M82=\"\",\"\",新人入力!M82)","v":""},null,null,{"$f":"新人入力!I82","v":""},null,null,null,null,null,null,null,null,null,null,null,null,null,{"$f":"IF(AO204=\"\",\"\",VLOOKUP(AO204,AQ$191:AS$216,2))","v":""},{"$f":"IF(AO204=\"\",\"\",VLOOKUP(AO204,AQ$191:AS$216,3))","v":""},null,null,{"$f":"IF(E204=\"\",\"\",E204)","v":""},{"$f":"IF(新人入力!E82=\"\",\"\",新人入力!E82)","v":""},{"$f":"IF(AG204=\"\",\"\",新人入力!M$4)","v":""},{"$f":"IF(新人入力!F82=\"\",\"\",新人入力!F82)","v":""},null,{"$f":"IF(AG204=\"\",\"\",VLOOKUP($Z$3,新人入力!$V$30:$W$41,2,FALSE))","v":""},{"$f":"IF(新人入力!P82=\"\",\"\",新人入力!P82)","v":""},null,null,{"$f":"新人入力!J82","v":""}]
[]
[null,null,null,null,null,null,null,null,null,{"$f":"IF(新人入力!N82=\"\",\"\",新人入力!N82)","v":""},null,null,null,null,null,null,null,null,null,null,null,null,null,null,null,null,null,null,null,null,null,null,null,null,null,null,{"$f":"IF(新人入力!Q82=\"\",\"\",新人入力!Q82)","v":""}]
[]
[]
["新人種目",null,"組","レーン・順","アスリートビブス","名　　　前","学　　校","学年","色","郡市・順位","ベスト記録",null,null,"種目コード",null,null,null,null,null,null,null,null,null,null,null,null,null,"新人種目",null,"組","レーン・順","アスリートビブス","名　　　前","学　　校","学年","色","郡市・順位","ベスト記録",null,null,"種目コード"]
[{"$f":"IF(N210=\"\",\"\",VLOOKUP(N210,P$191:R$216,2))","v":""},{"$f":"IF(N210=\"\",\"\",VLOOKUP(N210,P$191:R$216,3))","v":""},null,null,{"$f":"IF(新人入力!B83=\"\",\"\",新人入力!B83)","v":""},{"$f":"IF(新人入力!E83=\"\",\"\",新人入力!E83)","v":""},{"$f":"IF(F210=\"\",\"\",新人入力!M$4)","v":""},{"$f":"IF(新人入力!F83=\"\",\"\",新人入力!F83)","v":""},null,{"$f":"IF(F210=\"\",\"\",VLOOKUP($Z$3,新人入力!$V$30:$W$41,2,FALSE))","v":""},{"$f":"IF(新人入力!M83=\"\",\"\",新人入力!M83)","v":""},null,null,{"$f":"新人入力!I83","v":""},null,null,null,null,null,null,null,null,null,null,null,null,null,{"$f":"IF(AO210=\"\",\"\",VLOOKUP(AO210,AQ$191:AS$216,2))","v":""},{"$f":"IF(AO210=\"\",\"\",VLOOKUP(AO210,AQ$191:AS$216,3))","v":""},null,null,{"$f":"IF(E210=\"\",\"\",E210)","v":""},{"$f":"IF(新人入力!E83=\"\",\"\",新人入力!E83)","v":""},{"$f":"IF(AG210=\"\",\"\",新人入力!M$4)","v":""},{"$f":"IF(新人入力!F83=\"\",\"\",新人入力!F83)","v":""},null,{"$f":"IF(AG210=\"\",\"\",VLOOKUP($Z$3,新人入力!$V$30:$W$41,2,FALSE))","v":""},{"$f":"IF(新人入力!P83=\"\",\"\",新人入力!P83)","v":""},null,null,{"$f":"新人入力!J83","v":""}]
[]
[null,null,null,null,null,null,null,null,null,{"$f":"IF(新人入力!N83=\"\",\"\",新人入力!N83)","v":""},null,null,null,null,null,null,null,null,null,null,null,null,null,null,null,null,null,null,null,null,null,null,null,null,null,null,{"$f":"IF(新人入力!Q83=\"\",\"\",新人入力!Q83)","v":""}]
[]
[]
["新人種目",null,"組","レーン・順","アスリートビブス","名　　　前","学　　校","学年","色","郡市・順位","ベスト記録",null,null,"種目コード",null,null,null,null,null,null,null,null,null,null,null,null,null,"新人種目",null,"組","レーン・順","アスリートビブス","名　　　前","学　　校","学年","色","郡市・順位","ベスト記録",null,null,"種目コード"]
[{"$f":"IF(N216=\"\",\"\",VLOOKUP(N216,P$191:R$216,2))","v":""},{"$f":"IF(N216=\"\",\"\",VLOOKUP(N216,P$191:R$216,3))","v":""},null,null,{"$f":"IF(新人入力!B84=\"\",\"\",新人入力!B84)","v":""},{"$f":"IF(新人入力!E84=\"\",\"\",新人入力!E84)","v":""},{"$f":"IF(F216=\"\",\"\",新人入力!M$4)","v":""},{"$f":"IF(新人入力!F84=\"\",\"\",新人入力!F84)","v":""},null,{"$f":"IF(F216=\"\",\"\",VLOOKUP($Z$3,新人入力!$V$30:$W$41,2,FALSE))","v":""},{"$f":"IF(新人入力!M84=\"\",\"\",新人入力!M84)","v":""},null,null,{"$f":"新人入力!I84","v":""},null,null,null,null,null,null,null,null,null,null,null,null,null,{"$f":"IF(AO216=\"\",\"\",VLOOKUP(AO216,AQ$191:AS$216,2))","v":""},{"$f":"IF(AO216=\"\",\"\",VLOOKUP(AO216,AQ$191:AS$216,3))","v":""},null,null,{"$f":"IF(E216=\"\",\"\",E216)","v":""},{"$f":"IF(新人入力!E84=\"\",\"\",新人入力!E84)","v":""},{"$f":"IF(AG216=\"\",\"\",新人入力!M$4)","v":""},{"$f":"IF(新人入力!F84=\"\",\"\",新人入力!F84)","v":""},null,{"$f":"IF(AG216=\"\",\"\",VLOOKUP($Z$3,新人入力!$V$30:$W$41,2,FALSE))","v":""},{"$f":"IF(新人入力!P84=\"\",\"\",新人入力!P84)","v":""},null,null,{"$f":"新人入力!J84","v":""}]
[]
[null,null,null,null,null,null,null,null,null,{"$f":"IF(新人入力!N84=\"\",\"\",新人入力!N84)","v":""},null,null,null,null,null,null,null,null,null,null,null,null,null,null,null,null,null,null,null,null,null,null,null,null,null,null,{"$f":"IF(新人入力!Q84=\"\",\"\",新人入力!Q84)","v":""}]
[]
[]
["新人種目",null,"組","レーン・順","アスリートビブス","名　　　前","学　　校","学年","色","郡市・順位","ベスト記録",null,null,"種目コード",null,null,null,null,null,null,null,null,null,null,null,null,null,"新人種目",null,"組","レーン・順","アスリートビブス","名　　　前","学　　校","学年","色","郡市・順位","ベスト記録",null,null,"種目コード"]
[{"$f":"IF(N222=\"\",\"\",VLOOKUP(N222,P$191:R$216,2))","v":""},{"$f":"IF(N222=\"\",\"\",VLOOKUP(N222,P$191:R$216,3))","v":""},null,null,{"$f":"IF(新人入力!B85=\"\",\"\",新人入力!B85)","v":""},{"$f":"IF(新人入力!E85=\"\",\"\",新人入力!E85)","v":""},{"$f":"IF(F222=\"\",\"\",新人入力!M$4)","v":""},{"$f":"IF(新人入力!F85=\"\",\"\",新人入力!F85)","v":""},null,{"$f":"IF(F222=\"\",\"\",VLOOKUP($Z$3,新人入力!$V$30:$W$41,2,FALSE))","v":""},{"$f":"IF(新人入力!M85=\"\",\"\",新人入力!M85)","v":""},null,null,{"$f":"新人入力!I85","v":""},null,null,null,null,null,null,null,null,null,null,null,null,null,{"$f":"IF(AO222=\"\",\"\",VLOOKUP(AO222,AQ$191:AS$216,2))","v":""},{"$f":"IF(AO222=\"\",\"\",VLOOKUP(AO222,AQ$191:AS$216,3))","v":""},null,null,{"$f":"IF(E222=\"\",\"\",E222)","v":""},{"$f":"IF(新人入力!E85=\"\",\"\",新人入力!E85)","v":""},{"$f":"IF(AG222=\"\",\"\",新人入力!M$4)","v":""},{"$f":"IF(新人入力!F85=\"\",\"\",新人入力!F85)","v":""},null,{"$f":"IF(AG222=\"\",\"\",VLOOKUP($Z$3,新人入力!$V$30:$W$41,2,FALSE))","v":""},{"$f":"IF(新人入力!P85=\"\",\"\",新人入力!P85)","v":""},null,null,{"$f":"新人入力!J85","v":""}]
[]
[null,null,null,null,null,null,null,null,null,{"$f":"IF(新人入力!N85=\"\",\"\",新人入力!N85)","v":""},null,null,null,null,null,null,null,null,null,null,null,null,null,null,null,null,null,null,null,null,null,null,null,null,null,null,{"$f":"IF(新人入力!Q85=\"\",\"\",新人入力!Q85)","v":""}]
[]
[]
["新人種目",null,"組","レーン・順","アスリートビブス","名　　　前","学　　校","学年","色","郡市・順位","ベスト記録",null,null,"種目コード",null,null,null,null,null,null,null,null,null,null,null,null,null,"新人種目",null,"組","レーン・順","アスリートビブス","名　　　前","学　　校","学年","色","郡市・順位","ベスト記録",null,null,"種目コード"]
[{"$f":"IF(N228=\"\",\"\",VLOOKUP(N228,P$191:R$216,2))","v":""},{"$f":"IF(N228=\"\",\"\",VLOOKUP(N228,P$191:R$216,3))","v":""},null,null,{"$f":"IF(新人入力!B86=\"\",\"\",新人入力!B86)","v":""},{"$f":"IF(新人入力!E86=\"\",\"\",新人入力!E86)","v":""},{"$f":"IF(F228=\"\",\"\",新人入力!M$4)","v":""},{"$f":"IF(新人入力!F86=\"\",\"\",新人入力!F86)","v":""},null,{"$f":"IF(F228=\"\",\"\",VLOOKUP($Z$3,新人入力!$V$30:$W$41,2,FALSE))","v":""},{"$f":"IF(新人入力!M86=\"\",\"\",新人入力!M86)","v":""},null,null,{"$f":"新人入力!I86","v":""},null,null,null,null,null,null,null,null,null,null,null,null,null,{"$f":"IF(AO228=\"\",\"\",VLOOKUP(AO228,AQ$191:AS$216,2))","v":""},{"$f":"IF(AO228=\"\",\"\",VLOOKUP(AO228,AQ$191:AS$216,3))","v":""},null,null,{"$f":"IF(E228=\"\",\"\",E228)","v":""},{"$f":"IF(新人入力!E86=\"\",\"\",新人入力!E86)","v":""},{"$f":"IF(AG228=\"\",\"\",新人入力!M$4)","v":""},{"$f":"IF(新人入力!F86=\"\",\"\",新人入力!F86)","v":""},null,{"$f":"IF(AG228=\"\",\"\",VLOOKUP($Z$3,新人入力!$V$30:$W$41,2,FALSE))","v":""},{"$f":"IF(新人入力!P86=\"\",\"\",新人入力!P86)","v":""},null,null,{"$f":"新人入力!J86","v":""}]
[]
[null,null,null,null,null,null,null,null,null,{"$f":"IF(新人入力!N86=\"\",\"\",新人入力!N86)","v":""},null,null,null,null,null,null,null,null,null,null,null,null,null,null,null,null,null,null,null,null,null,null,null,null,null,null,{"$f":"IF(新人入力!Q86=\"\",\"\",新人入力!Q86)","v":""}]
[]
[]
["新人種目",null,"組","レーン・順","アスリートビブス","名　　　前","学　　校","学年","色","郡市・順位","ベスト記録",null,null,"種目コード",null,null,null,null,null,null,null,null,null,null,null,null,null,"新人種目",null,"組","レーン・順","アスリートビブス","名　　　前","学　　校","学年","色","郡市・順位","ベスト記録",null,null,"種目コード"]
[{"$f":"IF(N234=\"\",\"\",VLOOKUP(N234,P$191:R$216,2))","v":""},{"$f":"IF(N234=\"\",\"\",VLOOKUP(N234,P$191:R$216,3))","v":""},null,null,{"$f":"IF(新人入力!B87=\"\",\"\",新人入力!B87)","v":""},{"$f":"IF(新人入力!E87=\"\",\"\",新人入力!E87)","v":""},{"$f":"IF(F234=\"\",\"\",新人入力!M$4)","v":""},{"$f":"IF(新人入力!F87=\"\",\"\",新人入力!F87)","v":""},null,{"$f":"IF(F234=\"\",\"\",VLOOKUP($Z$3,新人入力!$V$30:$W$41,2,FALSE))","v":""},{"$f":"IF(新人入力!M87=\"\",\"\",新人入力!M87)","v":""},null,null,{"$f":"新人入力!I87","v":""},null,null,null,null,null,null,null,null,null,null,null,null,null,{"$f":"IF(AO234=\"\",\"\",VLOOKUP(AO234,AQ$191:AS$216,2))","v":""},{"$f":"IF(AO234=\"\",\"\",VLOOKUP(AO234,AQ$191:AS$216,3))","v":""},null,null,{"$f":"IF(E234=\"\",\"\",E234)","v":""},{"$f":"IF(新人入力!E87=\"\",\"\",新人入力!E87)","v":""},{"$f":"IF(AG234=\"\",\"\",新人入力!M$4)","v":""},{"$f":"IF(新人入力!F87=\"\",\"\",新人入力!F87)","v":""},null,{"$f":"IF(AG234=\"\",\"\",VLOOKUP($Z$3,新人入力!$V$30:$W$41,2,FALSE))","v":""},{"$f":"IF(新人入力!P87=\"\",\"\",新人入力!P87)","v":""},null,null,{"$f":"新人入力!J87","v":""}]
[]
[null,null,null,null,null,null,null,null,null,{"$f":"IF(新人入力!N87=\"\",\"\",新人入力!N87)","v":""},null,null,null,null,null,null,null,null,null,null,null,null,null,null,null,null,null,null,null,null,null,null,null,null,null,null,{"$f":"IF(新人入力!Q87=\"\",\"\",新人入力!Q87)","v":""}]
[]
[]
["新人種目",null,"組","レーン・順","アスリートビブス","名　　　前","学　　校","学年","色","郡市・順位","ベスト記録",null,null,"種目コード",null,null,null,null,null,null,null,null,null,null,null,null,null,"新人種目",null,"組","レーン・順","アスリートビブス","名　　　前","学　　校","学年","色","郡市・順位","ベスト記録",null,null,"種目コード"]
[{"$f":"IF(N240=\"\",\"\",VLOOKUP(N240,P$191:R$216,2))","v":""},{"$f":"IF(N240=\"\",\"\",VLOOKUP(N240,P$191:R$216,3))","v":""},null,null,{"$f":"IF(新人入力!B88=\"\",\"\",新人入力!B88)","v":""},{"$f":"IF(新人入力!E88=\"\",\"\",新人入力!E88)","v":""},{"$f":"IF(F240=\"\",\"\",新人入力!M$4)","v":""},{"$f":"IF(新人入力!F88=\"\",\"\",新人入力!F88)","v":""},null,{"$f":"IF(F240=\"\",\"\",VLOOKUP($Z$3,新人入力!$V$30:$W$41,2,FALSE))","v":""},{"$f":"IF(新人入力!M88=\"\",\"\",新人入力!M88)","v":""},null,null,{"$f":"新人入力!I88","v":""},null,null,null,null,null,null,null,null,null,null,null,null,null,{"$f":"IF(AO240=\"\",\"\",VLOOKUP(AO240,AQ$191:AS$216,2))","v":""},{"$f":"IF(AO240=\"\",\"\",VLOOKUP(AO240,AQ$191:AS$216,3))","v":""},null,null,{"$f":"IF(E240=\"\",\"\",E240)","v":""},{"$f":"IF(新人入力!E88=\"\",\"\",新人入力!E88)","v":""},{"$f":"IF(AG240=\"\",\"\",新人入力!M$4)","v":""},{"$f":"IF(新人入力!F88=\"\",\"\",新人入力!F88)","v":""},null,{"$f":"IF(AG240=\"\",\"\",VLOOKUP($Z$3,新人入力!$V$30:$W$41,2,FALSE))","v":""},{"$f":"IF(新人入力!P88=\"\",\"\",新人入力!P88)","v":""},null,null,{"$f":"新人入力!J88","v":""}]
[]
[null,null,null,null,null,null,null,null,null,{"$f":"IF(新人入力!N88=\"\",\"\",新人入力!N88)","v":""},null,null,null,null,null,null,null,null,null,null,null,null,null,null,null,null,null,null,null,null,null,null,null,null,null,null,{"$f":"IF(新人入力!Q88=\"\",\"\",新人入力!Q88)","v":""}]
[]
[]
["新人種目",null,"組","レーン・順","アスリートビブス","名　　　前","学　　校","学年","色","郡市・順位","ベスト記録","女子個人種目１　２ページ目",null,"種目コード",null,null,null,null,null,null,null,null,null,null,null,null,null,"新人種目",null,"組","レーン・順","アスリートビブス","名　　　前","学　　校","学年","色","郡市・順位","ベスト記録","女子個人種目２　２ページ目",null,"種目コード"]
[{"$f":"IF(N246=\"\",\"\",VLOOKUP(N246,P$191:R$216,2))","v":""},{"$f":"IF(N246=\"\",\"\",VLOOKUP(N246,P$191:R$216,3))","v":""},null,null,{"$f":"IF(新人入力!B89=\"\",\"\",新人入力!B89)","v":""},{"$f":"IF(新人入力!E89=\"\",\"\",新人入力!E89)","v":""},{"$f":"IF(F246=\"\",\"\",新人入力!M$4)","v":""},{"$f":"IF(新人入力!F89=\"\",\"\",新人入力!F89)","v":""},null,{"$f":"IF(F246=\"\",\"\",VLOOKUP($Z$3,新人入力!$V$30:$W$41,2,FALSE))","v":""},{"$f":"IF(新人入力!M89=\"\",\"\",新人入力!M89)","v":""},null,null,{"$f":"新人入力!I89","v":""},null,null,null,null,null,null,null,null,null,null,null,null,null,{"$f":"IF(AO246=\"\",\"\",VLOOKUP(AO246,AQ$191:AS$216,2))","v":""},{"$f":"IF(AO246=\"\",\"\",VLOOKUP(AO246,AQ$191:AS$216,3))","v":""},null,null,{"$f":"IF(E246=\"\",\"\",E246)","v":""},{"$f":"IF(新人入力!E89=\"\",\"\",新人入力!E89)","v":""},{"$f":"IF(AG246=\"\",\"\",新人入力!M$4)","v":""},{"$f":"IF(新人入力!F89=\"\",\"\",新人入力!F89)","v":""},null,{"$f":"IF(AG246=\"\",\"\",VLOOKUP($Z$3,新人入力!$V$30:$W$41,2,FALSE))","v":""},{"$f":"IF(新人入力!P89=\"\",\"\",新人入力!P89)","v":""},null,null,{"$f":"新人入力!J89","v":""}]
[]
[null,null,null,null,null,null,null,null,null,{"$f":"IF(新人入力!N89=\"\",\"\",新人入力!N89)","v":""},null,null,null,null,null,null,null,null,null,null,null,null,null,null,null,null,null,null,null,null,null,null,null,null,null,null,{"$f":"IF(新人入力!Q89=\"\",\"\",新人入力!Q89)","v":""}]
[]
[]
["新人種目",null,"組","レーン・順","アスリートビブス","名　　　前","学　　校","学年","色","郡市・順位","ベスト記録",null,null,"種目コード",null,null,null,null,null,null,null,null,null,null,null,null,null,"新人種目",null,"組","レーン・順","アスリートビブス","名　　　前","学　　校","学年","色","郡市・順位","ベスト記録",null,null,"種目コード"]
[{"$f":"IF(N252=\"\",\"\",VLOOKUP(N252,P$191:R$216,2))","v":""},{"$f":"IF(N252=\"\",\"\",VLOOKUP(N252,P$191:R$216,3))","v":""},null,null,{"$f":"IF(新人入力!B90=\"\",\"\",新人入力!B90)","v":""},{"$f":"IF(新人入力!E90=\"\",\"\",新人入力!E90)","v":""},{"$f":"IF(F252=\"\",\"\",新人入力!M$4)","v":""},{"$f":"IF(新人入力!F90=\"\",\"\",新人入力!F90)","v":""},null,{"$f":"IF(F252=\"\",\"\",VLOOKUP($Z$3,新人入力!$V$30:$W$41,2,FALSE))","v":""},{"$f":"IF(新人入力!M90=\"\",\"\",新人入力!M90)","v":""},null,null,{"$f":"新人入力!I90","v":""},null,null,null,null,null,null,null,null,null,null,null,null,null,{"$f":"IF(AO252=\"\",\"\",VLOOKUP(AO252,AQ$191:AS$216,2))","v":""},{"$f":"IF(AO252=\"\",\"\",VLOOKUP(AO252,AQ$191:AS$216,3))","v":""},null,null,{"$f":"IF(E252=\"\",\"\",E252)","v":""},{"$f":"IF(新人入力!E90=\"\",\"\",新人入力!E90)","v":""},{"$f":"IF(AG252=\"\",\"\",新人入力!M$4)","v":""},{"$f":"IF(新人入力!F90=\"\",\"\",新人入力!F90)","v":""},null,{"$f":"IF(AG252=\"\",\"\",VLOOKUP($Z$3,新人入力!$V$30:$W$41,2,FALSE))","v":""},{"$f":"IF(新人入力!P90=\"\",\"\",新人入力!P90)","v":""},null,null,{"$f":"新人入力!J90","v":""}]
[]
[null,null,null,null,null,null,null,null,null,{"$f":"IF(新人入力!N90=\"\",\"\",新人入力!N90)","v":""},null,null,null,null,null,null,null,null,null,null,null,null,null,null,null,null,null,null,null,null,null,null,null,null,null,null,{"$f":"IF(新人入力!Q90=\"\",\"\",新人入力!Q90)","v":""}]
[]
[]
["新人種目",null,"組","レーン・順","アスリートビブス","名　　　前","学　　校","学年","色","郡市・順位","ベスト記録",null,null,"種目コード",null,null,null,null,null,null,null,null,null,null,null,null,null,"新人種目",null,"組","レーン・順","アスリートビブス","名　　　前","学　　校","学年","色","郡市・順位","ベスト記録",null,null,"種目コード"]
[{"$f":"IF(N258=\"\",\"\",VLOOKUP(N258,P$191:R$216,2))","v":""},{"$f":"IF(N258=\"\",\"\",VLOOKUP(N258,P$191:R$216,3))","v":""},null,null,{"$f":"IF(新人入力!B91=\"\",\"\",新人入力!B91)","v":""},{"$f":"IF(新人入力!E91=\"\",\"\",新人入力!E91)","v":""},{"$f":"IF(F258=\"\",\"\",新人入力!M$4)","v":""},{"$f":"IF(新人入力!F91=\"\",\"\",新人入力!F91)","v":""},null,{"$f":"IF(F258=\"\",\"\",VLOOKUP($Z$3,新人入力!$V$30:$W$41,2,FALSE))","v":""},{"$f":"IF(新人入力!M91=\"\",\"\",新人入力!M91)","v":""},null,null,{"$f":"新人入力!I91","v":""},null,null,null,null,null,null,null,null,null,null,null,null,null,{"$f":"IF(AO258=\"\",\"\",VLOOKUP(AO258,AQ$191:AS$216,2))","v":""},{"$f":"IF(AO258=\"\",\"\",VLOOKUP(AO258,AQ$191:AS$216,3))","v":""},null,null,{"$f":"IF(E258=\"\",\"\",E258)","v":""},{"$f":"IF(新人入力!E91=\"\",\"\",新人入力!E91)","v":""},{"$f":"IF(AG258=\"\",\"\",新人入力!M$4)","v":""},{"$f":"IF(新人入力!F91=\"\",\"\",新人入力!F91)","v":""},null,{"$f":"IF(AG258=\"\",\"\",VLOOKUP($Z$3,新人入力!$V$30:$W$41,2,FALSE))","v":""},{"$f":"IF(新人入力!P91=\"\",\"\",新人入力!P91)","v":""},null,null,{"$f":"新人入力!J91","v":""}]
[]
[null,null,null,null,null,null,null,null,null,{"$f":"IF(新人入力!N91=\"\",\"\",新人入力!N91)","v":""},null,null,null,null,null,null,null,null,null,null,null,null,null,null,null,null,null,null,null,null,null,null,null,null,null,null,{"$f":"IF(新人入力!Q91=\"\",\"\",新人入力!Q91)","v":""}]
[]
[]
["新人種目",null,"組","レーン・順","アスリートビブス","名　　　前","学　　校","学年","色","郡市・順位","ベスト記録",null,null,"種目コード",null,null,null,null,null,null,null,null,null,null,null,null,null,"新人種目",null,"組","レーン・順","アスリートビブス","名　　　前","学　　校","学年","色","郡市・順位","ベスト記録",null,null,"種目コード"]
[{"$f":"IF(N264=\"\",\"\",VLOOKUP(N264,P$191:R$216,2))","v":""},{"$f":"IF(N264=\"\",\"\",VLOOKUP(N264,P$191:R$216,3))","v":""},null,null,{"$f":"IF(新人入力!B92=\"\",\"\",新人入力!B92)","v":""},{"$f":"IF(新人入力!E92=\"\",\"\",新人入力!E92)","v":""},{"$f":"IF(F264=\"\",\"\",新人入力!M$4)","v":""},{"$f":"IF(新人入力!F92=\"\",\"\",新人入力!F92)","v":""},null,{"$f":"IF(F264=\"\",\"\",VLOOKUP($Z$3,新人入力!$V$30:$W$41,2,FALSE))","v":""},{"$f":"IF(新人入力!M92=\"\",\"\",新人入力!M92)","v":""},null,null,{"$f":"新人入力!I92","v":""},null,null,null,null,null,null,null,null,null,null,null,null,null,{"$f":"IF(AO264=\"\",\"\",VLOOKUP(AO264,AQ$191:AS$216,2))","v":""},{"$f":"IF(AO264=\"\",\"\",VLOOKUP(AO264,AQ$191:AS$216,3))","v":""},null,null,{"$f":"IF(E264=\"\",\"\",E264)","v":""},{"$f":"IF(新人入力!E92=\"\",\"\",新人入力!E92)","v":""},{"$f":"IF(AG264=\"\",\"\",新人入力!M$4)","v":""},{"$f":"IF(新人入力!F92=\"\",\"\",新人入力!F92)","v":""},null,{"$f":"IF(AG264=\"\",\"\",VLOOKUP($Z$3,新人入力!$V$30:$W$41,2,FALSE))","v":""},{"$f":"IF(新人入力!P92=\"\",\"\",新人入力!P92)","v":""},null,null,{"$f":"新人入力!J92","v":""}]
[]
[null,null,null,null,null,null,null,null,null,{"$f":"IF(新人入力!N92=\"\",\"\",新人入力!N92)","v":""},null,null,null,null,null,null,null,null,null,null,null,null,null,null,null,null,null,null,null,null,null,null,null,null,null,null,{"$f":"IF(新人入力!Q92=\"\",\"\",新人入力!Q92)","v":""}]
[]
[]
["新人種目",null,"組","レーン・順","アスリートビブス","名　　　前","学　　校","学年","色","郡市・順位","ベスト記録",null,null,"種目コード",null,null,null,null,null,null,null,null,null,null,null,null,null,"新人種目",null,"組","レーン・順","アスリートビブス","名　　　前","学　　校","学年","色","郡市・順位","ベスト記録",null,null,"種目コード"]
[{"$f":"IF(N270=\"\",\"\",VLOOKUP(N270,P$191:R$216,2))","v":""},{"$f":"IF(N270=\"\",\"\",VLOOKUP(N270,P$191:R$216,3))","v":""},null,null,{"$f":"IF(新人入力!B93=\"\",\"\",新人入力!B93)","v":""},{"$f":"IF(新人入力!E93=\"\",\"\",新人入力!E93)","v":""},{"$f":"IF(F270=\"\",\"\",新人入力!M$4)","v":""},{"$f":"IF(新人入力!F93=\"\",\"\",新人入力!F93)","v":""},null,{"$f":"IF(F270=\"\",\"\",VLOOKUP($Z$3,新人入力!$V$30:$W$41,2,FALSE))","v":""},{"$f":"IF(新人入力!M93=\"\",\"\",新人入力!M93)","v":""},null,null,{"$f":"新人入力!I93","v":""},null,null,null,null,null,null,null,null,null,null,null,null,null,{"$f":"IF(AO270=\"\",\"\",VLOOKUP(AO270,AQ$191:AS$216,2))","v":""},{"$f":"IF(AO270=\"\",\"\",VLOOKUP(AO270,AQ$191:AS$216,3))","v":""},null,null,{"$f":"IF(E270=\"\",\"\",E270)","v":""},{"$f":"IF(新人入力!E93=\"\",\"\",新人入力!E93)","v":""},{"$f":"IF(AG270=\"\",\"\",新人入力!M$4)","v":""},{"$f":"IF(新人入力!F93=\"\",\"\",新人入力!F93)","v":""},null,{"$f":"IF(AG270=\"\",\"\",VLOOKUP($Z$3,新人入力!$V$30:$W$41,2,FALSE))","v":""},{"$f":"IF(新人入力!P93=\"\",\"\",新人入力!P93)","v":""},null,null,{"$f":"新人入力!J93","v":""}]
[]
[null,null,null,null,null,null,null,null,null,{"$f":"IF(新人入力!N93=\"\",\"\",新人入力!N93)","v":""},null,null,null,null,null,null,null,null,null,null,null,null,null,null,null,null,null,null,null,null,null,null,null,null,null,null,{"$f":"IF(新人入力!Q93=\"\",\"\",新人入力!Q93)","v":""}]
[]
[]
["新人種目",null,"組","レーン・順","アスリートビブス","名　　　前","学　　校","学年","色","郡市・順位","ベスト記録",null,null,"種目コード",null,null,null,null,null,null,null,null,null,null,null,null,null,"新人種目",null,"組","レーン・順","アスリートビブス","名　　　前","学　　校","学年","色","郡市・順位","ベスト記録",null,null,"種目コード"]
[{"$f":"IF(N276=\"\",\"\",VLOOKUP(N276,P$191:R$216,2))","v":""},{"$f":"IF(N276=\"\",\"\",VLOOKUP(N276,P$191:R$216,3))","v":""},null,null,{"$f":"IF(新人入力!B94=\"\",\"\",新人入力!B94)","v":""},{"$f":"IF(新人入力!E94=\"\",\"\",新人入力!E94)","v":""},{"$f":"IF(F276=\"\",\"\",新人入力!M$4)","v":""},{"$f":"IF(新人入力!F94=\"\",\"\",新人入力!F94)","v":""},null,{"$f":"IF(F276=\"\",\"\",VLOOKUP($Z$3,新人入力!$V$30:$W$41,2,FALSE))","v":""},{"$f":"IF(新人入力!M94=\"\",\"\",新人入力!M94)","v":""},null,null,{"$f":"新人入力!I94","v":""},null,null,null,null,null,null,null,null,null,null,null,null,null,{"$f":"IF(AO276=\"\",\"\",VLOOKUP(AO276,AQ$191:AS$216,2))","v":""},{"$f":"IF(AO276=\"\",\"\",VLOOKUP(AO276,AQ$191:AS$216,3))","v":""},null,null,{"$f":"IF(E276=\"\",\"\",E276)","v":""},{"$f":"IF(新人入力!E94=\"\",\"\",新人入力!E94)","v":""},{"$f":"IF(AG276=\"\",\"\",新人入力!M$4)","v":""},{"$f":"IF(新人入力!F94=\"\",\"\",新人入力!F94)","v":""},null,{"$f":"IF(AG276=\"\",\"\",VLOOKUP($Z$3,新人入力!$V$30:$W$41,2,FALSE))","v":""},{"$f":"IF(新人入力!P94=\"\",\"\",新人入力!P94)","v":""},null,null,{"$f":"新人入力!J94","v":""}]
[]
[null,null,null,null,null,null,null,null,null,{"$f":"IF(新人入力!N94=\"\",\"\",新人入力!N94)","v":""},null,null,null,null,null,null,null,null,null,null,null,null,null,null,null,null,null,null,null,null,null,null,null,null,null,null,{"$f":"IF(新人入力!Q94=\"\",\"\",新人入力!Q94)","v":""}]
[]
[]
["新人種目",null,"組","レーン・順","アスリートビブス","名　　　前","学　　校","学年","色","郡市・順位","ベスト記録",null,null,"種目コード",null,null,null,null,null,null,null,null,null,null,null,null,null,"新人種目",null,"組","レーン・順","アスリートビブス","名　　　前","学　　校","学年","色","郡市・順位","ベスト記録",null,null,"種目コード"]
[{"$f":"IF(N282=\"\",\"\",VLOOKUP(N282,P$191:R$216,2))","v":""},{"$f":"IF(N282=\"\",\"\",VLOOKUP(N282,P$191:R$216,3))","v":""},null,null,{"$f":"IF(新人入力!B95=\"\",\"\",新人入力!B95)","v":""},{"$f":"IF(新人入力!E95=\"\",\"\",新人入力!E95)","v":""},{"$f":"IF(F282=\"\",\"\",新人入力!M$4)","v":""},{"$f":"IF(新人入力!F95=\"\",\"\",新人入力!F95)","v":""},null,{"$f":"IF(F282=\"\",\"\",VLOOKUP($Z$3,新人入力!$V$30:$W$41,2,FALSE))","v":""},{"$f":"IF(新人入力!M95=\"\",\"\",新人入力!M95)","v":""},null,null,{"$f":"新人入力!I95","v":""},null,null,null,null,null,null,null,null,null,null,null,null,null,{"$f":"IF(AO282=\"\",\"\",VLOOKUP(AO282,AQ$191:AS$216,2))","v":""},{"$f":"IF(AO282=\"\",\"\",VLOOKUP(AO282,AQ$191:AS$216,3))","v":""},null,null,{"$f":"IF(E282=\"\",\"\",E282)","v":""},{"$f":"IF(新人入力!E95=\"\",\"\",新人入力!E95)","v":""},{"$f":"IF(AG282=\"\",\"\",新人入力!M$4)","v":""},{"$f":"IF(新人入力!F95=\"\",\"\",新人入力!F95)","v":""},null,{"$f":"IF(AG282=\"\",\"\",VLOOKUP($Z$3,新人入力!$V$30:$W$41,2,FALSE))","v":""},{"$f":"IF(新人入力!P95=\"\",\"\",新人入力!P95)","v":""},null,null,{"$f":"新人入力!J95","v":""}]
[]
[null,null,null,null,null,null,null,null,null,{"$f":"IF(新人入力!N95=\"\",\"\",新人入力!N95)","v":""},null,null,null,null,null,null,null,null,null,null,null,null,null,null,null,null,null,null,null,null,null,null,null,null,null,null,{"$f":"IF(新人入力!Q95=\"\",\"\",新人入力!Q95)","v":""}]
[]
[]
["新人種目",null,"組","レーン・順","アスリートビブス","名　　　前","学　　校","学年","色","郡市・順位","ベスト記録",null,null,"種目コード",null,null,null,null,null,null,null,null,null,null,null,null,null,"新人種目",null,"組","レーン・順","アスリートビブス","名　　　前","学　　校","学年","色","郡市・順位","ベスト記録",null,null,"種目コード"]
[{"$f":"IF(N288=\"\",\"\",VLOOKUP(N288,P$191:R$216,2))","v":""},{"$f":"IF(N288=\"\",\"\",VLOOKUP(N288,P$191:R$216,3))","v":""},null,null,{"$f":"IF(新人入力!B96=\"\",\"\",新人入力!B96)","v":""},{"$f":"IF(新人入力!E96=\"\",\"\",新人入力!E96)","v":""},{"$f":"IF(F288=\"\",\"\",新人入力!M$4)","v":""},{"$f":"IF(新人入力!F96=\"\",\"\",新人入力!F96)","v":""},null,{"$f":"IF(F288=\"\",\"\",VLOOKUP($Z$3,新人入力!$V$30:$W$41,2,FALSE))","v":""},{"$f":"IF(新人入力!M96=\"\",\"\",新人入力!M96)","v":""},null,null,{"$f":"新人入力!I96","v":""},null,null,null,null,null,null,null,null,null,null,null,null,null,{"$f":"IF(AO288=\"\",\"\",VLOOKUP(AO288,AQ$191:AS$216,2))","v":""},{"$f":"IF(AO288=\"\",\"\",VLOOKUP(AO288,AQ$191:AS$216,3))","v":""},null,null,{"$f":"IF(E288=\"\",\"\",E288)","v":""},{"$f":"IF(新人入力!E96=\"\",\"\",新人入力!E96)","v":""},{"$f":"IF(AG288=\"\",\"\",新人入力!M$4)","v":""},{"$f":"IF(新人入力!F96=\"\",\"\",新人入力!F96)","v":""},null,{"$f":"IF(AG288=\"\",\"\",VLOOKUP($Z$3,新人入力!$V$30:$W$41,2,FALSE))","v":""},{"$f":"IF(新人入力!P96=\"\",\"\",新人入力!P96)","v":""},null,null,{"$f":"新人入力!J96","v":""}]
[]
[null,null,null,null,null,null,null,null,null,{"$f":"IF(新人入力!N96=\"\",\"\",新人入力!N96)","v":""},null,null,null,null,null,null,null,null,null,null,null,null,null,null,null,null,null,null,null,null,null,null,null,null,null,null,{"$f":"IF(新人入力!Q96=\"\",\"\",新人入力!Q96)","v":""}]
[]
[]
["新人種目",null,"組","レーン・順","アスリートビブス","名　　　前","学　　校","学年","色","郡市・順位","ベスト記録",null,null,"種目コード",null,null,null,null,null,null,null,null,null,null,null,null,null,"新人種目",null,"組","レーン・順","アスリートビブス","名　　　前","学　　校","学年","色","郡市・順位","ベスト記録",null,null,"種目コード"]
[{"$f":"IF(N294=\"\",\"\",VLOOKUP(N294,P$191:R$216,2))","v":""},{"$f":"IF(N294=\"\",\"\",VLOOKUP(N294,P$191:R$216,3))","v":""},null,null,{"$f":"IF(新人入力!B97=\"\",\"\",新人入力!B97)","v":""},{"$f":"IF(新人入力!E97=\"\",\"\",新人入力!E97)","v":""},{"$f":"IF(F294=\"\",\"\",新人入力!M$4)","v":""},{"$f":"IF(新人入力!F97=\"\",\"\",新人入力!F97)","v":""},null,{"$f":"IF(F294=\"\",\"\",VLOOKUP($Z$3,新人入力!$V$30:$W$41,2,FALSE))","v":""},{"$f":"IF(新人入力!M97=\"\",\"\",新人入力!M97)","v":""},null,null,{"$f":"新人入力!I97","v":""},null,null,null,null,null,null,null,null,null,null,null,null,null,{"$f":"IF(AO294=\"\",\"\",VLOOKUP(AO294,AQ$191:AS$216,2))","v":""},{"$f":"IF(AO294=\"\",\"\",VLOOKUP(AO294,AQ$191:AS$216,3))","v":""},null,null,{"$f":"IF(E294=\"\",\"\",E294)","v":""},{"$f":"IF(新人入力!E97=\"\",\"\",新人入力!E97)","v":""},{"$f":"IF(AG294=\"\",\"\",新人入力!M$4)","v":""},{"$f":"IF(新人入力!F97=\"\",\"\",新人入力!F97)","v":""},null,{"$f":"IF(AG294=\"\",\"\",VLOOKUP($Z$3,新人入力!$V$30:$W$41,2,FALSE))","v":""},{"$f":"IF(新人入力!P97=\"\",\"\",新人入力!P97)","v":""},null,null,{"$f":"新人入力!J97","v":""}]
[]
[null,null,null,null,null,null,null,null,null,{"$f":"IF(新人入力!N97=\"\",\"\",新人入力!N97)","v":""},null,null,null,null,null,null,null,null,null,null,null,null,null,null,null,null,null,null,null,null,null,null,null,null,null,null,{"$f":"IF(新人入力!Q97=\"\",\"\",新人入力!Q97)","v":""}]
[]
[]
["新人種目",null,"組","レーン・順","アスリートビブス","名　　　前","学　　校","学年","色","郡市・順位","ベスト記録",null,null,"種目コード",null,null,null,null,null,null,null,null,null,null,null,null,null,"新人種目",null,"組","レーン・順","アスリートビブス","名　　　前","学　　校","学年","色","郡市・順位","ベスト記録",null,null,"種目コード"]
[{"$f":"IF(N300=\"\",\"\",VLOOKUP(N300,P$191:R$216,2))","v":""},{"$f":"IF(N300=\"\",\"\",VLOOKUP(N300,P$191:R$216,3))","v":""},null,null,{"$f":"IF(新人入力!B98=\"\",\"\",新人入力!B98)","v":""},{"$f":"IF(新人入力!E98=\"\",\"\",新人入力!E98)","v":""},{"$f":"IF(F300=\"\",\"\",新人入力!M$4)","v":""},{"$f":"IF(新人入力!F98=\"\",\"\",新人入力!F98)","v":""},null,{"$f":"IF(F300=\"\",\"\",VLOOKUP($Z$3,新人入力!$V$30:$W$41,2,FALSE))","v":""},{"$f":"IF(新人入力!M98=\"\",\"\",新人入力!M98)","v":""},null,null,{"$f":"新人入力!I98","v":""},null,null,null,null,null,null,null,null,null,null,null,null,null,{"$f":"IF(AO300=\"\",\"\",VLOOKUP(AO300,AQ$191:AS$216,2))","v":""},{"$f":"IF(AO300=\"\",\"\",VLOOKUP(AO300,AQ$191:AS$216,3))","v":""},null,null,{"$f":"IF(E300=\"\",\"\",E300)","v":""},{"$f":"IF(新人入力!E98=\"\",\"\",新人入力!E98)","v":""},{"$f":"IF(AG300=\"\",\"\",新人入力!M$4)","v":""},{"$f":"IF(新人入力!F98=\"\",\"\",新人入力!F98)","v":""},null,{"$f":"IF(AG300=\"\",\"\",VLOOKUP($Z$3,新人入力!$V$30:$W$41,2,FALSE))","v":""},{"$f":"IF(新人入力!P98=\"\",\"\",新人入力!P98)","v":""},null,null,{"$f":"新人入力!J98","v":""}]
[]
[null,null,null,null,null,null,null,null,null,{"$f":"IF(新人入力!N98=\"\",\"\",新人入力!N98)","v":""},null,null,null,null,null,null,null,null,null,null,null,null,null,null,null,null,null,null,null,null,null,null,null,null,null,null,{"$f":"IF(新人入力!Q198=\"\",\"\",新人入力!Q98)","v":""}]
[]
[]
["新人種目",null,"組","レーン・順","アスリートビブス","名　　　前","学　　校","学年","色","郡市・順位","ベスト記録","女子個人種目１　３ページ目",null,"種目コード",null,null,null,null,null,null,null,null,null,null,null,null,null,"新人種目",null,"組","レーン・順","アスリートビブス","名　　　前","学　　校","学年","色","郡市・順位","ベスト記録","女子個人種目２　３ページ目",null,"種目コード"]
[{"$f":"IF(N306=\"\",\"\",VLOOKUP(N306,P$191:R$216,2))","v":""},{"$f":"IF(N306=\"\",\"\",VLOOKUP(N306,P$191:R$216,3))","v":""},null,null,{"$f":"IF(新人入力!B99=\"\",\"\",新人入力!B99)","v":""},{"$f":"IF(新人入力!E99=\"\",\"\",新人入力!E99)","v":""},{"$f":"IF(F306=\"\",\"\",新人入力!M$4)","v":""},{"$f":"IF(新人入力!F99=\"\",\"\",新人入力!F99)","v":""},null,{"$f":"IF(F306=\"\",\"\",VLOOKUP($Z$3,新人入力!$V$30:$W$41,2,FALSE))","v":""},{"$f":"IF(新人入力!M99=\"\",\"\",新人入力!M99)","v":""},null,null,{"$f":"新人入力!I99","v":""},null,null,null,null,null,null,null,null,null,null,null,null,null,{"$f":"IF(AO306=\"\",\"\",VLOOKUP(AO306,AQ$191:AS$216,2))","v":""},{"$f":"IF(AO306=\"\",\"\",VLOOKUP(AO306,AQ$191:AS$216,3))","v":""},null,null,{"$f":"IF(E306=\"\",\"\",E306)","v":""},{"$f":"IF(新人入力!E99=\"\",\"\",新人入力!E99)","v":""},{"$f":"IF(AG306=\"\",\"\",新人入力!M$4)","v":""},{"$f":"IF(新人入力!F99=\"\",\"\",新人入力!F99)","v":""},null,{"$f":"IF(AG306=\"\",\"\",VLOOKUP($Z$3,新人入力!$V$30:$W$41,2,FALSE))","v":""},{"$f":"IF(新人入力!P99=\"\",\"\",新人入力!P99)","v":""},null,null,{"$f":"新人入力!J99","v":""}]
[]
[null,null,null,null,null,null,null,null,null,{"$f":"IF(新人入力!N99=\"\",\"\",新人入力!N99)","v":""},null,null,null,null,null,null,null,null,null,null,null,null,null,null,null,null,null,null,null,null,null,null,null,null,null,null,{"$f":"IF(新人入力!Q99=\"\",\"\",新人入力!Q99)","v":""}]
[]
[]
["新人種目",null,"組","レーン・順","アスリートビブス","名　　　前","学　　校","学年","色","郡市・順位","ベスト記録",null,null,"種目コード",null,null,null,null,null,null,null,null,null,null,null,null,null,"新人種目",null,"組","レーン・順","アスリートビブス","名　　　前","学　　校","学年","色","郡市・順位","ベスト記録",null,null,"種目コード"]
[{"$f":"IF(N312=\"\",\"\",VLOOKUP(N312,P$191:R$216,2))","v":""},{"$f":"IF(N312=\"\",\"\",VLOOKUP(N312,P$191:R$216,3))","v":""},null,null,{"$f":"IF(新人入力!B100=\"\",\"\",新人入力!B100)","v":""},{"$f":"IF(新人入力!E100=\"\",\"\",新人入力!E100)","v":""},{"$f":"IF(F312=\"\",\"\",新人入力!M$4)","v":""},{"$f":"IF(新人入力!F100=\"\",\"\",新人入力!F100)","v":""},null,{"$f":"IF(F312=\"\",\"\",VLOOKUP($Z$3,新人入力!$V$30:$W$41,2,FALSE))","v":""},{"$f":"IF(新人入力!M100=\"\",\"\",新人入力!M100)","v":""},null,null,{"$f":"新人入力!I100","v":""},null,null,null,null,null,null,null,null,null,null,null,null,null,{"$f":"IF(AO312=\"\",\"\",VLOOKUP(AO312,AQ$191:AS$216,2))","v":""},{"$f":"IF(AO312=\"\",\"\",VLOOKUP(AO312,AQ$191:AS$216,3))","v":""},null,null,{"$f":"IF(E312=\"\",\"\",E312)","v":""},{"$f":"IF(新人入力!E100=\"\",\"\",新人入力!E100)","v":""},{"$f":"IF(AG312=\"\",\"\",新人入力!M$4)","v":""},{"$f":"IF(新人入力!F100=\"\",\"\",新人入力!F100)","v":""},null,{"$f":"IF(AG312=\"\",\"\",VLOOKUP($Z$3,新人入力!$V$30:$W$41,2,FALSE))","v":""},{"$f":"IF(新人入力!P100=\"\",\"\",新人入力!P100)","v":""},null,null,{"$f":"新人入力!J100","v":""}]
[]
[null,null,null,null,null,null,null,null,null,{"$f":"IF(新人入力!N100=\"\",\"\",新人入力!N100)","v":""},null,null,null,null,null,null,null,null,null,null,null,null,null,null,null,null,null,null,null,null,null,null,null,null,null,null,{"$f":"IF(新人入力!Q100=\"\",\"\",新人入力!Q100)","v":""}]
[]
[]
["新人種目",null,"組","レーン・順","アスリートビブス","名　　　前","学　　校","学年","色","郡市・順位","ベスト記録",null,null,"種目コード",null,null,null,null,null,null,null,null,null,null,null,null,null,"新人種目",null,"組","レーン・順","アスリートビブス","名　　　前","学　　校","学年","色","郡市・順位","ベスト記録",null,null,"種目コード"]
[{"$f":"IF(N318=\"\",\"\",VLOOKUP(N318,P$191:R$216,2))","v":""},{"$f":"IF(N318=\"\",\"\",VLOOKUP(N318,P$191:R$216,3))","v":""},null,null,{"$f":"IF(新人入力!B101=\"\",\"\",新人入力!B101)","v":""},{"$f":"IF(新人入力!E101=\"\",\"\",新人入力!E101)","v":""},{"$f":"IF(F318=\"\",\"\",新人入力!M$4)","v":""},{"$f":"IF(新人入力!F101=\"\",\"\",新人入力!F101)","v":""},null,{"$f":"IF(F318=\"\",\"\",VLOOKUP($Z$3,新人入力!$V$30:$W$41,2,FALSE))","v":""},{"$f":"IF(新人入力!M101=\"\",\"\",新人入力!M101)","v":""},null,null,{"$f":"新人入力!I101","v":""},null,null,null,null,null,null,null,null,null,null,null,null,null,{"$f":"IF(AO318=\"\",\"\",VLOOKUP(AO318,AQ$191:AS$216,2))","v":""},{"$f":"IF(AO318=\"\",\"\",VLOOKUP(AO318,AQ$191:AS$216,3))","v":""},null,null,{"$f":"IF(E318=\"\",\"\",E318)","v":""},{"$f":"IF(新人入力!E101=\"\",\"\",新人入力!E101)","v":""},{"$f":"IF(AG318=\"\",\"\",新人入力!M$4)","v":""},{"$f":"IF(新人入力!F101=\"\",\"\",新人入力!F101)","v":""},null,{"$f":"IF(AG318=\"\",\"\",VLOOKUP($Z$3,新人入力!$V$30:$W$41,2,FALSE))","v":""},{"$f":"IF(新人入力!P101=\"\",\"\",新人入力!P101)","v":""},null,null,{"$f":"新人入力!J101","v":""}]
[]
[null,null,null,null,null,null,null,null,null,{"$f":"IF(新人入力!N101=\"\",\"\",新人入力!N101)","v":""},null,null,null,null,null,null,null,null,null,null,null,null,null,null,null,null,null,null,null,null,null,null,null,null,null,null,{"$f":"IF(新人入力!Q101=\"\",\"\",新人入力!Q101)","v":""}]
[]
[]
["新人種目",null,"組","レーン・順","アスリートビブス","名　　　前","学　　校","学年","色","郡市・順位","ベスト記録",null,null,"種目コード",null,null,null,null,null,null,null,null,null,null,null,null,null,"新人種目",null,"組","レーン・順","アスリートビブス","名　　　前","学　　校","学年","色","郡市・順位","ベスト記録",null,null,"種目コード"]
[{"$f":"IF(N324=\"\",\"\",VLOOKUP(N324,P$191:R$216,2))","v":""},{"$f":"IF(N324=\"\",\"\",VLOOKUP(N324,P$191:R$216,3))","v":""},null,null,{"$f":"IF(新人入力!B102=\"\",\"\",新人入力!B102)","v":""},{"$f":"IF(新人入力!E102=\"\",\"\",新人入力!E102)","v":""},{"$f":"IF(F324=\"\",\"\",新人入力!M$4)","v":""},{"$f":"IF(新人入力!F102=\"\",\"\",新人入力!F102)","v":""},null,{"$f":"IF(F324=\"\",\"\",VLOOKUP($Z$3,新人入力!$V$30:$W$41,2,FALSE))","v":""},{"$f":"IF(新人入力!M102=\"\",\"\",新人入力!M102)","v":""},null,null,{"$f":"新人入力!I102","v":""},null,null,null,null,null,null,null,null,null,null,null,null,null,{"$f":"IF(AO324=\"\",\"\",VLOOKUP(AO324,AQ$191:AS$216,2))","v":""},{"$f":"IF(AO324=\"\",\"\",VLOOKUP(AO324,AQ$191:AS$216,3))","v":""},null,null,{"$f":"IF(E324=\"\",\"\",E324)","v":""},{"$f":"IF(新人入力!E102=\"\",\"\",新人入力!E102)","v":""},{"$f":"IF(AG324=\"\",\"\",新人入力!M$4)","v":""},{"$f":"IF(新人入力!F102=\"\",\"\",新人入力!F102)","v":""},null,{"$f":"IF(AG324=\"\",\"\",VLOOKUP($Z$3,新人入力!$V$30:$W$41,2,FALSE))","v":""},{"$f":"IF(新人入力!P102=\"\",\"\",新人入力!P102)","v":""},null,null,{"$f":"新人入力!J102","v":""}]
[]
[null,null,null,null,null,null,null,null,null,{"$f":"IF(新人入力!N102=\"\",\"\",新人入力!N102)","v":""},null,null,null,null,null,null,null,null,null,null,null,null,null,null,null,null,null,null,null,null,null,null,null,null,null,null,{"$f":"IF(新人入力!Q102=\"\",\"\",新人入力!Q102)","v":""}]
[]
[]
["新人種目",null,"組","レーン・順","アスリートビブス","名　　　前","学　　校","学年","色","郡市・順位","ベスト記録",null,null,"種目コード",null,null,null,null,null,null,null,null,null,null,null,null,null,"新人種目",null,"組","レーン・順","アスリートビブス","名　　　前","学　　校","学年","色","郡市・順位","ベスト記録",null,null,"種目コード"]
[{"$f":"IF(N330=\"\",\"\",VLOOKUP(N330,P$191:R$216,2))","v":""},{"$f":"IF(N330=\"\",\"\",VLOOKUP(N330,P$191:R$216,3))","v":""},null,null,{"$f":"IF(新人入力!B103=\"\",\"\",新人入力!B103)","v":""},{"$f":"IF(新人入力!E103=\"\",\"\",新人入力!E103)","v":""},{"$f":"IF(F330=\"\",\"\",新人入力!M$4)","v":""},{"$f":"IF(新人入力!F103=\"\",\"\",新人入力!F103)","v":""},null,{"$f":"IF(F330=\"\",\"\",VLOOKUP($Z$3,新人入力!$V$30:$W$41,2,FALSE))","v":""},{"$f":"IF(新人入力!M103=\"\",\"\",新人入力!M103)","v":""},null,null,{"$f":"新人入力!I103","v":""},null,null,null,null,null,null,null,null,null,null,null,null,null,{"$f":"IF(AO330=\"\",\"\",VLOOKUP(AO330,AQ$191:AS$216,2))","v":""},{"$f":"IF(AO330=\"\",\"\",VLOOKUP(AO330,AQ$191:AS$216,3))","v":""},null,null,{"$f":"IF(E330=\"\",\"\",E330)","v":""},{"$f":"IF(新人入力!E103=\"\",\"\",新人入力!E103)","v":""},{"$f":"IF(AG330=\"\",\"\",新人入力!M$4)","v":""},{"$f":"IF(新人入力!F103=\"\",\"\",新人入力!F103)","v":""},null,{"$f":"IF(AG330=\"\",\"\",VLOOKUP($Z$3,新人入力!$V$30:$W$41,2,FALSE))","v":""},{"$f":"IF(新人入力!P103=\"\",\"\",新人入力!P103)","v":""},null,null,{"$f":"新人入力!J103","v":""}]
[]
[null,null,null,null,null,null,null,null,null,{"$f":"IF(新人入力!N103=\"\",\"\",新人入力!N103)","v":""},null,null,null,null,null,null,null,null,null,null,null,null,null,null,null,null,null,null,null,null,null,null,null,null,null,null,{"$f":"IF(新人入力!Q103=\"\",\"\",新人入力!Q103)","v":""}]
[]
[]
["新人種目",null,"組","レーン・順","アスリートビブス","名　　　前","学　　校","学年","色","郡市・順位","ベスト記録",null,null,"種目コード",null,null,null,null,null,null,null,null,null,null,null,null,null,"新人種目",null,"組","レーン・順","アスリートビブス","名　　　前","学　　校","学年","色","郡市・順位","ベスト記録",null,null,"種目コード"]
[{"$f":"IF(N336=\"\",\"\",VLOOKUP(N336,P$191:R$216,2))","v":""},{"$f":"IF(N336=\"\",\"\",VLOOKUP(N336,P$191:R$216,3))","v":""},null,null,{"$f":"IF(新人入力!B104=\"\",\"\",新人入力!B104)","v":""},{"$f":"IF(新人入力!E104=\"\",\"\",新人入力!E104)","v":""},{"$f":"IF(F336=\"\",\"\",新人入力!M$4)","v":""},{"$f":"IF(新人入力!F104=\"\",\"\",新人入力!F104)","v":""},null,{"$f":"IF(F336=\"\",\"\",VLOOKUP($Z$3,新人入力!$V$30:$W$41,2,FALSE))","v":""},{"$f":"IF(新人入力!M104=\"\",\"\",新人入力!M104)","v":""},null,null,{"$f":"新人入力!I104","v":""},null,null,null,null,null,null,null,null,null,null,null,null,null,{"$f":"IF(AO336=\"\",\"\",VLOOKUP(AO336,AQ$191:AS$216,2))","v":""},{"$f":"IF(AO336=\"\",\"\",VLOOKUP(AO336,AQ$191:AS$216,3))","v":""},null,null,{"$f":"IF(E336=\"\",\"\",E336)","v":""},{"$f":"IF(新人入力!E104=\"\",\"\",新人入力!E104)","v":""},{"$f":"IF(AG336=\"\",\"\",新人入力!M$4)","v":""},{"$f":"IF(新人入力!F104=\"\",\"\",新人入力!F104)","v":""},null,{"$f":"IF(AG336=\"\",\"\",VLOOKUP($Z$3,新人入力!$V$30:$W$41,2,FALSE))","v":""},{"$f":"IF(新人入力!P104=\"\",\"\",新人入力!P104)","v":""},null,null,{"$f":"新人入力!J104","v":""}]
[]
[null,null,null,null,null,null,null,null,null,{"$f":"IF(新人入力!N104=\"\",\"\",新人入力!N104)","v":""},null,null,null,null,null,null,null,null,null,null,null,null,null,null,null,null,null,null,null,null,null,null,null,null,null,null,{"$f":"IF(新人入力!Q104=\"\",\"\",新人入力!Q104)","v":""}]
[]
[]
["新人種目",null,"組","レーン・順","アスリートビブス","名　　　前","学　　校","学年","色","郡市・順位","ベスト記録",null,null,"種目コード",null,null,null,null,null,null,null,null,null,null,null,null,null,"新人種目",null,"組","レーン・順","アスリートビブス","名　　　前","学　　校","学年","色","郡市・順位","ベスト記録",null,null,"種目コード"]
[{"$f":"IF(N342=\"\",\"\",VLOOKUP(N342,P$191:R$216,2))","v":""},{"$f":"IF(N342=\"\",\"\",VLOOKUP(N342,P$191:R$216,3))","v":""},null,null,{"$f":"IF(新人入力!B105=\"\",\"\",新人入力!B105)","v":""},{"$f":"IF(新人入力!E105=\"\",\"\",新人入力!E105)","v":""},{"$f":"IF(F342=\"\",\"\",新人入力!M$4)","v":""},{"$f":"IF(新人入力!F105=\"\",\"\",新人入力!F105)","v":""},null,{"$f":"IF(F342=\"\",\"\",VLOOKUP($Z$3,新人入力!$V$30:$W$41,2,FALSE))","v":""},{"$f":"IF(新人入力!M105=\"\",\"\",新人入力!M105)","v":""},null,null,{"$f":"新人入力!I105","v":""},null,null,null,null,null,null,null,null,null,null,null,null,null,{"$f":"IF(AO342=\"\",\"\",VLOOKUP(AO342,AQ$191:AS$216,2))","v":""},{"$f":"IF(AO342=\"\",\"\",VLOOKUP(AO342,AQ$191:AS$216,3))","v":""},null,null,{"$f":"IF(E342=\"\",\"\",E342)","v":""},{"$f":"IF(新人入力!E105=\"\",\"\",新人入力!E105)","v":""},{"$f":"IF(AG342=\"\",\"\",新人入力!M$4)","v":""},{"$f":"IF(新人入力!F105=\"\",\"\",新人入力!F105)","v":""},null,{"$f":"IF(AG342=\"\",\"\",VLOOKUP($Z$3,新人入力!$V$30:$W$41,2,FALSE))","v":""},{"$f":"IF(新人入力!P105=\"\",\"\",新人入力!P105)","v":""},null,null,{"$f":"新人入力!J105","v":""}]
[]
[null,null,null,null,null,null,null,null,null,{"$f":"IF(新人入力!N105=\"\",\"\",新人入力!N105)","v":""},null,null,null,null,null,null,null,null,null,null,null,null,null,null,null,null,null,null,null,null,null,null,null,null,null,null,{"$f":"IF(新人入力!Q105=\"\",\"\",新人入力!Q105)","v":""}]
[]
[]
["新人種目",null,"組","レーン・順","アスリートビブス","名　　　前","学　　校","学年","色","郡市・順位","ベスト記録",null,null,"種目コード",null,null,null,null,null,null,null,null,null,null,null,null,null,"新人種目",null,"組","レーン・順","アスリートビブス","名　　　前","学　　校","学年","色","郡市・順位","ベスト記録",null,null,"種目コード"]
[{"$f":"IF(N348=\"\",\"\",VLOOKUP(N348,P$191:R$216,2))","v":""},{"$f":"IF(N348=\"\",\"\",VLOOKUP(N348,P$191:R$216,3))","v":""},null,null,{"$f":"IF(新人入力!B106=\"\",\"\",新人入力!B106)","v":""},{"$f":"IF(新人入力!E106=\"\",\"\",新人入力!E106)","v":""},{"$f":"IF(F348=\"\",\"\",新人入力!M$4)","v":""},{"$f":"IF(新人入力!F106=\"\",\"\",新人入力!F106)","v":""},null,{"$f":"IF(F348=\"\",\"\",VLOOKUP($Z$3,新人入力!$V$30:$W$41,2,FALSE))","v":""},{"$f":"IF(新人入力!M106=\"\",\"\",新人入力!M106)","v":""},null,null,{"$f":"新人入力!I106","v":""},null,null,null,null,null,null,null,null,null,null,null,null,null,{"$f":"IF(AO348=\"\",\"\",VLOOKUP(AO348,AQ$191:AS$216,2))","v":""},{"$f":"IF(AO348=\"\",\"\",VLOOKUP(AO348,AQ$191:AS$216,3))","v":""},null,null,{"$f":"IF(E348=\"\",\"\",E348)","v":""},{"$f":"IF(新人入力!E106=\"\",\"\",新人入力!E106)","v":""},{"$f":"IF(AG348=\"\",\"\",新人入力!M$4)","v":""},{"$f":"IF(新人入力!F106=\"\",\"\",新人入力!F106)","v":""},null,{"$f":"IF(AG348=\"\",\"\",VLOOKUP($Z$3,新人入力!$V$30:$W$41,2,FALSE))","v":""},{"$f":"IF(新人入力!P106=\"\",\"\",新人入力!P106)","v":""},null,null,{"$f":"新人入力!J106","v":""}]
[]
[null,null,null,null,null,null,null,null,null,{"$f":"IF(新人入力!N106=\"\",\"\",新人入力!N106)","v":""},null,null,null,null,null,null,null,null,null,null,null,null,null,null,null,null,null,null,null,null,null,null,null,null,null,null,{"$f":"IF(新人入力!Q106=\"\",\"\",新人入力!Q106)","v":""}]
[]
[]
["新人種目",null,"組","レーン・順","アスリートビブス","名　　　前","学　　校","学年","色","郡市・順位","ベスト記録",null,null,"種目コード",null,null,null,null,null,null,null,null,null,null,null,null,null,"新人種目",null,"組","レーン・順","アスリートビブス","名　　　前","学　　校","学年","色","郡市・順位","ベスト記録",null,null,"種目コード"]
[{"$f":"IF(N354=\"\",\"\",VLOOKUP(N354,P$191:R$216,2))","v":""},{"$f":"IF(N354=\"\",\"\",VLOOKUP(N354,P$191:R$216,3))","v":""},null,null,{"$f":"IF(新人入力!B107=\"\",\"\",新人入力!B107)","v":""},{"$f":"IF(新人入力!E107=\"\",\"\",新人入力!E107)","v":""},{"$f":"IF(F354=\"\",\"\",新人入力!M$4)","v":""},{"$f":"IF(新人入力!F107=\"\",\"\",新人入力!F107)","v":""},null,{"$f":"IF(F354=\"\",\"\",VLOOKUP($Z$3,新人入力!$V$30:$W$41,2,FALSE))","v":""},{"$f":"IF(新人入力!M107=\"\",\"\",新人入力!M107)","v":""},null,null,{"$f":"新人入力!I107","v":""},null,null,null,null,null,null,null,null,null,null,null,null,null,{"$f":"IF(AO354=\"\",\"\",VLOOKUP(AO354,AQ$191:AS$216,2))","v":""},{"$f":"IF(AO354=\"\",\"\",VLOOKUP(AO354,AQ$191:AS$216,3))","v":""},null,null,{"$f":"IF(E354=\"\",\"\",E354)","v":""},{"$f":"IF(新人入力!E107=\"\",\"\",新人入力!E107)","v":""},{"$f":"IF(AG354=\"\",\"\",新人入力!M$4)","v":""},{"$f":"IF(新人入力!F107=\"\",\"\",新人入力!F107)","v":""},null,{"$f":"IF(AG354=\"\",\"\",VLOOKUP($Z$3,新人入力!$V$30:$W$41,2,FALSE))","v":""},{"$f":"IF(新人入力!P107=\"\",\"\",新人入力!P107)","v":""},null,null,{"$f":"新人入力!J107","v":""}]
[]
[null,null,null,null,null,null,null,null,null,{"$f":"IF(新人入力!N107=\"\",\"\",新人入力!N107)","v":""},null,null,null,null,null,null,null,null,null,null,null,null,null,null,null,null,null,null,null,null,null,null,null,null,null,null,{"$f":"IF(新人入力!Q107=\"\",\"\",新人入力!Q107)","v":""}]
[]
[]
["新人種目",null,"組","レーン・順","アスリートビブス","名　　　前","学　　校","学年","色","郡市・順位","ベスト記録",null,null,"種目コード",null,null,null,null,null,null,null,null,null,null,null,null,null,"新人種目",null,"組","レーン・順","アスリートビブス","名　　　前","学　　校","学年","色","郡市・順位","ベスト記録",null,null,"種目コード"]
[{"$f":"IF(N360=\"\",\"\",VLOOKUP(N360,P$191:R$216,2))","v":""},{"$f":"IF(N360=\"\",\"\",VLOOKUP(N360,P$191:R$216,3))","v":""},null,null,{"$f":"IF(新人入力!B108=\"\",\"\",新人入力!B108)","v":""},{"$f":"IF(新人入力!E108=\"\",\"\",新人入力!E108)","v":""},{"$f":"IF(F360=\"\",\"\",新人入力!M$4)","v":""},{"$f":"IF(新人入力!F108=\"\",\"\",新人入力!F108)","v":""},null,{"$f":"IF(F360=\"\",\"\",VLOOKUP($Z$3,新人入力!$V$30:$W$41,2,FALSE))","v":""},{"$f":"IF(新人入力!M108=\"\",\"\",新人入力!M108)","v":""},null,null,{"$f":"新人入力!I108","v":""},null,null,null,null,null,null,null,null,null,null,null,null,null,{"$f":"IF(AO360=\"\",\"\",VLOOKUP(AO360,AQ$191:AS$216,2))","v":""},{"$f":"IF(AO360=\"\",\"\",VLOOKUP(AO360,AQ$191:AS$216,3))","v":""},null,null,{"$f":"IF(E360=\"\",\"\",E360)","v":""},{"$f":"IF(新人入力!E108=\"\",\"\",新人入力!E108)","v":""},{"$f":"IF(AG360=\"\",\"\",新人入力!M$4)","v":""},{"$f":"IF(新人入力!F108=\"\",\"\",新人入力!F108)","v":""},null,{"$f":"IF(AG360=\"\",\"\",VLOOKUP($Z$3,新人入力!$V$30:$W$41,2,FALSE))","v":""},{"$f":"IF(新人入力!P108=\"\",\"\",新人入力!P108)","v":""},null,null,{"$f":"新人入力!J108","v":""}]
[]
[null,null,null,null,null,null,null,null,null,{"$f":"IF(新人入力!N108=\"\",\"\",新人入力!N108)","v":""},null,null,null,null,null,null,null,null,null,null,null,null,null,null,null,null,null,null,null,null,null,null,null,null,null,null,{"$f":"IF(新人入力!Q108=\"\",\"\",新人入力!Q108)","v":""}]

{"sheet":"新人リレー","index":5,"n_rows":70,"n_cols":12,"rows_kept":70,"cut":false,"hidden":false,"merged":[[69,7,70,8],[67,7,68,8],[65,7,66,8],[59,9,70,9],[63,7,64,8],[48,7,49,8],[46,7,47,8],[44,7,45,8],[5,7,5,8],[43,7,43,8],[31,7,32,8],[29,7,30,8],[27,7,28,8],[52,7,53,8],[14,7,15,8],[12,7,13,8],[58,0,58,1],[58,7,58,8],[54,7,55,8],[59,2,70,2],[59,3,70,3],[59,4,70,4],[59,5,60,5],[67,5,68,5],[59,11,70,11],[60,0,60,1],[61,0,68,1],[61,5,62,5],[61,6,62,6],[63,5,64,5],[63,6,64,6],[65,5,66,5],[59,6,60,6],[69,5,70,5],[59,10,70,10],[65,6,66,6],[67,6,68,6],[69,6,70,6],[61,7,62,8],[59,7,60,8],[44,10,55,10],[44,11,55,11],[43,0,43,1],[44,2,55,2],[44,3,55,3],[44,4,55,4],[44,9,55,9],[50,5,51,5],[50,6,51,6],[50,7,51,8],[45,0,45,1],[46,0,53,1],[46,5,47,5],[46,6,47,6],[48,5,49,5],[48,6,49,6],[44,5,45,5],[44,6,45,6],[52,5,53,5],[52,6,53,6],[54,5,55,5],[54,6,55,6],[21,11,32,11],[22,0,22,1],[23,0,30,1],[23,5,24,5],[23,6,24,6],[25,5,26,5],[25,6,26,6],[27,5,28,5],[21,6,22,6],[21,9,32,9],[21,10,32,10],[27,6,28,6],[29,6,30,6],[31,6,32,6],[23,7,24,8],[21,7,22,8],[25,7,26,8],[20,0,20,1],[20,7,20,8],[16,7,17,8],[21,2,32,2],[21,3,32,3],[21,4,32,4],[21,5,22,5],[29,5,30,5],[31,5,32,5],[6,10,17,10],[7,0,7,1],[8,0,15,1],[8,5,9,5],[8,6,9,6],[10,5,11,5],[6,11,17,11],[5,0,5,1],[6,2,17,2],[6,3,17,3],[6,4,17,4],[12,5,13,5],[12,6,13,6],[14,5,15,5],[10,7,11,8],[10,6,11,6],[6,5,7,5],[6,6,7,6],[14,6,15,6],[16,5,17,5],[16,6,17,6],[8,7,9,8],[6,7,7,8]]}
[]
[]
[]
[]
[]
[]
[]
[]
[]
[]
[]
[]
[]
[]
[]
[]
[]
[]
[]
[]
["種　　　目",null,"組","レーン","学校名","アスリートビブス","名　　　前","学年",null,"色","郡市","ベスト記録"]
[null,null,null,null,{"$f":"IF(新人入力!M4=\"\",\"\",新人入力!M4)","v":""},{"$f":"IF(新人入力!B58=\"\",\"\",新人入力!B58)","v":{"$error":"#VALUE!"}},{"$f":"IF(新人入力!C58=\"\",\"\",新人入力!C58)","v":""},{"$f":"IF(新人入力!D58=\"\",\"\",新人入力!D58)","v":""},null,null,{"$f":"新人入力!M5","v":0},{"$f":"IF(新人入力!S58=\"\",\"\",新人入力!S58)","v":""}]
["男"]
["共　　通\n\n４×１００ｍＲ",null,null,null,null,{"$f":"IF(新人入力!B59=\"\",\"\",新人入力!B59)","v":""},{"$f":"IF(新人入力!C59=\"\",\"\",新人入力!C59)","v":""},{"$f":"IF(新人入力!D59=\"\",\"\",新人入力!D59)","v":""}]
[]
[null,null,null,null,null,{"$f":"IF(新人入力!B60=\"\",\"\",新人入力!B60)","v":""},{"$f":"IF(新人入力!C60=\"\",\"\",新人入力!C60)","v":""},{"$f":"IF(新人入力!D60=\"\",\"\",新人入力!D60)","v":""}]
[]
[null,null,null,null,null,{"$f":"IF(新人入力!B61=\"\",\"\",新人入力!B61)","v":""},{"$f":"IF(新人入力!C61=\"\",\"\",新人入力!C61)","v":""},{"$f":"IF(新人入力!D61=\"\",\"\",新人入力!D61)","v":""}]
[]
[null,null,null,null,null,{"$f":"IF(新人入力!B62=\"\",\"\",新人入力!B62)","v":""},{"$f":"IF(新人入力!C62=\"\",\"\",新人入力!C62)","v":""},{"$f":"IF(新人入力!D62=\"\",\"\",新人入力!D62)","v":""}]
[]
[null,null,null,null,null,{"$f":"IF(新人入力!B63=\"\",\"\",新人入力!B63)","v":""},{"$f":"IF(新人入力!C63=\"\",\"\",新人入力!C63)","v":""},{"$f":"IF(新人入力!D63=\"\",\"\",新人入力!D63)","v":""}]
[]
[]
[]
[]
[]
[]
[]
[]
["女子"]
[]
[]
[]
[]
[]
[]
[]
[]
[]
[]
[]
[]
[]
[]
[]
[]
[]
["種　　　目",null,"組","レーン","学校名","アスリートビブス","名　　　前","学年",null,"色","郡市","ベスト記録"]
[null,null,null,null,{"$f":"IF(新人入力!M71=\"\",\"\",新人入力!M71)","v":""},{"$f":"IF(新人入力!B125=\"\",\"\",新人入力!B125)","v":{"$error":"#VALUE!"}},{"$f":"IF(新人入力!C125=\"\",\"\",新人入力!C125)","v":""},{"$f":"IF(新人入力!D125=\"\",\"\",新人入力!D125)","v":""},null,null,{"$f":"新人入力!M5","v":0},{"$f":"IF(新人入力!S125=\"\",\"\",新人入力!S125)","v":""}]
["女"]
["共　　通\n\n４×１００ｍＲ",null,null,null,null,{"$f":"IF(新人入力!B126=\"\",\"\",新人入力!B126)","v":""},{"$f":"IF(新人入力!C126=\"\",\"\",新人入力!C126)","v":""},{"$f":"IF(新人入力!D126=\"\",\"\",新人入力!D126)","v":""}]
[]
[null,null,null,null,null,{"$f":"IF(新人入力!B127=\"\",\"\",新人入力!B127)","v":""},{"$f":"IF(新人入力!C127=\"\",\"\",新人入力!C127)","v":""},{"$f":"IF(新人入力!D127=\"\",\"\",新人入力!D127)","v":""}]
[]
[null,null,null,null,null,{"$f":"IF(新人入力!B128=\"\",\"\",新人入力!B128)","v":""},{"$f":"IF(新人入力!C128=\"\",\"\",新人入力!C128)","v":""},{"$f":"IF(新人入力!D128=\"\",\"\",新人入力!D128)","v":""}]
[]
[null,null,null,null,null,{"$f":"IF(新人入力!B129=\"\",\"\",新人入力!B129)","v":""},{"$f":"IF(新人入力!C129=\"\",\"\",新人入力!C129)","v":""},{"$f":"IF(新人入力!D129=\"\",\"\",新人入力!D129)","v":""}]
[]
[null,null,null,null,null,{"$f":"IF(新人入力!B130=\"\",\"\",新人入力!B130)","v":""},{"$f":"IF(新人入力!C130=\"\",\"\",新人入力!C130)","v":""},{"$f":"IF(新人入力!D130=\"\",\"\",新人入力!D130)","v":""}]

{"sheet":"kyogishaデータ","index":6,"n_rows":62,"n_cols":36,"rows_kept":62,"cut":false,"hidden":false,"merged":[]}
["新人競技者マスタデータ",null,null,null,null,null,null,null,null,null,null,null,null,null,null,null,1,null,null,null,2,null,null,null,3,null,null,null,4]
["競技者NO","所属コード1","所属コード2","ナンバー","ナンバー2","競技者名","競技者名カナ","競技者名略称","競技者名英字","国籍","性別","学年","生年","月日","個人所属地名","陸連コード","参加競技-競技コード1","参加競技-自己記録1","参加競技-オープン参加FLG1","参加競技-記録FLG1","参加競技-競技コード2","参加競技-自己記録2","参加競技-オープン参加FLG2","参加競技-記録FLG2","参加競技-競技コード3","参加競技-自己記録3","参加競技-オープン参加FLG3","参加競技-記録FLG3","参加競技-競技コード4","参加競技-自己記録4","参加競技-オープン参加FLG4","参加競技-記録FLG4","参加競技-競技コード5","参加競技-自己記録5","参加競技-オープン参加FLG5","参加競技-記録FLG5"]
[{"$f":"IF(新人入力!B12=\"\",\"\",新人入力!B12)","v":""},{"$f":"IF(F3=\"\",\"\",必ずお読み下さい!$G$9)","v":""},{"$f":"IF(新人入力!C12=\"\",\"\",新人入力!C12)","v":""},null,{"$f":"IF(新人入力!B12=\"\",\"\",新人入力!B12)","v":""},{"$f":"IF(新人入力!E12=\"\",\"\",新人入力!E12)","v":""},{"$f":"IF(新人入力!G12=\"\",\"\",新人入力!G12)","v":""},{"$f":"IF(新人入力!E12=\"\",\"\",新人入力!E12)","v":""},{"$f":"IF(新人入力!H12=\"\",\"\",新人入力!H12)","v":""},{"$f":"IF(F3=\"\",\"\",\"JPN\")","v":""},{"$f":"IF(kyogishaデータ!F3=\"\",\"\",\"男\")","v":""},{"$f":"IF(新人入力!F12=\"\",\"\",新人入力!F12)","v":""},{"$f":"IFERROR(VLOOKUP(A3, 部員情報!A:G, 7, FALSE), \"\")","v":""},{"$f":"IFERROR(VLOOKUP(A3, 部員情報!A:G, 7, FALSE), \"\")","v":""},null,{"$f":"IF(A3=\"\",\"\",VLOOKUP(A3,部員情報!$A$6:$H$155,2,FALSE))","v":""},{"$f":"IF(新人入力!I12=\"\",\"\",新人入力!I12)","v":""},null,{"$f":"IF(Q3=\"\",\"\",0)","v":""},{"$f":"IF(Q3=\"\",\"\",0)","v":""},{"$f":"IF(新人入力!J12=\"\",\"\",新人入力!J12)","v":""},null,{"$f":"IF(U3=\"\",\"\",0)","v":""},{"$f":"IF(U3=\"\",\"\",0)","v":""},{"$f":"IF(新人入力!K12=\"\",\"\",新人入力!K12)","v":""},null,{"$f":"IF(Y3=\"\",\"\",0)","v":""},{"$f":"IF(Y3=\"\",\"\",0)","v":""}]
[{"$f":"IF(新人入力!B13=\"\",\"\",新人入力!B13)","v":""},{"$f":"IF(F4=\"\",\"\",必ずお読み下さい!$G$9)","v":""},{"$f":"IF(新人入力!C13=\"\",\"\",新人入力!C13)","v":""},null,{"$f":"IF(新人入力!B13=\"\",\"\",新人入力!B13)","v":""},{"$f":"IF(新人入力!E13=\"\",\"\",新人入力!E13)","v":""},{"$f":"IF(新人入力!G13=\"\",\"\",新人入力!G13)","v":""},{"$f":"IF(新人入力!E13=\"\",\"\",新人入力!E13)","v":""},{"$f":"IF(新人入力!H13=\"\",\"\",新人入力!H13)","v":""},{"$f":"IF(F4=\"\",\"\",\"JPN\")","v":""},{"$f":"IF(kyogishaデータ!F4=\"\",\"\",\"男\")","v":""},{"$f":"IF(新人入力!F13=\"\",\"\",新人入力!F13)","v":""},{"$f":"IFERROR(VLOOKUP(A4, 部員情報!A:G, 7, FALSE), \"\")","v":""},{"$f":"IFERROR(VLOOKUP(A4, 部員情報!A:G, 7, FALSE), \"\")","v":""},null,{"$f":"IF(A4=\"\",\"\",VLOOKUP(A4,部員情報!$A$6:$H$155,2,FALSE))","v":""},{"$f":"IF(新人入力!I13=\"\",\"\",新人入力!I13)","v":""},null,{"$f":"IF(Q4=\"\",\"\",0)","v":""},{"$f":"IF(Q4=\"\",\"\",0)","v":""},{"$f":"IF(新人入力!J13=\"\",\"\",新人入力!J13)","v":""},null,{"$f":"IF(U4=\"\",\"\",0)","v":""},{"$f":"IF(U4=\"\",\"\",0)","v":""},{"$f":"IF(新人入力!K13=\"\",\"\",新人入力!K13)","v":""},null,{"$f":"IF(Y4=\"\",\"\",0)","v":""},{"$f":"IF(Y4=\"\",\"\",0)","v":""}]
[{"$f":"IF(新人入力!B14=\"\",\"\",新人入力!B14)","v":""},{"$f":"IF(F5=\"\",\"\",必ずお読み下さい!$G$9)","v":""},{"$f":"IF(新人入力!C14=\"\",\"\",新人入力!C14)","v":""},null,{"$f":"IF(新人入力!B14=\"\",\"\",新人入力!B14)","v":""},{"$f":"IF(新人入力!E14=\"\",\"\",新人入力!E14)","v":""},{"$f":"IF(新人入力!G14=\"\",\"\",新人入力!G14)","v":""},{"$f":"IF(新人入力!E14=\"\",\"\",新人入力!E14)","v":""},{"$f":"IF(新人入力!H14=\"\",\"\",新人入力!H14)","v":""},"",{"$f":"IF(kyogishaデータ!F5=\"\",\"\",\"男\")","v":""},{"$f":"IF(新人入力!F14=\"\",\"\",新人入力!F14)","v":""},{"$f":"IFERROR(VLOOKUP(A5, 部員情報!A:G, 7, FALSE), \"\")","v":""},{"$f":"IFERROR(VLOOKUP(A5, 部員情報!A:G, 7, FALSE), \"\")","v":""},null,{"$f":"IF(A5=\"\",\"\",VLOOKUP(A5,部員情報!$A$6:$H$155,2,FALSE))","v":""},{"$f":"IF(新人入力!I14=\"\",\"\",新人入力!I14)","v":""},null,"","",{"$f":"IF(新人入力!J14=\"\",\"\",新人入力!J14)","v":""},null,"","",{"$f":"IF(新人入力!K14=\"\",\"\",新人入力!K14)","v":""},null,"",""]
[{"$f":"IF(新人入力!B15=\"\",\"\",新人入力!B15)","v":""},{"$f":"IF(F6=\"\",\"\",必ずお読み下さい!$G$9)","v":""},{"$f":"IF(新人入力!C15=\"\",\"\",新人入力!C15)","v":""},null,{"$f":"IF(新人入力!B15=\"\",\"\",新人入力!B15)","v":""},{"$f":"IF(新人入力!E15=\"\",\"\",新人入力!E15)","v":""},{"$f":"IF(新人入力!G15=\"\",\"\",新人入力!G15)","v":""},{"$f":"IF(新人入力!E15=\"\",\"\",新人入力!E15)","v":""},{"$f":"IF(新人入力!H15=\"\",\"\",新人入力!H15)","v":""},"",{"$f":"IF(kyogishaデータ!F6=\"\",\"\",\"男\")","v":""},{"$f":"IF(新人入力!F15=\"\",\"\",新人入力!F15)","v":""},{"$f":"IFERROR(VLOOKUP(A6, 部員情報!A:G, 7, FALSE), \"\")","v":""},{"$f":"IFERROR(VLOOKUP(A6, 部員情報!A:G, 7, FALSE), \"\")","v":""},null,{"$f":"IF(A6=\"\",\"\",VLOOKUP(A6,部員情報!$A$6:$H$155,2,FALSE))","v":""},{"$f":"IF(新人入力!I15=\"\",\"\",新人入力!I15)","v":""},null,"","",{"$f":"IF(新人入力!J15=\"\",\"\",新人入力!J15)","v":""},null,"","",{"$f":"IF(新人入力!K15=\"\",\"\",新人入力!K15)","v":""},null,"",""]
[{"$f":"IF(新人入力!B16=\"\",\"\",新人入力!B16)","v":""},{"$f":"IF(F7=\"\",\"\",必ずお読み下さい!$G$9)","v":""},{"$f":"IF(新人入力!C16=\"\",\"\",新人入力!C16)","v":""},null,{"$f":"IF(新人入力!B16=\"\",\"\",新人入力!B16)","v":""},{"$f":"IF(新人入力!E16=\"\",\"\",新人入力!E16)","v":""},{"$f":"IF(新人入力!G16=\"\",\"\",新人入力!G16)","v":""},{"$f":"IF(新人入力!E16=\"\",\"\",新人入力!E16)","v":""},{"$f":"IF(新人入力!H16=\"\",\"\",新人入力!H16)","v":""},"",{"$f":"IF(kyogishaデータ!F7=\"\",\"\",\"男\")","v":""},{"$f":"IF(新人入力!F16=\"\",\"\",新人入力!F16)","v":""},{"$f":"IFERROR(VLOOKUP(A7, 部員情報!A:G, 7, FALSE), \"\")","v":""},{"$f":"IFERROR(VLOOKUP(A7, 部員情報!A:G, 7, FALSE), \"\")","v":""},null,{"$f":"IF(A7=\"\",\"\",VLOOKUP(A7,部員情報!$A$6:$H$155,2,FALSE))","v":""},{"$f":"IF(新人入力!I16=\"\",\"\",新人入力!I16)","v":""},null,"","",{"$f":"IF(新人入力!J16=\"\",\"\",新人入力!J16)","v":""},null,"","",{"$f":"IF(新人入力!K16=\"\",\"\",新人入力!K16)","v":""},null,"",""]
[{"$f":"IF(新人入力!B17=\"\",\"\",新人入力!B17)","v":""},{"$f":"IF(F8=\"\",\"\",必ずお読み下さい!$G$9)","v":""},{"$f":"IF(新人入力!C17=\"\",\"\",新人入力!C17)","v":""},null,{"$f":"IF(新人入力!B17=\"\",\"\",新人入力!B17)","v":""},{"$f":"IF(新人入力!E17=\"\",\"\",新人入力!E17)","v":""},{"$f":"IF(新人入力!G17=\"\",\"\",新人入力!G17)","v":""},{"$f":"IF(新人入力!E17=\"\",\"\",新人入力!E17)","v":""},{"$f":"IF(新人入力!H17=\"\",\"\",新人入力!H17)","v":""},"",{"$f":"IF(kyogishaデータ!F8=\"\",\"\",\"男\")","v":""},{"$f":"IF(新人入力!F17=\"\",\"\",新人入力!F17)","v":""},{"$f":"IFERROR(VLOOKUP(A8, 部員情報!A:G, 7, FALSE), \"\")","v":""},{"$f":"IFERROR(VLOOKUP(A8, 部員情報!A:G, 7, FALSE), \"\")","v":""},null,{"$f":"IF(A8=\"\",\"\",VLOOKUP(A8,部員情報!$A$6:$H$155,2,FALSE))","v":""},{"$f":"IF(新人入力!I17=\"\",\"\",新人入力!I17)","v":""},null,"","",{"$f":"IF(新人入力!J17=\"\",\"\",新人入力!J17)","v":""},null,"","",{"$f":"IF(新人入力!K17=\"\",\"\",新人入力!K17)","v":""},null,"",""]
[{"$f":"IF(新人入力!B18=\"\",\"\",新人入力!B18)","v":""},{"$f":"IF(F9=\"\",\"\",必ずお読み下さい!$G$9)","v":""},{"$f":"IF(新人入力!C18=\"\",\"\",新人入力!C18)","v":""},null,{"$f":"IF(新人入力!B18=\"\",\"\",新人入力!B18)","v":""},{"$f":"IF(新人入力!E18=\"\",\"\",新人入力!E18)","v":""},{"$f":"IF(新人入力!G18=\"\",\"\",新人入力!G18)","v":""},{"$f":"IF(新人入力!E18=\"\",\"\",新人入力!E18)","v":""},{"$f":"IF(新人入力!H18=\"\",\"\",新人入力!H18)","v":""},"",{"$f":"IF(kyogishaデータ!F9=\"\",\"\",\"男\")","v":""},{"$f":"IF(新人入力!F18=\"\",\"\",新人入力!F18)","v":""},{"$f":"IFERROR(VLOOKUP(A9, 部員情報!A:G, 7, FALSE), \"\")","v":""},{"$f":"IFERROR(VLOOKUP(A9, 部員情報!A:G, 7, FALSE), \"\")","v":""},null,{"$f":"IF(A9=\"\",\"\",VLOOKUP(A9,部員情報!$A$6:$H$155,2,FALSE))","v":""},{"$f":"IF(新人入力!I18=\"\",\"\",新人入力!I18)","v":""},null,"","",{"$f":"IF(新人入力!J18=\"\",\"\",新人入力!J18)","v":""},null,"","",{"$f":"IF(新人入力!K18=\"\",\"\",新人入力!K18)","v":""},null,"",""]
[{"$f":"IF(新人入力!B19=\"\",\"\",新人入力!B19)","v":""},{"$f":"IF(F10=\"\",\"\",必ずお読み下さい!$G$9)","v":""},{"$f":"IF(新人入力!C19=\"\",\"\",新人入力!C19)","v":""},null,{"$f":"IF(新人入力!B19=\"\",\"\",新人入力!B19)","v":""},{"$f":"IF(新人入力!E19=\"\",\"\",新人入力!E19)","v":""},{"$f":"IF(新人入力!G19=\"\",\"\",新人入力!G19)","v":""},{"$f":"IF(新人入力!E19=\"\",\"\",新人入力!E19)","v":""},{"$f":"IF(新人入力!H19=\"\",\"\",新人入力!H19)","v":""},"",{"$f":"IF(kyogishaデータ!F10=\"\",\"\",\"男\")","v":""},{"$f":"IF(新人入力!F19=\"\",\"\",新人入力!F19)","v":""},{"$f":"IFERROR(VLOOKUP(A10, 部員情報!A:G, 7, FALSE), \"\")","v":""},{"$f":"IFERROR(VLOOKUP(A10, 部員情報!A:G, 7, FALSE), \"\")","v":""},null,{"$f":"IF(A10=\"\",\"\",VLOOKUP(A10,部員情報!$A$6:$H$155,2,FALSE))","v":""},{"$f":"IF(新人入力!I19=\"\",\"\",新人入力!I19)","v":""},null,"","",{"$f":"IF(新人入力!J19=\"\",\"\",新人入力!J19)","v":""},null,"","",{"$f":"IF(新人入力!K19=\"\",\"\",新人入力!K19)","v":""},null,"",""]
[{"$f":"IF(新人入力!B20=\"\",\"\",新人入力!B20)","v":""},{"$f":"IF(F11=\"\",\"\",必ずお読み下さい!$G$9)","v":""},{"$f":"IF(新人入力!C20=\"\",\"\",新人入力!C20)","v":""},null,{"$f":"IF(新人入力!B20=\"\",\"\",新人入力!B20)","v":""},{"$f":"IF(新人入力!E20=\"\",\"\",新人入力!E20)","v":""},{"$f":"IF(新人入力!G20=\"\",\"\",新人入力!G20)","v":""},{"$f":"IF(新人入力!E20=\"\",\"\",新人入力!E20)","v":""},{"$f":"IF(新人入力!H20=\"\",\"\",新人入力!H20)","v":""},"",{"$f":"IF(kyogishaデータ!F11=\"\",\"\",\"男\")","v":""},{"$f":"IF(新人入力!F20=\"\",\"\",新人入力!F20)","v":""},{"$f":"IFERROR(VLOOKUP(A11, 部員情報!A:G, 7, FALSE), \"\")","v":""},{"$f":"IFERROR(VLOOKUP(A11, 部員情報!A:G, 7, FALSE), \"\")","v":""},null,{"$f":"IF(A11=\"\",\"\",VLOOKUP(A11,部員情報!$A$6:$H$155,2,FALSE))","v":""},{"$f":"IF(新人入力!I20=\"\",\"\",新人入力!I20)","v":""},null,"","",{"$f":"IF(新人入力!J20=\"\",\"\",新人入力!J20)","v":""},null,"","",{"$f":"IF(新人入力!K20=\"\",\"\",新人入力!K20)","v":""},null,"",""]
[{"$f":"IF(新人入力!B21=\"\",\"\",新人入力!B21)","v":""},{"$f":"IF(F12=\"\",\"\",必ずお読み下さい!$G$9)","v":""},{"$f":"IF(新人入力!C21=\"\",\"\",新人入力!C21)","v":""},null,{"$f":"IF(新人入力!B21=\"\",\"\",新人入力!B21)","v":""},{"$f":"IF(新人入力!E21=\"\",\"\",新人入力!E21)","v":""},{"$f":"IF(新人入力!G21=\"\",\"\",新人入力!G21)","v":""},{"$f":"IF(新人入力!E21=\"\",\"\",新人入力!E21)","v":""},{"$f":"IF(新人入力!H21=\"\",\"\",新人入力!H21)","v":""},"",{"$f":"IF(kyogishaデータ!F12=\"\",\"\",\"男\")","v":""},{"$f":"IF(新人入力!F21=\"\",\"\",新人入力!F21)","v":""},{"$f":"IFERROR(VLOOKUP(A12, 部員情報!A:G, 7, FALSE), \"\")","v":""},{"$f":"IFERROR(VLOOKUP(A12, 部員情報!A:G, 7, FALSE), \"\")","v":""},null,{"$f":"IF(A12=\"\",\"\",VLOOKUP(A12,部員情報!$A$6:$H$155,2,FALSE))","v":""},{"$f":"IF(新人入力!I21=\"\",\"\",新人入力!I21)","v":""},null,"","",{"$f":"IF(新人入力!J21=\"\",\"\",新人入力!J21)","v":""},null,"","",{"$f":"IF(新人入力!K21=\"\",\"\",新人入力!K21)","v":""},null,"",""]
[{"$f":"IF(新人入力!B22=\"\",\"\",新人入力!B22)","v":""},{"$f":"IF(F13=\"\",\"\",必ずお読み下さい!$G$9)","v":""},{"$f":"IF(新人入力!C22=\"\",\"\",新人入力!C22)","v":""},null,{"$f":"IF(新人入力!B22=\"\",\"\",新人入力!B22)","v":""},{"$f":"IF(新人入力!E22=\"\",\"\",新人入力!E22)","v":""},{"$f":"IF(新人入力!G22=\"\",\"\",新人入力!G22)","v":""},{"$f":"IF(新人入力!E22=\"\",\"\",新人入力!E22)","v":""},{"$f":"IF(新人入力!H22=\"\",\"\",新人入力!H22)","v":""},"",{"$f":"IF(kyogishaデータ!F13=\"\",\"\",\"男\")","v":""},{"$f":"IF(新人入力!F22=\"\",\"\",新人入力!F22)","v":""},{"$f":"IFERROR(VLOOKUP(A13, 部員情報!A:G, 7, FALSE), \"\")","v":""},{"$f":"IFERROR(VLOOKUP(A13, 部員情報!A:G, 7, FALSE), \"\")","v":""},null,{"$f":"IF(A13=\"\",\"\",VLOOKUP(A13,部員情報!$A$6:$H$155,2,FALSE))","v":""},{"$f":"IF(新人入力!I22=\"\",\"\",新人入力!I22)","v":""},null,"","",{"$f":"IF(新人入力!J22=\"\",\"\",新人入力!J22)","v":""},null,"","",{"$f":"IF(新人入力!K22=\"\",\"\",新人入力!K22)","v":""},null,"",""]
[{"$f":"IF(新人入力!B23=\"\",\"\",新人入力!B23)","v":""},{"$f":"IF(F14=\"\",\"\",必ずお読み下さい!$G$9)","v":""},{"$f":"IF(新人入力!C23=\"\",\"\",新人入力!C23)","v":""},null,{"$f":"IF(新人入力!B23=\"\",\"\",新人入力!B23)","v":""},{"$f":"IF(新人入力!E23=\"\",\"\",新人入力!E23)","v":""},{"$f":"IF(新人入力!G23=\"\",\"\",新人入力!G23)","v":""},{"$f":"IF(新人入力!E23=\"\",\"\",新人入力!E23)","v":""},{"$f":"IF(新人入力!H23=\"\",\"\",新人入力!H23)","v":""},"",{"$f":"IF(kyogishaデータ!F14=\"\",\"\",\"男\")","v":""},{"$f":"IF(新人入力!F23=\"\",\"\",新人入力!F23)","v":""},{"$f":"IFERROR(VLOOKUP(A14, 部員情報!A:G, 7, FALSE), \"\")","v":""},{"$f":"IFERROR(VLOOKUP(A14, 部員情報!A:G, 7, FALSE), \"\")","v":""},null,{"$f":"IF(A14=\"\",\"\",VLOOKUP(A14,部員情報!$A$6:$H$155,2,FALSE))","v":""},{"$f":"IF(新人入力!I23=\"\",\"\",新人入力!I23)","v":""},null,"","",{"$f":"IF(新人入力!J23=\"\",\"\",新人入力!J23)","v":""},null,"","",{"$f":"IF(新人入力!K23=\"\",\"\",新人入力!K23)","v":""},null,"",""]
[{"$f":"IF(新人入力!B24=\"\",\"\",新人入力!B24)","v":""},{"$f":"IF(F15=\"\",\"\",必ずお読み下さい!$G$9)","v":""},{"$f":"IF(新人入力!C24=\"\",\"\",新人入力!C24)","v":""},null,{"$f":"IF(新人入力!B24=\"\",\"\",新人入力!B24)","v":""},{"$f":"IF(新人入力!E24=\"\",\"\",新人入力!E24)","v":""},{"$f":"IF(新人入力!G24=\"\",\"\",新人入力!G24)","v":""},{"$f":"IF(新人入力!E24=\"\",\"\",新人入力!E24)","v":""},{"$f":"IF(新人入力!H24=\"\",\"\",新人入力!H24)","v":""},"",{"$f":"IF(kyogishaデータ!F15=\"\",\"\",\"男\")","v":""},{"$f":"IF(新人入力!F24=\"\",\"\",新人入力!F24)","v":""},{"$f":"IFERROR(VLOOKUP(A15, 部員情報!A:G, 7, FALSE), \"\")","v":""},{"$f":"IFERROR(VLOOKUP(A15, 部員情報!A:G, 7, FALSE), \"\")","v":""},null,{"$f":"IF(A15=\"\",\"\",VLOOKUP(A15,部員情報!$A$6:$H$155,2,FALSE))","v":""},{"$f":"IF(新人入力!I24=\"\",\"\",新人入力!I24)","v":""},null,"","",{"$f":"IF(新人入力!J24=\"\",\"\",新人入力!J24)","v":""},null,"","",{"$f":"IF(新人入力!K24=\"\",\"\",新人入力!K24)","v":""},null,"",""]
[{"$f":"IF(新人入力!B25=\"\",\"\",新人入力!B25)","v":""},{"$f":"IF(F16=\"\",\"\",必ずお読み下さい!$G$9)","v":""},{"$f":"IF(新人入力!C25=\"\",\"\",新人入力!C25)","v":""},null,{"$f":"IF(新人入力!B25=\"\",\"\",新人入力!B25)","v":""},{"$f":"IF(新人入力!E25=\"\",\"\",新人入力!E25)","v":""},{"$f":"IF(新人入力!G25=\"\",\"\",新人入力!G25)","v":""},{"$f":"IF(新人入力!E25=\"\",\"\",新人入力!E25)","v":""},{"$f":"IF(新人入力!H25=\"\",\"\",新人入力!H25)","v":""},"",{"$f":"IF(kyogishaデータ!F16=\"\",\"\",\"男\")","v":""},{"$f":"IF(新人入力!F25=\"\",\"\",新人入力!F25)","v":""},{"$f":"IFERROR(VLOOKUP(A16, 部員情報!A:G, 7, FALSE), \"\")","v":""},{"$f":"IFERROR(VLOOKUP(A16, 部員情報!A:G, 7, FALSE), \"\")","v":""},null,{"$f":"IF(A16=\"\",\"\",VLOOKUP(A16,部員情報!$A$6:$H$155,2,FALSE))","v":""},{"$f":"IF(新人入力!I25=\"\",\"\",新人入力!I25)","v":""},null,"","",{"$f":"IF(新人入力!J25=\"\",\"\",新人入力!J25)","v":""},null,"","",{"$f":"IF(新人入力!K25=\"\",\"\",新人入力!K25)","v":""},null,"",""]
[{"$f":"IF(新人入力!B26=\"\",\"\",新人入力!B26)","v":""},{"$f":"IF(F17=\"\",\"\",必ずお読み下さい!$G$9)","v":""},{"$f":"IF(新人入力!C26=\"\",\"\",新人入力!C26)","v":""},null,{"$f":"IF(新人入力!B26=\"\",\"\",新人入力!B26)","v":""},{"$f":"IF(新人入力!E26=\"\",\"\",新人入力!E26)","v":""},{"$f":"IF(新人入力!G26=\"\",\"\",新人入力!G26)","v":""},{"$f":"IF(新人入力!E26=\"\",\"\",新人入力!E26)","v":""},{"$f":"IF(新人入力!H26=\"\",\"\",新人入力!H26)","v":""},"",{"$f":"IF(kyogishaデータ!F17=\"\",\"\",\"男\")","v":""},{"$f":"IF(新人入力!F26=\"\",\"\",新人入力!F26)","v":""},{"$f":"IFERROR(VLOOKUP(A17, 部員情報!A:G, 7, FALSE), \"\")","v":""},{"$f":"IFERROR(VLOOKUP(A17, 部員情報!A:G, 7, FALSE), \"\")","v":""},null,{"$f":"IF(A17=\"\",\"\",VLOOKUP(A17,部員情報!$A$6:$H$155,2,FALSE))","v":""},{"$f":"IF(新人入力!I26=\"\",\"\",新人入力!I26)","v":""},null,"","",{"$f":"IF(新人入力!J26=\"\",\"\",新人入力!J26)","v":""},null,"","",{"$f":"IF(新人入力!K26=\"\",\"\",新人入力!K26)","v":""},null,"",""]
[{"$f":"IF(新人入力!B27=\"\",\"\",新人入力!B27)","v":""},{"$f":"IF(F18=\"\",\"\",必ずお読み下さい!$G$9)","v":""},{"$f":"IF(新人入力!C27=\"\",\"\",新人入力!C27)","v":""},null,{"$f":"IF(新人入力!B27=\"\",\"\",新人入力!B27)","v":""},{"$f":"IF(新人入力!E27=\"\",\"\",新人入力!E27)","v":""},{"$f":"IF(新人入力!G27=\"\",\"\",新人入力!G27)","v":""},{"$f":"IF(新人入力!E27=\"\",\"\",新人入力!E27)","v":""},{"$f":"IF(新人入力!H27=\"\",\"\",新人入力!H27)","v":""},"",{"$f":"IF(kyogishaデータ!F18=\"\",\"\",\"男\")","v":""},{"$f":"IF(新人入力!F27=\"\",\"\",新人入力!F27)","v":""},{"$f":"IFERROR(VLOOKUP(A18, 部員情報!A:G, 7, FALSE), \"\")","v":""},{"$f":"IFERROR(VLOOKUP(A18, 部員情報!A:G, 7, FALSE), \"\")","v":""},null,{"$f":"IF(A18=\"\",\"\",VLOOKUP(A18,部員情報!$A$6:$H$155,2,FALSE))","v":""},{"$f":"IF(新人入力!I27=\"\",\"\",新人入力!I27)","v":""},null,"","",{"$f":"IF(新人入力!J27=\"\",\"\",新人入力!J27)","v":""},null,"","",{"$f":"IF(新人入力!K27=\"\",\"\",新人入力!K27)","v":""},null,"",""]
[{"$f":"IF(新人入力!B28=\"\",\"\",新人入力!B28)","v":""},{"$f":"IF(F19=\"\",\"\",必ずお読み下さい!$G$9)","v":""},{"$f":"IF(新人入力!C28=\"\",\"\",新人入力!C28)","v":""},null,{"$f":"IF(新人入力!B28=\"\",\"\",新人入力!B28)","v":""},{"$f":"IF(新人入力!E28=\"\",\"\",新人入力!E28)","v":""},{"$f":"IF(新人入力!G28=\"\",\"\",新人入力!G28)","v":""},{"$f":"IF(新人入力!E28=\"\",\"\",新人入力!E28)","v":""},{"$f":"IF(新人入力!H28=\"\",\"\",新人入力!H28)","v":""},"",{"$f":"IF(kyogishaデータ!F19=\"\",\"\",\"男\")","v":""},{"$f":"IF(新人入力!F28=\"\",\"\",新人入力!F28)","v":""},{"$f":"IFERROR(VLOOKUP(A19, 部員情報!A:G, 7, FALSE), \"\")","v":""},{"$f":"IFERROR(VLOOKUP(A19, 部員情報!A:G, 7, FALSE), \"\")","v":""},null,{"$f":"IF(A19=\"\",\"\",VLOOKUP(A19,部員情報!$A$6:$H$155,2,FALSE))","v":""},{"$f":"IF(新人入力!I28=\"\",\"\",新人入力!I28)","v":""},null,"","",{"$f":"IF(新人入力!J28=\"\",\"\",新人入力!J28)","v":""},null,"","",{"$f":"IF(新人入力!K28=\"\",\"\",新人入力!K28)","v":""},null,"",""]
[{"$f":"IF(新人入力!B29=\"\",\"\",新人入力!B29)","v":""},{"$f":"IF(F20=\"\",\"\",必ずお読み下さい!$G$9)","v":""},{"$f":"IF(新人入力!C29=\"\",\"\",新人入力!C29)","v":""},null,{"$f":"IF(新人入力!B29=\"\",\"\",新人入力!B29)","v":""},{"$f":"IF(新人入力!E29=\"\",\"\",新人入力!E29)","v":""},{"$f":"IF(新人入力!G29=\"\",\"\",新人入力!G29)","v":""},{"$f":"IF(新人入力!E29=\"\",\"\",新人入力!E29)","v":""},{"$f":"IF(新人入力!H29=\"\",\"\",新人入力!H29)","v":""},"",{"$f":"IF(kyogishaデータ!F20=\"\",\"\",\"男\")","v":""},{"$f":"IF(新人入力!F29=\"\",\"\",新人入力!F29)","v":""},{"$f":"IFERROR(VLOOKUP(A20, 部員情報!A:G, 7, FALSE), \"\")","v":""},{"$f":"IFERROR(VLOOKUP(A20, 部員情報!A:G, 7, FALSE), \"\")","v":""},null,{"$f":"IF(A20=\"\",\"\",VLOOKUP(A20,部員情報!$A$6:$H$155,2,FALSE))","v":""},{"$f":"IF(新人入力!I29=\"\",\"\",新人入力!I29)","v":""},null,"","",{"$f":"IF(新人入力!J29=\"\",\"\",新人入力!J29)","v":""},null,"","",{"$f":"IF(新人入力!K29=\"\",\"\",新人入力!K29)","v":""},null,"",""]
[{"$f":"IF(新人入力!B30=\"\",\"\",新人入力!B30)","v":""},{"$f":"IF(F21=\"\",\"\",必ずお読み下さい!$G$9)","v":""},{"$f":"IF(新人入力!C30=\"\",\"\",新人入力!C30)","v":""},null,{"$f":"IF(新人入力!B30=\"\",\"\",新人入力!B30)","v":""},{"$f":"IF(新人入力!E30=\"\",\"\",新人入力!E30)","v":""},{"$f":"IF(新人入力!G30=\"\",\"\",新人入力!G30)","v":""},{"$f":"IF(新人入力!E30=\"\",\"\",新人入力!E30)","v":""},{"$f":"IF(新人入力!H30=\"\",\"\",新人入力!H30)","v":""},"",{"$f":"IF(kyogishaデータ!F21=\"\",\"\",\"男\")","v":""},{"$f":"IF(新人入力!F30=\"\",\"\",新人入力!F30)","v":""},{"$f":"IFERROR(VLOOKUP(A21, 部員情報!A:G, 7, FALSE), \"\")","v":""},{"$f":"IFERROR(VLOOKUP(A21, 部員情報!A:G, 7, FALSE), \"\")","v":""},null,{"$f":"IF(A21=\"\",\"\",VLOOKUP(A21,部員情報!$A$6:$H$155,2,FALSE))","v":""},{"$f":"IF(新人入力!I30=\"\",\"\",新人入力!I30)","v":""},null,"","",{"$f":"IF(新人入力!J30=\"\",\"\",新人入力!J30)","v":""},null,"","",{"$f":"IF(新人入力!K30=\"\",\"\",新人入力!K30)","v":""},null,"",""]
[{"$f":"IF(新人入力!B31=\"\",\"\",新人入力!B31)","v":""},{"$f":"IF(F22=\"\",\"\",必ずお読み下さい!$G$9)","v":""},{"$f":"IF(新人入力!C31=\"\",\"\",新人入力!C31)","v":""},null,{"$f":"IF(新人入力!B31=\"\",\"\",新人入力!B31)","v":""},{"$f":"IF(新人入力!E31=\"\",\"\",新人入力!E31)","v":""},{"$f":"IF(新人入力!G31=\"\",\"\",新人入力!G31)","v":""},{"$f":"IF(新人入力!E31=\"\",\"\",新人入力!E31)","v":""},{"$f":"IF(新人入力!H31=\"\",\"\",新人入力!H31)","v":""},"",{"$f":"IF(kyogishaデータ!F22=\"\",\"\",\"男\")","v":""},{"$f":"IF(新人入力!F31=\"\",\"\",新人入力!F31)","v":""},{"$f":"IFERROR(VLOOKUP(A22, 部員情報!A:G, 7, FALSE), \"\")","v":""},{"$f":"IFERROR(VLOOKUP(A22, 部員情報!A:G, 7, FALSE), \"\")","v":""},null,{"$f":"IF(A22=\"\",\"\",VLOOKUP(A22,部員情報!$A$6:$H$155,2,FALSE))","v":""},{"$f":"IF(新人入力!I31=\"\",\"\",新人入力!I31)","v":""},null,"","",{"$f":"IF(新人入力!J31=\"\",\"\",新人入力!J31)","v":""},null,"","",{"$f":"IF(新人入力!K31=\"\",\"\",新人入力!K31)","v":""},null,"",""]
[{"$f":"IF(新人入力!B32=\"\",\"\",新人入力!B32)","v":""},{"$f":"IF(F23=\"\",\"\",必ずお読み下さい!$G$9)","v":""},{"$f":"IF(新人入力!C32=\"\",\"\",新人入力!C32)","v":""},null,{"$f":"IF(新人入力!B32=\"\",\"\",新人入力!B32)","v":""},{"$f":"IF(新人入力!E32=\"\",\"\",新人入力!E32)","v":""},{"$f":"IF(新人入力!G32=\"\",\"\",新人入力!G32)","v":""},{"$f":"IF(新人入力!E32=\"\",\"\",新人入力!E32)","v":""},{"$f":"IF(新人入力!H32=\"\",\"\",新人入力!H32)","v":""},"",{"$f":"IF(kyogishaデータ!F23=\"\",\"\",\"男\")","v":""},{"$f":"IF(新人入力!F32=\"\",\"\",新人入力!F32)","v":""},{"$f":"IFERROR(VLOOKUP(A23, 部員情報!A:G, 7, FALSE), \"\")","v":""},{"$f":"IFERROR(VLOOKUP(A23, 部員情報!A:G, 7, FALSE), \"\")","v":""},null,{"$f":"IF(A23=\"\",\"\",VLOOKUP(A23,部員情報!$A$6:$H$155,2,FALSE))","v":""},{"$f":"IF(新人入力!I32=\"\",\"\",新人入力!I32)","v":""},null,"","",{"$f":"IF(新人入力!J32=\"\",\"\",新人入力!J32)","v":""},null,"","",{"$f":"IF(新人入力!K32=\"\",\"\",新人入力!K32)","v":""},null,"",""]
[{"$f":"IF(新人入力!B33=\"\",\"\",新人入力!B33)","v":""},{"$f":"IF(F24=\"\",\"\",必ずお読み下さい!$G$9)","v":""},{"$f":"IF(新人入力!C33=\"\",\"\",新人入力!C33)","v":""},null,{"$f":"IF(新人入力!B33=\"\",\"\",新人入力!B33)","v":""},{"$f":"IF(新人入力!E33=\"\",\"\",新人入力!E33)","v":""},{"$f":"IF(新人入力!G33=\"\",\"\",新人入力!G33)","v":""},{"$f":"IF(新人入力!E33=\"\",\"\",新人入力!E33)","v":""},{"$f":"IF(新人入力!H33=\"\",\"\",新人入力!H33)","v":""},"",{"$f":"IF(kyogishaデータ!F24=\"\",\"\",\"男\")","v":""},{"$f":"IF(新人入力!F33=\"\",\"\",新人入力!F33)","v":""},{"$f":"IFERROR(VLOOKUP(A24, 部員情報!A:G, 7, FALSE), \"\")","v":""},{"$f":"IFERROR(VLOOKUP(A24, 部員情報!A:G, 7, FALSE), \"\")","v":""},null,{"$f":"IF(A24=\"\",\"\",VLOOKUP(A24,部員情報!$A$6:$H$155,2,FALSE))","v":""},{"$f":"IF(新人入力!I33=\"\",\"\",新人入力!I33)","v":""},null,"","",{"$f":"IF(新人入力!J33=\"\",\"\",新人入力!J33)","v":""},null,"","",{"$f":"IF(新人入力!K33=\"\",\"\",新人入力!K33)","v":""},null,"",""]
[{"$f":"IF(新人入力!B34=\"\",\"\",新人入力!B34)","v":""},{"$f":"IF(F25=\"\",\"\",必ずお読み下さい!$G$9)","v":""},{"$f":"IF(新人入力!C34=\"\",\"\",新人入力!C34)","v":""},null,{"$f":"IF(新人入力!B34=\"\",\"\",新人入力!B34)","v":""},{"$f":"IF(新人入力!E34=\"\",\"\",新人入力!E34)","v":""},{"$f":"IF(新人入力!G34=\"\",\"\",新人入力!G34)","v":""},{"$f":"IF(新人入力!E34=\"\",\"\",新人入力!E34)","v":""},{"$f":"IF(新人入力!H34=\"\",\"\",新人入力!H34)","v":""},"",{"$f":"IF(kyogishaデータ!F25=\"\",\"\",\"男\")","v":""},{"$f":"IF(新人入力!F34=\"\",\"\",新人入力!F34)","v":""},{"$f":"IFERROR(VLOOKUP(A25, 部員情報!A:G, 7, FALSE), \"\")","v":""},{"$f":"IFERROR(VLOOKUP(A25, 部員情報!A:G, 7, FALSE), \"\")","v":""},null,{"$f":"IF(A25=\"\",\"\",VLOOKUP(A25,部員情報!$A$6:$H$155,2,FALSE))","v":""},{"$f":"IF(新人入力!I34=\"\",\"\",新人入力!I34)","v":""},null,"","",{"$f":"IF(新人入力!J34=\"\",\"\",新人入力!J34)","v":""},null,"","",{"$f":"IF(新人入力!K34=\"\",\"\",新人入力!K34)","v":""},null,"",""]
[{"$f":"IF(新人入力!B35=\"\",\"\",新人入力!B35)","v":""},{"$f":"IF(F26=\"\",\"\",必ずお読み下さい!$G$9)","v":""},{"$f":"IF(新人入力!C35=\"\",\"\",新人入力!C35)","v":""},null,{"$f":"IF(新人入力!B35=\"\",\"\",新人入力!B35)","v":""},{"$f":"IF(新人入力!E35=\"\",\"\",新人入力!E35)","v":""},{"$f":"IF(新人入力!G35=\"\",\"\",新人入力!G35)","v":""},{"$f":"IF(新人入力!E35=\"\",\"\",新人入力!E35)","v":""},{"$f":"IF(新人入力!H35=\"\",\"\",新人入力!H35)","v":""},"",{"$f":"IF(kyogishaデータ!F26=\"\",\"\",\"男\")","v":""},{"$f":"IF(新人入力!F35=\"\",\"\",新人入力!F35)","v":""},{"$f":"IFERROR(VLOOKUP(A26, 部員情報!A:G, 7, FALSE), \"\")","v":""},{"$f":"IFERROR(VLOOKUP(A26, 部員情報!A:G, 7, FALSE), \"\")","v":""},null,{"$f":"IF(A26=\"\",\"\",VLOOKUP(A26,部員情報!$A$6:$H$155,2,FALSE))","v":""},{"$f":"IF(新人入力!I35=\"\",\"\",新人入力!I35)","v":""},null,"","",{"$f":"IF(新人入力!J35=\"\",\"\",新人入力!J35)","v":""},null,"","",{"$f":"IF(新人入力!K35=\"\",\"\",新人入力!K35)","v":""},null,"",""]
[{"$f":"IF(新人入力!B36=\"\",\"\",新人入力!B36)","v":""},{"$f":"IF(F27=\"\",\"\",必ずお読み下さい!$G$9)","v":""},{"$f":"IF(新人入力!C36=\"\",\"\",新人入力!C36)","v":""},null,{"$f":"IF(新人入力!B36=\"\",\"\",新人入力!B36)","v":""},{"$f":"IF(新人入力!E36=\"\",\"\",新人入力!E36)","v":""},{"$f":"IF(新人入力!G36=\"\",\"\",新人入力!G36)","v":""},{"$f":"IF(新人入力!E36=\"\",\"\",新人入力!E36)","v":""},{"$f":"IF(新人入力!H36=\"\",\"\",新人入力!H36)","v":""},"",{"$f":"IF(kyogishaデータ!F27=\"\",\"\",\"男\")","v":""},{"$f":"IF(新人入力!F36=\"\",\"\",新人入力!F36)","v":""},{"$f":"IFERROR(VLOOKUP(A27, 部員情報!A:G, 7, FALSE), \"\")","v":""},{"$f":"IFERROR(VLOOKUP(A27, 部員情報!A:G, 7, FALSE), \"\")","v":""},null,{"$f":"IF(A27=\"\",\"\",VLOOKUP(A27,部員情報!$A$6:$H$155,2,FALSE))","v":""},{"$f":"IF(新人入力!I36=\"\",\"\",新人入力!I36)","v":""},null,"","",{"$f":"IF(新人入力!J36=\"\",\"\",新人入力!J36)","v":""},null,"","",{"$f":"IF(新人入力!K36=\"\",\"\",新人入力!K36)","v":""},null,"",""]
[{"$f":"IF(新人入力!B37=\"\",\"\",新人入力!B37)","v":""},{"$f":"IF(F28=\"\",\"\",必ずお読み下さい!$G$9)","v":""},{"$f":"IF(新人入力!C37=\"\",\"\",新人入力!C37)","v":""},null,{"$f":"IF(新人入力!B37=\"\",\"\",新人入力!B37)","v":""},{"$f":"IF(新人入力!E37=\"\",\"\",新人入力!E37)","v":""},{"$f":"IF(新人入力!G37=\"\",\"\",新人入力!G37)","v":""},{"$f":"IF(新人入力!E37=\"\",\"\",新人入力!E37)","v":""},{"$f":"IF(新人入力!H37=\"\",\"\",新人入力!H37)","v":""},"",{"$f":"IF(kyogishaデータ!F28=\"\",\"\",\"男\")","v":""},{"$f":"IF(新人入力!F37=\"\",\"\",新人入力!F37)","v":""},{"$f":"IFERROR(VLOOKUP(A28, 部員情報!A:G, 7, FALSE), \"\")","v":""},{"$f":"IFERROR(VLOOKUP(A28, 部員情報!A:G, 7, FALSE), \"\")","v":""},null,{"$f":"IF(A28=\"\",\"\",VLOOKUP(A28,部員情報!$A$6:$H$155,2,FALSE))","v":""},{"$f":"IF(新人入力!I37=\"\",\"\",新人入力!I37)","v":""},null,"","",{"$f":"IF(新人入力!J37=\"\",\"\",新人入力!J37)","v":""},null,"","",{"$f":"IF(新人入力!K37=\"\",\"\",新人入力!K37)","v":""},null,"",""]
[{"$f":"IF(新人入力!B38=\"\",\"\",新人入力!B38)","v":""},{"$f":"IF(F29=\"\",\"\",必ずお読み下さい!$G$9)","v":""},{"$f":"IF(新人入力!C38=\"\",\"\",新人入力!C38)","v":""},null,{"$f":"IF(新人入力!B38=\"\",\"\",新人入力!B38)","v":""},{"$f":"IF(新人入力!E38=\"\",\"\",新人入力!E38)","v":""},{"$f":"IF(新人入力!G38=\"\",\"\",新人入力!G38)","v":""},{"$f":"IF(新人入力!E38=\"\",\"\",新人入力!E38)","v":""},{"$f":"IF(新人入力!H38=\"\",\"\",新人入力!H38)","v":""},"",{"$f":"IF(kyogishaデータ!F29=\"\",\"\",\"男\")","v":""},{"$f":"IF(新人入力!F38=\"\",\"\",新人入力!F38)","v":""},{"$f":"IFERROR(VLOOKUP(A29, 部員情報!A:G, 7, FALSE), \"\")","v":""},{"$f":"IFERROR(VLOOKUP(A29, 部員情報!A:G, 7, FALSE), \"\")","v":""},null,{"$f":"IF(A29=\"\",\"\",VLOOKUP(A29,部員情報!$A$6:$H$155,2,FALSE))","v":""},{"$f":"IF(新人入力!I38=\"\",\"\",新人入力!I38)","v":""},null,"","",{"$f":"IF(新人入力!J38=\"\",\"\",新人入力!J38)","v":""},null,"","",{"$f":"IF(新人入力!K38=\"\",\"\",新人入力!K38)","v":""},null,"",""]
[{"$f":"IF(新人入力!B39=\"\",\"\",新人入力!B39)","v":""},{"$f":"IF(F30=\"\",\"\",必ずお読み下さい!$G$9)","v":""},{"$f":"IF(新人入力!C39=\"\",\"\",新人入力!C39)","v":""},null,{"$f":"IF(新人入力!B39=\"\",\"\",新人入力!B39)","v":""},{"$f":"IF(新人入力!E39=\"\",\"\",新人入力!E39)","v":""},{"$f":"IF(新人入力!G39=\"\",\"\",新人入力!G39)","v":""},{"$f":"IF(新人入力!E39=\"\",\"\",新人入力!E39)","v":""},{"$f":"IF(新人入力!H39=\"\",\"\",新人入力!H39)","v":""},"",{"$f":"IF(kyogishaデータ!F30=\"\",\"\",\"男\")","v":""},{"$f":"IF(新人入力!F39=\"\",\"\",新人入力!F39)","v":""},{"$f":"IFERROR(VLOOKUP(A30, 部員情報!A:G, 7, FALSE), \"\")","v":""},{"$f":"IFERROR(VLOOKUP(A30, 部員情報!A:G, 7, FALSE), \"\")","v":""},null,{"$f":"IF(A30=\"\",\"\",VLOOKUP(A30,部員情報!$A$6:$H$155,2,FALSE))","v":""},{"$f":"IF(新人入力!I39=\"\",\"\",新人入力!I39)","v":""},null,"","",{"$f":"IF(新人入力!J39=\"\",\"\",新人入力!J39)","v":""},null,"","",{"$f":"IF(新人入力!K39=\"\",\"\",新人入力!K39)","v":""},null,"",""]
[{"$f":"IF(新人入力!B40=\"\",\"\",新人入力!B40)","v":""},{"$f":"IF(F31=\"\",\"\",必ずお読み下さい!$G$9)","v":""},{"$f":"IF(新人入力!C40=\"\",\"\",新人入力!C40)","v":""},null,{"$f":"IF(新人入力!B40=\"\",\"\",新人入力!B40)","v":""},{"$f":"IF(新人入力!E40=\"\",\"\",新人入力!E40)","v":""},{"$f":"IF(新人入力!G40=\"\",\"\",新人入力!G40)","v":""},{"$f":"IF(新人入力!E40=\"\",\"\",新人入力!E40)","v":""},{"$f":"IF(新人入力!H40=\"\",\"\",新人入力!H40)","v":""},"",{"$f":"IF(kyogishaデータ!F31=\"\",\"\",\"男\")","v":""},{"$f":"IF(新人入力!F40=\"\",\"\",新人入力!F40)","v":""},{"$f":"IFERROR(VLOOKUP(A31, 部員情報!A:G, 7, FALSE), \"\")","v":""},{"$f":"IFERROR(VLOOKUP(A31, 部員情報!A:G, 7, FALSE), \"\")","v":""},null,{"$f":"IF(A31=\"\",\"\",VLOOKUP(A31,部員情報!$A$6:$H$155,2,FALSE))","v":""},{"$f":"IF(新人入力!I40=\"\",\"\",新人入力!I40)","v":""},null,"","",{"$f":"IF(新人入力!J40=\"\",\"\",新人入力!J40)","v":""},null,"","",{"$f":"IF(新人入力!K40=\"\",\"\",新人入力!K40)","v":""},null,"",""]
[{"$f":"IF(新人入力!B41=\"\",\"\",新人入力!B41)","v":""},{"$f":"IF(F32=\"\",\"\",必ずお読み下さい!$G$9)","v":""},{"$f":"IF(新人入力!C41=\"\",\"\",新人入力!C41)","v":""},null,{"$f":"IF(新人入力!B41=\"\",\"\",新人入力!B41)","v":""},{"$f":"IF(新人入力!E41=\"\",\"\",新人入力!E41)","v":""},{"$f":"IF(新人入力!G41=\"\",\"\",新人入力!G41)","v":""},{"$f":"IF(新人入力!E41=\"\",\"\",新人入力!E41)","v":""},{"$f":"IF(新人入力!H41=\"\",\"\",新人入力!H41)","v":""},"",{"$f":"IF(kyogishaデータ!F32=\"\",\"\",\"男\")","v":""},{"$f":"IF(新人入力!F41=\"\",\"\",新人入力!F41)","v":""},{"$f":"IFERROR(VLOOKUP(A32, 部員情報!A:G, 7, FALSE), \"\")","v":""},{"$f":"IFERROR(VLOOKUP(A32, 部員情報!A:G, 7, FALSE), \"\")","v":""},null,{"$f":"IF(A32=\"\",\"\",VLOOKUP(A32,部員情報!$A$6:$H$155,2,FALSE))","v":""},{"$f":"IF(新人入力!I41=\"\",\"\",新人入力!I41)","v":""},null,"","",{"$f":"IF(新人入力!J41=\"\",\"\",新人入力!J41)","v":""},null,"","",{"$f":"IF(新人入力!K41=\"\",\"\",新人入力!K41)","v":""},null,"",""]
[{"$f":"IF(新人入力!B79=\"\",\"\",新人入力!B79)","v":""},{"$f":"IF(F33=\"\",\"\",必ずお読み下さい!$G$9)","v":""},{"$f":"IF(新人入力!C79=\"\",\"\",新人入力!C79)","v":""},null,{"$f":"IF(新人入力!B79=\"\",\"\",新人入力!B79)","v":""},{"$f":"IF(新人入力!E79=\"\",\"\",新人入力!E79)","v":""},{"$f":"IF(新人入力!G79=\"\",\"\",新人入力!G79)","v":""},{"$f":"IF(新人入力!E79=\"\",\"\",新人入力!E79)","v":""},{"$f":"IF(新人入力!H79=\"\",\"\",新人入力!H79)","v":""},"",{"$f":"IF(kyogishaデータ!F33=\"\",\"\",\"女\")","v":""},{"$f":"IF(新人入力!F79=\"\",\"\",新人入力!F79)","v":""},{"$f":"IFERROR(VLOOKUP(A33, 部員情報!A:G, 7, FALSE), \"\")","v":""},{"$f":"IFERROR(VLOOKUP(A33, 部員情報!A:G, 7, FALSE), \"\")","v":""},null,{"$f":"IF(A33=\"\",\"\",VLOOKUP(A33,部員情報!$A$6:$H$155,2,FALSE))","v":""},{"$f":"IF(新人入力!I79=\"\",\"\",新人入力!I79)","v":""},null,{"$f":"IF(Q33=\"\",\"\",0)","v":""},{"$f":"IF(Q33=\"\",\"\",0)","v":""},{"$f":"IF(新人入力!J79=\"\",\"\",新人入力!J79)","v":""},null,{"$f":"IF(U33=\"\",\"\",0)","v":""},{"$f":"IF(U33=\"\",\"\",0)","v":""},{"$f":"IF(新人入力!K79=\"\",\"\",新人入力!K79)","v":""},null,{"$f":"IF(Y33=\"\",\"\",0)","v":""},{"$f":"IF(Y33=\"\",\"\",0)","v":""}]
[{"$f":"IF(新人入力!B80=\"\",\"\",新人入力!B80)","v":""},{"$f":"IF(F34=\"\",\"\",必ずお読み下さい!$G$9)","v":""},{"$f":"IF(新人入力!C80=\"\",\"\",新人入力!C80)","v":""},null,{"$f":"IF(新人入力!B80=\"\",\"\",新人入力!B80)","v":""},{"$f":"IF(新人入力!E80=\"\",\"\",新人入力!E80)","v":""},{"$f":"IF(新人入力!G80=\"\",\"\",新人入力!G80)","v":""},{"$f":"IF(新人入力!E80=\"\",\"\",新人入力!E80)","v":""},{"$f":"IF(新人入力!H80=\"\",\"\",新人入力!H80)","v":""},{"$f":"IF(F34=\"\",\"\",\"JPN\")","v":""},{"$f":"IF(kyogishaデータ!F34=\"\",\"\",\"女\")","v":""},{"$f":"IF(新人入力!F80=\"\",\"\",新人入力!F80)","v":""},{"$f":"IFERROR(VLOOKUP(A34, 部員情報!A:G, 7, FALSE), \"\")","v":""},{"$f":"IFERROR(VLOOKUP(A34, 部員情報!A:G, 7, FALSE), \"\")","v":""},null,{"$f":"IF(A34=\"\",\"\",VLOOKUP(A34,部員情報!$A$6:$H$155,2,FALSE))","v":""},{"$f":"IF(新人入力!I80=\"\",\"\",新人入力!I80)","v":""},null,{"$f":"IF(Q34=\"\",\"\",0)","v":""},{"$f":"IF(Q34=\"\",\"\",0)","v":""},{"$f":"IF(新人入力!J80=\"\",\"\",新人入力!J80)","v":""},null,{"$f":"IF(U34=\"\",\"\",0)","v":""},{"$f":"IF(U34=\"\",\"\",0)","v":""},{"$f":"IF(新人入力!K80=\"\",\"\",新人入力!K80)","v":""},null,{"$f":"IF(Y34=\"\",\"\",0)","v":""},{"$f":"IF(Y34=\"\",\"\",0)","v":""}]
[{"$f":"IF(新人入力!B81=\"\",\"\",新人入力!B81)","v":""},{"$f":"IF(F35=\"\",\"\",必ずお読み下さい!$G$9)","v":""},{"$f":"IF(新人入力!C81=\"\",\"\",新人入力!C81)","v":""},null,{"$f":"IF(新人入力!B81=\"\",\"\",新人入力!B81)","v":""},{"$f":"IF(新人入力!E81=\"\",\"\",新人入力!E81)","v":""},{"$f":"IF(新人入力!G81=\"\",\"\",新人入力!G81)","v":""},{"$f":"IF(新人入力!E81=\"\",\"\",新人入力!E81)","v":""},{"$f":"IF(新人入力!H81=\"\",\"\",新人入力!H81)","v":""},"",{"$f":"IF(kyogishaデータ!F35=\"\",\"\",\"女\")","v":""},{"$f":"IF(新人入力!F81=\"\",\"\",新人入力!F81)","v":""},{"$f":"IFERROR(VLOOKUP(A35, 部員情報!A:G, 7, FALSE), \"\")","v":""},{"$f":"IFERROR(VLOOKUP(A35, 部員情報!A:G, 7, FALSE), \"\")","v":""},null,{"$f":"IF(A35=\"\",\"\",VLOOKUP(A35,部員情報!$A$6:$H$155,2,FALSE))","v":""},{"$f":"IF(新人入力!I81=\"\",\"\",新人入力!I81)","v":""},null,"","",{"$f":"IF(新人入力!J81=\"\",\"\",新人入力!J81)","v":""},null,"","",{"$f":"IF(新人入力!K81=\"\",\"\",新人入力!K81)","v":""},null,"",""]
[{"$f":"IF(新人入力!B82=\"\",\"\",新人入力!B82)","v":""},{"$f":"IF(F36=\"\",\"\",必ずお読み下さい!$G$9)","v":""},{"$f":"IF(新人入力!C82=\"\",\"\",新人入力!C82)","v":""},null,{"$f":"IF(新人入力!B82=\"\",\"\",新人入力!B82)","v":""},{"$f":"IF(新人入力!E82=\"\",\"\",新人入力!E82)","v":""},{"$f":"IF(新人入力!G82=\"\",\"\",新人入力!G82)","v":""},{"$f":"IF(新人入力!E82=\"\",\"\",新人入力!E82)","v":""},{"$f":"IF(新人入力!H82=\"\",\"\",新人入力!H82)","v":""},"",{"$f":"IF(kyogishaデータ!F36=\"\",\"\",\"女\")","v":""},{"$f":"IF(新人入力!F82=\"\",\"\",新人入力!F82)","v":""},{"$f":"IFERROR(VLOOKUP(A36, 部員情報!A:G, 7, FALSE), \"\")","v":""},{"$f":"IFERROR(VLOOKUP(A36, 部員情報!A:G, 7, FALSE), \"\")","v":""},null,{"$f":"IF(A36=\"\",\"\",VLOOKUP(A36,部員情報!$A$6:$H$155,2,FALSE))","v":""},{"$f":"IF(新人入力!I82=\"\",\"\",新人入力!I82)","v":""},null,"","",{"$f":"IF(新人入力!J82=\"\",\"\",新人入力!J82)","v":""},null,"","",{"$f":"IF(新人入力!K82=\"\",\"\",新人入力!K82)","v":""},null,"",""]
[{"$f":"IF(新人入力!B83=\"\",\"\",新人入力!B83)","v":""},{"$f":"IF(F37=\"\",\"\",必ずお読み下さい!$G$9)","v":""},{"$f":"IF(新人入力!C83=\"\",\"\",新人入力!C83)","v":""},null,{"$f":"IF(新人入力!B83=\"\",\"\",新人入力!B83)","v":""},{"$f":"IF(新人入力!E83=\"\",\"\",新人入力!E83)","v":""},{"$f":"IF(新人入力!G83=\"\",\"\",新人入力!G83)","v":""},{"$f":"IF(新人入力!E83=\"\",\"\",新人入力!E83)","v":""},{"$f":"IF(新人入力!H83=\"\",\"\",新人入力!H83)","v":""},"",{"$f":"IF(kyogishaデータ!F37=\"\",\"\",\"女\")","v":""},{"$f":"IF(新人入力!F83=\"\",\"\",新人入力!F83)","v":""},{"$f":"IFERROR(VLOOKUP(A37, 部員情報!A:G, 7, FALSE), \"\")","v":""},{"$f":"IFERROR(VLOOKUP(A37, 部員情報!A:G, 7, FALSE), \"\")","v":""},null,{"$f":"IF(A37=\"\",\"\",VLOOKUP(A37,部員情報!$A$6:$H$155,2,FALSE))","v":""},{"$f":"IF(新人入力!I83=\"\",\"\",新人入力!I83)","v":""},null,"","",{"$f":"IF(新人入力!J83=\"\",\"\",新人入力!J83)","v":""},null,"","",{"$f":"IF(新人入力!K83=\"\",\"\",新人入力!K83)","v":""},null,"",""]
[{"$f":"IF(新人入力!B84=\"\",\"\",新人入力!B84)","v":""},{"$f":"IF(F38=\"\",\"\",必ずお読み下さい!$G$9)","v":""},{"$f":"IF(新人入力!C84=\"\",\"\",新人入力!C84)","v":""},null,{"$f":"IF(新人入力!B84=\"\",\"\",新人入力!B84)","v":""},{"$f":"IF(新人入力!E84=\"\",\"\",新人入力!E84)","v":""},{"$f":"IF(新人入力!G84=\"\",\"\",新人入力!G84)","v":""},{"$f":"IF(新人入力!E84=\"\",\"\",新人入力!E84)","v":""},{"$f":"IF(新人入力!H84=\"\",\"\",新人入力!H84)","v":""},"",{"$f":"IF(kyogishaデータ!F38=\"\",\"\",\"女\")","v":""},{"$f":"IF(新人入力!F84=\"\",\"\",新人入力!F84)","v":""},{"$f":"IFERROR(VLOOKUP(A38, 部員情報!A:G, 7, FALSE), \"\")","v":""},{"$f":"IFERROR(VLOOKUP(A38, 部員情報!A:G, 7, FALSE), \"\")","v":""},null,{"$f":"IF(A38=\"\",\"\",VLOOKUP(A38,部員情報!$A$6:$H$155,2,FALSE))","v":""},{"$f":"IF(新人入力!I84=\"\",\"\",新人入力!I84)","v":""},null,"","",{"$f":"IF(新人入力!J84=\"\",\"\",新人入力!J84)","v":""},null,"","",{"$f":"IF(新人入力!K84=\"\",\"\",新人入力!K84)","v":""},null,"",""]
[{"$f":"IF(新人入力!B85=\"\",\"\",新人入力!B85)","v":""},{"$f":"IF(F39=\"\",\"\",必ずお読み下さい!$G$9)","v":""},{"$f":"IF(新人入力!C85=\"\",\"\",新人入力!C85)","v":""},null,{"$f":"IF(新人入力!B85=\"\",\"\",新人入力!B85)","v":""},{"$f":"IF(新人入力!E85=\"\",\"\",新人入力!E85)","v":""},{"$f":"IF(新人入力!G85=\"\",\"\",新人入力!G85)","v":""},{"$f":"IF(新人入力!E85=\"\",\"\",新人入力!E85)","v":""},{"$f":"IF(新人入力!H85=\"\",\"\",新人入力!H85)","v":""},"",{"$f":"IF(kyogishaデータ!F39=\"\",\"\",\"女\")","v":""},{"$f":"IF(新人入力!F85=\"\",\"\",新人入力!F85)","v":""},{"$f":"IFERROR(VLOOKUP(A39, 部員情報!A:G, 7, FALSE), \"\")","v":""},{"$f":"IFERROR(VLOOKUP(A39, 部員情報!A:G, 7, FALSE), \"\")","v":""},null,{"$f":"IF(A39=\"\",\"\",VLOOKUP(A39,部員情報!$A$6:$H$155,2,FALSE))","v":""},{"$f":"IF(新人入力!I85=\"\",\"\",新人入力!I85)","v":""},null,"","",{"$f":"IF(新人入力!J85=\"\",\"\",新人入力!J85)","v":""},null,"","",{"$f":"IF(新人入力!K85=\"\",\"\",新人入力!K85)","v":""},null,"",""]
[{"$f":"IF(新人入力!B86=\"\",\"\",新人入力!B86)","v":""},{"$f":"IF(F40=\"\",\"\",必ずお読み下さい!$G$9)","v":""},{"$f":"IF(新人入力!C86=\"\",\"\",新人入力!C86)","v":""},null,{"$f":"IF(新人入力!B86=\"\",\"\",新人入力!B86)","v":""},{"$f":"IF(新人入力!E86=\"\",\"\",新人入力!E86)","v":""},{"$f":"IF(新人入力!G86=\"\",\"\",新人入力!G86)","v":""},{"$f":"IF(新人入力!E86=\"\",\"\",新人入力!E86)","v":""},{"$f":"IF(新人入力!H86=\"\",\"\",新人入力!H86)","v":""},"",{"$f":"IF(kyogishaデータ!F40=\"\",\"\",\"女\")","v":""},{"$f":"IF(新人入力!F86=\"\",\"\",新人入力!F86)","v":""},{"$f":"IFERROR(VLOOKUP(A40, 部員情報!A:G, 7, FALSE), \"\")","v":""},{"$f":"IFERROR(VLOOKUP(A40, 部員情報!A:G, 7, FALSE), \"\")","v":""},null,{"$f":"IF(A40=\"\",\"\",VLOOKUP(A40,部員情報!$A$6:$H$155,2,FALSE))","v":""},{"$f":"IF(新人入力!I86=\"\",\"\",新人入力!I86)","v":""},null,"","",{"$f":"IF(新人入力!J86=\"\",\"\",新人入力!J86)","v":""},null,"","",{"$f":"IF(新人入力!K86=\"\",\"\",新人入力!K86)","v":""},null,"",""]
[{"$f":"IF(新人入力!B87=\"\",\"\",新人入力!B87)","v":""},{"$f":"IF(F41=\"\",\"\",必ずお読み下さい!$G$9)","v":""},{"$f":"IF(新人入力!C87=\"\",\"\",新人入力!C87)","v":""},null,{"$f":"IF(新人入力!B87=\"\",\"\",新人入力!B87)","v":""},{"$f":"IF(新人入力!E87=\"\",\"\",新人入力!E87)","v":""},{"$f":"IF(新人入力!G87=\"\",\"\",新人入力!G87)","v":""},{"$f":"IF(新人入力!E87=\"\",\"\",新人入力!E87)","v":""},{"$f":"IF(新人入力!H87=\"\",\"\",新人入力!H87)","v":""},"",{"$f":"IF(kyogishaデータ!F41=\"\",\"\",\"女\")","v":""},{"$f":"IF(新人入力!F87=\"\",\"\",新人入力!F87)","v":""},{"$f":"IFERROR(VLOOKUP(A41, 部員情報!A:G, 7, FALSE), \"\")","v":""},{"$f":"IFERROR(VLOOKUP(A41, 部員情報!A:G, 7, FALSE), \"\")","v":""},null,{"$f":"IF(A41=\"\",\"\",VLOOKUP(A41,部員情報!$A$6:$H$155,2,FALSE))","v":""},{"$f":"IF(新人入力!I87=\"\",\"\",新人入力!I87)","v":""},null,"","",{"$f":"IF(新人入力!J87=\"\",\"\",新人入力!J87)","v":""},null,"","",{"$f":"IF(新人入力!K87=\"\",\"\",新人入力!K87)","v":""},null,"",""]
[{"$f":"IF(新人入力!B88=\"\",\"\",新人入力!B88)","v":""},{"$f":"IF(F42=\"\",\"\",必ずお読み下さい!$G$9)","v":""},{"$f":"IF(新人入力!C88=\"\",\"\",新人入力!C88)","v":""},null,{"$f":"IF(新人入力!B88=\"\",\"\",新人入力!B88)","v":""},{"$f":"IF(新人入力!E88=\"\",\"\",新人入力!E88)","v":""},{"$f":"IF(新人入力!G88=\"\",\"\",新人入力!G88)","v":""},{"$f":"IF(新人入力!E88=\"\",\"\",新人入力!E88)","v":""},{"$f":"IF(新人入力!H88=\"\",\"\",新人入力!H88)","v":""},"",{"$f":"IF(kyogishaデータ!F42=\"\",\"\",\"女\")","v":""},{"$f":"IF(新人入力!F88=\"\",\"\",新人入力!F88)","v":""},{"$f":"IFERROR(VLOOKUP(A42, 部員情報!A:G, 7, FALSE), \"\")","v":""},{"$f":"IFERROR(VLOOKUP(A42, 部員情報!A:G, 7, FALSE), \"\")","v":""},null,{"$f":"IF(A42=\"\",\"\",VLOOKUP(A42,部員情報!$A$6:$H$155,2,FALSE))","v":""},{"$f":"IF(新人入力!I88=\"\",\"\",新人入力!I88)","v":""},null,"","",{"$f":"IF(新人入力!J88=\"\",\"\",新人入力!J88)","v":""},null,"","",{"$f":"IF(新人入力!K88=\"\",\"\",新人入力!K88)","v":""},null,"",""]
[{"$f":"IF(新人入力!B89=\"\",\"\",新人入力!B89)","v":""},{"$f":"IF(F43=\"\",\"\",必ずお読み下さい!$G$9)","v":""},{"$f":"IF(新人入力!C89=\"\",\"\",新人入力!C89)","v":""},null,{"$f":"IF(新人入力!B89=\"\",\"\",新人入力!B89)","v":""},{"$f":"IF(新人入力!E89=\"\",\"\",新人入力!E89)","v":""},{"$f":"IF(新人入力!G89=\"\",\"\",新人入力!G89)","v":""},{"$f":"IF(新人入力!E89=\"\",\"\",新人入力!E89)","v":""},{"$f":"IF(新人入力!H89=\"\",\"\",新人入力!H89)","v":""},"",{"$f":"IF(kyogishaデータ!F43=\"\",\"\",\"女\")","v":""},{"$f":"IF(新人入力!F89=\"\",\"\",新人入力!F89)","v":""},{"$f":"IFERROR(VLOOKUP(A43, 部員情報!A:G, 7, FALSE), \"\")","v":""},{"$f":"IFERROR(VLOOKUP(A43, 部員情報!A:G, 7, FALSE), \"\")","v":""},null,{"$f":"IF(A43=\"\",\"\",VLOOKUP(A43,部員情報!$A$6:$H$155,2,FALSE))","v":""},{"$f":"IF(新人入力!I89=\"\",\"\",新人入力!I89)","v":""},null,"","",{"$f":"IF(新人入力!J89=\"\",\"\",新人入力!J89)","v":""},null,"","",{"$f":"IF(新人入力!K89=\"\",\"\",新人入力!K89)","v":""},null,"",""]
[{"$f":"IF(新人入力!B90=\"\",\"\",新人入力!B90)","v":""},{"$f":"IF(F44=\"\",\"\",必ずお読み下さい!$G$9)","v":""},{"$f":"IF(新人入力!C90=\"\",\"\",新人入力!C90)","v":""},null,{"$f":"IF(新人入力!B90=\"\",\"\",新人入力!B90)","v":""},{"$f":"IF(新人入力!E90=\"\",\"\",新人入力!E90)","v":""},{"$f":"IF(新人入力!G90=\"\",\"\",新人入力!G90)","v":""},{"$f":"IF(新人入力!E90=\"\",\"\",新人入力!E90)","v":""},{"$f":"IF(新人入力!H90=\"\",\"\",新人入力!H90)","v":""},"",{"$f":"IF(kyogishaデータ!F44=\"\",\"\",\"女\")","v":""},{"$f":"IF(新人入力!F90=\"\",\"\",新人入力!F90)","v":""},{"$f":"IFERROR(VLOOKUP(A44, 部員情報!A:G, 7, FALSE), \"\")","v":""},{"$f":"IFERROR(VLOOKUP(A44, 部員情報!A:G, 7, FALSE), \"\")","v":""},null,{"$f":"IF(A44=\"\",\"\",VLOOKUP(A44,部員情報!$A$6:$H$155,2,FALSE))","v":""},{"$f":"IF(新人入力!I90=\"\",\"\",新人入力!I90)","v":""},null,"","",{"$f":"IF(新人入力!J90=\"\",\"\",新人入力!J90)","v":""},null,"","",{"$f":"IF(新人入力!K90=\"\",\"\",新人入力!K90)","v":""},null,"",""]
[{"$f":"IF(新人入力!B91=\"\",\"\",新人入力!B91)","v":""},{"$f":"IF(F45=\"\",\"\",必ずお読み下さい!$G$9)","v":""},{"$f":"IF(新人入力!C91=\"\",\"\",新人入力!C91)","v":""},null,{"$f":"IF(新人入力!B91=\"\",\"\",新人入力!B91)","v":""},{"$f":"IF(新人入力!E91=\"\",\"\",新人入力!E91)","v":""},{"$f":"IF(新人入力!G91=\"\",\"\",新人入力!G91)","v":""},{"$f":"IF(新人入力!E91=\"\",\"\",新人入力!E91)","v":""},{"$f":"IF(新人入力!H91=\"\",\"\",新人入力!H91)","v":""},"",{"$f":"IF(kyogishaデータ!F45=\"\",\"\",\"女\")","v":""},{"$f":"IF(新人入力!F91=\"\",\"\",新人入力!F91)","v":""},{"$f":"IFERROR(VLOOKUP(A45, 部員情報!A:G, 7, FALSE), \"\")","v":""},{"$f":"IFERROR(VLOOKUP(A45, 部員情報!A:G, 7, FALSE), \"\")","v":""},null,{"$f":"IF(A45=\"\",\"\",VLOOKUP(A45,部員情報!$A$6:$H$155,2,FALSE))","v":""},{"$f":"IF(新人入力!I91=\"\",\"\",新人入力!I91)","v":""},null,"","",{"$f":"IF(新人入力!J91=\"\",\"\",新人入力!J91)","v":""},null,"","",{"$f":"IF(新人入力!K91=\"\",\"\",新人入力!K91)","v":""},null,"",""]
[{"$f":"IF(新人入力!B92=\"\",\"\",新人入力!B92)","v":""},{"$f":"IF(F46=\"\",\"\",必ずお読み下さい!$G$9)","v":""},{"$f":"IF(新人入力!C92=\"\",\"\",新人入力!C92)","v":""},null,{"$f":"IF(新人入力!B92=\"\",\"\",新人入力!B92)","v":""},{"$f":"IF(新人入力!E92=\"\",\"\",新人入力!E92)","v":""},{"$f":"IF(新人入力!G92=\"\",\"\",新人入力!G92)","v":""},{"$f":"IF(新人入力!E92=\"\",\"\",新人入力!E92)","v":""},{"$f":"IF(新人入力!H92=\"\",\"\",新人入力!H92)","v":""},"",{"$f":"IF(kyogishaデータ!F46=\"\",\"\",\"女\")","v":""},{"$f":"IF(新人入力!F92=\"\",\"\",新人入力!F92)","v":""},{"$f":"IFERROR(VLOOKUP(A46, 部員情報!A:G, 7, FALSE), \"\")","v":""},{"$f":"IFERROR(VLOOKUP(A46, 部員情報!A:G, 7, FALSE), \"\")","v":""},null,{"$f":"IF(A46=\"\",\"\",VLOOKUP(A46,部員情報!$A$6:$H$155,2,FALSE))","v":""},{"$f":"IF(新人入力!I92=\"\",\"\",新人入力!I92)","v":""},null,"","",{"$f":"IF(新人入力!J92=\"\",\"\",新人入力!J92)","v":""},null,"","",{"$f":"IF(新人入力!K92=\"\",\"\",新人入力!K92)","v":""},null,"",""]
[{"$f":"IF(新人入力!B93=\"\",\"\",新人入力!B93)","v":""},{"$f":"IF(F47=\"\",\"\",必ずお読み下さい!$G$9)","v":""},{"$f":"IF(新人入力!C93=\"\",\"\",新人入力!C93)","v":""},null,{"$f":"IF(新人入力!B93=\"\",\"\",新人入力!B93)","v":""},{"$f":"IF(新人入力!E93=\"\",\"\",新人入力!E93)","v":""},{"$f":"IF(新人入力!G93=\"\",\"\",新人入力!G93)","v":""},{"$f":"IF(新人入力!E93=\"\",\"\",新人入力!E93)","v":""},{"$f":"IF(新人入力!H93=\"\",\"\",新人入力!H93)","v":""},"",{"$f":"IF(kyogishaデータ!F47=\"\",\"\",\"女\")","v":""},{"$f":"IF(新人入力!F93=\"\",\"\",新人入力!F93)","v":""},{"$f":"IFERROR(VLOOKUP(A47, 部員情報!A:G, 7, FALSE), \"\")","v":""},{"$f":"IFERROR(VLOOKUP(A47, 部員情報!A:G, 7, FALSE), \"\")","v":""},null,{"$f":"IF(A47=\"\",\"\",VLOOKUP(A47,部員情報!$A$6:$H$155,2,FALSE))","v":""},{"$f":"IF(新人入力!I93=\"\",\"\",新人入力!I93)","v":""},null,"","",{"$f":"IF(新人入力!J93=\"\",\"\",新人入力!J93)","v":""},null,"","",{"$f":"IF(新人入力!K93=\"\",\"\",新人入力!K93)","v":""},null,"",""]
[{"$f":"IF(新人入力!B94=\"\",\"\",新人入力!B94)","v":""},{"$f":"IF(F48=\"\",\"\",必ずお読み下さい!$G$9)","v":""},{"$f":"IF(新人入力!C94=\"\",\"\",新人入力!C94)","v":""},null,{"$f":"IF(新人入力!B94=\"\",\"\",新人入力!B94)","v":""},{"$f":"IF(新人入力!E94=\"\",\"\",新人入力!E94)","v":""},{"$f":"IF(新人入力!G94=\"\",\"\",新人入力!G94)","v":""},{"$f":"IF(新人入力!E94=\"\",\"\",新人入力!E94)","v":""},{"$f":"IF(新人入力!H94=\"\",\"\",新人入力!H94)","v":""},"",{"$f":"IF(kyogishaデータ!F48=\"\",\"\",\"女\")","v":""},{"$f":"IF(新人入力!F94=\"\",\"\",新人入力!F94)","v":""},{"$f":"IFERROR(VLOOKUP(A48, 部員情報!A:G, 7, FALSE), \"\")","v":""},{"$f":"IFERROR(VLOOKUP(A48, 部員情報!A:G, 7, FALSE), \"\")","v":""},null,{"$f":"IF(A48=\"\",\"\",VLOOKUP(A48,部員情報!$A$6:$H$155,2,FALSE))","v":""},{"$f":"IF(新人入力!I94=\"\",\"\",新人入力!I94)","v":""},null,"","",{"$f":"IF(新人入力!J94=\"\",\"\",新人入力!J94)","v":""},null,"","",{"$f":"IF(新人入力!K94=\"\",\"\",新人入力!K94)","v":""},null,"",""]
[{"$f":"IF(新人入力!B95=\"\",\"\",新人入力!B95)","v":""},{"$f":"IF(F49=\"\",\"\",必ずお読み下さい!$G$9)","v":""},{"$f":"IF(新人入力!C95=\"\",\"\",新人入力!C95)","v":""},null,{"$f":"IF(新人入力!B95=\"\",\"\",新人入力!B95)","v":""},{"$f":"IF(新人入力!E95=\"\",\"\",新人入力!E95)","v":""},{"$f":"IF(新人入力!G95=\"\",\"\",新人入力!G95)","v":""},{"$f":"IF(新人入力!E95=\"\",\"\",新人入力!E95)","v":""},{"$f":"IF(新人入力!H95=\"\",\"\",新人入力!H95)","v":""},"",{"$f":"IF(kyogishaデータ!F49=\"\",\"\",\"女\")","v":""},{"$f":"IF(新人入力!F95=\"\",\"\",新人入力!F95)","v":""},{"$f":"IFERROR(VLOOKUP(A49, 部員情報!A:G, 7, FALSE), \"\")","v":""},{"$f":"IFERROR(VLOOKUP(A49, 部員情報!A:G, 7, FALSE), \"\")","v":""},null,{"$f":"IF(A49=\"\",\"\",VLOOKUP(A49,部員情報!$A$6:$H$155,2,FALSE))","v":""},{"$f":"IF(新人入力!I95=\"\",\"\",新人入力!I95)","v":""},null,"","",{"$f":"IF(新人入力!J95=\"\",\"\",新人入力!J95)","v":""},null,"","",{"$f":"IF(新人入力!K95=\"\",\"\",新人入力!K95)","v":""},null,"",""]
[{"$f":"IF(新人入力!B96=\"\",\"\",新人入力!B96)","v":""},{"$f":"IF(F50=\"\",\"\",必ずお読み下さい!$G$9)","v":""},{"$f":"IF(新人入力!C96=\"\",\"\",新人入力!C96)","v":""},null,{"$f":"IF(新人入力!B96=\"\",\"\",新人入力!B96)","v":""},{"$f":"IF(新人入力!E96=\"\",\"\",新人入力!E96)","v":""},{"$f":"IF(新人入力!G96=\"\",\"\",新人入力!G96)","v":""},{"$f":"IF(新人入力!E96=\"\",\"\",新人入力!E96)","v":""},{"$f":"IF(新人入力!H96=\"\",\"\",新人入力!H96)","v":""},"",{"$f":"IF(kyogishaデータ!F50=\"\",\"\",\"女\")","v":""},{"$f":"IF(新人入力!F96=\"\",\"\",新人入力!F96)","v":""},{"$f":"IFERROR(VLOOKUP(A50, 部員情報!A:G, 7, FALSE), \"\")","v":""},{"$f":"IFERROR(VLOOKUP(A50, 部員情報!A:G, 7, FALSE), \"\")","v":""},null,{"$f":"IF(A50=\"\",\"\",VLOOKUP(A50,部員情報!$A$6:$H$155,2,FALSE))","v":""},{"$f":"IF(新人入力!I96=\"\",\"\",新人入力!I96)","v":""},null,"","",{"$f":"IF(新人入力!J96=\"\",\"\",新人入力!J96)","v":""},null,"","",{"$f":"IF(新人入力!K96=\"\",\"\",新人入力!K96)","v":""},null,"",""]
[{"$f":"IF(新人入力!B97=\"\",\"\",新人入力!B97)","v":""},{"$f":"IF(F51=\"\",\"\",必ずお読み下さい!$G$9)","v":""},{"$f":"IF(新人入力!C97=\"\",\"\",新人入力!C97)","v":""},null,{"$f":"IF(新人入力!B97=\"\",\"\",新人入力!B97)","v":""},{"$f":"IF(新人入力!E97=\"\",\"\",新人入力!E97)","v":""},{"$f":"IF(新人入力!G97=\"\",\"\",新人入力!G97)","v":""},{"$f":"IF(新人入力!E97=\"\",\"\",新人入力!E97)","v":""},{"$f":"IF(新人入力!H97=\"\",\"\",新人入力!H97)","v":""},"",{"$f":"IF(kyogishaデータ!F51=\"\",\"\",\"女\")","v":""},{"$f":"IF(新人入力!F97=\"\",\"\",新人入力!F97)","v":""},{"$f":"IFERROR(VLOOKUP(A51, 部員情報!A:G, 7, FALSE), \"\")","v":""},{"$f":"IFERROR(VLOOKUP(A51, 部員情報!A:G, 7, FALSE), \"\")","v":""},null,{"$f":"IF(A51=\"\",\"\",VLOOKUP(A51,部員情報!$A$6:$H$155,2,FALSE))","v":""},{"$f":"IF(新人入力!I97=\"\",\"\",新人入力!I97)","v":""},null,"","",{"$f":"IF(新人入力!J97=\"\",\"\",新人入力!J97)","v":""},null,"","",{"$f":"IF(新人入力!K97=\"\",\"\",新人入力!K97)","v":""},null,"",""]
[{"$f":"IF(新人入力!B98=\"\",\"\",新人入力!B98)","v":""},{"$f":"IF(F52=\"\",\"\",必ずお読み下さい!$G$9)","v":""},{"$f":"IF(新人入力!C98=\"\",\"\",新人入力!C98)","v":""},null,{"$f":"IF(新人入力!B98=\"\",\"\",新人入力!B98)","v":""},{"$f":"IF(新人入力!E98=\"\",\"\",新人入力!E98)","v":""},{"$f":"IF(新人入力!G98=\"\",\"\",新人入力!G98)","v":""},{"$f":"IF(新人入力!E98=\"\",\"\",新人入力!E98)","v":""},{"$f":"IF(新人入力!H98=\"\",\"\",新人入力!H98)","v":""},"",{"$f":"IF(kyogishaデータ!F52=\"\",\"\",\"女\")","v":""},{"$f":"IF(新人入力!F98=\"\",\"\",新人入力!F98)","v":""},{"$f":"IFERROR(VLOOKUP(A52, 部員情報!A:G, 7, FALSE), \"\")","v":""},{"$f":"IFERROR(VLOOKUP(A52, 部員情報!A:G, 7, FALSE), \"\")","v":""},null,{"$f":"IF(A52=\"\",\"\",VLOOKUP(A52,部員情報!$A$6:$H$155,2,FALSE))","v":""},{"$f":"IF(新人入力!I98=\"\",\"\",新人入力!I98)","v":""},null,"","",{"$f":"IF(新人入力!J98=\"\",\"\",新人入力!J98)","v":""},null,"","",{"$f":"IF(新人入力!K98=\"\",\"\",新人入力!K98)","v":""},null,"",""]
[{"$f":"IF(新人入力!B99=\"\",\"\",新人入力!B99)","v":""},{"$f":"IF(F53=\"\",\"\",必ずお読み下さい!$G$9)","v":""},{"$f":"IF(新人入力!C99=\"\",\"\",新人入力!C99)","v":""},null,{"$f":"IF(新人入力!B99=\"\",\"\",新人入力!B99)","v":""},{"$f":"IF(新人入力!E99=\"\",\"\",新人入力!E99)","v":""},{"$f":"IF(新人入力!G99=\"\",\"\",新人入力!G99)","v":""},{"$f":"IF(新人入力!E99=\"\",\"\",新人入力!E99)","v":""},{"$f":"IF(新人入力!H99=\"\",\"\",新人入力!H99)","v":""},"",{"$f":"IF(kyogishaデータ!F53=\"\",\"\",\"女\")","v":""},{"$f":"IF(新人入力!F99=\"\",\"\",新人入力!F99)","v":""},null,null,null,{"$f":"IF(A53=\"\",\"\",VLOOKUP(A53,部員情報!$A$6:$H$155,2,FALSE))","v":""},{"$f":"IF(新人入力!I99=\"\",\"\",新人入力!I99)","v":""},null,"","",{"$f":"IF(新人入力!J99=\"\",\"\",新人入力!J99)","v":""},null,"","",{"$f":"IF(新人入力!K99=\"\",\"\",新人入力!K99)","v":""},null,"",""]
[{"$f":"IF(新人入力!B100=\"\",\"\",新人入力!B100)","v":""},{"$f":"IF(F54=\"\",\"\",必ずお読み下さい!$G$9)","v":""},{"$f":"IF(新人入力!C100=\"\",\"\",新人入力!C100)","v":""},null,{"$f":"IF(新人入力!B100=\"\",\"\",新人入力!B100)","v":""},{"$f":"IF(新人入力!E100=\"\",\"\",新人入力!E100)","v":""},{"$f":"IF(新人入力!G100=\"\",\"\",新人入力!G100)","v":""},{"$f":"IF(新人入力!E100=\"\",\"\",新人入力!E100)","v":""},{"$f":"IF(新人入力!H100=\"\",\"\",新人入力!H100)","v":""},"",{"$f":"IF(kyogishaデータ!F54=\"\",\"\",\"女\")","v":""},{"$f":"IF(新人入力!F100=\"\",\"\",新人入力!F100)","v":""},null,null,null,{"$f":"IF(A54=\"\",\"\",VLOOKUP(A54,部員情報!$A$6:$H$155,2,FALSE))","v":""},{"$f":"IF(新人入力!I100=\"\",\"\",新人入力!I100)","v":""},null,"","",{"$f":"IF(新人入力!J100=\"\",\"\",新人入力!J100)","v":""},null,"","",{"$f":"IF(新人入力!K100=\"\",\"\",新人入力!K100)","v":""},null,"",""]
[{"$f":"IF(新人入力!B101=\"\",\"\",新人入力!B101)","v":""},{"$f":"IF(F55=\"\",\"\",必ずお読み下さい!$G$9)","v":""},{"$f":"IF(新人入力!C101=\"\",\"\",新人入力!C101)","v":""},null,{"$f":"IF(新人入力!B101=\"\",\"\",新人入力!B101)","v":""},{"$f":"IF(新人入力!E101=\"\",\"\",新人入力!E101)","v":""},{"$f":"IF(新人入力!G101=\"\",\"\",新人入力!G101)","v":""},{"$f":"IF(新人入力!E101=\"\",\"\",新人入力!E101)","v":""},{"$f":"IF(新人入力!H101=\"\",\"\",新人入力!H101)","v":""},"",{"$f":"IF(kyogishaデータ!F55=\"\",\"\",\"女\")","v":""},{"$f":"IF(新人入力!F101=\"\",\"\",新人入力!F101)","v":""},null,null,null,{"$f":"IF(A55=\"\",\"\",VLOOKUP(A55,部員情報!$A$6:$H$155,2,FALSE))","v":""},{"$f":"IF(新人入力!I101=\"\",\"\",新人入力!I101)","v":""},null,"","",{"$f":"IF(新人入力!J101=\"\",\"\",新人入力!J101)","v":""},null,"","",{"$f":"IF(新人入力!K101=\"\",\"\",新人入力!K101)","v":""},null,"",""]
[{"$f":"IF(新人入力!B102=\"\",\"\",新人入力!B102)","v":""},{"$f":"IF(F56=\"\",\"\",必ずお読み下さい!$G$9)","v":""},{"$f":"IF(新人入力!C102=\"\",\"\",新人入力!C102)","v":""},null,{"$f":"IF(新人入力!B102=\"\",\"\",新人入力!B102)","v":""},{"$f":"IF(新人入力!E102=\"\",\"\",新人入力!E102)","v":""},{"$f":"IF(新人入力!G102=\"\",\"\",新人入力!G102)","v":""},{"$f":"IF(新人入力!E102=\"\",\"\",新人入力!E102)","v":""},{"$f":"IF(新人入力!H102=\"\",\"\",新人入力!H102)","v":""},"",{"$f":"IF(kyogishaデータ!F56=\"\",\"\",\"女\")","v":""},{"$f":"IF(新人入力!F102=\"\",\"\",新人入力!F102)","v":""},null,null,null,{"$f":"IF(A56=\"\",\"\",VLOOKUP(A56,部員情報!$A$6:$H$155,2,FALSE))","v":""},{"$f":"IF(新人入力!I102=\"\",\"\",新人入力!I102)","v":""},null,"","",{"$f":"IF(新人入力!J102=\"\",\"\",新人入力!J102)","v":""},null,"","",{"$f":"IF(新人入力!K102=\"\",\"\",新人入力!K102)","v":""},null,"",""]
[{"$f":"IF(新人入力!B103=\"\",\"\",新人入力!B103)","v":""},{"$f":"IF(F57=\"\",\"\",必ずお読み下さい!$G$9)","v":""},{"$f":"IF(新人入力!C103=\"\",\"\",新人入力!C103)","v":""},null,{"$f":"IF(新人入力!B103=\"\",\"\",新人入力!B103)","v":""},{"$f":"IF(新人入力!E103=\"\",\"\",新人入力!E103)","v":""},{"$f":"IF(新人入力!G103=\"\",\"\",新人入力!G103)","v":""},{"$f":"IF(新人入力!E103=\"\",\"\",新人入力!E103)","v":""},{"$f":"IF(新人入力!H103=\"\",\"\",新人入力!H103)","v":""},"",{"$f":"IF(kyogishaデータ!F57=\"\",\"\",\"女\")","v":""},{"$f":"IF(新人入力!F103=\"\",\"\",新人入力!F103)","v":""},null,null,null,{"$f":"IF(A57=\"\",\"\",VLOOKUP(A57,部員情報!$A$6:$H$155,2,FALSE))","v":""},{"$f":"IF(新人入力!I103=\"\",\"\",新人入力!I103)","v":""},null,"","",{"$f":"IF(新人入力!J103=\"\",\"\",新人入力!J103)","v":""},null,"","",{"$f":"IF(新人入力!K103=\"\",\"\",新人入力!K103)","v":""},null,"",""]
[{"$f":"IF(新人入力!B104=\"\",\"\",新人入力!B104)","v":""},{"$f":"IF(F58=\"\",\"\",必ずお読み下さい!$G$9)","v":""},{"$f":"IF(新人入力!C104=\"\",\"\",新人入力!C104)","v":""},null,{"$f":"IF(新人入力!B104=\"\",\"\",新人入力!B104)","v":""},{"$f":"IF(新人入力!E104=\"\",\"\",新人入力!E104)","v":""},{"$f":"IF(新人入力!G104=\"\",\"\",新人入力!G104)","v":""},{"$f":"IF(新人入力!E104=\"\",\"\",新人入力!E104)","v":""},{"$f":"IF(新人入力!H104=\"\",\"\",新人入力!H104)","v":""},"",{"$f":"IF(kyogishaデータ!F58=\"\",\"\",\"女\")","v":""},{"$f":"IF(新人入力!F104=\"\",\"\",新人入力!F104)","v":""},null,null,null,{"$f":"IF(A58=\"\",\"\",VLOOKUP(A58,部員情報!$A$6:$H$155,2,FALSE))","v":""},{"$f":"IF(新人入力!I104=\"\",\"\",新人入力!I104)","v":""},null,"","",{"$f":"IF(新人入力!J104=\"\",\"\",新人入力!J104)","v":""},null,"","",{"$f":"IF(新人入力!K104=\"\",\"\",新人入力!K104)","v":""},null,"",""]
[{"$f":"IF(新人入力!B105=\"\",\"\",新人入力!B105)","v":""},{"$f":"IF(F59=\"\",\"\",必ずお読み下さい!$G$9)","v":""},{"$f":"IF(新人入力!C105=\"\",\"\",新人入力!C105)","v":""},null,{"$f":"IF(新人入力!B105=\"\",\"\",新人入力!B105)","v":""},{"$f":"IF(新人入力!E105=\"\",\"\",新人入力!E105)","v":""},{"$f":"IF(新人入力!G105=\"\",\"\",新人入力!G105)","v":""},{"$f":"IF(新人入力!E105=\"\",\"\",新人入力!E105)","v":""},{"$f":"IF(新人入力!H105=\"\",\"\",新人入力!H105)","v":""},"",{"$f":"IF(kyogishaデータ!F59=\"\",\"\",\"女\")","v":""},{"$f":"IF(新人入力!F105=\"\",\"\",新人入力!F105)","v":""},null,null,null,{"$f":"IF(A59=\"\",\"\",VLOOKUP(A59,部員情報!$A$6:$H$155,2,FALSE))","v":""},{"$f":"IF(新人入力!I105=\"\",\"\",新人入力!I105)","v":""},null,"","",{"$f":"IF(新人入力!J105=\"\",\"\",新人入力!J105)","v":""},null,"","",{"$f":"IF(新人入力!K105=\"\",\"\",新人入力!K105)","v":""},null,"",""]
[{"$f":"IF(新人入力!B106=\"\",\"\",新人入力!B106)","v":""},{"$f":"IF(F60=\"\",\"\",必ずお読み下さい!$G$9)","v":""},{"$f":"IF(新人入力!C106=\"\",\"\",新人入力!C106)","v":""},null,{"$f":"IF(新人入力!B106=\"\",\"\",新人入力!B106)","v":""},{"$f":"IF(新人入力!E106=\"\",\"\",新人入力!E106)","v":""},{"$f":"IF(新人入力!G106=\"\",\"\",新人入力!G106)","v":""},{"$f":"IF(新人入力!E106=\"\",\"\",新人入力!E106)","v":""},{"$f":"IF(新人入力!H106=\"\",\"\",新人入力!H106)","v":""},"",{"$f":"IF(kyogishaデータ!F60=\"\",\"\",\"女\")","v":""},{"$f":"IF(新人入力!F106=\"\",\"\",新人入力!F106)","v":""},null,null,null,{"$f":"IF(A60=\"\",\"\",VLOOKUP(A60,部員情報!$A$6:$H$155,2,FALSE))","v":""},{"$f":"IF(新人入力!I106=\"\",\"\",新人入力!I106)","v":""},null,"","",{"$f":"IF(新人入力!J106=\"\",\"\",新人入力!J106)","v":""},null,"","",{"$f":"IF(新人入力!K106=\"\",\"\",新人入力!K106)","v":""},null,"",""]
[{"$f":"IF(新人入力!B107=\"\",\"\",新人入力!B107)","v":""},{"$f":"IF(F61=\"\",\"\",必ずお読み下さい!$G$9)","v":""},{"$f":"IF(新人入力!C107=\"\",\"\",新人入力!C107)","v":""},null,{"$f":"IF(新人入力!B107=\"\",\"\",新人入力!B107)","v":""},{"$f":"IF(新人入力!E107=\"\",\"\",新人入力!E107)","v":""},{"$f":"IF(新人入力!G107=\"\",\"\",新人入力!G107)","v":""},{"$f":"IF(新人入力!E107=\"\",\"\",新人入力!E107)","v":""},{"$f":"IF(新人入力!H107=\"\",\"\",新人入力!H107)","v":""},"",{"$f":"IF(kyogishaデータ!F61=\"\",\"\",\"女\")","v":""},{"$f":"IF(新人入力!F107=\"\",\"\",新人入力!F107)","v":""},null,null,null,{"$f":"IF(A61=\"\",\"\",VLOOKUP(A61,部員情報!$A$6:$H$155,2,FALSE))","v":""},{"$f":"IF(新人入力!I107=\"\",\"\",新人入力!I107)","v":""},null,"","",{"$f":"IF(新人入力!J107=\"\",\"\",新人入力!J107)","v":""},null,"","",{"$f":"IF(新人入力!K107=\"\",\"\",新人入力!K107)","v":""},null,"",""]
[{"$f":"IF(新人入力!B108=\"\",\"\",新人入力!B108)","v":""},{"$f":"IF(F62=\"\",\"\",必ずお読み下さい!$G$9)","v":""},{"$f":"IF(新人入力!C108=\"\",\"\",新人入力!C108)","v":""},null,{"$f":"IF(新人入力!B108=\"\",\"\",新人入力!B108)","v":""},{"$f":"IF(新人入力!E108=\"\",\"\",新人入力!E108)","v":""},{"$f":"IF(新人入力!G108=\"\",\"\",新人入力!G108)","v":""},{"$f":"IF(新人入力!E108=\"\",\"\",新人入力!E108)","v":""},{"$f":"IF(新人入力!H108=\"\",\"\",新人入力!H108)","v":""},"",{"$f":"IF(kyogishaデータ!F62=\"\",\"\",\"女\")","v":""},{"$f":"IF(新人入力!F108=\"\",\"\",新人入力!F108)","v":""},null,null,null,{"$f":"IF(A62=\"\",\"\",VLOOKUP(A62,部員情報!$A$6:$H$155,2,FALSE))","v":""},{"$f":"IF(新人入力!I108=\"\",\"\",新人入力!I108)","v":""},null,"","",{"$f":"IF(新人入力!J108=\"\",\"\",新人入力!J108)","v":""},null,"","",{"$f":"IF(新人入力!K108=\"\",\"\",新人入力!K108)","v":""},null,"",""]

{"sheet":"部員情報","index":7,"n_rows":155,"n_cols":23,"rows_kept":155,"cut":false,"hidden":false,"merged":[]}
[]
[null,"一人目の登録番号は"]
[null,null,{"$f":"IF(R7=\"\",\"\",M6)","v":""},"です。"]
[]
["ｱｽﾘｰﾄﾋﾞﾌﾞｽ","JAAFID","氏　名","フリガナ(半角ｶﾀｶﾅ)","氏名英字表記","性別","生年月日（西暦）","学年",null,"フリガナ","氏名英字","性別","生年月日"]
[{"$f":"IF(登録データ貼付!E2=\"\",\"\",登録データ貼付!E2)","v":""},{"$f":"IF(登録データ貼付!B2=\"\",\"\",登録データ貼付!B2)","v":""},{"$f":"IF(登録データ貼付!C2=\"\",\"\",CONCATENATE(登録データ貼付!C2,\"　\",登録データ貼付!D2))","v":""},{"$f":"IF(J6=\"\",\"\",ASC(J6))","v":""},{"$f":"IF(K6=\"\",\"\",ASC(K6))","v":""},{"$f":"IF(L6=\"\",\"\",L6)","v":""},{"$f":"IF(M6=\"\",\"\",M6)","v":""},{"$f":"IF(登録データ貼付!V2=\"\",\"\",RIGHT(登録データ貼付!V2,1))","v":""},null,{"$f":"IF(登録データ貼付!F2=\"\",\"\",CONCATENATE(登録データ貼付!F2,\"　\",登録データ貼付!G2))","v":""},{"$f":"IF(登録データ貼付!H2=\"\",\"\",CONCATENATE(登録データ貼付!H2,\" \",登録データ貼付!I2))","v":""},{"$f":"IF(登録データ貼付!K2=\"\",\"\",LEFT(登録データ貼付!K2,1))","v":""},{"$f":"IF(登録データ貼付!S2=\"\",\"\",登録データ貼付!S2)","v":""},null,null,null,"学校名",{"$f":"IF(必ずお読み下さい!G8=\"\",\"\",必ずお読み下さい!G8)","v":""}]
[{"$f":"IF(登録データ貼付!E3=\"\",\"\",登録データ貼付!E3)","v":""},{"$f":"IF(登録データ貼付!B3=\"\",\"\",登録データ貼付!B3)","v":""},{"$f":"IF(登録データ貼付!C3=\"\",\"\",CONCATENATE(登録データ貼付!C3,\"　\",登録データ貼付!D3))","v":""},{"$f":"IF(J7=\"\",\"\",ASC(J7))","v":""},{"$f":"IF(K7=\"\",\"\",ASC(K7))","v":""},{"$f":"IF(L7=\"\",\"\",L7)","v":""},{"$f":"IF(M7=\"\",\"\",M7)","v":""},{"$f":"IF(登録データ貼付!V3=\"\",\"\",RIGHT(登録データ貼付!V3,1))","v":""},null,{"$f":"IF(登録データ貼付!F3=\"\",\"\",CONCATENATE(登録データ貼付!F3,\"　\",登録データ貼付!G3))","v":""},{"$f":"IF(登録データ貼付!H3=\"\",\"\",CONCATENATE(登録データ貼付!H3,\" \",登録データ貼付!I3))","v":""},{"$f":"IF(登録データ貼付!K3=\"\",\"\",LEFT(登録データ貼付!K3,1))","v":""},{"$f":"IF(登録データ貼付!S3=\"\",\"\",登録データ貼付!S3)","v":""},null,null,null,"学校コード",{"$f":"IF(R6=\"\",\"\",VLOOKUP(R6,Q9:T145,4,FALSE))","v":""}]
[{"$f":"IF(登録データ貼付!E4=\"\",\"\",登録データ貼付!E4)","v":""},{"$f":"IF(登録データ貼付!B4=\"\",\"\",登録データ貼付!B4)","v":""},{"$f":"IF(登録データ貼付!C4=\"\",\"\",CONCATENATE(登録データ貼付!C4,\"　\",登録データ貼付!D4))","v":""},"","","","",{"$f":"IF(登録データ貼付!V4=\"\",\"\",RIGHT(登録データ貼付!V4,1))","v":""},null,{"$f":"IF(登録データ貼付!F4=\"\",\"\",CONCATENATE(登録データ貼付!F4,\"　\",登録データ貼付!G4))","v":""},{"$f":"IF(登録データ貼付!H4=\"\",\"\",CONCATENATE(登録データ貼付!H4,\" \",登録データ貼付!I4))","v":""},{"$f":"IF(登録データ貼付!K4=\"\",\"\",LEFT(登録データ貼付!K4,1))","v":""},{"$f":"IF(登録データ貼付!S4=\"\",\"\",登録データ貼付!S4)","v":""},null,null,1]
[{"$f":"IF(登録データ貼付!E5=\"\",\"\",登録データ貼付!E5)","v":""},{"$f":"IF(登録データ貼付!B5=\"\",\"\",登録データ貼付!B5)","v":""},{"$f":"IF(登録データ貼付!C5=\"\",\"\",CONCATENATE(登録データ貼付!C5,\"　\",登録データ貼付!D5))","v":""},"","","","",{"$f":"IF(登録データ貼付!V5=\"\",\"\",RIGHT(登録データ貼付!V5,1))","v":""},null,{"$f":"IF(登録データ貼付!F5=\"\",\"\",CONCATENATE(登録データ貼付!F5,\"　\",登録データ貼付!G5))","v":""},{"$f":"IF(登録データ貼付!H5=\"\",\"\",CONCATENATE(登録データ貼付!H5,\" \",登録データ貼付!I5))","v":""},{"$f":"IF(登録データ貼付!K5=\"\",\"\",LEFT(登録データ貼付!K5,1))","v":""},{"$f":"IF(登録データ貼付!S5=\"\",\"\",登録データ貼付!S5)","v":""},null,null,2,"秋大附属",1,null,701,"秋田大学教育文化学部附属","中学校",{"$f":"CONCATENATE(U9,$V$9)","v":"秋田大学教育文化学部附属中学校"}]
[{"$f":"IF(登録データ貼付!E6=\"\",\"\",登録データ貼付!E6)","v":""},{"$f":"IF(登録データ貼付!B6=\"\",\"\",登録データ貼付!B6)","v":""},{"$f":"IF(登録データ貼付!C6=\"\",\"\",CONCATENATE(登録データ貼付!C6,\"　\",登録データ貼付!D6))","v":""},"","","","",{"$f":"IF(登録データ貼付!V6=\"\",\"\",RIGHT(登録データ貼付!V6,1))","v":""},null,{"$f":"IF(登録データ貼付!F6=\"\",\"\",CONCATENATE(登録データ貼付!F6,\"　\",登録データ貼付!G6))","v":""},{"$f":"IF(登録データ貼付!H6=\"\",\"\",CONCATENATE(登録データ貼付!H6,\" \",登録データ貼付!I6))","v":""},{"$f":"IF(登録データ貼付!K6=\"\",\"\",LEFT(登録データ貼付!K6,1))","v":""},{"$f":"IF(登録データ貼付!S6=\"\",\"\",登録データ貼付!S6)","v":""},null,null,3,"大館国際情報",2,null,702,"秋田県立大館国際情報学院",null,{"$f":"CONCATENATE(U10,$V$9)","v":"秋田県立大館国際情報学院中学校"}]
[{"$f":"IF(登録データ貼付!E7=\"\",\"\",登録データ貼付!E7)","v":""},{"$f":"IF(登録データ貼付!B7=\"\",\"\",登録データ貼付!B7)","v":""},{"$f":"IF(登録データ貼付!C7=\"\",\"\",CONCATENATE(登録データ貼付!C7,\"　\",登録データ貼付!D7))","v":""},"","","","",{"$f":"IF(登録データ貼付!V7=\"\",\"\",RIGHT(登録データ貼付!V7,1))","v":""},null,{"$f":"IF(登録データ貼付!F7=\"\",\"\",CONCATENATE(登録データ貼付!F7,\"　\",登録データ貼付!G7))","v":""},{"$f":"IF(登録データ貼付!H7=\"\",\"\",CONCATENATE(登録データ貼付!H7,\" \",登録データ貼付!I7))","v":""},{"$f":"IF(登録データ貼付!K7=\"\",\"\",LEFT(登録データ貼付!K7,1))","v":""},{"$f":"IF(登録データ貼付!S7=\"\",\"\",登録データ貼付!S7)","v":""},null,null,4,"南高中等部",3,null,703,"秋田県立秋田南高等学校中等部",null,"秋田県立秋田南高等学校中等部"]
[{"$f":"IF(登録データ貼付!E8=\"\",\"\",登録データ貼付!E8)","v":""},{"$f":"IF(登録データ貼付!B8=\"\",\"\",登録データ貼付!B8)","v":""},{"$f":"IF(登録データ貼付!C8=\"\",\"\",CONCATENATE(登録データ貼付!C8,\"　\",登録データ貼付!D8))","v":""},"","","","",{"$f":"IF(登録データ貼付!V8=\"\",\"\",RIGHT(登録データ貼付!V8,1))","v":""},null,{"$f":"IF(登録データ貼付!F8=\"\",\"\",CONCATENATE(登録データ貼付!F8,\"　\",登録データ貼付!G8))","v":""},{"$f":"IF(登録データ貼付!H8=\"\",\"\",CONCATENATE(登録データ貼付!H8,\" \",登録データ貼付!I8))","v":""},{"$f":"IF(登録データ貼付!K8=\"\",\"\",LEFT(登録データ貼付!K8,1))","v":""},{"$f":"IF(登録データ貼付!S8=\"\",\"\",登録データ貼付!S8)","v":""},null,null,5,"横手清陵学院",4,null,704,"秋田県立横手清陵学院",null,"秋田県立横手清陵学院中学校"]
[{"$f":"IF(登録データ貼付!E9=\"\",\"\",登録データ貼付!E9)","v":""},{"$f":"IF(登録データ貼付!B9=\"\",\"\",登録データ貼付!B9)","v":""},{"$f":"IF(登録データ貼付!C9=\"\",\"\",CONCATENATE(登録データ貼付!C9,\"　\",登録データ貼付!D9))","v":""},"","","","",{"$f":"IF(登録データ貼付!V9=\"\",\"\",RIGHT(登録データ貼付!V9,1))","v":""},null,{"$f":"IF(登録データ貼付!F9=\"\",\"\",CONCATENATE(登録データ貼付!F9,\"　\",登録データ貼付!G9))","v":""},{"$f":"IF(登録データ貼付!H9=\"\",\"\",CONCATENATE(登録データ貼付!H9,\" \",登録データ貼付!I9))","v":""},{"$f":"IF(登録データ貼付!K9=\"\",\"\",LEFT(登録データ貼付!K9,1))","v":""},{"$f":"IF(登録データ貼付!S9=\"\",\"\",登録データ貼付!S9)","v":""},null,null,6,"花輪",5,null,705,"鹿角市立花輪",null,"鹿角市立花輪中学校"]
[{"$f":"IF(登録データ貼付!E10=\"\",\"\",登録データ貼付!E10)","v":""},{"$f":"IF(登録データ貼付!B10=\"\",\"\",登録データ貼付!B10)","v":""},{"$f":"IF(登録データ貼付!C10=\"\",\"\",CONCATENATE(登録データ貼付!C10,\"　\",登録データ貼付!D10))","v":""},"","","","",{"$f":"IF(登録データ貼付!V10=\"\",\"\",RIGHT(登録データ貼付!V10,1))","v":""},null,{"$f":"IF(登録データ貼付!F10=\"\",\"\",CONCATENATE(登録データ貼付!F10,\"　\",登録データ貼付!G10))","v":""},{"$f":"IF(登録データ貼付!H10=\"\",\"\",CONCATENATE(登録データ貼付!H10,\" \",登録データ貼付!I10))","v":""},{"$f":"IF(登録データ貼付!K10=\"\",\"\",LEFT(登録データ貼付!K10,1))","v":""},{"$f":"IF(登録データ貼付!S10=\"\",\"\",登録データ貼付!S10)","v":""},null,null,7,"十和田",6,null,706,"鹿角市立十和田",null,"鹿角市立十和田中学校"]
[{"$f":"IF(登録データ貼付!E11=\"\",\"\",登録データ貼付!E11)","v":""},{"$f":"IF(登録データ貼付!B11=\"\",\"\",登録データ貼付!B11)","v":""},{"$f":"IF(登録データ貼付!C11=\"\",\"\",CONCATENATE(登録データ貼付!C11,\"　\",登録データ貼付!D11))","v":""},"","","","",{"$f":"IF(登録データ貼付!V11=\"\",\"\",RIGHT(登録データ貼付!V11,1))","v":""},null,{"$f":"IF(登録データ貼付!F11=\"\",\"\",CONCATENATE(登録データ貼付!F11,\"　\",登録データ貼付!G11))","v":""},{"$f":"IF(登録データ貼付!H11=\"\",\"\",CONCATENATE(登録データ貼付!H11,\" \",登録データ貼付!I11))","v":""},{"$f":"IF(登録データ貼付!K11=\"\",\"\",LEFT(登録データ貼付!K11,1))","v":""},{"$f":"IF(登録データ貼付!S11=\"\",\"\",登録データ貼付!S11)","v":""},null,null,8,"尾去沢",7,null,707,"鹿角市立尾去沢",null,"鹿角市立尾去沢中学校"]
[{"$f":"IF(登録データ貼付!E12=\"\",\"\",登録データ貼付!E12)","v":""},{"$f":"IF(登録データ貼付!B12=\"\",\"\",登録データ貼付!B12)","v":""},{"$f":"IF(登録データ貼付!C12=\"\",\"\",CONCATENATE(登録データ貼付!C12,\"　\",登録データ貼付!D12))","v":""},"","","","",{"$f":"IF(登録データ貼付!V12=\"\",\"\",RIGHT(登録データ貼付!V12,1))","v":""},null,{"$f":"IF(登録データ貼付!F12=\"\",\"\",CONCATENATE(登録データ貼付!F12,\"　\",登録データ貼付!G12))","v":""},{"$f":"IF(登録データ貼付!H12=\"\",\"\",CONCATENATE(登録データ貼付!H12,\" \",登録データ貼付!I12))","v":""},{"$f":"IF(登録データ貼付!K12=\"\",\"\",LEFT(登録データ貼付!K12,1))","v":""},{"$f":"IF(登録データ貼付!S12=\"\",\"\",登録データ貼付!S12)","v":""},null,null,9,"八幡平",8,null,708,"鹿角市立八幡平",null,"鹿角市立八幡平中学校"]
[{"$f":"IF(登録データ貼付!E13=\"\",\"\",登録データ貼付!E13)","v":""},{"$f":"IF(登録データ貼付!B13=\"\",\"\",登録データ貼付!B13)","v":""},{"$f":"IF(登録データ貼付!C13=\"\",\"\",CONCATENATE(登録データ貼付!C13,\"　\",登録データ貼付!D13))","v":""},"","","","",{"$f":"IF(登録データ貼付!V13=\"\",\"\",RIGHT(登録データ貼付!V13,1))","v":""},null,{"$f":"IF(登録データ貼付!F13=\"\",\"\",CONCATENATE(登録データ貼付!F13,\"　\",登録データ貼付!G13))","v":""},{"$f":"IF(登録データ貼付!H13=\"\",\"\",CONCATENATE(登録データ貼付!H13,\" \",登録データ貼付!I13))","v":""},{"$f":"IF(登録データ貼付!K13=\"\",\"\",LEFT(登録データ貼付!K13,1))","v":""},{"$f":"IF(登録データ貼付!S13=\"\",\"\",登録データ貼付!S13)","v":""},null,null,10,"小坂",9,null,709,"小坂町立小坂",null,"小坂町立小坂中学校"]
[{"$f":"IF(登録データ貼付!E14=\"\",\"\",登録データ貼付!E14)","v":""},{"$f":"IF(登録データ貼付!B14=\"\",\"\",登録データ貼付!B14)","v":""},{"$f":"IF(登録データ貼付!C14=\"\",\"\",CONCATENATE(登録データ貼付!C14,\"　\",登録データ貼付!D14))","v":""},"","","","",{"$f":"IF(登録データ貼付!V14=\"\",\"\",RIGHT(登録データ貼付!V14,1))","v":""},null,{"$f":"IF(登録データ貼付!F14=\"\",\"\",CONCATENATE(登録データ貼付!F14,\"　\",登録データ貼付!G14))","v":""},{"$f":"IF(登録データ貼付!H14=\"\",\"\",CONCATENATE(登録データ貼付!H14,\" \",登録データ貼付!I14))","v":""},{"$f":"IF(登録データ貼付!K14=\"\",\"\",LEFT(登録データ貼付!K14,1))","v":""},{"$f":"IF(登録データ貼付!S14=\"\",\"\",登録データ貼付!S14)","v":""},null,null,11,"大館第一",10,null,710,"大館市立第一",null,"大館市立第一中学校"]
[{"$f":"IF(登録データ貼付!E15=\"\",\"\",登録データ貼付!E15)","v":""},{"$f":"IF(登録データ貼付!B15=\"\",\"\",登録データ貼付!B15)","v":""},{"$f":"IF(登録データ貼付!C15=\"\",\"\",CONCATENATE(登録データ貼付!C15,\"　\",登録データ貼付!D15))","v":""},"","","","",{"$f":"IF(登録データ貼付!V15=\"\",\"\",RIGHT(登録データ貼付!V15,1))","v":""},null,{"$f":"IF(登録データ貼付!F15=\"\",\"\",CONCATENATE(登録データ貼付!F15,\"　\",登録データ貼付!G15))","v":""},{"$f":"IF(登録データ貼付!H15=\"\",\"\",CONCATENATE(登録データ貼付!H15,\" \",登録データ貼付!I15))","v":""},{"$f":"IF(登録データ貼付!K15=\"\",\"\",LEFT(登録データ貼付!K15,1))","v":""},{"$f":"IF(登録データ貼付!S15=\"\",\"\",登録データ貼付!S15)","v":""},null,null,12,"北陽",11,null,711,"大館市立北陽",null,"大館市立北陽中学校"]
[{"$f":"IF(登録データ貼付!E16=\"\",\"\",登録データ貼付!E16)","v":""},{"$f":"IF(登録データ貼付!B16=\"\",\"\",登録データ貼付!B16)","v":""},{"$f":"IF(登録データ貼付!C16=\"\",\"\",CONCATENATE(登録データ貼付!C16,\"　\",登録データ貼付!D16))","v":""},"","","","",{"$f":"IF(登録データ貼付!V16=\"\",\"\",RIGHT(登録データ貼付!V16,1))","v":""},null,{"$f":"IF(登録データ貼付!F16=\"\",\"\",CONCATENATE(登録データ貼付!F16,\"　\",登録データ貼付!G16))","v":""},{"$f":"IF(登録データ貼付!H16=\"\",\"\",CONCATENATE(登録データ貼付!H16,\" \",登録データ貼付!I16))","v":""},{"$f":"IF(登録データ貼付!K16=\"\",\"\",LEFT(登録データ貼付!K16,1))","v":""},{"$f":"IF(登録データ貼付!S16=\"\",\"\",登録データ貼付!S16)","v":""},null,null,13,"下川沿",12,null,712,"大館市立下川沿",null,"大館市立下川沿中学校"]
[{"$f":"IF(登録データ貼付!E17=\"\",\"\",登録データ貼付!E17)","v":""},{"$f":"IF(登録データ貼付!B17=\"\",\"\",登録データ貼付!B17)","v":""},{"$f":"IF(登録データ貼付!C17=\"\",\"\",CONCATENATE(登録データ貼付!C17,\"　\",登録データ貼付!D17))","v":""},"","","","",{"$f":"IF(登録データ貼付!V17=\"\",\"\",RIGHT(登録データ貼付!V17,1))","v":""},null,{"$f":"IF(登録データ貼付!F17=\"\",\"\",CONCATENATE(登録データ貼付!F17,\"　\",登録データ貼付!G17))","v":""},{"$f":"IF(登録データ貼付!H17=\"\",\"\",CONCATENATE(登録データ貼付!H17,\" \",登録データ貼付!I17))","v":""},{"$f":"IF(登録データ貼付!K17=\"\",\"\",LEFT(登録データ貼付!K17,1))","v":""},{"$f":"IF(登録データ貼付!S17=\"\",\"\",登録データ貼付!S17)","v":""},null,null,14,"大館南",13,null,713,"大館市立南",null,"大館市立南中学校"]
[{"$f":"IF(登録データ貼付!E18=\"\",\"\",登録データ貼付!E18)","v":""},{"$f":"IF(登録データ貼付!B18=\"\",\"\",登録データ貼付!B18)","v":""},{"$f":"IF(登録データ貼付!C18=\"\",\"\",CONCATENATE(登録データ貼付!C18,\"　\",登録データ貼付!D18))","v":""},"","","","",{"$f":"IF(登録データ貼付!V18=\"\",\"\",RIGHT(登録データ貼付!V18,1))","v":""},null,{"$f":"IF(登録データ貼付!F18=\"\",\"\",CONCATENATE(登録データ貼付!F18,\"　\",登録データ貼付!G18))","v":""},{"$f":"IF(登録データ貼付!H18=\"\",\"\",CONCATENATE(登録データ貼付!H18,\" \",登録データ貼付!I18))","v":""},{"$f":"IF(登録データ貼付!K18=\"\",\"\",LEFT(登録データ貼付!K18,1))","v":""},{"$f":"IF(登録データ貼付!S18=\"\",\"\",登録データ貼付!S18)","v":""},null,null,15,"成章",14,null,714,"大館市立成章",null,"大館市立成章中学校"]
[{"$f":"IF(登録データ貼付!E19=\"\",\"\",登録データ貼付!E19)","v":""},{"$f":"IF(登録データ貼付!B19=\"\",\"\",登録データ貼付!B19)","v":""},{"$f":"IF(登録データ貼付!C19=\"\",\"\",CONCATENATE(登録データ貼付!C19,\"　\",登録データ貼付!D19))","v":""},"","","","",{"$f":"IF(登録データ貼付!V19=\"\",\"\",RIGHT(登録データ貼付!V19,1))","v":""},null,{"$f":"IF(登録データ貼付!F19=\"\",\"\",CONCATENATE(登録データ貼付!F19,\"　\",登録データ貼付!G19))","v":""},{"$f":"IF(登録データ貼付!H19=\"\",\"\",CONCATENATE(登録データ貼付!H19,\" \",登録データ貼付!I19))","v":""},{"$f":"IF(登録データ貼付!K19=\"\",\"\",LEFT(登録データ貼付!K19,1))","v":""},{"$f":"IF(登録データ貼付!S19=\"\",\"\",登録データ貼付!S19)","v":""},null,null,16,"大館東",15,null,715,"大館市立東",null,"大館市立東中学校"]
[{"$f":"IF(登録データ貼付!E20=\"\",\"\",登録データ貼付!E20)","v":""},{"$f":"IF(登録データ貼付!B20=\"\",\"\",登録データ貼付!B20)","v":""},{"$f":"IF(登録データ貼付!C20=\"\",\"\",CONCATENATE(登録データ貼付!C20,\"　\",登録データ貼付!D20))","v":""},"","","","",{"$f":"IF(登録データ貼付!V20=\"\",\"\",RIGHT(登録データ貼付!V20,1))","v":""},null,{"$f":"IF(登録データ貼付!F20=\"\",\"\",CONCATENATE(登録データ貼付!F20,\"　\",登録データ貼付!G20))","v":""},{"$f":"IF(登録データ貼付!H20=\"\",\"\",CONCATENATE(登録データ貼付!H20,\" \",登録データ貼付!I20))","v":""},{"$f":"IF(登録データ貼付!K20=\"\",\"\",LEFT(登録データ貼付!K20,1))","v":""},{"$f":"IF(登録データ貼付!S20=\"\",\"\",登録データ貼付!S20)","v":""},null,null,17,"比内",16,null,716,"大館市立比内",null,"大館市立比内中学校"]
[{"$f":"IF(登録データ貼付!E21=\"\",\"\",登録データ貼付!E21)","v":""},{"$f":"IF(登録データ貼付!B21=\"\",\"\",登録データ貼付!B21)","v":""},{"$f":"IF(登録データ貼付!C21=\"\",\"\",CONCATENATE(登録データ貼付!C21,\"　\",登録データ貼付!D21))","v":""},"","","","",{"$f":"IF(登録データ貼付!V21=\"\",\"\",RIGHT(登録データ貼付!V21,1))","v":""},null,{"$f":"IF(登録データ貼付!F21=\"\",\"\",CONCATENATE(登録データ貼付!F21,\"　\",登録データ貼付!G21))","v":""},{"$f":"IF(登録データ貼付!H21=\"\",\"\",CONCATENATE(登録データ貼付!H21,\" \",登録データ貼付!I21))","v":""},{"$f":"IF(登録データ貼付!K21=\"\",\"\",LEFT(登録データ貼付!K21,1))","v":""},{"$f":"IF(登録データ貼付!S21=\"\",\"\",登録データ貼付!S21)","v":""},null,null,18,"田代",17,null,717,"大館市立田代",null,"大館市立田代中学校"]
[{"$f":"IF(登録データ貼付!E22=\"\",\"\",登録データ貼付!E22)","v":""},{"$f":"IF(登録データ貼付!B22=\"\",\"\",登録データ貼付!B22)","v":""},{"$f":"IF(登録データ貼付!C22=\"\",\"\",CONCATENATE(登録データ貼付!C22,\"　\",登録データ貼付!D22))","v":""},"","","","",{"$f":"IF(登録データ貼付!V22=\"\",\"\",RIGHT(登録データ貼付!V22,1))","v":""},null,{"$f":"IF(登録データ貼付!F22=\"\",\"\",CONCATENATE(登録データ貼付!F22,\"　\",登録データ貼付!G22))","v":""},{"$f":"IF(登録データ貼付!H22=\"\",\"\",CONCATENATE(登録データ貼付!H22,\" \",登録データ貼付!I22))","v":""},{"$f":"IF(登録データ貼付!K22=\"\",\"\",LEFT(登録データ貼付!K22,1))","v":""},{"$f":"IF(登録データ貼付!S22=\"\",\"\",登録データ貼付!S22)","v":""},null,null,19,"鷹巣",18,null,718,"北秋田市立鷹巣",null,"北秋田市立鷹巣中学校"]
[{"$f":"IF(登録データ貼付!E23=\"\",\"\",登録データ貼付!E23)","v":""},{"$f":"IF(登録データ貼付!B23=\"\",\"\",登録データ貼付!B23)","v":""},{"$f":"IF(登録データ貼付!C23=\"\",\"\",CONCATENATE(登録データ貼付!C23,\"　\",登録データ貼付!D23))","v":""},"","","","",{"$f":"IF(登録データ貼付!V23=\"\",\"\",RIGHT(登録データ貼付!V23,1))","v":""},null,{"$f":"IF(登録データ貼付!F23=\"\",\"\",CONCATENATE(登録データ貼付!F23,\"　\",登録データ貼付!G23))","v":""},{"$f":"IF(登録データ貼付!H23=\"\",\"\",CONCATENATE(登録データ貼付!H23,\" \",登録データ貼付!I23))","v":""},{"$f":"IF(登録データ貼付!K23=\"\",\"\",LEFT(登録データ貼付!K23,1))","v":""},{"$f":"IF(登録データ貼付!S23=\"\",\"\",登録データ貼付!S23)","v":""},null,null,20,"森吉",19,null,719,"北秋田市立森吉",null,"北秋田市立森吉中学校"]
[{"$f":"IF(登録データ貼付!E24=\"\",\"\",登録データ貼付!E24)","v":""},{"$f":"IF(登録データ貼付!B24=\"\",\"\",登録データ貼付!B24)","v":""},{"$f":"IF(登録データ貼付!C24=\"\",\"\",CONCATENATE(登録データ貼付!C24,\"　\",登録データ貼付!D24))","v":""},"","","","",{"$f":"IF(登録データ貼付!V24=\"\",\"\",RIGHT(登録データ貼付!V24,1))","v":""},null,{"$f":"IF(登録データ貼付!F24=\"\",\"\",CONCATENATE(登録データ貼付!F24,\"　\",登録データ貼付!G24))","v":""},{"$f":"IF(登録データ貼付!H24=\"\",\"\",CONCATENATE(登録データ貼付!H24,\" \",登録データ貼付!I24))","v":""},{"$f":"IF(登録データ貼付!K24=\"\",\"\",LEFT(登録データ貼付!K24,1))","v":""},{"$f":"IF(登録データ貼付!S24=\"\",\"\",登録データ貼付!S24)","v":""},null,null,21,"阿仁学園",20,null,720,"義務教育学校阿仁学園",null,"義務教育学校阿仁学園"]
[{"$f":"IF(登録データ貼付!E25=\"\",\"\",登録データ貼付!E25)","v":""},{"$f":"IF(登録データ貼付!B25=\"\",\"\",登録データ貼付!B25)","v":""},{"$f":"IF(登録データ貼付!C25=\"\",\"\",CONCATENATE(登録データ貼付!C25,\"　\",登録データ貼付!D25))","v":""},"","","","",{"$f":"IF(登録データ貼付!V25=\"\",\"\",RIGHT(登録データ貼付!V25,1))","v":""},null,{"$f":"IF(登録データ貼付!F25=\"\",\"\",CONCATENATE(登録データ貼付!F25,\"　\",登録データ貼付!G25))","v":""},{"$f":"IF(登録データ貼付!H25=\"\",\"\",CONCATENATE(登録データ貼付!H25,\" \",登録データ貼付!I25))","v":""},{"$f":"IF(登録データ貼付!K25=\"\",\"\",LEFT(登録データ貼付!K25,1))","v":""},{"$f":"IF(登録データ貼付!S25=\"\",\"\",登録データ貼付!S25)","v":""},null,null,22,"合川",21,null,721,"北秋田市立合川",null,"北秋田市立合川中学校"]
[{"$f":"IF(登録データ貼付!E26=\"\",\"\",登録データ貼付!E26)","v":""},{"$f":"IF(登録データ貼付!B26=\"\",\"\",登録データ貼付!B26)","v":""},{"$f":"IF(登録データ貼付!C26=\"\",\"\",CONCATENATE(登録データ貼付!C26,\"　\",登録データ貼付!D26))","v":""},"","","","",{"$f":"IF(登録データ貼付!V26=\"\",\"\",RIGHT(登録データ貼付!V26,1))","v":""},null,{"$f":"IF(登録データ貼付!F26=\"\",\"\",CONCATENATE(登録データ貼付!F26,\"　\",登録データ貼付!G26))","v":""},{"$f":"IF(登録データ貼付!H26=\"\",\"\",CONCATENATE(登録データ貼付!H26,\" \",登録データ貼付!I26))","v":""},{"$f":"IF(登録データ貼付!K26=\"\",\"\",LEFT(登録データ貼付!K26,1))","v":""},{"$f":"IF(登録データ貼付!S26=\"\",\"\",登録データ貼付!S26)","v":""},null,null,23,"上小阿仁",22,null,722,"上小阿仁村立上小阿仁",null,"上小阿仁村立上小阿仁中学校"]
[{"$f":"IF(登録データ貼付!E27=\"\",\"\",登録データ貼付!E27)","v":""},{"$f":"IF(登録データ貼付!B27=\"\",\"\",登録データ貼付!B27)","v":""},{"$f":"IF(登録データ貼付!C27=\"\",\"\",CONCATENATE(登録データ貼付!C27,\"　\",登録データ貼付!D27))","v":""},"","","","",{"$f":"IF(登録データ貼付!V27=\"\",\"\",RIGHT(登録データ貼付!V27,1))","v":""},null,{"$f":"IF(登録データ貼付!F27=\"\",\"\",CONCATENATE(登録データ貼付!F27,\"　\",登録データ貼付!G27))","v":""},{"$f":"IF(登録データ貼付!H27=\"\",\"\",CONCATENATE(登録データ貼付!H27,\" \",登録データ貼付!I27))","v":""},{"$f":"IF(登録データ貼付!K27=\"\",\"\",LEFT(登録データ貼付!K27,1))","v":""},{"$f":"IF(登録データ貼付!S27=\"\",\"\",登録データ貼付!S27)","v":""},null,null,24,"能代第一",23,null,723,"能代市立能代第一",null,"能代市立能代第一中学校"]
[{"$f":"IF(登録データ貼付!E28=\"\",\"\",登録データ貼付!E28)","v":""},{"$f":"IF(登録データ貼付!B28=\"\",\"\",登録データ貼付!B28)","v":""},{"$f":"IF(登録データ貼付!C28=\"\",\"\",CONCATENATE(登録データ貼付!C28,\"　\",登録データ貼付!D28))","v":""},"","","","",{"$f":"IF(登録データ貼付!V28=\"\",\"\",RIGHT(登録データ貼付!V28,1))","v":""},null,{"$f":"IF(登録データ貼付!F28=\"\",\"\",CONCATENATE(登録データ貼付!F28,\"　\",登録データ貼付!G28))","v":""},{"$f":"IF(登録データ貼付!H28=\"\",\"\",CONCATENATE(登録データ貼付!H28,\" \",登録データ貼付!I28))","v":""},{"$f":"IF(登録データ貼付!K28=\"\",\"\",LEFT(登録データ貼付!K28,1))","v":""},{"$f":"IF(登録データ貼付!S28=\"\",\"\",登録データ貼付!S28)","v":""},null,null,25,"能代第二",24,null,724,"能代市立能代第二",null,"能代市立能代第二中学校"]
[{"$f":"IF(登録データ貼付!E29=\"\",\"\",登録データ貼付!E29)","v":""},{"$f":"IF(登録データ貼付!B29=\"\",\"\",登録データ貼付!B29)","v":""},{"$f":"IF(登録データ貼付!C29=\"\",\"\",CONCATENATE(登録データ貼付!C29,\"　\",登録データ貼付!D29))","v":""},"","","","",{"$f":"IF(登録データ貼付!V29=\"\",\"\",RIGHT(登録データ貼付!V29,1))","v":""},null,{"$f":"IF(登録データ貼付!F29=\"\",\"\",CONCATENATE(登録データ貼付!F29,\"　\",登録データ貼付!G29))","v":""},{"$f":"IF(登録データ貼付!H29=\"\",\"\",CONCATENATE(登録データ貼付!H29,\" \",登録データ貼付!I29))","v":""},{"$f":"IF(登録データ貼付!K29=\"\",\"\",LEFT(登録データ貼付!K29,1))","v":""},{"$f":"IF(登録データ貼付!S29=\"\",\"\",登録データ貼付!S29)","v":""},null,null,26,"能代東",25,null,725,"能代市立能代東",null,"能代市立能代東中学校"]
[{"$f":"IF(登録データ貼付!E30=\"\",\"\",登録データ貼付!E30)","v":""},{"$f":"IF(登録データ貼付!B30=\"\",\"\",登録データ貼付!B30)","v":""},{"$f":"IF(登録データ貼付!C30=\"\",\"\",CONCATENATE(登録データ貼付!C30,\"　\",登録データ貼付!D30))","v":""},"","","","",{"$f":"IF(登録データ貼付!V30=\"\",\"\",RIGHT(登録データ貼付!V30,1))","v":""},null,{"$f":"IF(登録データ貼付!F30=\"\",\"\",CONCATENATE(登録データ貼付!F30,\"　\",登録データ貼付!G30))","v":""},{"$f":"IF(登録データ貼付!H30=\"\",\"\",CONCATENATE(登録データ貼付!H30,\" \",登録データ貼付!I30))","v":""},{"$f":"IF(登録データ貼付!K30=\"\",\"\",LEFT(登録データ貼付!K30,1))","v":""},{"$f":"IF(登録データ貼付!S30=\"\",\"\",登録データ貼付!S30)","v":""},null,null,27,"東雲",26,null,726,"能代市立東雲",null,"能代市立東雲中学校"]
[{"$f":"IF(登録データ貼付!E31=\"\",\"\",登録データ貼付!E31)","v":""},{"$f":"IF(登録データ貼付!B31=\"\",\"\",登録データ貼付!B31)","v":""},{"$f":"IF(登録データ貼付!C31=\"\",\"\",CONCATENATE(登録データ貼付!C31,\"　\",登録データ貼付!D31))","v":""},"","","","",{"$f":"IF(登録データ貼付!V31=\"\",\"\",RIGHT(登録データ貼付!V31,1))","v":""},null,{"$f":"IF(登録データ貼付!F31=\"\",\"\",CONCATENATE(登録データ貼付!F31,\"　\",登録データ貼付!G31))","v":""},{"$f":"IF(登録データ貼付!H31=\"\",\"\",CONCATENATE(登録データ貼付!H31,\" \",登録データ貼付!I31))","v":""},{"$f":"IF(登録データ貼付!K31=\"\",\"\",LEFT(登録データ貼付!K31,1))","v":""},{"$f":"IF(登録データ貼付!S31=\"\",\"\",登録データ貼付!S31)","v":""},null,null,28,"能代南",27,null,727,"能代市立能代南",null,"能代市立能代南中学校"]
[{"$f":"IF(登録データ貼付!E32=\"\",\"\",登録データ貼付!E32)","v":""},{"$f":"IF(登録データ貼付!B32=\"\",\"\",登録データ貼付!B32)","v":""},{"$f":"IF(登録データ貼付!C32=\"\",\"\",CONCATENATE(登録データ貼付!C32,\"　\",登録データ貼付!D32))","v":""},"","","","",{"$f":"IF(登録データ貼付!V32=\"\",\"\",RIGHT(登録データ貼付!V32,1))","v":""},null,{"$f":"IF(登録データ貼付!F32=\"\",\"\",CONCATENATE(登録データ貼付!F32,\"　\",登録データ貼付!G32))","v":""},{"$f":"IF(登録データ貼付!H32=\"\",\"\",CONCATENATE(登録データ貼付!H32,\" \",登録データ貼付!I32))","v":""},{"$f":"IF(登録データ貼付!K32=\"\",\"\",LEFT(登録データ貼付!K32,1))","v":""},{"$f":"IF(登録データ貼付!S32=\"\",\"\",登録データ貼付!S32)","v":""},null,null,29,"二ツ井",28,null,728,"能代市立二ツ井",null,"能代市立二ツ井中学校"]
[{"$f":"IF(登録データ貼付!E33=\"\",\"\",登録データ貼付!E33)","v":""},{"$f":"IF(登録データ貼付!B33=\"\",\"\",登録データ貼付!B33)","v":""},{"$f":"IF(登録データ貼付!C33=\"\",\"\",CONCATENATE(登録データ貼付!C33,\"　\",登録データ貼付!D33))","v":""},"","","","",{"$f":"IF(登録データ貼付!V33=\"\",\"\",RIGHT(登録データ貼付!V33,1))","v":""},null,{"$f":"IF(登録データ貼付!F33=\"\",\"\",CONCATENATE(登録データ貼付!F33,\"　\",登録データ貼付!G33))","v":""},{"$f":"IF(登録データ貼付!H33=\"\",\"\",CONCATENATE(登録データ貼付!H33,\" \",登録データ貼付!I33))","v":""},{"$f":"IF(登録データ貼付!K33=\"\",\"\",LEFT(登録データ貼付!K33,1))","v":""},{"$f":"IF(登録データ貼付!S33=\"\",\"\",登録データ貼付!S33)","v":""},null,null,30,"藤里学園",29,null,729,"義務教育学校藤里学園",null,"義務教育学校藤里学園"]
[{"$f":"IF(登録データ貼付!E34=\"\",\"\",登録データ貼付!E34)","v":""},{"$f":"IF(登録データ貼付!B34=\"\",\"\",登録データ貼付!B34)","v":""},{"$f":"IF(登録データ貼付!C34=\"\",\"\",CONCATENATE(登録データ貼付!C34,\"　\",登録データ貼付!D34))","v":""},"","","","",{"$f":"IF(登録データ貼付!V34=\"\",\"\",RIGHT(登録データ貼付!V34,1))","v":""},null,{"$f":"IF(登録データ貼付!F34=\"\",\"\",CONCATENATE(登録データ貼付!F34,\"　\",登録データ貼付!G34))","v":""},{"$f":"IF(登録データ貼付!H34=\"\",\"\",CONCATENATE(登録データ貼付!H34,\" \",登録データ貼付!I34))","v":""},{"$f":"IF(登録データ貼付!K34=\"\",\"\",LEFT(登録データ貼付!K34,1))","v":""},{"$f":"IF(登録データ貼付!S34=\"\",\"\",登録データ貼付!S34)","v":""},null,null,31,"琴丘",30,null,730,"三種町立琴丘",null,"三種町立琴丘中学校"]
[{"$f":"IF(登録データ貼付!E35=\"\",\"\",登録データ貼付!E35)","v":""},{"$f":"IF(登録データ貼付!B35=\"\",\"\",登録データ貼付!B35)","v":""},{"$f":"IF(登録データ貼付!C35=\"\",\"\",CONCATENATE(登録データ貼付!C35,\"　\",登録データ貼付!D35))","v":""},"","","","",{"$f":"IF(登録データ貼付!V35=\"\",\"\",RIGHT(登録データ貼付!V35,1))","v":""},null,{"$f":"IF(登録データ貼付!F35=\"\",\"\",CONCATENATE(登録データ貼付!F35,\"　\",登録データ貼付!G35))","v":""},{"$f":"IF(登録データ貼付!H35=\"\",\"\",CONCATENATE(登録データ貼付!H35,\" \",登録データ貼付!I35))","v":""},{"$f":"IF(登録データ貼付!K35=\"\",\"\",LEFT(登録データ貼付!K35,1))","v":""},{"$f":"IF(登録データ貼付!S35=\"\",\"\",登録データ貼付!S35)","v":""},null,null,32,"山本",31,null,731,"三種町立山本",null,"三種町立山本中学校"]
[{"$f":"IF(登録データ貼付!E36=\"\",\"\",登録データ貼付!E36)","v":""},{"$f":"IF(登録データ貼付!B36=\"\",\"\",登録データ貼付!B36)","v":""},{"$f":"IF(登録データ貼付!C36=\"\",\"\",CONCATENATE(登録データ貼付!C36,\"　\",登録データ貼付!D36))","v":""},"","","","",{"$f":"IF(登録データ貼付!V36=\"\",\"\",RIGHT(登録データ貼付!V36,1))","v":""},null,{"$f":"IF(登録データ貼付!F36=\"\",\"\",CONCATENATE(登録データ貼付!F36,\"　\",登録データ貼付!G36))","v":""},{"$f":"IF(登録データ貼付!H36=\"\",\"\",CONCATENATE(登録データ貼付!H36,\" \",登録データ貼付!I36))","v":""},{"$f":"IF(登録データ貼付!K36=\"\",\"\",LEFT(登録データ貼付!K36,1))","v":""},{"$f":"IF(登録データ貼付!S36=\"\",\"\",登録データ貼付!S36)","v":""},null,null,33,"八竜",32,null,732,"三種町立八竜",null,"三種町立八竜中学校"]
[{"$f":"IF(登録データ貼付!E37=\"\",\"\",登録データ貼付!E37)","v":""},{"$f":"IF(登録データ貼付!B37=\"\",\"\",登録データ貼付!B37)","v":""},{"$f":"IF(登録データ貼付!C37=\"\",\"\",CONCATENATE(登録データ貼付!C37,\"　\",登録データ貼付!D37))","v":""},"","","","",{"$f":"IF(登録データ貼付!V37=\"\",\"\",RIGHT(登録データ貼付!V37,1))","v":""},null,{"$f":"IF(登録データ貼付!F37=\"\",\"\",CONCATENATE(登録データ貼付!F37,\"　\",登録データ貼付!G37))","v":""},{"$f":"IF(登録データ貼付!H37=\"\",\"\",CONCATENATE(登録データ貼付!H37,\" \",登録データ貼付!I37))","v":""},{"$f":"IF(登録データ貼付!K37=\"\",\"\",LEFT(登録データ貼付!K37,1))","v":""},{"$f":"IF(登録データ貼付!S37=\"\",\"\",登録データ貼付!S37)","v":""},null,null,34,"八峰",33,null,733,"八峰町立八峰",null,"八峰町立八峰中学校"]
[{"$f":"IF(登録データ貼付!E38=\"\",\"\",登録データ貼付!E38)","v":""},{"$f":"IF(登録データ貼付!B38=\"\",\"\",登録データ貼付!B38)","v":""},{"$f":"IF(登録データ貼付!C38=\"\",\"\",CONCATENATE(登録データ貼付!C38,\"　\",登録データ貼付!D38))","v":""},"","","","",{"$f":"IF(登録データ貼付!V38=\"\",\"\",RIGHT(登録データ貼付!V38,1))","v":""},null,{"$f":"IF(登録データ貼付!F38=\"\",\"\",CONCATENATE(登録データ貼付!F38,\"　\",登録データ貼付!G38))","v":""},{"$f":"IF(登録データ貼付!H38=\"\",\"\",CONCATENATE(登録データ貼付!H38,\" \",登録データ貼付!I38))","v":""},{"$f":"IF(登録データ貼付!K38=\"\",\"\",LEFT(登録データ貼付!K38,1))","v":""},{"$f":"IF(登録データ貼付!S38=\"\",\"\",登録データ貼付!S38)","v":""},null,null,35,"秋田東",34,null,734,"秋田市立秋田東",null,"秋田市立秋田東中学校"]
[{"$f":"IF(登録データ貼付!E39=\"\",\"\",登録データ貼付!E39)","v":""},{"$f":"IF(登録データ貼付!B39=\"\",\"\",登録データ貼付!B39)","v":""},{"$f":"IF(登録データ貼付!C39=\"\",\"\",CONCATENATE(登録データ貼付!C39,\"　\",登録データ貼付!D39))","v":""},"","","","",{"$f":"IF(登録データ貼付!V39=\"\",\"\",RIGHT(登録データ貼付!V39,1))","v":""},null,{"$f":"IF(登録データ貼付!F39=\"\",\"\",CONCATENATE(登録データ貼付!F39,\"　\",登録データ貼付!G39))","v":""},{"$f":"IF(登録データ貼付!H39=\"\",\"\",CONCATENATE(登録データ貼付!H39,\" \",登録データ貼付!I39))","v":""},{"$f":"IF(登録データ貼付!K39=\"\",\"\",LEFT(登録データ貼付!K39,1))","v":""},{"$f":"IF(登録データ貼付!S39=\"\",\"\",登録データ貼付!S39)","v":""},null,null,36,"秋田南",35,null,735,"秋田市立秋田南",null,"秋田市立秋田南中学校"]
[{"$f":"IF(登録データ貼付!E40=\"\",\"\",登録データ貼付!E40)","v":""},{"$f":"IF(登録データ貼付!B40=\"\",\"\",登録データ貼付!B40)","v":""},{"$f":"IF(登録データ貼付!C40=\"\",\"\",CONCATENATE(登録データ貼付!C40,\"　\",登録データ貼付!D40))","v":""},"","","","",{"$f":"IF(登録データ貼付!V40=\"\",\"\",RIGHT(登録データ貼付!V40,1))","v":""},null,{"$f":"IF(登録データ貼付!F40=\"\",\"\",CONCATENATE(登録データ貼付!F40,\"　\",登録データ貼付!G40))","v":""},{"$f":"IF(登録データ貼付!H40=\"\",\"\",CONCATENATE(登録データ貼付!H40,\" \",登録データ貼付!I40))","v":""},{"$f":"IF(登録データ貼付!K40=\"\",\"\",LEFT(登録データ貼付!K40,1))","v":""},{"$f":"IF(登録データ貼付!S40=\"\",\"\",登録データ貼付!S40)","v":""},null,null,37,"山王",36,null,736,"秋田市立山王",null,"秋田市立山王中学校"]
[{"$f":"IF(登録データ貼付!E41=\"\",\"\",登録データ貼付!E41)","v":""},{"$f":"IF(登録データ貼付!B41=\"\",\"\",登録データ貼付!B41)","v":""},{"$f":"IF(登録データ貼付!C41=\"\",\"\",CONCATENATE(登録データ貼付!C41,\"　\",登録データ貼付!D41))","v":""},"","","","",{"$f":"IF(登録データ貼付!V41=\"\",\"\",RIGHT(登録データ貼付!V41,1))","v":""},null,{"$f":"IF(登録データ貼付!F41=\"\",\"\",CONCATENATE(登録データ貼付!F41,\"　\",登録データ貼付!G41))","v":""},{"$f":"IF(登録データ貼付!H41=\"\",\"\",CONCATENATE(登録データ貼付!H41,\" \",登録データ貼付!I41))","v":""},{"$f":"IF(登録データ貼付!K41=\"\",\"\",LEFT(登録データ貼付!K41,1))","v":""},{"$f":"IF(登録データ貼付!S41=\"\",\"\",登録データ貼付!S41)","v":""},null,null,38,"土崎",37,null,737,"秋田市立土崎",null,"秋田市立土崎中学校"]
[{"$f":"IF(登録データ貼付!E42=\"\",\"\",登録データ貼付!E42)","v":""},{"$f":"IF(登録データ貼付!B42=\"\",\"\",登録データ貼付!B42)","v":""},{"$f":"IF(登録データ貼付!C42=\"\",\"\",CONCATENATE(登録データ貼付!C42,\"　\",登録データ貼付!D42))","v":""},"","","","",{"$f":"IF(登録データ貼付!V42=\"\",\"\",RIGHT(登録データ貼付!V42,1))","v":""},null,{"$f":"IF(登録データ貼付!F42=\"\",\"\",CONCATENATE(登録データ貼付!F42,\"　\",登録データ貼付!G42))","v":""},{"$f":"IF(登録データ貼付!H42=\"\",\"\",CONCATENATE(登録データ貼付!H42,\" \",登録データ貼付!I42))","v":""},{"$f":"IF(登録データ貼付!K42=\"\",\"\",LEFT(登録データ貼付!K42,1))","v":""},{"$f":"IF(登録データ貼付!S42=\"\",\"\",登録データ貼付!S42)","v":""},null,null,39,"秋田西",38,null,738,"秋田市立秋田西",null,"秋田市立秋田西中学校"]
[{"$f":"IF(登録データ貼付!E43=\"\",\"\",登録データ貼付!E43)","v":""},{"$f":"IF(登録データ貼付!B43=\"\",\"\",登録データ貼付!B43)","v":""},{"$f":"IF(登録データ貼付!C43=\"\",\"\",CONCATENATE(登録データ貼付!C43,\"　\",登録データ貼付!D43))","v":""},"","","","",{"$f":"IF(登録データ貼付!V43=\"\",\"\",RIGHT(登録データ貼付!V43,1))","v":""},null,{"$f":"IF(登録データ貼付!F43=\"\",\"\",CONCATENATE(登録データ貼付!F43,\"　\",登録データ貼付!G43))","v":""},{"$f":"IF(登録データ貼付!H43=\"\",\"\",CONCATENATE(登録データ貼付!H43,\" \",登録データ貼付!I43))","v":""},{"$f":"IF(登録データ貼付!K43=\"\",\"\",LEFT(登録データ貼付!K43,1))","v":""},{"$f":"IF(登録データ貼付!S43=\"\",\"\",登録データ貼付!S43)","v":""},null,null,40,"太平",39,null,739,"秋田市立太平",null,"秋田市立太平中学校"]
[{"$f":"IF(登録データ貼付!E44=\"\",\"\",登録データ貼付!E44)","v":""},{"$f":"IF(登録データ貼付!B44=\"\",\"\",登録データ貼付!B44)","v":""},{"$f":"IF(登録データ貼付!C44=\"\",\"\",CONCATENATE(登録データ貼付!C44,\"　\",登録データ貼付!D44))","v":""},"","","","",{"$f":"IF(登録データ貼付!V44=\"\",\"\",RIGHT(登録データ貼付!V44,1))","v":""},null,{"$f":"IF(登録データ貼付!F44=\"\",\"\",CONCATENATE(登録データ貼付!F44,\"　\",登録データ貼付!G44))","v":""},{"$f":"IF(登録データ貼付!H44=\"\",\"\",CONCATENATE(登録データ貼付!H44,\" \",登録データ貼付!I44))","v":""},{"$f":"IF(登録データ貼付!K44=\"\",\"\",LEFT(登録データ貼付!K44,1))","v":""},{"$f":"IF(登録データ貼付!S44=\"\",\"\",登録データ貼付!S44)","v":""},null,null,41,"外旭川",40,null,740,"秋田市立外旭川",null,"秋田市立外旭川中学校"]
[{"$f":"IF(登録データ貼付!E45=\"\",\"\",登録データ貼付!E45)","v":""},{"$f":"IF(登録データ貼付!B45=\"\",\"\",登録データ貼付!B45)","v":""},{"$f":"IF(登録データ貼付!C45=\"\",\"\",CONCATENATE(登録データ貼付!C45,\"　\",登録データ貼付!D45))","v":""},"","","","",{"$f":"IF(登録データ貼付!V45=\"\",\"\",RIGHT(登録データ貼付!V45,1))","v":""},null,{"$f":"IF(登録データ貼付!F45=\"\",\"\",CONCATENATE(登録データ貼付!F45,\"　\",登録データ貼付!G45))","v":""},{"$f":"IF(登録データ貼付!H45=\"\",\"\",CONCATENATE(登録データ貼付!H45,\" \",登録データ貼付!I45))","v":""},{"$f":"IF(登録データ貼付!K45=\"\",\"\",LEFT(登録データ貼付!K45,1))","v":""},{"$f":"IF(登録データ貼付!S45=\"\",\"\",登録データ貼付!S45)","v":""},null,null,42,"秋田北",41,null,741,"秋田市立秋田北",null,"秋田市立秋田北中学校"]
[{"$f":"IF(登録データ貼付!E46=\"\",\"\",登録データ貼付!E46)","v":""},{"$f":"IF(登録データ貼付!B46=\"\",\"\",登録データ貼付!B46)","v":""},{"$f":"IF(登録データ貼付!C46=\"\",\"\",CONCATENATE(登録データ貼付!C46,\"　\",登録データ貼付!D46))","v":""},"","","","",{"$f":"IF(登録データ貼付!V46=\"\",\"\",RIGHT(登録データ貼付!V46,1))","v":""},null,{"$f":"IF(登録データ貼付!F46=\"\",\"\",CONCATENATE(登録データ貼付!F46,\"　\",登録データ貼付!G46))","v":""},{"$f":"IF(登録データ貼付!H46=\"\",\"\",CONCATENATE(登録データ貼付!H46,\" \",登録データ貼付!I46))","v":""},{"$f":"IF(登録データ貼付!K46=\"\",\"\",LEFT(登録データ貼付!K46,1))","v":""},{"$f":"IF(登録データ貼付!S46=\"\",\"\",登録データ貼付!S46)","v":""},null,null,43,"豊岩",42,null,742,"秋田市立豊岩",null,"秋田市立豊岩中学校"]
[{"$f":"IF(登録データ貼付!E47=\"\",\"\",登録データ貼付!E47)","v":""},{"$f":"IF(登録データ貼付!B47=\"\",\"\",登録データ貼付!B47)","v":""},{"$f":"IF(登録データ貼付!C47=\"\",\"\",CONCATENATE(登録データ貼付!C47,\"　\",登録データ貼付!D47))","v":""},"","","","",{"$f":"IF(登録データ貼付!V47=\"\",\"\",RIGHT(登録データ貼付!V47,1))","v":""},null,{"$f":"IF(登録データ貼付!F47=\"\",\"\",CONCATENATE(登録データ貼付!F47,\"　\",登録データ貼付!G47))","v":""},{"$f":"IF(登録データ貼付!H47=\"\",\"\",CONCATENATE(登録データ貼付!H47,\" \",登録データ貼付!I47))","v":""},{"$f":"IF(登録データ貼付!K47=\"\",\"\",LEFT(登録データ貼付!K47,1))","v":""},{"$f":"IF(登録データ貼付!S47=\"\",\"\",登録データ貼付!S47)","v":""},null,null,44,"城南",43,null,743,"秋田市立城南",null,"秋田市立城南中学校"]
[{"$f":"IF(登録データ貼付!E48=\"\",\"\",登録データ貼付!E48)","v":""},{"$f":"IF(登録データ貼付!B48=\"\",\"\",登録データ貼付!B48)","v":""},{"$f":"IF(登録データ貼付!C48=\"\",\"\",CONCATENATE(登録データ貼付!C48,\"　\",登録データ貼付!D48))","v":""},"","","","",{"$f":"IF(登録データ貼付!V48=\"\",\"\",RIGHT(登録データ貼付!V48,1))","v":""},null,{"$f":"IF(登録データ貼付!F48=\"\",\"\",CONCATENATE(登録データ貼付!F48,\"　\",登録データ貼付!G48))","v":""},{"$f":"IF(登録データ貼付!H48=\"\",\"\",CONCATENATE(登録データ貼付!H48,\" \",登録データ貼付!I48))","v":""},{"$f":"IF(登録データ貼付!K48=\"\",\"\",LEFT(登録データ貼付!K48,1))","v":""},{"$f":"IF(登録データ貼付!S48=\"\",\"\",登録データ貼付!S48)","v":""},null,null,45,"下北手",44,null,744,"秋田市立下北手",null,"秋田市立下北手中学校"]
[{"$f":"IF(登録データ貼付!E49=\"\",\"\",登録データ貼付!E49)","v":""},{"$f":"IF(登録データ貼付!B49=\"\",\"\",登録データ貼付!B49)","v":""},{"$f":"IF(登録データ貼付!C49=\"\",\"\",CONCATENATE(登録データ貼付!C49,\"　\",登録データ貼付!D49))","v":""},"","","","",{"$f":"IF(登録データ貼付!V49=\"\",\"\",RIGHT(登録データ貼付!V49,1))","v":""},null,{"$f":"IF(登録データ貼付!F49=\"\",\"\",CONCATENATE(登録データ貼付!F49,\"　\",登録データ貼付!G49))","v":""},{"$f":"IF(登録データ貼付!H49=\"\",\"\",CONCATENATE(登録データ貼付!H49,\" \",登録データ貼付!I49))","v":""},{"$f":"IF(登録データ貼付!K49=\"\",\"\",LEFT(登録データ貼付!K49,1))","v":""},{"$f":"IF(登録データ貼付!S49=\"\",\"\",登録データ貼付!S49)","v":""},null,null,46,"下浜",45,null,745,"秋田市立下浜",null,"秋田市立下浜中学校"]
[{"$f":"IF(登録データ貼付!E50=\"\",\"\",登録データ貼付!E50)","v":""},{"$f":"IF(登録データ貼付!B50=\"\",\"\",登録データ貼付!B50)","v":""},{"$f":"IF(登録データ貼付!C50=\"\",\"\",CONCATENATE(登録データ貼付!C50,\"　\",登録データ貼付!D50))","v":""},"","","","",{"$f":"IF(登録データ貼付!V50=\"\",\"\",RIGHT(登録データ貼付!V50,1))","v":""},null,{"$f":"IF(登録データ貼付!F50=\"\",\"\",CONCATENATE(登録データ貼付!F50,\"　\",登録データ貼付!G50))","v":""},{"$f":"IF(登録データ貼付!H50=\"\",\"\",CONCATENATE(登録データ貼付!H50,\" \",登録データ貼付!I50))","v":""},{"$f":"IF(登録データ貼付!K50=\"\",\"\",LEFT(登録データ貼付!K50,1))","v":""},{"$f":"IF(登録データ貼付!S50=\"\",\"\",登録データ貼付!S50)","v":""},null,null,47,"城東",46,null,746,"秋田市立城東",null,"秋田市立城東中学校"]
[{"$f":"IF(登録データ貼付!E51=\"\",\"\",登録データ貼付!E51)","v":""},{"$f":"IF(登録データ貼付!B51=\"\",\"\",登録データ貼付!B51)","v":""},{"$f":"IF(登録データ貼付!C51=\"\",\"\",CONCATENATE(登録データ貼付!C51,\"　\",登録データ貼付!D51))","v":""},"","","","",{"$f":"IF(登録データ貼付!V51=\"\",\"\",RIGHT(登録データ貼付!V51,1))","v":""},null,{"$f":"IF(登録データ貼付!F51=\"\",\"\",CONCATENATE(登録データ貼付!F51,\"　\",登録データ貼付!G51))","v":""},{"$f":"IF(登録データ貼付!H51=\"\",\"\",CONCATENATE(登録データ貼付!H51,\" \",登録データ貼付!I51))","v":""},{"$f":"IF(登録データ貼付!K51=\"\",\"\",LEFT(登録データ貼付!K51,1))","v":""},{"$f":"IF(登録データ貼付!S51=\"\",\"\",登録データ貼付!S51)","v":""},null,null,48,"泉",47,null,747,"秋田市立泉",null,"秋田市立泉中学校"]
[{"$f":"IF(登録データ貼付!E52=\"\",\"\",登録データ貼付!E52)","v":""},{"$f":"IF(登録データ貼付!B52=\"\",\"\",登録データ貼付!B52)","v":""},{"$f":"IF(登録データ貼付!C52=\"\",\"\",CONCATENATE(登録データ貼付!C52,\"　\",登録データ貼付!D52))","v":""},"","","","",{"$f":"IF(登録データ貼付!V52=\"\",\"\",RIGHT(登録データ貼付!V52,1))","v":""},null,{"$f":"IF(登録データ貼付!F52=\"\",\"\",CONCATENATE(登録データ貼付!F52,\"　\",登録データ貼付!G52))","v":""},{"$f":"IF(登録データ貼付!H52=\"\",\"\",CONCATENATE(登録データ貼付!H52,\" \",登録データ貼付!I52))","v":""},{"$f":"IF(登録データ貼付!K52=\"\",\"\",LEFT(登録データ貼付!K52,1))","v":""},{"$f":"IF(登録データ貼付!S52=\"\",\"\",登録データ貼付!S52)","v":""},null,null,49,"将軍野",48,null,748,"秋田市立将軍野",null,"秋田市立将軍野中学校"]
[{"$f":"IF(登録データ貼付!E53=\"\",\"\",登録データ貼付!E53)","v":""},{"$f":"IF(登録データ貼付!B53=\"\",\"\",登録データ貼付!B53)","v":""},{"$f":"IF(登録データ貼付!C53=\"\",\"\",CONCATENATE(登録データ貼付!C53,\"　\",登録データ貼付!D53))","v":""},"","","","",{"$f":"IF(登録データ貼付!V53=\"\",\"\",RIGHT(登録データ貼付!V53,1))","v":""},null,{"$f":"IF(登録データ貼付!F53=\"\",\"\",CONCATENATE(登録データ貼付!F53,\"　\",登録データ貼付!G53))","v":""},{"$f":"IF(登録データ貼付!H53=\"\",\"\",CONCATENATE(登録データ貼付!H53,\" \",登録データ貼付!I53))","v":""},{"$f":"IF(登録データ貼付!K53=\"\",\"\",LEFT(登録データ貼付!K53,1))","v":""},{"$f":"IF(登録データ貼付!S53=\"\",\"\",登録データ貼付!S53)","v":""},null,null,50,"御野場",49,null,749,"秋田市立御野場",null,"秋田市立御野場中学校"]
[{"$f":"IF(登録データ貼付!E54=\"\",\"\",登録データ貼付!E54)","v":""},{"$f":"IF(登録データ貼付!B54=\"\",\"\",登録データ貼付!B54)","v":""},{"$f":"IF(登録データ貼付!C54=\"\",\"\",CONCATENATE(登録データ貼付!C54,\"　\",登録データ貼付!D54))","v":""},"","","","",{"$f":"IF(登録データ貼付!V54=\"\",\"\",RIGHT(登録データ貼付!V54,1))","v":""},null,{"$f":"IF(登録データ貼付!F54=\"\",\"\",CONCATENATE(登録データ貼付!F54,\"　\",登録データ貼付!G54))","v":""},{"$f":"IF(登録データ貼付!H54=\"\",\"\",CONCATENATE(登録データ貼付!H54,\" \",登録データ貼付!I54))","v":""},{"$f":"IF(登録データ貼付!K54=\"\",\"\",LEFT(登録データ貼付!K54,1))","v":""},{"$f":"IF(登録データ貼付!S54=\"\",\"\",登録データ貼付!S54)","v":""},null,null,51,"勝平",50,null,750,"秋田市立勝平",null,"秋田市立勝平中学校"]
[{"$f":"IF(登録データ貼付!E55=\"\",\"\",登録データ貼付!E55)","v":""},{"$f":"IF(登録データ貼付!B55=\"\",\"\",登録データ貼付!B55)","v":""},{"$f":"IF(登録データ貼付!C55=\"\",\"\",CONCATENATE(登録データ貼付!C55,\"　\",登録データ貼付!D55))","v":""},"","","","",{"$f":"IF(登録データ貼付!V55=\"\",\"\",RIGHT(登録データ貼付!V55,1))","v":""},null,{"$f":"IF(登録データ貼付!F55=\"\",\"\",CONCATENATE(登録データ貼付!F55,\"　\",登録データ貼付!G55))","v":""},{"$f":"IF(登録データ貼付!H55=\"\",\"\",CONCATENATE(登録データ貼付!H55,\" \",登録データ貼付!I55))","v":""},{"$f":"IF(登録データ貼付!K55=\"\",\"\",LEFT(登録データ貼付!K55,1))","v":""},{"$f":"IF(登録データ貼付!S55=\"\",\"\",登録データ貼付!S55)","v":""},null,null,52,"勝平千秋",51,null,751,"秋田市立勝平中学校千秋分校",null,"秋田市立勝平中学校千秋分校"]
[{"$f":"IF(登録データ貼付!E56=\"\",\"\",登録データ貼付!E56)","v":""},{"$f":"IF(登録データ貼付!B56=\"\",\"\",登録データ貼付!B56)","v":""},{"$f":"IF(登録データ貼付!C56=\"\",\"\",CONCATENATE(登録データ貼付!C56,\"　\",登録データ貼付!D56))","v":""},"","","","",{"$f":"IF(登録データ貼付!V56=\"\",\"\",RIGHT(登録データ貼付!V56,1))","v":""},null,{"$f":"IF(登録データ貼付!F56=\"\",\"\",CONCATENATE(登録データ貼付!F56,\"　\",登録データ貼付!G56))","v":""},{"$f":"IF(登録データ貼付!H56=\"\",\"\",CONCATENATE(登録データ貼付!H56,\" \",登録データ貼付!I56))","v":""},{"$f":"IF(登録データ貼付!K56=\"\",\"\",LEFT(登録データ貼付!K56,1))","v":""},{"$f":"IF(登録データ貼付!S56=\"\",\"\",登録データ貼付!S56)","v":""},null,null,53,"飯島",52,null,752,"秋田市立飯島",null,"秋田市立飯島中学校"]
[{"$f":"IF(登録データ貼付!E57=\"\",\"\",登録データ貼付!E57)","v":""},{"$f":"IF(登録データ貼付!B57=\"\",\"\",登録データ貼付!B57)","v":""},{"$f":"IF(登録データ貼付!C57=\"\",\"\",CONCATENATE(登録データ貼付!C57,\"　\",登録データ貼付!D57))","v":""},"","","","",{"$f":"IF(登録データ貼付!V57=\"\",\"\",RIGHT(登録データ貼付!V57,1))","v":""},null,{"$f":"IF(登録データ貼付!F57=\"\",\"\",CONCATENATE(登録データ貼付!F57,\"　\",登録データ貼付!G57))","v":""},{"$f":"IF(登録データ貼付!H57=\"\",\"\",CONCATENATE(登録データ貼付!H57,\" \",登録データ貼付!I57))","v":""},{"$f":"IF(登録データ貼付!K57=\"\",\"\",LEFT(登録データ貼付!K57,1))","v":""},{"$f":"IF(登録データ貼付!S57=\"\",\"\",登録データ貼付!S57)","v":""},null,null,54,"桜",53,null,753,"秋田市立桜",null,"秋田市立桜中学校"]
[{"$f":"IF(登録データ貼付!E58=\"\",\"\",登録データ貼付!E58)","v":""},{"$f":"IF(登録データ貼付!B58=\"\",\"\",登録データ貼付!B58)","v":""},{"$f":"IF(登録データ貼付!C58=\"\",\"\",CONCATENATE(登録データ貼付!C58,\"　\",登録データ貼付!D58))","v":""},"","","","",{"$f":"IF(登録データ貼付!V58=\"\",\"\",RIGHT(登録データ貼付!V58,1))","v":""},null,{"$f":"IF(登録データ貼付!F58=\"\",\"\",CONCATENATE(登録データ貼付!F58,\"　\",登録データ貼付!G58))","v":""},{"$f":"IF(登録データ貼付!H58=\"\",\"\",CONCATENATE(登録データ貼付!H58,\" \",登録データ貼付!I58))","v":""},{"$f":"IF(登録データ貼付!K58=\"\",\"\",LEFT(登録データ貼付!K58,1))","v":""},{"$f":"IF(登録データ貼付!S58=\"\",\"\",登録データ貼付!S58)","v":""},null,null,55,"御所野学院",54,null,754,"秋田市立御所野学院",null,"秋田市立御所野学院中学校"]
[{"$f":"IF(登録データ貼付!E59=\"\",\"\",登録データ貼付!E59)","v":""},{"$f":"IF(登録データ貼付!B59=\"\",\"\",登録データ貼付!B59)","v":""},{"$f":"IF(登録データ貼付!C59=\"\",\"\",CONCATENATE(登録データ貼付!C59,\"　\",登録データ貼付!D59))","v":""},"","","","",{"$f":"IF(登録データ貼付!V59=\"\",\"\",RIGHT(登録データ貼付!V59,1))","v":""},null,{"$f":"IF(登録データ貼付!F59=\"\",\"\",CONCATENATE(登録データ貼付!F59,\"　\",登録データ貼付!G59))","v":""},{"$f":"IF(登録データ貼付!H59=\"\",\"\",CONCATENATE(登録データ貼付!H59,\" \",登録データ貼付!I59))","v":""},{"$f":"IF(登録データ貼付!K59=\"\",\"\",LEFT(登録データ貼付!K59,1))","v":""},{"$f":"IF(登録データ貼付!S59=\"\",\"\",登録データ貼付!S59)","v":""},null,null,56,"岩見三内",55,null,755,"秋田市立岩見三内",null,"秋田市立岩見三内中学校"]
[{"$f":"IF(登録データ貼付!E60=\"\",\"\",登録データ貼付!E60)","v":""},{"$f":"IF(登録データ貼付!B60=\"\",\"\",登録データ貼付!B60)","v":""},{"$f":"IF(登録データ貼付!C60=\"\",\"\",CONCATENATE(登録データ貼付!C60,\"　\",登録データ貼付!D60))","v":""},"","","","",{"$f":"IF(登録データ貼付!V60=\"\",\"\",RIGHT(登録データ貼付!V60,1))","v":""},null,{"$f":"IF(登録データ貼付!F60=\"\",\"\",CONCATENATE(登録データ貼付!F60,\"　\",登録データ貼付!G60))","v":""},{"$f":"IF(登録データ貼付!H60=\"\",\"\",CONCATENATE(登録データ貼付!H60,\" \",登録データ貼付!I60))","v":""},{"$f":"IF(登録データ貼付!K60=\"\",\"\",LEFT(登録データ貼付!K60,1))","v":""},{"$f":"IF(登録データ貼付!S60=\"\",\"\",登録データ貼付!S60)","v":""},null,null,57,"河辺",56,null,756,"秋田市立河辺",null,"秋田市立河辺中学校"]
[{"$f":"IF(登録データ貼付!E61=\"\",\"\",登録データ貼付!E61)","v":""},{"$f":"IF(登録データ貼付!B61=\"\",\"\",登録データ貼付!B61)","v":""},{"$f":"IF(登録データ貼付!C61=\"\",\"\",CONCATENATE(登録データ貼付!C61,\"　\",登録データ貼付!D61))","v":""},"","","","",{"$f":"IF(登録データ貼付!V61=\"\",\"\",RIGHT(登録データ貼付!V61,1))","v":""},null,{"$f":"IF(登録データ貼付!F61=\"\",\"\",CONCATENATE(登録データ貼付!F61,\"　\",登録データ貼付!G61))","v":""},{"$f":"IF(登録データ貼付!H61=\"\",\"\",CONCATENATE(登録データ貼付!H61,\" \",登録データ貼付!I61))","v":""},{"$f":"IF(登録データ貼付!K61=\"\",\"\",LEFT(登録データ貼付!K61,1))","v":""},{"$f":"IF(登録データ貼付!S61=\"\",\"\",登録データ貼付!S61)","v":""},null,null,58,"雄和",57,null,757,"秋田市立雄和",null,"秋田市立雄和中学校"]
[{"$f":"IF(登録データ貼付!E62=\"\",\"\",登録データ貼付!E62)","v":""},{"$f":"IF(登録データ貼付!B62=\"\",\"\",登録データ貼付!B62)","v":""},{"$f":"IF(登録データ貼付!C62=\"\",\"\",CONCATENATE(登録データ貼付!C62,\"　\",登録データ貼付!D62))","v":""},"","","","",{"$f":"IF(登録データ貼付!V62=\"\",\"\",RIGHT(登録データ貼付!V62,1))","v":""},null,{"$f":"IF(登録データ貼付!F62=\"\",\"\",CONCATENATE(登録データ貼付!F62,\"　\",登録データ貼付!G62))","v":""},{"$f":"IF(登録データ貼付!H62=\"\",\"\",CONCATENATE(登録データ貼付!H62,\" \",登録データ貼付!I62))","v":""},{"$f":"IF(登録データ貼付!K62=\"\",\"\",LEFT(登録データ貼付!K62,1))","v":""},{"$f":"IF(登録データ貼付!S62=\"\",\"\",登録データ貼付!S62)","v":""},null,null,59,"男鹿南",58,null,758,"男鹿市立男鹿南",null,"男鹿市立男鹿南中学校"]
[{"$f":"IF(登録データ貼付!E63=\"\",\"\",登録データ貼付!E63)","v":""},{"$f":"IF(登録データ貼付!B63=\"\",\"\",登録データ貼付!B63)","v":""},{"$f":"IF(登録データ貼付!C63=\"\",\"\",CONCATENATE(登録データ貼付!C63,\"　\",登録データ貼付!D63))","v":""},"","","","",{"$f":"IF(登録データ貼付!V63=\"\",\"\",RIGHT(登録データ貼付!V63,1))","v":""},null,{"$f":"IF(登録データ貼付!F63=\"\",\"\",CONCATENATE(登録データ貼付!F63,\"　\",登録データ貼付!G63))","v":""},{"$f":"IF(登録データ貼付!H63=\"\",\"\",CONCATENATE(登録データ貼付!H63,\" \",登録データ貼付!I63))","v":""},{"$f":"IF(登録データ貼付!K63=\"\",\"\",LEFT(登録データ貼付!K63,1))","v":""},{"$f":"IF(登録データ貼付!S63=\"\",\"\",登録データ貼付!S63)","v":""},null,null,60,"男鹿北",59,null,759,"男鹿市立男鹿北",null,"男鹿市立男鹿北中学校"]
[{"$f":"IF(登録データ貼付!E64=\"\",\"\",登録データ貼付!E64)","v":""},{"$f":"IF(登録データ貼付!B64=\"\",\"\",登録データ貼付!B64)","v":""},{"$f":"IF(登録データ貼付!C64=\"\",\"\",CONCATENATE(登録データ貼付!C64,\"　\",登録データ貼付!D64))","v":""},"","","","",{"$f":"IF(登録データ貼付!V64=\"\",\"\",RIGHT(登録データ貼付!V64,1))","v":""},null,{"$f":"IF(登録データ貼付!F64=\"\",\"\",CONCATENATE(登録データ貼付!F64,\"　\",登録データ貼付!G64))","v":""},{"$f":"IF(登録データ貼付!H64=\"\",\"\",CONCATENATE(登録データ貼付!H64,\" \",登録データ貼付!I64))","v":""},{"$f":"IF(登録データ貼付!K64=\"\",\"\",LEFT(登録データ貼付!K64,1))","v":""},{"$f":"IF(登録データ貼付!S64=\"\",\"\",登録データ貼付!S64)","v":""},null,null,61,"男鹿東",60,null,760,"男鹿市立男鹿東",null,"男鹿市立男鹿東中学校"]
[{"$f":"IF(登録データ貼付!E65=\"\",\"\",登録データ貼付!E65)","v":""},{"$f":"IF(登録データ貼付!B65=\"\",\"\",登録データ貼付!B65)","v":""},{"$f":"IF(登録データ貼付!C65=\"\",\"\",CONCATENATE(登録データ貼付!C65,\"　\",登録データ貼付!D65))","v":""},"","","","",{"$f":"IF(登録データ貼付!V65=\"\",\"\",RIGHT(登録データ貼付!V65,1))","v":""},null,{"$f":"IF(登録データ貼付!F65=\"\",\"\",CONCATENATE(登録データ貼付!F65,\"　\",登録データ貼付!G65))","v":""},{"$f":"IF(登録データ貼付!H65=\"\",\"\",CONCATENATE(登録データ貼付!H65,\" \",登録データ貼付!I65))","v":""},{"$f":"IF(登録データ貼付!K65=\"\",\"\",LEFT(登録データ貼付!K65,1))","v":""},{"$f":"IF(登録データ貼付!S65=\"\",\"\",登録データ貼付!S65)","v":""},null,null,62,"潟西",61,null,761,"男鹿市立潟西",null,"男鹿市立潟西中学校"]
[{"$f":"IF(登録データ貼付!E66=\"\",\"\",登録データ貼付!E66)","v":""},{"$f":"IF(登録データ貼付!B66=\"\",\"\",登録データ貼付!B66)","v":""},{"$f":"IF(登録データ貼付!C66=\"\",\"\",CONCATENATE(登録データ貼付!C66,\"　\",登録データ貼付!D66))","v":""},"","","","",{"$f":"IF(登録データ貼付!V66=\"\",\"\",RIGHT(登録データ貼付!V66,1))","v":""},null,{"$f":"IF(登録データ貼付!F66=\"\",\"\",CONCATENATE(登録データ貼付!F66,\"　\",登録データ貼付!G66))","v":""},{"$f":"IF(登録データ貼付!H66=\"\",\"\",CONCATENATE(登録データ貼付!H66,\" \",登録データ貼付!I66))","v":""},{"$f":"IF(登録データ貼付!K66=\"\",\"\",LEFT(登録データ貼付!K66,1))","v":""},{"$f":"IF(登録データ貼付!S66=\"\",\"\",登録データ貼付!S66)","v":""},null,null,63,"天王",62,null,762,"潟上市立天王",null,"潟上市立天王中学校"]
[{"$f":"IF(登録データ貼付!E67=\"\",\"\",登録データ貼付!E67)","v":""},{"$f":"IF(登録データ貼付!B67=\"\",\"\",登録データ貼付!B67)","v":""},{"$f":"IF(登録データ貼付!C67=\"\",\"\",CONCATENATE(登録データ貼付!C67,\"　\",登録データ貼付!D67))","v":""},{"$f":"IF(J71=\"\",\"\",ASC(J71))","v":""},{"$f":"IF(K71=\"\",\"\",ASC(K71))","v":""},{"$f":"IF(L71=\"\",\"\",L71)","v":""},{"$f":"IF(M71=\"\",\"\",M71)","v":""},{"$f":"IF(登録データ貼付!V67=\"\",\"\",RIGHT(登録データ貼付!V67,1))","v":""},null,{"$f":"IF(登録データ貼付!F67=\"\",\"\",CONCATENATE(登録データ貼付!F67,\"　\",登録データ貼付!G67))","v":""},{"$f":"IF(登録データ貼付!H67=\"\",\"\",CONCATENATE(登録データ貼付!H67,\" \",登録データ貼付!I67))","v":""},{"$f":"IF(登録データ貼付!K67=\"\",\"\",LEFT(登録データ貼付!K67,1))","v":""},{"$f":"IF(登録データ貼付!S67=\"\",\"\",登録データ貼付!S67)","v":""},null,null,64,"天王南",63,null,763,"潟上市立天王南",null,"潟上市立天王南中学校"]
[{"$f":"IF(登録データ貼付!E68=\"\",\"\",登録データ貼付!E68)","v":""},{"$f":"IF(登録データ貼付!B68=\"\",\"\",登録データ貼付!B68)","v":""},{"$f":"IF(登録データ貼付!C68=\"\",\"\",CONCATENATE(登録データ貼付!C68,\"　\",登録データ貼付!D68))","v":""},"","","","",{"$f":"IF(登録データ貼付!V68=\"\",\"\",RIGHT(登録データ貼付!V68,1))","v":""},null,{"$f":"IF(登録データ貼付!F68=\"\",\"\",CONCATENATE(登録データ貼付!F68,\"　\",登録データ貼付!G68))","v":""},{"$f":"IF(登録データ貼付!H68=\"\",\"\",CONCATENATE(登録データ貼付!H68,\" \",登録データ貼付!I68))","v":""},{"$f":"IF(登録データ貼付!K68=\"\",\"\",LEFT(登録データ貼付!K68,1))","v":""},{"$f":"IF(登録データ貼付!S68=\"\",\"\",登録データ貼付!S68)","v":""},null,null,65,"羽城",64,null,764,"潟上市立羽城",null,"潟上市立羽城中学校"]
[{"$f":"IF(登録データ貼付!E69=\"\",\"\",登録データ貼付!E69)","v":""},{"$f":"IF(登録データ貼付!B69=\"\",\"\",登録データ貼付!B69)","v":""},{"$f":"IF(登録データ貼付!C69=\"\",\"\",CONCATENATE(登録データ貼付!C69,\"　\",登録データ貼付!D69))","v":""},"","","","",{"$f":"IF(登録データ貼付!V69=\"\",\"\",RIGHT(登録データ貼付!V69,1))","v":""},null,{"$f":"IF(登録データ貼付!F69=\"\",\"\",CONCATENATE(登録データ貼付!F69,\"　\",登録データ貼付!G69))","v":""},{"$f":"IF(登録データ貼付!H69=\"\",\"\",CONCATENATE(登録データ貼付!H69,\" \",登録データ貼付!I69))","v":""},{"$f":"IF(登録データ貼付!K69=\"\",\"\",LEFT(登録データ貼付!K69,1))","v":""},{"$f":"IF(登録データ貼付!S69=\"\",\"\",登録データ貼付!S69)","v":""},null,null,66,"五城目第一",65,null,765,"五城目町立五城目第一",null,"五城目町立五城目第一中学校"]
[{"$f":"IF(登録データ貼付!E70=\"\",\"\",登録データ貼付!E70)","v":""},{"$f":"IF(登録データ貼付!B70=\"\",\"\",登録データ貼付!B70)","v":""},{"$f":"IF(登録データ貼付!C70=\"\",\"\",CONCATENATE(登録データ貼付!C70,\"　\",登録データ貼付!D70))","v":""},"","","","",{"$f":"IF(登録データ貼付!V70=\"\",\"\",RIGHT(登録データ貼付!V70,1))","v":""},null,{"$f":"IF(登録データ貼付!F70=\"\",\"\",CONCATENATE(登録データ貼付!F70,\"　\",登録データ貼付!G70))","v":""},{"$f":"IF(登録データ貼付!H70=\"\",\"\",CONCATENATE(登録データ貼付!H70,\" \",登録データ貼付!I70))","v":""},{"$f":"IF(登録データ貼付!K70=\"\",\"\",LEFT(登録データ貼付!K70,1))","v":""},{"$f":"IF(登録データ貼付!S70=\"\",\"\",登録データ貼付!S70)","v":""},null,null,67,"八郎潟",66,null,766,"八郎潟町立八郎潟",null,{"$f":"CONCATENATE(U74,$V$9)","v":"八郎潟町立八郎潟中学校"}]
[{"$f":"IF(登録データ貼付!E71=\"\",\"\",登録データ貼付!E71)","v":""},{"$f":"IF(登録データ貼付!B71=\"\",\"\",登録データ貼付!B71)","v":""},{"$f":"IF(登録データ貼付!C71=\"\",\"\",CONCATENATE(登録データ貼付!C71,\"　\",登録データ貼付!D71))","v":""},"","","","",{"$f":"IF(登録データ貼付!V71=\"\",\"\",RIGHT(登録データ貼付!V71,1))","v":""},null,{"$f":"IF(登録データ貼付!F71=\"\",\"\",CONCATENATE(登録データ貼付!F71,\"　\",登録データ貼付!G71))","v":""},{"$f":"IF(登録データ貼付!H71=\"\",\"\",CONCATENATE(登録データ貼付!H71,\" \",登録データ貼付!I71))","v":""},{"$f":"IF(登録データ貼付!K71=\"\",\"\",LEFT(登録データ貼付!K71,1))","v":""},{"$f":"IF(登録データ貼付!S71=\"\",\"\",登録データ貼付!S71)","v":""},null,null,68,"大潟",67,null,767,"大潟村立大潟",null,"大潟村立大潟中学校"]
[{"$f":"IF(登録データ貼付!E72=\"\",\"\",登録データ貼付!E72)","v":""},{"$f":"IF(登録データ貼付!B72=\"\",\"\",登録データ貼付!B72)","v":""},{"$f":"IF(登録データ貼付!C72=\"\",\"\",CONCATENATE(登録データ貼付!C72,\"　\",登録データ貼付!D72))","v":""},"","","","",{"$f":"IF(登録データ貼付!V72=\"\",\"\",RIGHT(登録データ貼付!V72,1))","v":""},null,{"$f":"IF(登録データ貼付!F72=\"\",\"\",CONCATENATE(登録データ貼付!F72,\"　\",登録データ貼付!G72))","v":""},{"$f":"IF(登録データ貼付!H72=\"\",\"\",CONCATENATE(登録データ貼付!H72,\" \",登録データ貼付!I72))","v":""},{"$f":"IF(登録データ貼付!K72=\"\",\"\",LEFT(登録データ貼付!K72,1))","v":""},{"$f":"IF(登録データ貼付!S72=\"\",\"\",登録データ貼付!S72)","v":""},null,null,69,"本荘北",68,null,768,"由利本荘市立本荘北",null,"由利本荘市立本荘北中学校"]
[{"$f":"IF(登録データ貼付!E73=\"\",\"\",登録データ貼付!E73)","v":""},{"$f":"IF(登録データ貼付!B73=\"\",\"\",登録データ貼付!B73)","v":""},{"$f":"IF(登録データ貼付!C73=\"\",\"\",CONCATENATE(登録データ貼付!C73,\"　\",登録データ貼付!D73))","v":""},"","","","",{"$f":"IF(登録データ貼付!V73=\"\",\"\",RIGHT(登録データ貼付!V73,1))","v":""},null,{"$f":"IF(登録データ貼付!F73=\"\",\"\",CONCATENATE(登録データ貼付!F73,\"　\",登録データ貼付!G73))","v":""},{"$f":"IF(登録データ貼付!H73=\"\",\"\",CONCATENATE(登録データ貼付!H73,\" \",登録データ貼付!I73))","v":""},{"$f":"IF(登録データ貼付!K73=\"\",\"\",LEFT(登録データ貼付!K73,1))","v":""},{"$f":"IF(登録データ貼付!S73=\"\",\"\",登録データ貼付!S73)","v":""},null,null,70,"本荘南",69,null,769,"由利本荘市立本荘南",null,"由利本荘市立本荘南中学校"]
[{"$f":"IF(登録データ貼付!E74=\"\",\"\",登録データ貼付!E74)","v":""},{"$f":"IF(登録データ貼付!B74=\"\",\"\",登録データ貼付!B74)","v":""},{"$f":"IF(登録データ貼付!C74=\"\",\"\",CONCATENATE(登録データ貼付!C74,\"　\",登録データ貼付!D74))","v":""},"","","","",{"$f":"IF(登録データ貼付!V74=\"\",\"\",RIGHT(登録データ貼付!V74,1))","v":""},null,{"$f":"IF(登録データ貼付!F74=\"\",\"\",CONCATENATE(登録データ貼付!F74,\"　\",登録データ貼付!G74))","v":""},{"$f":"IF(登録データ貼付!H74=\"\",\"\",CONCATENATE(登録データ貼付!H74,\" \",登録データ貼付!I74))","v":""},{"$f":"IF(登録データ貼付!K74=\"\",\"\",LEFT(登録データ貼付!K74,1))","v":""},{"$f":"IF(登録データ貼付!S74=\"\",\"\",登録データ貼付!S74)","v":""},null,null,71,"本荘東",70,null,770,"由利本荘市立本荘東",null,"由利本荘市立本荘東中学校"]
[{"$f":"IF(登録データ貼付!E75=\"\",\"\",登録データ貼付!E75)","v":""},{"$f":"IF(登録データ貼付!B75=\"\",\"\",登録データ貼付!B75)","v":""},{"$f":"IF(登録データ貼付!C75=\"\",\"\",CONCATENATE(登録データ貼付!C75,\"　\",登録データ貼付!D75))","v":""},"","","","",{"$f":"IF(登録データ貼付!V75=\"\",\"\",RIGHT(登録データ貼付!V75,1))","v":""},null,{"$f":"IF(登録データ貼付!F75=\"\",\"\",CONCATENATE(登録データ貼付!F75,\"　\",登録データ貼付!G75))","v":""},{"$f":"IF(登録データ貼付!H75=\"\",\"\",CONCATENATE(登録データ貼付!H75,\" \",登録データ貼付!I75))","v":""},{"$f":"IF(登録データ貼付!K75=\"\",\"\",LEFT(登録データ貼付!K75,1))","v":""},{"$f":"IF(登録データ貼付!S75=\"\",\"\",登録データ貼付!S75)","v":""},null,null,72,"矢島",71,null,771,"由利本荘市立矢島",null,"由利本荘市立矢島中学校"]
[{"$f":"IF(登録データ貼付!E76=\"\",\"\",登録データ貼付!E76)","v":""},{"$f":"IF(登録データ貼付!B76=\"\",\"\",登録データ貼付!B76)","v":""},{"$f":"IF(登録データ貼付!C76=\"\",\"\",CONCATENATE(登録データ貼付!C76,\"　\",登録データ貼付!D76))","v":""},"","","","",{"$f":"IF(登録データ貼付!V76=\"\",\"\",RIGHT(登録データ貼付!V76,1))","v":""},null,{"$f":"IF(登録データ貼付!F76=\"\",\"\",CONCATENATE(登録データ貼付!F76,\"　\",登録データ貼付!G76))","v":""},{"$f":"IF(登録データ貼付!H76=\"\",\"\",CONCATENATE(登録データ貼付!H76,\" \",登録データ貼付!I76))","v":""},{"$f":"IF(登録データ貼付!K76=\"\",\"\",LEFT(登録データ貼付!K76,1))","v":""},{"$f":"IF(登録データ貼付!S76=\"\",\"\",登録データ貼付!S76)","v":""},null,null,73,"岩城",72,null,772,"由利本荘市立岩城",null,"由利本荘市立岩城中学校"]
[{"$f":"IF(登録データ貼付!E77=\"\",\"\",登録データ貼付!E77)","v":""},{"$f":"IF(登録データ貼付!B77=\"\",\"\",登録データ貼付!B77)","v":""},{"$f":"IF(登録データ貼付!C77=\"\",\"\",CONCATENATE(登録データ貼付!C77,\"　\",登録データ貼付!D77))","v":""},"","","","",{"$f":"IF(登録データ貼付!V77=\"\",\"\",RIGHT(登録データ貼付!V77,1))","v":""},null,{"$f":"IF(登録データ貼付!F77=\"\",\"\",CONCATENATE(登録データ貼付!F77,\"　\",登録データ貼付!G77))","v":""},{"$f":"IF(登録データ貼付!H77=\"\",\"\",CONCATENATE(登録データ貼付!H77,\" \",登録データ貼付!I77))","v":""},{"$f":"IF(登録データ貼付!K77=\"\",\"\",LEFT(登録データ貼付!K77,1))","v":""},{"$f":"IF(登録データ貼付!S77=\"\",\"\",登録データ貼付!S77)","v":""},null,null,74,"由利",73,null,773,"由利本荘市立由利",null,"由利本荘市立由利中学校"]
[{"$f":"IF(登録データ貼付!E78=\"\",\"\",登録データ貼付!E78)","v":""},{"$f":"IF(登録データ貼付!B78=\"\",\"\",登録データ貼付!B78)","v":""},{"$f":"IF(登録データ貼付!C78=\"\",\"\",CONCATENATE(登録データ貼付!C78,\"　\",登録データ貼付!D78))","v":""},"","","","",{"$f":"IF(登録データ貼付!V78=\"\",\"\",RIGHT(登録データ貼付!V78,1))","v":""},null,{"$f":"IF(登録データ貼付!F78=\"\",\"\",CONCATENATE(登録データ貼付!F78,\"　\",登録データ貼付!G78))","v":""},{"$f":"IF(登録データ貼付!H78=\"\",\"\",CONCATENATE(登録データ貼付!H78,\" \",登録データ貼付!I78))","v":""},{"$f":"IF(登録データ貼付!K78=\"\",\"\",LEFT(登録データ貼付!K78,1))","v":""},{"$f":"IF(登録データ貼付!S78=\"\",\"\",登録データ貼付!S78)","v":""},null,null,75,"西目",74,null,774,"由利本荘市立西目",null,"由利本荘市立西目中学校"]
[{"$f":"IF(登録データ貼付!E79=\"\",\"\",登録データ貼付!E79)","v":""},{"$f":"IF(登録データ貼付!B79=\"\",\"\",登録データ貼付!B79)","v":""},{"$f":"IF(登録データ貼付!C79=\"\",\"\",CONCATENATE(登録データ貼付!C79,\"　\",登録データ貼付!D79))","v":""},"","","","",{"$f":"IF(登録データ貼付!V79=\"\",\"\",RIGHT(登録データ貼付!V79,1))","v":""},null,{"$f":"IF(登録データ貼付!F79=\"\",\"\",CONCATENATE(登録データ貼付!F79,\"　\",登録データ貼付!G79))","v":""},{"$f":"IF(登録データ貼付!H79=\"\",\"\",CONCATENATE(登録データ貼付!H79,\" \",登録データ貼付!I79))","v":""},{"$f":"IF(登録データ貼付!K79=\"\",\"\",LEFT(登録データ貼付!K79,1))","v":""},{"$f":"IF(登録データ貼付!S79=\"\",\"\",登録データ貼付!S79)","v":""},null,null,76,"鳥海",75,null,775,"由利本荘市立鳥海",null,"由利本荘市立鳥海中学校"]
[{"$f":"IF(登録データ貼付!E80=\"\",\"\",登録データ貼付!E80)","v":""},{"$f":"IF(登録データ貼付!B80=\"\",\"\",登録データ貼付!B80)","v":""},{"$f":"IF(登録データ貼付!C80=\"\",\"\",CONCATENATE(登録データ貼付!C80,\"　\",登録データ貼付!D80))","v":""},"","","","",{"$f":"IF(登録データ貼付!V80=\"\",\"\",RIGHT(登録データ貼付!V80,1))","v":""},null,{"$f":"IF(登録データ貼付!F80=\"\",\"\",CONCATENATE(登録データ貼付!F80,\"　\",登録データ貼付!G80))","v":""},{"$f":"IF(登録データ貼付!H80=\"\",\"\",CONCATENATE(登録データ貼付!H80,\" \",登録データ貼付!I80))","v":""},{"$f":"IF(登録データ貼付!K80=\"\",\"\",LEFT(登録データ貼付!K80,1))","v":""},{"$f":"IF(登録データ貼付!S80=\"\",\"\",登録データ貼付!S80)","v":""},null,null,77,"東由利",76,null,776,"由利本荘市立東由利",null,"由利本荘市立東由利中学校"]
[{"$f":"IF(登録データ貼付!E81=\"\",\"\",登録データ貼付!E81)","v":""},{"$f":"IF(登録データ貼付!B81=\"\",\"\",登録データ貼付!B81)","v":""},{"$f":"IF(登録データ貼付!C81=\"\",\"\",CONCATENATE(登録データ貼付!C81,\"　\",登録データ貼付!D81))","v":""},"","","","",{"$f":"IF(登録データ貼付!V81=\"\",\"\",RIGHT(登録データ貼付!V81,1))","v":""},null,{"$f":"IF(登録データ貼付!F81=\"\",\"\",CONCATENATE(登録データ貼付!F81,\"　\",登録データ貼付!G81))","v":""},{"$f":"IF(登録データ貼付!H81=\"\",\"\",CONCATENATE(登録データ貼付!H81,\" \",登録データ貼付!I81))","v":""},{"$f":"IF(登録データ貼付!K81=\"\",\"\",LEFT(登録データ貼付!K81,1))","v":""},{"$f":"IF(登録データ貼付!S81=\"\",\"\",登録データ貼付!S81)","v":""},null,null,78,"大内",77,null,777,"由利本荘市立大内",null,"由利本荘市立大内中学校"]
[{"$f":"IF(登録データ貼付!E82=\"\",\"\",登録データ貼付!E82)","v":""},{"$f":"IF(登録データ貼付!B82=\"\",\"\",登録データ貼付!B82)","v":""},{"$f":"IF(登録データ貼付!C82=\"\",\"\",CONCATENATE(登録データ貼付!C82,\"　\",登録データ貼付!D82))","v":""},"","","","",{"$f":"IF(登録データ貼付!V82=\"\",\"\",RIGHT(登録データ貼付!V82,1))","v":""},null,{"$f":"IF(登録データ貼付!F82=\"\",\"\",CONCATENATE(登録データ貼付!F82,\"　\",登録データ貼付!G82))","v":""},{"$f":"IF(登録データ貼付!H82=\"\",\"\",CONCATENATE(登録データ貼付!H82,\" \",登録データ貼付!I82))","v":""},{"$f":"IF(登録データ貼付!K82=\"\",\"\",LEFT(登録データ貼付!K82,1))","v":""},{"$f":"IF(登録データ貼付!S82=\"\",\"\",登録データ貼付!S82)","v":""},null,null,79,"仁賀保",78,null,778,"にかほ市立仁賀保",null,"にかほ市立仁賀保中学校"]
[{"$f":"IF(登録データ貼付!E83=\"\",\"\",登録データ貼付!E83)","v":""},{"$f":"IF(登録データ貼付!B83=\"\",\"\",登録データ貼付!B83)","v":""},{"$f":"IF(登録データ貼付!C83=\"\",\"\",CONCATENATE(登録データ貼付!C83,\"　\",登録データ貼付!D83))","v":""},"","","","",{"$f":"IF(登録データ貼付!V83=\"\",\"\",RIGHT(登録データ貼付!V83,1))","v":""},null,{"$f":"IF(登録データ貼付!F83=\"\",\"\",CONCATENATE(登録データ貼付!F83,\"　\",登録データ貼付!G83))","v":""},{"$f":"IF(登録データ貼付!H83=\"\",\"\",CONCATENATE(登録データ貼付!H83,\" \",登録データ貼付!I83))","v":""},{"$f":"IF(登録データ貼付!K83=\"\",\"\",LEFT(登録データ貼付!K83,1))","v":""},{"$f":"IF(登録データ貼付!S83=\"\",\"\",登録データ貼付!S83)","v":""},null,null,80,"金浦",79,null,779,"にかほ市立金浦",null,"にかほ市立金浦中学校"]
[{"$f":"IF(登録データ貼付!E84=\"\",\"\",登録データ貼付!E84)","v":""},{"$f":"IF(登録データ貼付!B84=\"\",\"\",登録データ貼付!B84)","v":""},{"$f":"IF(登録データ貼付!C84=\"\",\"\",CONCATENATE(登録データ貼付!C84,\"　\",登録データ貼付!D84))","v":""},"","","","",{"$f":"IF(登録データ貼付!V84=\"\",\"\",RIGHT(登録データ貼付!V84,1))","v":""},null,{"$f":"IF(登録データ貼付!F84=\"\",\"\",CONCATENATE(登録データ貼付!F84,\"　\",登録データ貼付!G84))","v":""},{"$f":"IF(登録データ貼付!H84=\"\",\"\",CONCATENATE(登録データ貼付!H84,\" \",登録データ貼付!I84))","v":""},{"$f":"IF(登録データ貼付!K84=\"\",\"\",LEFT(登録データ貼付!K84,1))","v":""},{"$f":"IF(登録データ貼付!S84=\"\",\"\",登録データ貼付!S84)","v":""},null,null,81,"象潟",80,null,780,"にかほ市立象潟",null,"にかほ市立象潟中学校"]
[{"$f":"IF(登録データ貼付!E85=\"\",\"\",登録データ貼付!E85)","v":""},{"$f":"IF(登録データ貼付!B85=\"\",\"\",登録データ貼付!B85)","v":""},{"$f":"IF(登録データ貼付!C85=\"\",\"\",CONCATENATE(登録データ貼付!C85,\"　\",登録データ貼付!D85))","v":""},"","","","",{"$f":"IF(登録データ貼付!V85=\"\",\"\",RIGHT(登録データ貼付!V85,1))","v":""},null,{"$f":"IF(登録データ貼付!F85=\"\",\"\",CONCATENATE(登録データ貼付!F85,\"　\",登録データ貼付!G85))","v":""},{"$f":"IF(登録データ貼付!H85=\"\",\"\",CONCATENATE(登録データ貼付!H85,\" \",登録データ貼付!I85))","v":""},{"$f":"IF(登録データ貼付!K85=\"\",\"\",LEFT(登録データ貼付!K85,1))","v":""},{"$f":"IF(登録データ貼付!S85=\"\",\"\",登録データ貼付!S85)","v":""},null,null,82,"大曲",81,null,781,"大仙市立大曲",null,"大仙市立大曲中学校"]
[{"$f":"IF(登録データ貼付!E86=\"\",\"\",登録データ貼付!E86)","v":""},{"$f":"IF(登録データ貼付!B86=\"\",\"\",登録データ貼付!B86)","v":""},{"$f":"IF(登録データ貼付!C86=\"\",\"\",CONCATENATE(登録データ貼付!C86,\"　\",登録データ貼付!D86))","v":""},"","","","",{"$f":"IF(登録データ貼付!V86=\"\",\"\",RIGHT(登録データ貼付!V86,1))","v":""},null,{"$f":"IF(登録データ貼付!F86=\"\",\"\",CONCATENATE(登録データ貼付!F86,\"　\",登録データ貼付!G86))","v":""},{"$f":"IF(登録データ貼付!H86=\"\",\"\",CONCATENATE(登録データ貼付!H86,\" \",登録データ貼付!I86))","v":""},{"$f":"IF(登録データ貼付!K86=\"\",\"\",LEFT(登録データ貼付!K86,1))","v":""},{"$f":"IF(登録データ貼付!S86=\"\",\"\",登録データ貼付!S86)","v":""},null,null,83,"大曲西",82,null,782,"大仙市立大曲西",null,"大仙市立大曲西中学校"]
[{"$f":"IF(登録データ貼付!E87=\"\",\"\",登録データ貼付!E87)","v":""},{"$f":"IF(登録データ貼付!B87=\"\",\"\",登録データ貼付!B87)","v":""},{"$f":"IF(登録データ貼付!C87=\"\",\"\",CONCATENATE(登録データ貼付!C87,\"　\",登録データ貼付!D87))","v":""},"","","","",{"$f":"IF(登録データ貼付!V87=\"\",\"\",RIGHT(登録データ貼付!V87,1))","v":""},null,{"$f":"IF(登録データ貼付!F87=\"\",\"\",CONCATENATE(登録データ貼付!F87,\"　\",登録データ貼付!G87))","v":""},{"$f":"IF(登録データ貼付!H87=\"\",\"\",CONCATENATE(登録データ貼付!H87,\" \",登録データ貼付!I87))","v":""},{"$f":"IF(登録データ貼付!K87=\"\",\"\",LEFT(登録データ貼付!K87,1))","v":""},{"$f":"IF(登録データ貼付!S87=\"\",\"\",登録データ貼付!S87)","v":""},null,null,84,"大曲南",83,null,783,"大仙市立大曲南",null,"大仙市立大曲南中学校"]
[{"$f":"IF(登録データ貼付!E88=\"\",\"\",登録データ貼付!E88)","v":""},{"$f":"IF(登録データ貼付!B88=\"\",\"\",登録データ貼付!B88)","v":""},{"$f":"IF(登録データ貼付!C88=\"\",\"\",CONCATENATE(登録データ貼付!C88,\"　\",登録データ貼付!D88))","v":""},"","","","",{"$f":"IF(登録データ貼付!V88=\"\",\"\",RIGHT(登録データ貼付!V88,1))","v":""},null,{"$f":"IF(登録データ貼付!F88=\"\",\"\",CONCATENATE(登録データ貼付!F88,\"　\",登録データ貼付!G88))","v":""},{"$f":"IF(登録データ貼付!H88=\"\",\"\",CONCATENATE(登録データ貼付!H88,\" \",登録データ貼付!I88))","v":""},{"$f":"IF(登録データ貼付!K88=\"\",\"\",LEFT(登録データ貼付!K88,1))","v":""},{"$f":"IF(登録データ貼付!S88=\"\",\"\",登録データ貼付!S88)","v":""},null,null,85,"平和",84,null,784,"大仙市立平和",null,"大仙市立平和中学校"]
[{"$f":"IF(登録データ貼付!E89=\"\",\"\",登録データ貼付!E89)","v":""},{"$f":"IF(登録データ貼付!B89=\"\",\"\",登録データ貼付!B89)","v":""},{"$f":"IF(登録データ貼付!C89=\"\",\"\",CONCATENATE(登録データ貼付!C89,\"　\",登録データ貼付!D89))","v":""},"","","","",{"$f":"IF(登録データ貼付!V89=\"\",\"\",RIGHT(登録データ貼付!V89,1))","v":""},null,{"$f":"IF(登録データ貼付!F89=\"\",\"\",CONCATENATE(登録データ貼付!F89,\"　\",登録データ貼付!G89))","v":""},{"$f":"IF(登録データ貼付!H89=\"\",\"\",CONCATENATE(登録データ貼付!H89,\" \",登録データ貼付!I89))","v":""},{"$f":"IF(登録データ貼付!K89=\"\",\"\",LEFT(登録データ貼付!K89,1))","v":""},{"$f":"IF(登録データ貼付!S89=\"\",\"\",登録データ貼付!S89)","v":""},null,null,86,"西仙北",85,null,785,"大仙市立西仙北",null,"大仙市立西仙北中学校"]
[{"$f":"IF(登録データ貼付!E90=\"\",\"\",登録データ貼付!E90)","v":""},{"$f":"IF(登録データ貼付!B90=\"\",\"\",登録データ貼付!B90)","v":""},{"$f":"IF(登録データ貼付!C90=\"\",\"\",CONCATENATE(登録データ貼付!C90,\"　\",登録データ貼付!D90))","v":""},"","","","",{"$f":"IF(登録データ貼付!V90=\"\",\"\",RIGHT(登録データ貼付!V90,1))","v":""},null,{"$f":"IF(登録データ貼付!F90=\"\",\"\",CONCATENATE(登録データ貼付!F90,\"　\",登録データ貼付!G90))","v":""},{"$f":"IF(登録データ貼付!H90=\"\",\"\",CONCATENATE(登録データ貼付!H90,\" \",登録データ貼付!I90))","v":""},{"$f":"IF(登録データ貼付!K90=\"\",\"\",LEFT(登録データ貼付!K90,1))","v":""},{"$f":"IF(登録データ貼付!S90=\"\",\"\",登録データ貼付!S90)","v":""},null,null,87,"中仙",86,null,786,"大仙市立中仙",null,"大仙市立中仙中学校"]
[{"$f":"IF(登録データ貼付!E91=\"\",\"\",登録データ貼付!E91)","v":""},{"$f":"IF(登録データ貼付!B91=\"\",\"\",登録データ貼付!B91)","v":""},{"$f":"IF(登録データ貼付!C91=\"\",\"\",CONCATENATE(登録データ貼付!C91,\"　\",登録データ貼付!D91))","v":""},"","","","",{"$f":"IF(登録データ貼付!V91=\"\",\"\",RIGHT(登録データ貼付!V91,1))","v":""},null,{"$f":"IF(登録データ貼付!F91=\"\",\"\",CONCATENATE(登録データ貼付!F91,\"　\",登録データ貼付!G91))","v":""},{"$f":"IF(登録データ貼付!H91=\"\",\"\",CONCATENATE(登録データ貼付!H91,\" \",登録データ貼付!I91))","v":""},{"$f":"IF(登録データ貼付!K91=\"\",\"\",LEFT(登録データ貼付!K91,1))","v":""},{"$f":"IF(登録データ貼付!S91=\"\",\"\",登録データ貼付!S91)","v":""},null,null,88,"協和",87,null,787,"大仙市立協和",null,"大仙市立協和中学校"]
[{"$f":"IF(登録データ貼付!E92=\"\",\"\",登録データ貼付!E92)","v":""},{"$f":"IF(登録データ貼付!B92=\"\",\"\",登録データ貼付!B92)","v":""},{"$f":"IF(登録データ貼付!C92=\"\",\"\",CONCATENATE(登録データ貼付!C92,\"　\",登録データ貼付!D92))","v":""},"","","","",{"$f":"IF(登録データ貼付!V92=\"\",\"\",RIGHT(登録データ貼付!V92,1))","v":""},null,{"$f":"IF(登録データ貼付!F92=\"\",\"\",CONCATENATE(登録データ貼付!F92,\"　\",登録データ貼付!G92))","v":""},{"$f":"IF(登録データ貼付!H92=\"\",\"\",CONCATENATE(登録データ貼付!H92,\" \",登録データ貼付!I92))","v":""},{"$f":"IF(登録データ貼付!K92=\"\",\"\",LEFT(登録データ貼付!K92,1))","v":""},{"$f":"IF(登録データ貼付!S92=\"\",\"\",登録データ貼付!S92)","v":""},null,null,89,"南外",88,null,788,"大仙市立南外",null,"大仙市立南外中学校"]
[{"$f":"IF(登録データ貼付!E93=\"\",\"\",登録データ貼付!E93)","v":""},{"$f":"IF(登録データ貼付!B93=\"\",\"\",登録データ貼付!B93)","v":""},{"$f":"IF(登録データ貼付!C93=\"\",\"\",CONCATENATE(登録データ貼付!C93,\"　\",登録データ貼付!D93))","v":""},"","","","",{"$f":"IF(登録データ貼付!V93=\"\",\"\",RIGHT(登録データ貼付!V93,1))","v":""},null,{"$f":"IF(登録データ貼付!F93=\"\",\"\",CONCATENATE(登録データ貼付!F93,\"　\",登録データ貼付!G93))","v":""},{"$f":"IF(登録データ貼付!H93=\"\",\"\",CONCATENATE(登録データ貼付!H93,\" \",登録データ貼付!I93))","v":""},{"$f":"IF(登録データ貼付!K93=\"\",\"\",LEFT(登録データ貼付!K93,1))","v":""},{"$f":"IF(登録データ貼付!S93=\"\",\"\",登録データ貼付!S93)","v":""},null,null,90,"仙北",89,null,789,"大仙市立仙北",null,"大仙市立仙北中学校"]
[{"$f":"IF(登録データ貼付!E94=\"\",\"\",登録データ貼付!E94)","v":""},{"$f":"IF(登録データ貼付!B94=\"\",\"\",登録データ貼付!B94)","v":""},{"$f":"IF(登録データ貼付!C94=\"\",\"\",CONCATENATE(登録データ貼付!C94,\"　\",登録データ貼付!D94))","v":""},"","","","",{"$f":"IF(登録データ貼付!V94=\"\",\"\",RIGHT(登録データ貼付!V94,1))","v":""},null,{"$f":"IF(登録データ貼付!F94=\"\",\"\",CONCATENATE(登録データ貼付!F94,\"　\",登録データ貼付!G94))","v":""},{"$f":"IF(登録データ貼付!H94=\"\",\"\",CONCATENATE(登録データ貼付!H94,\" \",登録データ貼付!I94))","v":""},{"$f":"IF(登録データ貼付!K94=\"\",\"\",LEFT(登録データ貼付!K94,1))","v":""},{"$f":"IF(登録データ貼付!S94=\"\",\"\",登録データ貼付!S94)","v":""},null,null,91,"太田",90,null,790,"大仙市立太田",null,"大仙市立太田中学校"]
[{"$f":"IF(登録データ貼付!E95=\"\",\"\",登録データ貼付!E95)","v":""},{"$f":"IF(登録データ貼付!B95=\"\",\"\",登録データ貼付!B95)","v":""},{"$f":"IF(登録データ貼付!C95=\"\",\"\",CONCATENATE(登録データ貼付!C95,\"　\",登録データ貼付!D95))","v":""},"","","","",{"$f":"IF(登録データ貼付!V95=\"\",\"\",RIGHT(登録データ貼付!V95,1))","v":""},null,{"$f":"IF(登録データ貼付!F95=\"\",\"\",CONCATENATE(登録データ貼付!F95,\"　\",登録データ貼付!G95))","v":""},{"$f":"IF(登録データ貼付!H95=\"\",\"\",CONCATENATE(登録データ貼付!H95,\" \",登録データ貼付!I95))","v":""},{"$f":"IF(登録データ貼付!K95=\"\",\"\",LEFT(登録データ貼付!K95,1))","v":""},{"$f":"IF(登録データ貼付!S95=\"\",\"\",登録データ貼付!S95)","v":""},null,null,92,"角館",91,null,791,"仙北市立角館",null,"仙北市立角館中学校"]
[{"$f":"IF(登録データ貼付!E96=\"\",\"\",登録データ貼付!E96)","v":""},{"$f":"IF(登録データ貼付!B96=\"\",\"\",登録データ貼付!B96)","v":""},{"$f":"IF(登録データ貼付!C96=\"\",\"\",CONCATENATE(登録データ貼付!C96,\"　\",登録データ貼付!D96))","v":""},"","","","",{"$f":"IF(登録データ貼付!V96=\"\",\"\",RIGHT(登録データ貼付!V96,1))","v":""},null,{"$f":"IF(登録データ貼付!F96=\"\",\"\",CONCATENATE(登録データ貼付!F96,\"　\",登録データ貼付!G96))","v":""},{"$f":"IF(登録データ貼付!H96=\"\",\"\",CONCATENATE(登録データ貼付!H96,\" \",登録データ貼付!I96))","v":""},{"$f":"IF(登録データ貼付!K96=\"\",\"\",LEFT(登録データ貼付!K96,1))","v":""},{"$f":"IF(登録データ貼付!S96=\"\",\"\",登録データ貼付!S96)","v":""},null,null,93,"生保内",92,null,792,"仙北市立生保内",null,"仙北市立生保内中学校"]
[{"$f":"IF(登録データ貼付!E97=\"\",\"\",登録データ貼付!E97)","v":""},{"$f":"IF(登録データ貼付!B97=\"\",\"\",登録データ貼付!B97)","v":""},{"$f":"IF(登録データ貼付!C97=\"\",\"\",CONCATENATE(登録データ貼付!C97,\"　\",登録データ貼付!D97))","v":""},"","","","",{"$f":"IF(登録データ貼付!V97=\"\",\"\",RIGHT(登録データ貼付!V97,1))","v":""},null,{"$f":"IF(登録データ貼付!F97=\"\",\"\",CONCATENATE(登録データ貼付!F97,\"　\",登録データ貼付!G97))","v":""},{"$f":"IF(登録データ貼付!H97=\"\",\"\",CONCATENATE(登録データ貼付!H97,\" \",登録データ貼付!I97))","v":""},{"$f":"IF(登録データ貼付!K97=\"\",\"\",LEFT(登録データ貼付!K97,1))","v":""},{"$f":"IF(登録データ貼付!S97=\"\",\"\",登録データ貼付!S97)","v":""},null,null,94,"神代",93,null,793,"仙北市立神代",null,"仙北市立神代中学校"]
[{"$f":"IF(登録データ貼付!E98=\"\",\"\",登録データ貼付!E98)","v":""},{"$f":"IF(登録データ貼付!B98=\"\",\"\",登録データ貼付!B98)","v":""},{"$f":"IF(登録データ貼付!C98=\"\",\"\",CONCATENATE(登録データ貼付!C98,\"　\",登録データ貼付!D98))","v":""},"","","","",{"$f":"IF(登録データ貼付!V98=\"\",\"\",RIGHT(登録データ貼付!V98,1))","v":""},null,{"$f":"IF(登録データ貼付!F98=\"\",\"\",CONCATENATE(登録データ貼付!F98,\"　\",登録データ貼付!G98))","v":""},{"$f":"IF(登録データ貼付!H98=\"\",\"\",CONCATENATE(登録データ貼付!H98,\" \",登録データ貼付!I98))","v":""},{"$f":"IF(登録データ貼付!K98=\"\",\"\",LEFT(登録データ貼付!K98,1))","v":""},{"$f":"IF(登録データ貼付!S98=\"\",\"\",登録データ貼付!S98)","v":""},null,null,95,"西明寺",94,null,794,"仙北市立西明寺",null,"仙北市立西明寺中学校"]
[{"$f":"IF(登録データ貼付!E99=\"\",\"\",登録データ貼付!E99)","v":""},{"$f":"IF(登録データ貼付!B99=\"\",\"\",登録データ貼付!B99)","v":""},{"$f":"IF(登録データ貼付!C99=\"\",\"\",CONCATENATE(登録データ貼付!C99,\"　\",登録データ貼付!D99))","v":""},"","","","",{"$f":"IF(登録データ貼付!V99=\"\",\"\",RIGHT(登録データ貼付!V99,1))","v":""},null,{"$f":"IF(登録データ貼付!F99=\"\",\"\",CONCATENATE(登録データ貼付!F99,\"　\",登録データ貼付!G99))","v":""},{"$f":"IF(登録データ貼付!H99=\"\",\"\",CONCATENATE(登録データ貼付!H99,\" \",登録データ貼付!I99))","v":""},{"$f":"IF(登録データ貼付!K99=\"\",\"\",LEFT(登録データ貼付!K99,1))","v":""},{"$f":"IF(登録データ貼付!S99=\"\",\"\",登録データ貼付!S99)","v":""},null,null,96,"桧木内",95,null,795,"仙北市立桧木内",null,"仙北市立桧木内中学校"]
[{"$f":"IF(登録データ貼付!E100=\"\",\"\",登録データ貼付!E100)","v":""},{"$f":"IF(登録データ貼付!B100=\"\",\"\",登録データ貼付!B100)","v":""},{"$f":"IF(登録データ貼付!C100=\"\",\"\",CONCATENATE(登録データ貼付!C100,\"　\",登録データ貼付!D100))","v":""},"","","","",{"$f":"IF(登録データ貼付!V100=\"\",\"\",RIGHT(登録データ貼付!V100,1))","v":""},null,{"$f":"IF(登録データ貼付!F100=\"\",\"\",CONCATENATE(登録データ貼付!F100,\"　\",登録データ貼付!G100))","v":""},{"$f":"IF(登録データ貼付!H100=\"\",\"\",CONCATENATE(登録データ貼付!H100,\" \",登録データ貼付!I100))","v":""},{"$f":"IF(登録データ貼付!K100=\"\",\"\",LEFT(登録データ貼付!K100,1))","v":""},{"$f":"IF(登録データ貼付!S100=\"\",\"\",登録データ貼付!S100)","v":""},null,null,97,"美郷",96,null,796,"美郷町立美郷",null,"美郷町立美郷中学校"]
[{"$f":"IF(登録データ貼付!E101=\"\",\"\",登録データ貼付!E101)","v":""},{"$f":"IF(登録データ貼付!B101=\"\",\"\",登録データ貼付!B101)","v":""},{"$f":"IF(登録データ貼付!C101=\"\",\"\",CONCATENATE(登録データ貼付!C101,\"　\",登録データ貼付!D101))","v":""},"","","","",{"$f":"IF(登録データ貼付!V101=\"\",\"\",RIGHT(登録データ貼付!V101,1))","v":""},null,{"$f":"IF(登録データ貼付!F101=\"\",\"\",CONCATENATE(登録データ貼付!F101,\"　\",登録データ貼付!G101))","v":""},{"$f":"IF(登録データ貼付!H101=\"\",\"\",CONCATENATE(登録データ貼付!H101,\" \",登録データ貼付!I101))","v":""},{"$f":"IF(登録データ貼付!K101=\"\",\"\",LEFT(登録データ貼付!K101,1))","v":""},{"$f":"IF(登録データ貼付!S101=\"\",\"\",登録データ貼付!S101)","v":""},null,null,98,"横手南",97,null,797,"横手市立横手南",null,"横手市立横手南中学校"]
[{"$f":"IF(登録データ貼付!E102=\"\",\"\",登録データ貼付!E102)","v":""},{"$f":"IF(登録データ貼付!B102=\"\",\"\",登録データ貼付!B102)","v":""},{"$f":"IF(登録データ貼付!C102=\"\",\"\",CONCATENATE(登録データ貼付!C102,\"　\",登録データ貼付!D102))","v":""},"","","","",{"$f":"IF(登録データ貼付!V102=\"\",\"\",RIGHT(登録データ貼付!V102,1))","v":""},null,{"$f":"IF(登録データ貼付!F102=\"\",\"\",CONCATENATE(登録データ貼付!F102,\"　\",登録データ貼付!G102))","v":""},{"$f":"IF(登録データ貼付!H102=\"\",\"\",CONCATENATE(登録データ貼付!H102,\" \",登録データ貼付!I102))","v":""},{"$f":"IF(登録データ貼付!K102=\"\",\"\",LEFT(登録データ貼付!K102,1))","v":""},{"$f":"IF(登録データ貼付!S102=\"\",\"\",登録データ貼付!S102)","v":""},null,null,99,"横手北",98,null,798,"横手市立横手北",null,"横手市立横手北中学校"]
[{"$f":"IF(登録データ貼付!E103=\"\",\"\",登録データ貼付!E103)","v":""},{"$f":"IF(登録データ貼付!B103=\"\",\"\",登録データ貼付!B103)","v":""},{"$f":"IF(登録データ貼付!C103=\"\",\"\",CONCATENATE(登録データ貼付!C103,\"　\",登録データ貼付!D103))","v":""},"","","","",{"$f":"IF(登録データ貼付!V103=\"\",\"\",RIGHT(登録データ貼付!V103,1))","v":""},null,{"$f":"IF(登録データ貼付!F103=\"\",\"\",CONCATENATE(登録データ貼付!F103,\"　\",登録データ貼付!G103))","v":""},{"$f":"IF(登録データ貼付!H103=\"\",\"\",CONCATENATE(登録データ貼付!H103,\" \",登録データ貼付!I103))","v":""},{"$f":"IF(登録データ貼付!K103=\"\",\"\",LEFT(登録データ貼付!K103,1))","v":""},{"$f":"IF(登録データ貼付!S103=\"\",\"\",登録データ貼付!S103)","v":""},null,null,100,"増田",99,null,799,"横手市立増田",null,"横手市立増田中学校"]
[{"$f":"IF(登録データ貼付!E104=\"\",\"\",登録データ貼付!E104)","v":""},{"$f":"IF(登録データ貼付!B104=\"\",\"\",登録データ貼付!B104)","v":""},{"$f":"IF(登録データ貼付!C104=\"\",\"\",CONCATENATE(登録データ貼付!C104,\"　\",登録データ貼付!D104))","v":""},"","","","",{"$f":"IF(登録データ貼付!V104=\"\",\"\",RIGHT(登録データ貼付!V104,1))","v":""},null,{"$f":"IF(登録データ貼付!F104=\"\",\"\",CONCATENATE(登録データ貼付!F104,\"　\",登録データ貼付!G104))","v":""},{"$f":"IF(登録データ貼付!H104=\"\",\"\",CONCATENATE(登録データ貼付!H104,\" \",登録データ貼付!I104))","v":""},{"$f":"IF(登録データ貼付!K104=\"\",\"\",LEFT(登録データ貼付!K104,1))","v":""},{"$f":"IF(登録データ貼付!S104=\"\",\"\",登録データ貼付!S104)","v":""},null,null,101,"平鹿",100,null,800,"横手市立平鹿",null,"横手市立平鹿中学校"]
[{"$f":"IF(登録データ貼付!E105=\"\",\"\",登録データ貼付!E105)","v":""},{"$f":"IF(登録データ貼付!B105=\"\",\"\",登録データ貼付!B105)","v":""},{"$f":"IF(登録データ貼付!C105=\"\",\"\",CONCATENATE(登録データ貼付!C105,\"　\",登録データ貼付!D105))","v":""},"","","","",{"$f":"IF(登録データ貼付!V105=\"\",\"\",RIGHT(登録データ貼付!V105,1))","v":""},null,{"$f":"IF(登録データ貼付!F105=\"\",\"\",CONCATENATE(登録データ貼付!F105,\"　\",登録データ貼付!G105))","v":""},{"$f":"IF(登録データ貼付!H105=\"\",\"\",CONCATENATE(登録データ貼付!H105,\" \",登録データ貼付!I105))","v":""},{"$f":"IF(登録データ貼付!K105=\"\",\"\",LEFT(登録データ貼付!K105,1))","v":""},{"$f":"IF(登録データ貼付!S105=\"\",\"\",登録データ貼付!S105)","v":""},null,null,102,"横手明峰",101,null,801,"横手市立横手明峰",null,"横手市立横手明峰中学校"]
[{"$f":"IF(登録データ貼付!E106=\"\",\"\",登録データ貼付!E106)","v":""},{"$f":"IF(登録データ貼付!B106=\"\",\"\",登録データ貼付!B106)","v":""},{"$f":"IF(登録データ貼付!C106=\"\",\"\",CONCATENATE(登録データ貼付!C106,\"　\",登録データ貼付!D106))","v":""},"","","","",{"$f":"IF(登録データ貼付!V106=\"\",\"\",RIGHT(登録データ貼付!V106,1))","v":""},null,{"$f":"IF(登録データ貼付!F106=\"\",\"\",CONCATENATE(登録データ貼付!F106,\"　\",登録データ貼付!G106))","v":""},{"$f":"IF(登録データ貼付!H106=\"\",\"\",CONCATENATE(登録データ貼付!H106,\" \",登録データ貼付!I106))","v":""},{"$f":"IF(登録データ貼付!K106=\"\",\"\",LEFT(登録データ貼付!K106,1))","v":""},{"$f":"IF(登録データ貼付!S106=\"\",\"\",登録データ貼付!S106)","v":""},null,null,103,"十文字",102,null,802,"横手市立十文字",null,"横手市立十文字中学校"]
[{"$f":"IF(登録データ貼付!E107=\"\",\"\",登録データ貼付!E107)","v":""},{"$f":"IF(登録データ貼付!B107=\"\",\"\",登録データ貼付!B107)","v":""},{"$f":"IF(登録データ貼付!C107=\"\",\"\",CONCATENATE(登録データ貼付!C107,\"　\",登録データ貼付!D107))","v":""},"","","","",{"$f":"IF(登録データ貼付!V107=\"\",\"\",RIGHT(登録データ貼付!V107,1))","v":""},null,{"$f":"IF(登録データ貼付!F107=\"\",\"\",CONCATENATE(登録データ貼付!F107,\"　\",登録データ貼付!G107))","v":""},{"$f":"IF(登録データ貼付!H107=\"\",\"\",CONCATENATE(登録データ貼付!H107,\" \",登録データ貼付!I107))","v":""},{"$f":"IF(登録データ貼付!K107=\"\",\"\",LEFT(登録データ貼付!K107,1))","v":""},{"$f":"IF(登録データ貼付!S107=\"\",\"\",登録データ貼付!S107)","v":""},null,null,104,"湯沢北",103,null,803,"湯沢市立湯沢北",null,"湯沢市立湯沢北中学校"]
[{"$f":"IF(登録データ貼付!E108=\"\",\"\",登録データ貼付!E108)","v":""},{"$f":"IF(登録データ貼付!B108=\"\",\"\",登録データ貼付!B108)","v":""},{"$f":"IF(登録データ貼付!C108=\"\",\"\",CONCATENATE(登録データ貼付!C108,\"　\",登録データ貼付!D108))","v":""},"","","","",{"$f":"IF(登録データ貼付!V108=\"\",\"\",RIGHT(登録データ貼付!V108,1))","v":""},null,{"$f":"IF(登録データ貼付!F108=\"\",\"\",CONCATENATE(登録データ貼付!F108,\"　\",登録データ貼付!G108))","v":""},{"$f":"IF(登録データ貼付!H108=\"\",\"\",CONCATENATE(登録データ貼付!H108,\" \",登録データ貼付!I108))","v":""},{"$f":"IF(登録データ貼付!K108=\"\",\"\",LEFT(登録データ貼付!K108,1))","v":""},{"$f":"IF(登録データ貼付!S108=\"\",\"\",登録データ貼付!S108)","v":""},null,null,105,"山田",104,null,804,"湯沢市立山田",null,"湯沢市立山田中学校"]
[{"$f":"IF(登録データ貼付!E109=\"\",\"\",登録データ貼付!E109)","v":""},{"$f":"IF(登録データ貼付!B109=\"\",\"\",登録データ貼付!B109)","v":""},{"$f":"IF(登録データ貼付!C109=\"\",\"\",CONCATENATE(登録データ貼付!C109,\"　\",登録データ貼付!D109))","v":""},"","","","",{"$f":"IF(登録データ貼付!V109=\"\",\"\",RIGHT(登録データ貼付!V109,1))","v":""},null,{"$f":"IF(登録データ貼付!F109=\"\",\"\",CONCATENATE(登録データ貼付!F109,\"　\",登録データ貼付!G109))","v":""},{"$f":"IF(登録データ貼付!H109=\"\",\"\",CONCATENATE(登録データ貼付!H109,\" \",登録データ貼付!I109))","v":""},{"$f":"IF(登録データ貼付!K109=\"\",\"\",LEFT(登録データ貼付!K109,1))","v":""},{"$f":"IF(登録データ貼付!S109=\"\",\"\",登録データ貼付!S109)","v":""},null,null,106,"湯沢南",105,null,805,"湯沢市立湯沢南",null,"湯沢市立湯沢南中学校"]
[{"$f":"IF(登録データ貼付!E110=\"\",\"\",登録データ貼付!E110)","v":""},{"$f":"IF(登録データ貼付!B110=\"\",\"\",登録データ貼付!B110)","v":""},{"$f":"IF(登録データ貼付!C110=\"\",\"\",CONCATENATE(登録データ貼付!C110,\"　\",登録データ貼付!D110))","v":""},"","","","",{"$f":"IF(登録データ貼付!V110=\"\",\"\",RIGHT(登録データ貼付!V110,1))","v":""},null,{"$f":"IF(登録データ貼付!F110=\"\",\"\",CONCATENATE(登録データ貼付!F110,\"　\",登録データ貼付!G110))","v":""},{"$f":"IF(登録データ貼付!H110=\"\",\"\",CONCATENATE(登録データ貼付!H110,\" \",登録データ貼付!I110))","v":""},{"$f":"IF(登録データ貼付!K110=\"\",\"\",LEFT(登録データ貼付!K110,1))","v":""},{"$f":"IF(登録データ貼付!S110=\"\",\"\",登録データ貼付!S110)","v":""},null,null,107,"稲川",106,null,806,"湯沢市立稲川",null,"湯沢市立稲川中学校"]
[{"$f":"IF(登録データ貼付!E111=\"\",\"\",登録データ貼付!E111)","v":""},{"$f":"IF(登録データ貼付!B111=\"\",\"\",登録データ貼付!B111)","v":""},{"$f":"IF(登録データ貼付!C111=\"\",\"\",CONCATENATE(登録データ貼付!C111,\"　\",登録データ貼付!D111))","v":""},"","","","",{"$f":"IF(登録データ貼付!V111=\"\",\"\",RIGHT(登録データ貼付!V111,1))","v":""},null,{"$f":"IF(登録データ貼付!F111=\"\",\"\",CONCATENATE(登録データ貼付!F111,\"　\",登録データ貼付!G111))","v":""},{"$f":"IF(登録データ貼付!H111=\"\",\"\",CONCATENATE(登録データ貼付!H111,\" \",登録データ貼付!I111))","v":""},{"$f":"IF(登録データ貼付!K111=\"\",\"\",LEFT(登録データ貼付!K111,1))","v":""},{"$f":"IF(登録データ貼付!S111=\"\",\"\",登録データ貼付!S111)","v":""},null,null,108,"雄勝",107,null,807,"湯沢市立雄勝",null,{"$f":"CONCATENATE(U115,$V$9)","v":"湯沢市立雄勝中学校"}]
[{"$f":"IF(登録データ貼付!E112=\"\",\"\",登録データ貼付!E112)","v":""},{"$f":"IF(登録データ貼付!B112=\"\",\"\",登録データ貼付!B112)","v":""},{"$f":"IF(登録データ貼付!C112=\"\",\"\",CONCATENATE(登録データ貼付!C112,\"　\",登録データ貼付!D112))","v":""},"","","","",{"$f":"IF(登録データ貼付!V112=\"\",\"\",RIGHT(登録データ貼付!V112,1))","v":""},null,{"$f":"IF(登録データ貼付!F112=\"\",\"\",CONCATENATE(登録データ貼付!F112,\"　\",登録データ貼付!G112))","v":""},{"$f":"IF(登録データ貼付!H112=\"\",\"\",CONCATENATE(登録データ貼付!H112,\" \",登録データ貼付!I112))","v":""},{"$f":"IF(登録データ貼付!K112=\"\",\"\",LEFT(登録データ貼付!K112,1))","v":""},{"$f":"IF(登録データ貼付!S112=\"\",\"\",登録データ貼付!S112)","v":""},null,null,109,"皆瀬",108,null,808,"湯沢市立皆瀬",null,"湯沢市立皆瀬中学校"]
[{"$f":"IF(登録データ貼付!E113=\"\",\"\",登録データ貼付!E113)","v":""},{"$f":"IF(登録データ貼付!B113=\"\",\"\",登録データ貼付!B113)","v":""},{"$f":"IF(登録データ貼付!C113=\"\",\"\",CONCATENATE(登録データ貼付!C113,\"　\",登録データ貼付!D113))","v":""},"","","","",{"$f":"IF(登録データ貼付!V113=\"\",\"\",RIGHT(登録データ貼付!V113,1))","v":""},null,{"$f":"IF(登録データ貼付!F113=\"\",\"\",CONCATENATE(登録データ貼付!F113,\"　\",登録データ貼付!G113))","v":""},{"$f":"IF(登録データ貼付!H113=\"\",\"\",CONCATENATE(登録データ貼付!H113,\" \",登録データ貼付!I113))","v":""},{"$f":"IF(登録データ貼付!K113=\"\",\"\",LEFT(登録データ貼付!K113,1))","v":""},{"$f":"IF(登録データ貼付!S113=\"\",\"\",登録データ貼付!S113)","v":""},null,null,110,"羽後",109,null,809,"羽後町立羽後",null,"羽後町立羽後中学校"]
[{"$f":"IF(登録データ貼付!E114=\"\",\"\",登録データ貼付!E114)","v":""},{"$f":"IF(登録データ貼付!B114=\"\",\"\",登録データ貼付!B114)","v":""},{"$f":"IF(登録データ貼付!C114=\"\",\"\",CONCATENATE(登録データ貼付!C114,\"　\",登録データ貼付!D114))","v":""},"","","","",{"$f":"IF(登録データ貼付!V114=\"\",\"\",RIGHT(登録データ貼付!V114,1))","v":""},null,{"$f":"IF(登録データ貼付!F114=\"\",\"\",CONCATENATE(登録データ貼付!F114,\"　\",登録データ貼付!G114))","v":""},{"$f":"IF(登録データ貼付!H114=\"\",\"\",CONCATENATE(登録データ貼付!H114,\" \",登録データ貼付!I114))","v":""},{"$f":"IF(登録データ貼付!K114=\"\",\"\",LEFT(登録データ貼付!K114,1))","v":""},{"$f":"IF(登録データ貼付!S114=\"\",\"\",登録データ貼付!S114)","v":""},null,null,111,"東成瀬",110,null,810,"東成瀬村立東成瀬",null,"東成瀬村立東成瀬中学校"]
[{"$f":"IF(登録データ貼付!E115=\"\",\"\",登録データ貼付!E115)","v":""},{"$f":"IF(登録データ貼付!B115=\"\",\"\",登録データ貼付!B115)","v":""},{"$f":"IF(登録データ貼付!C115=\"\",\"\",CONCATENATE(登録データ貼付!C115,\"　\",登録データ貼付!D115))","v":""},"","","","",{"$f":"IF(登録データ貼付!V115=\"\",\"\",RIGHT(登録データ貼付!V115,1))","v":""},null,{"$f":"IF(登録データ貼付!F115=\"\",\"\",CONCATENATE(登録データ貼付!F115,\"　\",登録データ貼付!G115))","v":""},{"$f":"IF(登録データ貼付!H115=\"\",\"\",CONCATENATE(登録データ貼付!H115,\" \",登録データ貼付!I115))","v":""},{"$f":"IF(登録データ貼付!K115=\"\",\"\",LEFT(登録データ貼付!K115,1))","v":""},{"$f":"IF(登録データ貼付!S115=\"\",\"\",登録データ貼付!S115)","v":""},null,null,112,"井川義務教育",111,null,811,"井川町立井川義務教育",null,"井川町立井川義務教育学校"]
[{"$f":"IF(登録データ貼付!E116=\"\",\"\",登録データ貼付!E116)","v":""},{"$f":"IF(登録データ貼付!B116=\"\",\"\",登録データ貼付!B116)","v":""},{"$f":"IF(登録データ貼付!C116=\"\",\"\",CONCATENATE(登録データ貼付!C116,\"　\",登録データ貼付!D116))","v":""},"","","","",{"$f":"IF(登録データ貼付!V116=\"\",\"\",RIGHT(登録データ貼付!V116,1))","v":""},null,{"$f":"IF(登録データ貼付!F116=\"\",\"\",CONCATENATE(登録データ貼付!F116,\"　\",登録データ貼付!G116))","v":""},{"$f":"IF(登録データ貼付!H116=\"\",\"\",CONCATENATE(登録データ貼付!H116,\" \",登録データ貼付!I116))","v":""},{"$f":"IF(登録データ貼付!K116=\"\",\"\",LEFT(登録データ貼付!K116,1))","v":""},{"$f":"IF(登録データ貼付!S116=\"\",\"\",登録データ貼付!S116)","v":""},null,null,113,"聴覚支援",112,null,812,"聴覚支援",null,"秋田県立聴覚支援学校"]
[{"$f":"IF(登録データ貼付!E117=\"\",\"\",登録データ貼付!E117)","v":""},{"$f":"IF(登録データ貼付!B117=\"\",\"\",登録データ貼付!B117)","v":""},{"$f":"IF(登録データ貼付!C117=\"\",\"\",CONCATENATE(登録データ貼付!C117,\"　\",登録データ貼付!D117))","v":""},"","","","",{"$f":"IF(登録データ貼付!V117=\"\",\"\",RIGHT(登録データ貼付!V117,1))","v":""},null,{"$f":"IF(登録データ貼付!F117=\"\",\"\",CONCATENATE(登録データ貼付!F117,\"　\",登録データ貼付!G117))","v":""},{"$f":"IF(登録データ貼付!H117=\"\",\"\",CONCATENATE(登録データ貼付!H117,\" \",登録データ貼付!I117))","v":""},{"$f":"IF(登録データ貼付!K117=\"\",\"\",LEFT(登録データ貼付!K117,1))","v":""},{"$f":"IF(登録データ貼付!S117=\"\",\"\",登録データ貼付!S117)","v":""},null,null,114,"大館ジュニアアスリート",113,null,813,"大館ジュニアアスリート",null,"大館ジュニアアスリート"]
[{"$f":"IF(登録データ貼付!E118=\"\",\"\",登録データ貼付!E118)","v":""},{"$f":"IF(登録データ貼付!B118=\"\",\"\",登録データ貼付!B118)","v":""},{"$f":"IF(登録データ貼付!C118=\"\",\"\",CONCATENATE(登録データ貼付!C118,\"　\",登録データ貼付!D118))","v":""},"","","","",{"$f":"IF(登録データ貼付!V118=\"\",\"\",RIGHT(登録データ貼付!V118,1))","v":""},null,{"$f":"IF(登録データ貼付!F118=\"\",\"\",CONCATENATE(登録データ貼付!F118,\"　\",登録データ貼付!G118))","v":""},{"$f":"IF(登録データ貼付!H118=\"\",\"\",CONCATENATE(登録データ貼付!H118,\" \",登録データ貼付!I118))","v":""},{"$f":"IF(登録データ貼付!K118=\"\",\"\",LEFT(登録データ貼付!K118,1))","v":""},{"$f":"IF(登録データ貼付!S118=\"\",\"\",登録データ貼付!S118)","v":""},null,null,115,"NAC",114,null,814,"NAC",null,"NAC"]
[{"$f":"IF(登録データ貼付!E119=\"\",\"\",登録データ貼付!E119)","v":""},{"$f":"IF(登録データ貼付!B119=\"\",\"\",登録データ貼付!B119)","v":""},{"$f":"IF(登録データ貼付!C119=\"\",\"\",CONCATENATE(登録データ貼付!C119,\"　\",登録データ貼付!D119))","v":""},"","","","",{"$f":"IF(登録データ貼付!V119=\"\",\"\",RIGHT(登録データ貼付!V119,1))","v":""},null,{"$f":"IF(登録データ貼付!F119=\"\",\"\",CONCATENATE(登録データ貼付!F119,\"　\",登録データ貼付!G119))","v":""},{"$f":"IF(登録データ貼付!H119=\"\",\"\",CONCATENATE(登録データ貼付!H119,\" \",登録データ貼付!I119))","v":""},{"$f":"IF(登録データ貼付!K119=\"\",\"\",LEFT(登録データ貼付!K119,1))","v":""},{"$f":"IF(登録データ貼付!S119=\"\",\"\",登録データ貼付!S119)","v":""}]
[{"$f":"IF(登録データ貼付!E120=\"\",\"\",登録データ貼付!E120)","v":""},{"$f":"IF(登録データ貼付!B120=\"\",\"\",登録データ貼付!B120)","v":""},{"$f":"IF(登録データ貼付!C120=\"\",\"\",CONCATENATE(登録データ貼付!C120,\"　\",登録データ貼付!D120))","v":""},"","","","",{"$f":"IF(登録データ貼付!V120=\"\",\"\",RIGHT(登録データ貼付!V120,1))","v":""},null,{"$f":"IF(登録データ貼付!F120=\"\",\"\",CONCATENATE(登録データ貼付!F120,\"　\",登録データ貼付!G120))","v":""},{"$f":"IF(登録データ貼付!H120=\"\",\"\",CONCATENATE(登録データ貼付!H120,\" \",登録データ貼付!I120))","v":""},{"$f":"IF(登録データ貼付!K120=\"\",\"\",LEFT(登録データ貼付!K120,1))","v":""},{"$f":"IF(登録データ貼付!S120=\"\",\"\",登録データ貼付!S120)","v":""}]
[{"$f":"IF(登録データ貼付!E121=\"\",\"\",登録データ貼付!E121)","v":""},{"$f":"IF(登録データ貼付!B121=\"\",\"\",登録データ貼付!B121)","v":""},{"$f":"IF(登録データ貼付!C121=\"\",\"\",CONCATENATE(登録データ貼付!C121,\"　\",登録データ貼付!D121))","v":""},"","","","",{"$f":"IF(登録データ貼付!V121=\"\",\"\",RIGHT(登録データ貼付!V121,1))","v":""},null,{"$f":"IF(登録データ貼付!F121=\"\",\"\",CONCATENATE(登録データ貼付!F121,\"　\",登録データ貼付!G121))","v":""},{"$f":"IF(登録データ貼付!H121=\"\",\"\",CONCATENATE(登録データ貼付!H121,\" \",登録データ貼付!I121))","v":""},{"$f":"IF(登録データ貼付!K121=\"\",\"\",LEFT(登録データ貼付!K121,1))","v":""},{"$f":"IF(登録データ貼付!S121=\"\",\"\",登録データ貼付!S121)","v":""}]
[{"$f":"IF(登録データ貼付!E122=\"\",\"\",登録データ貼付!E122)","v":""},{"$f":"IF(登録データ貼付!B122=\"\",\"\",登録データ貼付!B122)","v":""},{"$f":"IF(登録データ貼付!C122=\"\",\"\",CONCATENATE(登録データ貼付!C122,\"　\",登録データ貼付!D122))","v":""},"","","","",{"$f":"IF(登録データ貼付!V122=\"\",\"\",RIGHT(登録データ貼付!V122,1))","v":""},null,{"$f":"IF(登録データ貼付!F122=\"\",\"\",CONCATENATE(登録データ貼付!F122,\"　\",登録データ貼付!G122))","v":""},{"$f":"IF(登録データ貼付!H122=\"\",\"\",CONCATENATE(登録データ貼付!H122,\" \",登録データ貼付!I122))","v":""},{"$f":"IF(登録データ貼付!K122=\"\",\"\",LEFT(登録データ貼付!K122,1))","v":""},{"$f":"IF(登録データ貼付!S122=\"\",\"\",登録データ貼付!S122)","v":""}]
[{"$f":"IF(登録データ貼付!E123=\"\",\"\",登録データ貼付!E123)","v":""},{"$f":"IF(登録データ貼付!B123=\"\",\"\",登録データ貼付!B123)","v":""},{"$f":"IF(登録データ貼付!C123=\"\",\"\",CONCATENATE(登録データ貼付!C123,\"　\",登録データ貼付!D123))","v":""},"","","","",{"$f":"IF(登録データ貼付!V123=\"\",\"\",RIGHT(登録データ貼付!V123,1))","v":""},null,{"$f":"IF(登録データ貼付!F123=\"\",\"\",CONCATENATE(登録データ貼付!F123,\"　\",登録データ貼付!G123))","v":""},{"$f":"IF(登録データ貼付!H123=\"\",\"\",CONCATENATE(登録データ貼付!H123,\" \",登録データ貼付!I123))","v":""},{"$f":"IF(登録データ貼付!K123=\"\",\"\",LEFT(登録データ貼付!K123,1))","v":""},{"$f":"IF(登録データ貼付!S123=\"\",\"\",登録データ貼付!S123)","v":""}]
[{"$f":"IF(登録データ貼付!E124=\"\",\"\",登録データ貼付!E124)","v":""},{"$f":"IF(登録データ貼付!B124=\"\",\"\",登録データ貼付!B124)","v":""},{"$f":"IF(登録データ貼付!C124=\"\",\"\",CONCATENATE(登録データ貼付!C124,\"　\",登録データ貼付!D124))","v":""},"","","","",{"$f":"IF(登録データ貼付!V124=\"\",\"\",RIGHT(登録データ貼付!V124,1))","v":""},null,{"$f":"IF(登録データ貼付!F124=\"\",\"\",CONCATENATE(登録データ貼付!F124,\"　\",登録データ貼付!G124))","v":""},{"$f":"IF(登録データ貼付!H124=\"\",\"\",CONCATENATE(登録データ貼付!H124,\" \",登録データ貼付!I124))","v":""},{"$f":"IF(登録データ貼付!K124=\"\",\"\",LEFT(登録データ貼付!K124,1))","v":""},{"$f":"IF(登録データ貼付!S124=\"\",\"\",登録データ貼付!S124)","v":""}]
[{"$f":"IF(登録データ貼付!E125=\"\",\"\",登録データ貼付!E125)","v":""},{"$f":"IF(登録データ貼付!B125=\"\",\"\",登録データ貼付!B125)","v":""},{"$f":"IF(登録データ貼付!C125=\"\",\"\",CONCATENATE(登録データ貼付!C125,\"　\",登録データ貼付!D125))","v":""},"","","","",{"$f":"IF(登録データ貼付!V125=\"\",\"\",RIGHT(登録データ貼付!V125,1))","v":""},null,{"$f":"IF(登録データ貼付!F125=\"\",\"\",CONCATENATE(登録データ貼付!F125,\"　\",登録データ貼付!G125))","v":""},{"$f":"IF(登録データ貼付!H125=\"\",\"\",CONCATENATE(登録データ貼付!H125,\" \",登録データ貼付!I125))","v":""},{"$f":"IF(登録データ貼付!K125=\"\",\"\",LEFT(登録データ貼付!K125,1))","v":""},{"$f":"IF(登録データ貼付!S125=\"\",\"\",登録データ貼付!S125)","v":""}]
[{"$f":"IF(登録データ貼付!E126=\"\",\"\",登録データ貼付!E126)","v":""},{"$f":"IF(登録データ貼付!B126=\"\",\"\",登録データ貼付!B126)","v":""},{"$f":"IF(登録データ貼付!C126=\"\",\"\",CONCATENATE(登録データ貼付!C126,\"　\",登録データ貼付!D126))","v":""},"","","","",{"$f":"IF(登録データ貼付!V126=\"\",\"\",RIGHT(登録データ貼付!V126,1))","v":""},null,{"$f":"IF(登録データ貼付!F126=\"\",\"\",CONCATENATE(登録データ貼付!F126,\"　\",登録データ貼付!G126))","v":""},{"$f":"IF(登録データ貼付!H126=\"\",\"\",CONCATENATE(登録データ貼付!H126,\" \",登録データ貼付!I126))","v":""},{"$f":"IF(登録データ貼付!K126=\"\",\"\",LEFT(登録データ貼付!K126,1))","v":""},{"$f":"IF(登録データ貼付!S126=\"\",\"\",登録データ貼付!S126)","v":""}]
[{"$f":"IF(登録データ貼付!E127=\"\",\"\",登録データ貼付!E127)","v":""},{"$f":"IF(登録データ貼付!B127=\"\",\"\",登録データ貼付!B127)","v":""},{"$f":"IF(登録データ貼付!C127=\"\",\"\",CONCATENATE(登録データ貼付!C127,\"　\",登録データ貼付!D127))","v":""},"","","","",{"$f":"IF(登録データ貼付!V127=\"\",\"\",RIGHT(登録データ貼付!V127,1))","v":""},null,{"$f":"IF(登録データ貼付!F127=\"\",\"\",CONCATENATE(登録データ貼付!F127,\"　\",登録データ貼付!G127))","v":""},{"$f":"IF(登録データ貼付!H127=\"\",\"\",CONCATENATE(登録データ貼付!H127,\" \",登録データ貼付!I127))","v":""},{"$f":"IF(登録データ貼付!K127=\"\",\"\",LEFT(登録データ貼付!K127,1))","v":""},{"$f":"IF(登録データ貼付!S127=\"\",\"\",登録データ貼付!S127)","v":""}]
[{"$f":"IF(登録データ貼付!E128=\"\",\"\",登録データ貼付!E128)","v":""},{"$f":"IF(登録データ貼付!B128=\"\",\"\",登録データ貼付!B128)","v":""},{"$f":"IF(登録データ貼付!C128=\"\",\"\",CONCATENATE(登録データ貼付!C128,\"　\",登録データ貼付!D128))","v":""},"","","","",{"$f":"IF(登録データ貼付!V128=\"\",\"\",RIGHT(登録データ貼付!V128,1))","v":""},null,{"$f":"IF(登録データ貼付!F128=\"\",\"\",CONCATENATE(登録データ貼付!F128,\"　\",登録データ貼付!G128))","v":""},{"$f":"IF(登録データ貼付!H128=\"\",\"\",CONCATENATE(登録データ貼付!H128,\" \",登録データ貼付!I128))","v":""},{"$f":"IF(登録データ貼付!K128=\"\",\"\",LEFT(登録データ貼付!K128,1))","v":""},{"$f":"IF(登録データ貼付!S128=\"\",\"\",登録データ貼付!S128)","v":""}]
[{"$f":"IF(登録データ貼付!E129=\"\",\"\",登録データ貼付!E129)","v":""},{"$f":"IF(登録データ貼付!B129=\"\",\"\",登録データ貼付!B129)","v":""},{"$f":"IF(登録データ貼付!C129=\"\",\"\",CONCATENATE(登録データ貼付!C129,\"　\",登録データ貼付!D129))","v":""},"","","","",{"$f":"IF(登録データ貼付!V129=\"\",\"\",RIGHT(登録データ貼付!V129,1))","v":""},null,{"$f":"IF(登録データ貼付!F129=\"\",\"\",CONCATENATE(登録データ貼付!F129,\"　\",登録データ貼付!G129))","v":""},{"$f":"IF(登録データ貼付!H129=\"\",\"\",CONCATENATE(登録データ貼付!H129,\" \",登録データ貼付!I129))","v":""},{"$f":"IF(登録データ貼付!K129=\"\",\"\",LEFT(登録データ貼付!K129,1))","v":""},{"$f":"IF(登録データ貼付!S129=\"\",\"\",登録データ貼付!S129)","v":""}]
[{"$f":"IF(登録データ貼付!E130=\"\",\"\",登録データ貼付!E130)","v":""},{"$f":"IF(登録データ貼付!B130=\"\",\"\",登録データ貼付!B130)","v":""},{"$f":"IF(登録データ貼付!C130=\"\",\"\",CONCATENATE(登録データ貼付!C130,\"　\",登録データ貼付!D130))","v":""},"","","","",{"$f":"IF(登録データ貼付!V130=\"\",\"\",RIGHT(登録データ貼付!V130,1))","v":""},null,{"$f":"IF(登録データ貼付!F130=\"\",\"\",CONCATENATE(登録データ貼付!F130,\"　\",登録データ貼付!G130))","v":""},{"$f":"IF(登録データ貼付!H130=\"\",\"\",CONCATENATE(登録データ貼付!H130,\" \",登録データ貼付!I130))","v":""},{"$f":"IF(登録データ貼付!K130=\"\",\"\",LEFT(登録データ貼付!K130,1))","v":""},{"$f":"IF(登録データ貼付!S130=\"\",\"\",登録データ貼付!S130)","v":""}]
[{"$f":"IF(登録データ貼付!E131=\"\",\"\",登録データ貼付!E131)","v":""},{"$f":"IF(登録データ貼付!B131=\"\",\"\",登録データ貼付!B131)","v":""},{"$f":"IF(登録データ貼付!C131=\"\",\"\",CONCATENATE(登録データ貼付!C131,\"　\",登録データ貼付!D131))","v":""},{"$f":"IF(J135=\"\",\"\",ASC(J135))","v":""},{"$f":"IF(K135=\"\",\"\",ASC(K135))","v":""},{"$f":"IF(L135=\"\",\"\",L135)","v":""},{"$f":"IF(M135=\"\",\"\",M135)","v":""},{"$f":"IF(登録データ貼付!V131=\"\",\"\",RIGHT(登録データ貼付!V131,1))","v":""},null,{"$f":"IF(登録データ貼付!F131=\"\",\"\",CONCATENATE(登録データ貼付!F131,\"　\",登録データ貼付!G131))","v":""},{"$f":"IF(登録データ貼付!H131=\"\",\"\",CONCATENATE(登録データ貼付!H131,\" \",登録データ貼付!I131))","v":""},{"$f":"IF(登録データ貼付!K131=\"\",\"\",LEFT(登録データ貼付!K131,1))","v":""},{"$f":"IF(登録データ貼付!S131=\"\",\"\",登録データ貼付!S131)","v":""}]
[{"$f":"IF(登録データ貼付!E132=\"\",\"\",登録データ貼付!E132)","v":""},{"$f":"IF(登録データ貼付!B132=\"\",\"\",登録データ貼付!B132)","v":""},{"$f":"IF(登録データ貼付!C132=\"\",\"\",CONCATENATE(登録データ貼付!C132,\"　\",登録データ貼付!D132))","v":""},"","","","",{"$f":"IF(登録データ貼付!V132=\"\",\"\",RIGHT(登録データ貼付!V132,1))","v":""},null,{"$f":"IF(登録データ貼付!F132=\"\",\"\",CONCATENATE(登録データ貼付!F132,\"　\",登録データ貼付!G132))","v":""},{"$f":"IF(登録データ貼付!H132=\"\",\"\",CONCATENATE(登録データ貼付!H132,\" \",登録データ貼付!I132))","v":""},{"$f":"IF(登録データ貼付!K132=\"\",\"\",LEFT(登録データ貼付!K132,1))","v":""},{"$f":"IF(登録データ貼付!S132=\"\",\"\",登録データ貼付!S132)","v":""}]
[{"$f":"IF(登録データ貼付!E133=\"\",\"\",登録データ貼付!E133)","v":""},{"$f":"IF(登録データ貼付!B133=\"\",\"\",登録データ貼付!B133)","v":""},{"$f":"IF(登録データ貼付!C133=\"\",\"\",CONCATENATE(登録データ貼付!C133,\"　\",登録データ貼付!D133))","v":""},"","","","",{"$f":"IF(登録データ貼付!V133=\"\",\"\",RIGHT(登録データ貼付!V133,1))","v":""},null,{"$f":"IF(登録データ貼付!F133=\"\",\"\",CONCATENATE(登録データ貼付!F133,\"　\",登録データ貼付!G133))","v":""},{"$f":"IF(登録データ貼付!H133=\"\",\"\",CONCATENATE(登録データ貼付!H133,\" \",登録データ貼付!I133))","v":""},{"$f":"IF(登録データ貼付!K133=\"\",\"\",LEFT(登録データ貼付!K133,1))","v":""},{"$f":"IF(登録データ貼付!S133=\"\",\"\",登録データ貼付!S133)","v":""}]
[{"$f":"IF(登録データ貼付!E134=\"\",\"\",登録データ貼付!E134)","v":""},{"$f":"IF(登録データ貼付!B134=\"\",\"\",登録データ貼付!B134)","v":""},{"$f":"IF(登録データ貼付!C134=\"\",\"\",CONCATENATE(登録データ貼付!C134,\"　\",登録データ貼付!D134))","v":""},"","","","",{"$f":"IF(登録データ貼付!V134=\"\",\"\",RIGHT(登録データ貼付!V134,1))","v":""},null,{"$f":"IF(登録データ貼付!F134=\"\",\"\",CONCATENATE(登録データ貼付!F134,\"　\",登録データ貼付!G134))","v":""},{"$f":"IF(登録データ貼付!H134=\"\",\"\",CONCATENATE(登録データ貼付!H134,\" \",登録データ貼付!I134))","v":""},{"$f":"IF(登録データ貼付!K134=\"\",\"\",LEFT(登録データ貼付!K134,1))","v":""},{"$f":"IF(登録データ貼付!S134=\"\",\"\",登録データ貼付!S134)","v":""}]
[{"$f":"IF(登録データ貼付!E135=\"\",\"\",登録データ貼付!E135)","v":""},{"$f":"IF(登録データ貼付!B135=\"\",\"\",登録データ貼付!B135)","v":""},{"$f":"IF(登録データ貼付!C135=\"\",\"\",CONCATENATE(登録データ貼付!C135,\"　\",登録データ貼付!D135))","v":""},"","","","",{"$f":"IF(登録データ貼付!V135=\"\",\"\",RIGHT(登録データ貼付!V135,1))","v":""},null,{"$f":"IF(登録データ貼付!F135=\"\",\"\",CONCATENATE(登録データ貼付!F135,\"　\",登録データ貼付!G135))","v":""},{"$f":"IF(登録データ貼付!H135=\"\",\"\",CONCATENATE(登録データ貼付!H135,\" \",登録データ貼付!I135))","v":""},{"$f":"IF(登録データ貼付!K135=\"\",\"\",LEFT(登録データ貼付!K135,1))","v":""},{"$f":"IF(登録データ貼付!S135=\"\",\"\",登録データ貼付!S135)","v":""}]
[{"$f":"IF(登録データ貼付!E136=\"\",\"\",登録データ貼付!E136)","v":""},{"$f":"IF(登録データ貼付!B136=\"\",\"\",登録データ貼付!B136)","v":""},{"$f":"IF(登録データ貼付!C136=\"\",\"\",CONCATENATE(登録データ貼付!C136,\"　\",登録データ貼付!D136))","v":""},"","","","",{"$f":"IF(登録データ貼付!V136=\"\",\"\",RIGHT(登録データ貼付!V136,1))","v":""},null,{"$f":"IF(登録データ貼付!F136=\"\",\"\",CONCATENATE(登録データ貼付!F136,\"　\",登録データ貼付!G136))","v":""},{"$f":"IF(登録データ貼付!H136=\"\",\"\",CONCATENATE(登録データ貼付!H136,\" \",登録データ貼付!I136))","v":""},{"$f":"IF(登録データ貼付!K136=\"\",\"\",LEFT(登録データ貼付!K136,1))","v":""},{"$f":"IF(登録データ貼付!S136=\"\",\"\",登録データ貼付!S136)","v":""}]
[{"$f":"IF(登録データ貼付!E137=\"\",\"\",登録データ貼付!E137)","v":""},{"$f":"IF(登録データ貼付!B137=\"\",\"\",登録データ貼付!B137)","v":""},{"$f":"IF(登録データ貼付!C137=\"\",\"\",CONCATENATE(登録データ貼付!C137,\"　\",登録データ貼付!D137))","v":""},"","","","",{"$f":"IF(登録データ貼付!V137=\"\",\"\",RIGHT(登録データ貼付!V137,1))","v":""},null,{"$f":"IF(登録データ貼付!F137=\"\",\"\",CONCATENATE(登録データ貼付!F137,\"　\",登録データ貼付!G137))","v":""},{"$f":"IF(登録データ貼付!H137=\"\",\"\",CONCATENATE(登録データ貼付!H137,\" \",登録データ貼付!I137))","v":""},{"$f":"IF(登録データ貼付!K137=\"\",\"\",LEFT(登録データ貼付!K137,1))","v":""},{"$f":"IF(登録データ貼付!S137=\"\",\"\",登録データ貼付!S137)","v":""}]
[{"$f":"IF(登録データ貼付!E138=\"\",\"\",登録データ貼付!E138)","v":""},{"$f":"IF(登録データ貼付!B138=\"\",\"\",登録データ貼付!B138)","v":""},{"$f":"IF(登録データ貼付!C138=\"\",\"\",CONCATENATE(登録データ貼付!C138,\"　\",登録データ貼付!D138))","v":""},"","","","",{"$f":"IF(登録データ貼付!V138=\"\",\"\",RIGHT(登録データ貼付!V138,1))","v":""},null,{"$f":"IF(登録データ貼付!F138=\"\",\"\",CONCATENATE(登録データ貼付!F138,\"　\",登録データ貼付!G138))","v":""},{"$f":"IF(登録データ貼付!H138=\"\",\"\",CONCATENATE(登録データ貼付!H138,\" \",登録データ貼付!I138))","v":""},{"$f":"IF(登録データ貼付!K138=\"\",\"\",LEFT(登録データ貼付!K138,1))","v":""},{"$f":"IF(登録データ貼付!S138=\"\",\"\",登録データ貼付!S138)","v":""}]
[{"$f":"IF(登録データ貼付!E139=\"\",\"\",登録データ貼付!E139)","v":""},{"$f":"IF(登録データ貼付!B139=\"\",\"\",登録データ貼付!B139)","v":""},{"$f":"IF(登録データ貼付!C139=\"\",\"\",CONCATENATE(登録データ貼付!C139,\"　\",登録データ貼付!D139))","v":""},"","","","",{"$f":"IF(登録データ貼付!V139=\"\",\"\",RIGHT(登録データ貼付!V139,1))","v":""},null,{"$f":"IF(登録データ貼付!F139=\"\",\"\",CONCATENATE(登録データ貼付!F139,\"　\",登録データ貼付!G139))","v":""},{"$f":"IF(登録データ貼付!H139=\"\",\"\",CONCATENATE(登録データ貼付!H139,\" \",登録データ貼付!I139))","v":""},{"$f":"IF(登録データ貼付!K139=\"\",\"\",LEFT(登録データ貼付!K139,1))","v":""},{"$f":"IF(登録データ貼付!S139=\"\",\"\",登録データ貼付!S139)","v":""}]
[{"$f":"IF(登録データ貼付!E140=\"\",\"\",登録データ貼付!E140)","v":""},{"$f":"IF(登録データ貼付!B140=\"\",\"\",登録データ貼付!B140)","v":""},{"$f":"IF(登録データ貼付!C140=\"\",\"\",CONCATENATE(登録データ貼付!C140,\"　\",登録データ貼付!D140))","v":""},"","","","",{"$f":"IF(登録データ貼付!V140=\"\",\"\",RIGHT(登録データ貼付!V140,1))","v":""},null,{"$f":"IF(登録データ貼付!F140=\"\",\"\",CONCATENATE(登録データ貼付!F140,\"　\",登録データ貼付!G140))","v":""},{"$f":"IF(登録データ貼付!H140=\"\",\"\",CONCATENATE(登録データ貼付!H140,\" \",登録データ貼付!I140))","v":""},{"$f":"IF(登録データ貼付!K140=\"\",\"\",LEFT(登録データ貼付!K140,1))","v":""},{"$f":"IF(登録データ貼付!S140=\"\",\"\",登録データ貼付!S140)","v":""}]
[{"$f":"IF(登録データ貼付!E141=\"\",\"\",登録データ貼付!E141)","v":""},{"$f":"IF(登録データ貼付!B141=\"\",\"\",登録データ貼付!B141)","v":""},{"$f":"IF(登録データ貼付!C141=\"\",\"\",CONCATENATE(登録データ貼付!C141,\"　\",登録データ貼付!D141))","v":""},"","","","",{"$f":"IF(登録データ貼付!V141=\"\",\"\",RIGHT(登録データ貼付!V141,1))","v":""},null,{"$f":"IF(登録データ貼付!F141=\"\",\"\",CONCATENATE(登録データ貼付!F141,\"　\",登録データ貼付!G141))","v":""},{"$f":"IF(登録データ貼付!H141=\"\",\"\",CONCATENATE(登録データ貼付!H141,\" \",登録データ貼付!I141))","v":""},{"$f":"IF(登録データ貼付!K141=\"\",\"\",LEFT(登録データ貼付!K141,1))","v":""},{"$f":"IF(登録データ貼付!S141=\"\",\"\",登録データ貼付!S141)","v":""}]
[{"$f":"IF(登録データ貼付!E142=\"\",\"\",登録データ貼付!E142)","v":""},{"$f":"IF(登録データ貼付!B142=\"\",\"\",登録データ貼付!B142)","v":""},{"$f":"IF(登録データ貼付!C142=\"\",\"\",CONCATENATE(登録データ貼付!C142,\"　\",登録データ貼付!D142))","v":""},"","","","",{"$f":"IF(登録データ貼付!V142=\"\",\"\",RIGHT(登録データ貼付!V142,1))","v":""},null,{"$f":"IF(登録データ貼付!F142=\"\",\"\",CONCATENATE(登録データ貼付!F142,\"　\",登録データ貼付!G142))","v":""},{"$f":"IF(登録データ貼付!H142=\"\",\"\",CONCATENATE(登録データ貼付!H142,\" \",登録データ貼付!I142))","v":""},{"$f":"IF(登録データ貼付!K142=\"\",\"\",LEFT(登録データ貼付!K142,1))","v":""},{"$f":"IF(登録データ貼付!S142=\"\",\"\",登録データ貼付!S142)","v":""}]
[{"$f":"IF(登録データ貼付!E143=\"\",\"\",登録データ貼付!E143)","v":""},{"$f":"IF(登録データ貼付!B143=\"\",\"\",登録データ貼付!B143)","v":""},{"$f":"IF(登録データ貼付!C143=\"\",\"\",CONCATENATE(登録データ貼付!C143,\"　\",登録データ貼付!D143))","v":""},"","","","",{"$f":"IF(登録データ貼付!V143=\"\",\"\",RIGHT(登録データ貼付!V143,1))","v":""},null,{"$f":"IF(登録データ貼付!F143=\"\",\"\",CONCATENATE(登録データ貼付!F143,\"　\",登録データ貼付!G143))","v":""},{"$f":"IF(登録データ貼付!H143=\"\",\"\",CONCATENATE(登録データ貼付!H143,\" \",登録データ貼付!I143))","v":""},{"$f":"IF(登録データ貼付!K143=\"\",\"\",LEFT(登録データ貼付!K143,1))","v":""},{"$f":"IF(登録データ貼付!S143=\"\",\"\",登録データ貼付!S143)","v":""}]
[{"$f":"IF(登録データ貼付!E144=\"\",\"\",登録データ貼付!E144)","v":""},{"$f":"IF(登録データ貼付!B144=\"\",\"\",登録データ貼付!B144)","v":""},{"$f":"IF(登録データ貼付!C144=\"\",\"\",CONCATENATE(登録データ貼付!C144,\"　\",登録データ貼付!D144))","v":""},"","","","",{"$f":"IF(登録データ貼付!V144=\"\",\"\",RIGHT(登録データ貼付!V144,1))","v":""},null,{"$f":"IF(登録データ貼付!F144=\"\",\"\",CONCATENATE(登録データ貼付!F144,\"　\",登録データ貼付!G144))","v":""},{"$f":"IF(登録データ貼付!H144=\"\",\"\",CONCATENATE(登録データ貼付!H144,\" \",登録データ貼付!I144))","v":""},{"$f":"IF(登録データ貼付!K144=\"\",\"\",LEFT(登録データ貼付!K144,1))","v":""},{"$f":"IF(登録データ貼付!S144=\"\",\"\",登録データ貼付!S144)","v":""}]
[{"$f":"IF(登録データ貼付!E145=\"\",\"\",登録データ貼付!E145)","v":""},{"$f":"IF(登録データ貼付!B145=\"\",\"\",登録データ貼付!B145)","v":""},{"$f":"IF(登録データ貼付!C145=\"\",\"\",CONCATENATE(登録データ貼付!C145,\"　\",登録データ貼付!D145))","v":""},"","","","",{"$f":"IF(登録データ貼付!V145=\"\",\"\",RIGHT(登録データ貼付!V145,1))","v":""},null,{"$f":"IF(登録データ貼付!F145=\"\",\"\",CONCATENATE(登録データ貼付!F145,\"　\",登録データ貼付!G145))","v":""},{"$f":"IF(登録データ貼付!H145=\"\",\"\",CONCATENATE(登録データ貼付!H145,\" \",登録データ貼付!I145))","v":""},{"$f":"IF(登録データ貼付!K145=\"\",\"\",LEFT(登録データ貼付!K145,1))","v":""},{"$f":"IF(登録データ貼付!S145=\"\",\"\",登録データ貼付!S145)","v":""}]
[{"$f":"IF(登録データ貼付!E146=\"\",\"\",登録データ貼付!E146)","v":""},{"$f":"IF(登録データ貼付!B146=\"\",\"\",登録データ貼付!B146)","v":""},{"$f":"IF(登録データ貼付!C146=\"\",\"\",CONCATENATE(登録データ貼付!C146,\"　\",登録データ貼付!D146))","v":""},"","","","",{"$f":"IF(登録データ貼付!V146=\"\",\"\",RIGHT(登録データ貼付!V146,1))","v":""},null,{"$f":"IF(登録データ貼付!F146=\"\",\"\",CONCATENATE(登録データ貼付!F146,\"　\",登録データ貼付!G146))","v":""},{"$f":"IF(登録データ貼付!H146=\"\",\"\",CONCATENATE(登録データ貼付!H146,\" \",登録データ貼付!I146))","v":""},{"$f":"IF(登録データ貼付!K146=\"\",\"\",LEFT(登録データ貼付!K146,1))","v":""},{"$f":"IF(登録データ貼付!S146=\"\",\"\",登録データ貼付!S146)","v":""}]
[{"$f":"IF(登録データ貼付!E147=\"\",\"\",登録データ貼付!E147)","v":""},{"$f":"IF(登録データ貼付!B147=\"\",\"\",登録データ貼付!B147)","v":""},{"$f":"IF(登録データ貼付!C147=\"\",\"\",CONCATENATE(登録データ貼付!C147,\"　\",登録データ貼付!D147))","v":""},"","","","",{"$f":"IF(登録データ貼付!V147=\"\",\"\",RIGHT(登録データ貼付!V147,1))","v":""},null,{"$f":"IF(登録データ貼付!F147=\"\",\"\",CONCATENATE(登録データ貼付!F147,\"　\",登録データ貼付!G147))","v":""},{"$f":"IF(登録データ貼付!H147=\"\",\"\",CONCATENATE(登録データ貼付!H147,\" \",登録データ貼付!I147))","v":""},{"$f":"IF(登録データ貼付!K147=\"\",\"\",LEFT(登録データ貼付!K147,1))","v":""},{"$f":"IF(登録データ貼付!S147=\"\",\"\",登録データ貼付!S147)","v":""}]
[{"$f":"IF(登録データ貼付!E148=\"\",\"\",登録データ貼付!E148)","v":""},{"$f":"IF(登録データ貼付!B148=\"\",\"\",登録データ貼付!B148)","v":""},{"$f":"IF(登録データ貼付!C148=\"\",\"\",CONCATENATE(登録データ貼付!C148,\"　\",登録データ貼付!D148))","v":""},"","","","",{"$f":"IF(登録データ貼付!V148=\"\",\"\",RIGHT(登録データ貼付!V148,1))","v":""},null,{"$f":"IF(登録データ貼付!F148=\"\",\"\",CONCATENATE(登録データ貼付!F148,\"　\",登録データ貼付!G148))","v":""},{"$f":"IF(登録データ貼付!H148=\"\",\"\",CONCATENATE(登録データ貼付!H148,\" \",登録データ貼付!I148))","v":""},{"$f":"IF(登録データ貼付!K148=\"\",\"\",LEFT(登録データ貼付!K148,1))","v":""},{"$f":"IF(登録データ貼付!S148=\"\",\"\",登録データ貼付!S148)","v":""}]
[{"$f":"IF(登録データ貼付!E149=\"\",\"\",登録データ貼付!E149)","v":""},{"$f":"IF(登録データ貼付!B149=\"\",\"\",登録データ貼付!B149)","v":""},{"$f":"IF(登録データ貼付!C149=\"\",\"\",CONCATENATE(登録データ貼付!C149,\"　\",登録データ貼付!D149))","v":""},"","","","",{"$f":"IF(登録データ貼付!V149=\"\",\"\",RIGHT(登録データ貼付!V149,1))","v":""},null,{"$f":"IF(登録データ貼付!F149=\"\",\"\",CONCATENATE(登録データ貼付!F149,\"　\",登録データ貼付!G149))","v":""},{"$f":"IF(登録データ貼付!H149=\"\",\"\",CONCATENATE(登録データ貼付!H149,\" \",登録データ貼付!I149))","v":""},{"$f":"IF(登録データ貼付!K149=\"\",\"\",LEFT(登録データ貼付!K149,1))","v":""},{"$f":"IF(登録データ貼付!S149=\"\",\"\",登録データ貼付!S149)","v":""}]
[{"$f":"IF(登録データ貼付!E150=\"\",\"\",登録データ貼付!E150)","v":""},{"$f":"IF(登録データ貼付!B150=\"\",\"\",登録データ貼付!B150)","v":""},{"$f":"IF(登録データ貼付!C150=\"\",\"\",CONCATENATE(登録データ貼付!C150,\"　\",登録データ貼付!D150))","v":""},"","","","",{"$f":"IF(登録データ貼付!V150=\"\",\"\",RIGHT(登録データ貼付!V150,1))","v":""},null,{"$f":"IF(登録データ貼付!F150=\"\",\"\",CONCATENATE(登録データ貼付!F150,\"　\",登録データ貼付!G150))","v":""},{"$f":"IF(登録データ貼付!H150=\"\",\"\",CONCATENATE(登録データ貼付!H150,\" \",登録データ貼付!I150))","v":""},{"$f":"IF(登録データ貼付!K150=\"\",\"\",LEFT(登録データ貼付!K150,1))","v":""},{"$f":"IF(登録データ貼付!S150=\"\",\"\",登録データ貼付!S150)","v":""}]
[{"$f":"IF(登録データ貼付!E151=\"\",\"\",登録データ貼付!E151)","v":""},{"$f":"IF(登録データ貼付!B151=\"\",\"\",登録データ貼付!B151)","v":""},{"$f":"IF(登録データ貼付!C151=\"\",\"\",CONCATENATE(登録データ貼付!C151,\"　\",登録データ貼付!D151))","v":""},"","","","",{"$f":"IF(登録データ貼付!V151=\"\",\"\",RIGHT(登録データ貼付!V151,1))","v":""},null,{"$f":"IF(登録データ貼付!F151=\"\",\"\",CONCATENATE(登録データ貼付!F151,\"　\",登録データ貼付!G151))","v":""},{"$f":"IF(登録データ貼付!H151=\"\",\"\",CONCATENATE(登録データ貼付!H151,\" \",登録データ貼付!I151))","v":""},{"$f":"IF(登録データ貼付!K151=\"\",\"\",LEFT(登録データ貼付!K151,1))","v":""},{"$f":"IF(登録データ貼付!S151=\"\",\"\",登録データ貼付!S151)","v":""}]

{"sheet":"種目コード一覧","index":8,"n_rows":44,"n_cols":2,"rows_kept":44,"cut":false,"hidden":true,"merged":[]}
["男子"]
["種目","コード番号"]
["１年１００ｍ",1]
["２年１００ｍ",2]
["共通２００ｍ",3]
["共通４００ｍ",4]
["共通８００ｍ",5]
["１年１５００ｍ",6]
["２年１５００ｍ",7]
["共通３０００ｍ",8]
["共通１１０ｍ低H",9]
["共通走高跳",10]
["共通棒高跳",11]
["共通走幅跳",12]
["共通砲丸投",13]
["ｵｰﾌﾟﾝ３０００ｍ",14]
[]
[]
[]
[]
["１年４×１００ｍＲ",21]
["共通４×１００ｍＲ",22]
[]
[]
[]
["女子"]
["種目","コード番号"]
["１年１００ｍ",31]
["２年１００ｍ",32]
["共通２００ｍ",33]
["共通８００ｍ",34]
["１年１５００ｍ",35]
["２年１５００ｍ",36]
["共通１００ｍＨ",37]
["共通走高跳",38]
["共通走幅跳",39]
["共通砲丸投",40]
["ｵｰﾌﾟﾝ３０００ｍ",41]
[]
[]
[]
[]
["１年４×１００ｍＲ",50]
["共通４×１００ｍＲ",51]

{"sheet":"（旧）学校コード","index":9,"n_rows":147,"n_cols":27,"rows_kept":147,"cut":false,"hidden":true,"merged":[]}
["秋田陸上競技協会　登録学校コード",null,null,null,null,null,null,null,null,null,null,null,null,null,null,null,null,null,null,null,null,null,null,null,"団体名","団体コード","カナ団体名"]
[null,"区分","学校名(略称)","学校\nコード","学校名(正式名称)",null,null,"区分","学校名(略称)","学校\nコード","学校名(正式名称)",null,null,"区分","学校名(略称)","学校\nコード","学校名(正式名称)",null,null,null,null,null,null,null,"合川中","055127","ｱｲｶﾜﾁｭｳ"]
[1,"国立","秋大附属",701,"秋田大学教育文化学部附属",null,37,"秋田","秋田東",737,"秋田市立秋田東",null,85,"大曲仙北","大曲",785,"大仙市立大曲",null,null,null,null,null,null,null,"秋大附属中"]
[2,"県立","大館国際情報",702,"秋田県立大館国際情報学院",null,38,null,"秋田南",738,"秋田市立秋田南",null,86,null,"大曲西",786,"大仙市立大曲西",null,null,null,null,null,null,null,"秋田北中"]
[3,null,"南高中等部",703,"秋田県立秋田南高等学校中等部",null,39,null,"山王",739,"秋田市立山王",null,87,null,"大曲南",787,"大仙市立大曲南",null,null,null,null,null,null,null,"秋田大附中","055001","ｱｷﾀﾀﾞｲﾌﾁｭｳ"]
[4,null,"横手清陵学院",704,"秋田県立横手清陵学院",null,40,null,"土崎",740,"秋田市立土崎",null,88,null,"平和",788,"大仙市立平和",null,null,null,null,null,null,null,"秋田西中"]
[5,"鹿角","花輪第一",705,"鹿角市立花輪第一",null,41,null,"秋田西",741,"秋田市立秋田西",null,89,null,"西仙北",789,"大仙市立西仙北",null,null,null,null,null,null,null,"秋田東中","055002","ｱｷﾀﾋｶﾞｼﾁｭｳ"]
[6,null,"花輪第二",706,"鹿角市立花輪第二",null,42,null,"太平",742,"秋田市立太平",null,90,null,"中仙",790,"大仙市立中仙",null,null,null,null,null,null,null,"秋田南中"]
[7,null,"十和田",707,"鹿角市立十和田",null,43,null,"外旭川",743,"秋田市立外旭川",null,91,null,"豊成",791,"大仙市立豊成",null,null,null,null,null,null,null,"秋田聾中"]
[8,null,"尾去沢",708,"鹿角市立尾去沢",null,44,null,"秋田北",744,"秋田市立秋田北",null,92,null,"協和",792,"大仙市立協和",null,null,null,null,null,null,null,"阿仁中"]
[9,null,"八幡平",709,"鹿角市立八幡平",null,45,null,"豊岩",745,"秋田市立豊岩",null,93,null,"南外",793,"大仙市立南外",null,null,null,null,null,null,null,"飯島中","056001","ｲｲｼﾞﾏﾁｭｳ"]
[10,null,"小坂",710,"小坂町立小坂",null,46,null,"城南",746,"秋田市立城南",null,94,null,"仙北",794,"大仙市立仙北",null,null,null,null,null,null,null,"井川中"]
[11,"大館北秋","大館第一",711,"大館市立第一",null,47,null,"下北手",747,"秋田市立下北手",null,95,null,"太田",795,"大仙市立太田",null,null,null,null,null,null,null,"石沢中"]
[12,null,"北陽",712,"大館市立北陽",null,48,null,"下浜",748,"秋田市立下浜",null,96,null,"角館",796,"仙北市立角館",null,null,null,null,null,null,null,"泉中"]
[13,null,"下川沿",713,"大館市立下川沿",null,49,null,"城東",749,"秋田市立城東",null,97,null,"生保内",797,"仙北市立生保内",null,null,null,null,null,null,null,"稲川中","055205","ｲﾅｶﾜﾁｭｳ"]
[14,null,"大館南",714,"大館市立南",null,50,null,"泉",750,"秋田市立泉",null,98,null,"神代",798,"仙北市立神代",null,null,null,null,null,null,null,"岩城中"]
[15,null,"成章",715,"大館市立成章",null,51,null,"将軍野",751,"秋田市立将軍野",null,99,null,"西明寺",799,"仙北市立西明寺",null,null,null,null,null,null,null,"岩見三内中"]
[16,null,"大館東",716,"大館市立東",null,52,null,"御野場",752,"秋田市立御野場",null,100,null,"桧木内",800,"仙北市立桧木内",null,null,null,null,null,null,null,"羽後中","055207","ｳｺﾞﾁｭｳ"]
[17,null,"比内",717,"大館市立比内",null,53,null,"勝平",753,"秋田市立勝平",null,101,null,"美郷",801,"美郷町立美郷",null,null,null,null,null,null,null,"羽城中","056013","ｳｼﾞｮｳﾁｭｳ"]
[18,null,"田代",718,"大館市立田代",null,54,null,"勝平千秋",754,"秋田市立勝平千秋分校",null,102,"横手平鹿","横手南",802,"横手市立横手南",null,null,null,null,null,null,null,"大内中"]
[19,null,"鷹巣",719,"北秋田市立鷹巣",null,55,null,"飯島",755,"秋田市立飯島",null,103,null,"横手北",803,"横手市立横手北",null,null,null,null,null,null,null,"大潟中"]
[20,null,"鷹巣南",720,"北秋田市立鷹巣南",null,56,null,"桜",756,"秋田市立桜",null,104,null,"増田",804,"横手市立増田",null,null,null,null,null,null,null,"太田中","055232","ｵｵﾀﾁｭｳ"]
[21,null,"森吉",721,"北秋田市立森吉",null,57,null,"御所野学院",757,"秋田市立御所野学院",null,105,null,"平鹿",805,"横手市立平鹿",null,null,null,null,null,null,null,"大館一中","055055","ｵｵﾀﾞﾃｲｯﾁｭｳ"]
[22,null,"阿仁",722,"北秋田市立阿仁",null,58,null,"岩見三内",758,"秋田市立岩見三内",null,106,null,"横手明峰",806,"横手市立横手明峰",null,null,null,null,null,null,null,"大館第一中"]
[23,null,"合川",723,"北秋田市立合川",null,59,null,"河辺",759,"秋田市立河辺",null,107,null,"十文字",807,"横手市立十文字",null,null,null,null,null,null,null,"大館第二中"]
[24,null,"上小阿仁",724,"上小阿仁村立上小阿仁",null,60,null,"雄和",760,"秋田市立雄和",null,108,null,"山内",808,"横手市立山内",null,null,null,null,null,null,null,"大館東中","055057","ｵｵﾀﾞﾃﾋｶﾞｼﾁｭｳ"]
[25,"能代","能代第一",725,"能代市立能代第一",null,61,"男鹿","男鹿南",761,"男鹿市立男鹿南",null,109,"湯沢雄勝","湯沢北",809,"湯沢市立湯沢北",null,null,null,null,null,null,null,"大館南中","055060","ｵｵﾀﾞﾃﾐﾅﾐﾁｭｳ"]
[26,null,"能代第二",726,"能代市立能代第二",null,62,null,"男鹿北",762,"男鹿市立男鹿北",null,110,null,"山田",810,"湯沢市立山田",null,null,null,null,null,null,null,"鳳中"]
[27,null,"能代東",727,"能代市立能代東",null,63,null,"男鹿東",763,"男鹿市立男鹿東",null,111,null,"湯沢南",811,"湯沢市立湯沢南",null,null,null,null,null,null,null,"大曲中","055100","ｵｵﾏｶﾞﾘﾁｭｳ"]
[28,null,"東雲",728,"能代市立東雲",null,64,null,"潟西",764,"男鹿市立潟西",null,112,null,"稲川",812,"湯沢市立稲川",null,null,null,null,null,null,null,"大曲西中"]
[29,null,"能代南",729,"能代市立能代南",null,65,"南秋","天王",765,"潟上市立天王",null,113,null,"雄勝",813,"湯沢市立雄勝",null,null,null,null,null,null,null,"大曲南中"]
[30,null,"常盤",730,"能代市立常磐",null,66,null,"天王南",766,"潟上市立天王南",null,114,null,"皆瀬",814,"湯沢市立皆瀬",null,null,null,null,null,null,null,"大森中"]
[31,null,"二ツ井",731,"能代市立二ツ井",null,67,null,"羽城",767,"潟上市立羽城",null,115,null,"羽後",815,"羽後町立羽後",null,null,null,null,null,null,null,"男鹿北中"]
[32,"山本","藤里",732,"藤里町立藤里",null,68,null,"五城目第一",768,"五城目町立五城目第一",null,116,null,"東成瀬",816,"東成瀬村立東成瀬",null,null,null,null,null,null,null,"雄勝中","055206","ｵｶﾞﾁﾁｭｳ"]
[33,null,"琴丘",733,"三種町立琴丘",null,69,null,"八郎潟",769,"八郎潟町立八郎潟",null,117,"県立特別支援","聴覚支援",817,"秋田県立聴覚支援",null,null,null,null,null,null,null,"男鹿東中","055079","ｵｶﾞﾋｶﾞｼﾁｭｳ"]
[34,null,"山本",734,"三種町立山本",null,70,null,"井川",770,"井川町立井川",null,null,null,null,null,null,null,null,null,null,null,null,null,"男鹿南中","056006","ｵｶﾞﾐﾅﾐﾁｭｳ"]
[35,null,"八竜",735,"三種町立八竜",null,71,null,"大潟",771,"大潟村立大潟",null,null,null,null,null,null,null,null,null,null,null,null,null,"尾去沢中","055107","ｵｻﾘｻﾞﾜﾁｭｳ"]
[36,null,"八峰",736,"八峰町立八峰",null,72,"本荘由利","本荘北",772,"由利本荘市立本荘北",null,null,null,null,null,null,null,null,null,null,null,null,null,"御野場中","055018","ｵﾉﾊﾞﾁｭｳ"]
[null,null,null,null,null,null,73,null,"本荘南",773,"由利本荘市立本荘南",null,null,null,null,null,null,null,null,null,null,null,null,null,"雄物川中","055139","ｵﾓﾉｶﾞﾜﾁｭｳ"]
[null,null,null,null,null,null,74,null,"本荘東",774,"由利本荘市立本荘東",null,null,null,null,null,null,null,null,null,null,null,null,null,"角館中"]
[null,null,null,null,null,null,75,null,"矢島",775,"由利本荘市立矢島",null,null,null,null,null,null,null,null,null,null,null,null,null,"潟西中"]
[null,null,null,null,null,null,76,null,"岩城",776,"由利本荘市立岩城",null,null,null,null,null,null,null,null,null,null,null,null,null,"鹿角市十和田中","055108","ｶﾂﾞﾉｼﾄﾜﾀﾞﾁｭｳ"]
[null,null,null,null,null,null,77,null,"由利",777,"由利本荘市立由利",null,null,null,null,null,null,null,null,null,null,null,null,null,"勝平中"]
[null,null,null,null,null,null,78,null,"西目",778,"由利本荘市立西目",null,null,null,null,null,null,null,null,null,null,null,null,null,"金沢中"]
[null,null,null,null,null,null,79,null,"鳥海",779,"由利本荘市立鳥海",null,null,null,null,null,null,null,null,null,null,null,null,null,"釜ヶ台中"]
[null,null,null,null,null,null,80,null,"東由利",780,"由利本荘市立東由利",null,null,null,null,null,null,null,null,null,null,null,null,null,"上小阿仁中","055128","ｶﾐｺｱﾆﾁｭｳ"]
[null,null,null,null,null,null,81,null,"大内",781,"由利本荘市立大内",null,null,null,null,null,null,null,null,null,null,null,null,null,"上新城中"]
[null,null,null,null,null,null,82,null,"仁賀保",782,"にかほ市立仁賀保",null,null,null,null,null,null,null,null,null,null,null,null,null,"河辺中"]
[null,null,null,null,null,null,83,null,"金浦",783,"にかほ市立金浦",null,null,null,null,null,null,null,null,null,null,null,null,null,"象潟中","055188","ｷｻｶﾀﾁｭｳ"]
[null,null,null,null,null,null,84,null,"象潟",784,"にかほ市立象潟",null,null,null,null,null,null,null,null,null,null,null,null,null,"協和中"]
[null,null,null,null,null,null,null,null,null,null,null,null,null,null,null,null,null,null,null,null,null,null,null,null,"小坂中"]
[null,null,null,null,null,null,null,null,null,null,null,null,null,null,null,null,null,null,null,null,null,null,null,null,"五城目第一中"]
[null,null,null,null,null,null,null,null,null,null,null,null,null,null,null,null,null,null,null,null,null,null,null,null,"御所野学院中"]
[null,null,null,null,null,null,null,null,null,null,null,null,null,null,null,null,null,null,null,null,null,null,null,null,"琴丘中"]
[null,null,null,null,null,null,null,null,null,null,null,null,null,null,null,null,null,null,null,null,null,null,null,null,"金浦中"]
[null,null,null,null,null,null,null,1,"鹿角",1,null,null,null,null,null,null,null,null,null,null,null,null,null,null,"五里合中"]
[null,null,null,null,null,null,null,2,"大館北秋",2,null,null,null,null,null,null,null,null,null,null,null,null,null,null,"西明寺中","055237","ｻｲﾐｮｳｼﾞﾁｭｳ"]
[null,null,null,null,null,null,null,3,"能代山本",3,null,null,null,null,null,null,null,null,null,null,null,null,null,null,"桜中","056010","ｻｸﾗﾁｭｳ"]
[null,null,null,null,null,null,null,4,"男鹿",4,null,null,null,null,null,null,null,null,null,null,null,null,null,null,"山内中"]
[null,null,null,null,null,null,null,5,"潟上南秋",5,null,null,null,null,null,null,null,null,null,null,null,null,null,null,"山王中"]
[null,null,null,null,null,null,null,6,"秋田",6,null,null,null,null,null,null,null,null,null,null,null,null,null,null,"下川沿中"]
[null,null,null,null,null,null,null,7,"河辺",7,null,null,null,null,null,null,null,null,null,null,null,null,null,null,"東雲中","055034","ｼﾉﾉﾒﾁｭｳ"]
[null,null,null,null,null,null,null,8,"本荘由利",8,null,null,null,null,null,null,null,null,null,null,null,null,null,null,"下北手中","055012","ｼﾓｷﾀﾃﾁｭｳ"]
[null,null,null,null,null,null,null,9,"大曲仙北",9,null,null,null,null,null,null,null,null,null,null,null,null,null,null,"下浜中"]
[null,null,null,null,null,null,null,10,"横手平鹿",10,null,null,null,null,null,null,null,null,null,null,null,null,null,null,"十文字中","055141","ｼﾞｭｳﾓﾝｼﾞﾁｭｳ"]
[null,null,null,null,null,null,null,11,"湯沢雄勝",11,null,null,null,null,null,null,null,null,null,null,null,null,null,null,"十文字西中","055142","ｼﾞｭｳﾓﾝｼﾞﾆｼﾁｭｳ"]
[null,null,null,null,null,null,null,12,null,12,null,null,null,null,null,null,null,null,null,null,null,null,null,null,"将軍野中","055017","ｼｮｳｸﾞﾝﾉﾁｭｳ"]
[null,null,null,null,null,null,null,null,null,null,null,null,null,null,null,null,null,null,null,null,null,null,null,null,"城東中","055011","ｼﾞｮｳﾄｳﾁｭｳ"]
[null,null,null,null,null,null,null,null,null,null,null,null,null,null,null,null,null,null,null,null,null,null,null,null,"城南中"]
[null,null,null,null,null,null,null,null,null,null,null,null,null,null,null,null,null,null,null,null,null,null,null,null,"市立十和田中"]
[null,null,null,null,null,null,null,null,null,null,null,null,null,null,null,null,null,null,null,null,null,null,null,null,"神代中","055230","ｼﾞﾝﾀﾞｲﾁｭｳ"]
[null,null,null,null,null,null,null,null,null,null,null,null,null,null,null,null,null,null,null,null,null,null,null,null,"須川中"]
[null,null,null,null,null,null,null,null,null,null,null,null,null,null,null,null,null,null,null,null,null,null,null,null,"成章中","055061","ｾｲｼｮｳﾁｭｳ"]
[null,null,null,null,null,null,null,null,null,null,null,null,null,null,null,null,null,null,null,null,null,null,null,null,"生保内中"]
[null,null,null,null,null,null,null,null,null,null,null,null,null,null,null,null,null,null,null,null,null,null,null,null,"聖霊中"]
[null,null,null,null,null,null,null,null,null,null,null,null,null,null,null,null,null,null,null,null,null,null,null,null,"仙南中","055239","ｾﾝﾅﾝﾁｭｳ"]
[null,null,null,null,null,null,null,null,null,null,null,null,null,null,null,null,null,null,null,null,null,null,null,null,"千畑中","055238","ｾﾝﾊﾀﾁｭｳ"]
[null,null,null,null,null,null,null,null,null,null,null,null,null,null,null,null,null,null,null,null,null,null,null,null,"仙北中","055233","ｾﾝﾎﾞｸﾁｭｳ"]
[null,null,null,null,null,null,null,null,null,null,null,null,null,null,null,null,null,null,null,null,null,null,null,null,"仙北西中","055222","ｾﾝﾎﾞｸﾆｼﾁｭｳ"]
[null,null,null,null,null,null,null,null,null,null,null,null,null,null,null,null,null,null,null,null,null,null,null,null,"外旭川中"]
[null,null,null,null,null,null,null,null,null,null,null,null,null,null,null,null,null,null,null,null,null,null,null,null,"大正寺中"]
[null,null,null,null,null,null,null,null,null,null,null,null,null,null,null,null,null,null,null,null,null,null,null,null,"太平中"]
[null,null,null,null,null,null,null,null,null,null,null,null,null,null,null,null,null,null,null,null,null,null,null,null,"大雄中","055143","ﾀｲﾕｳﾁｭｳ"]
[null,null,null,null,null,null,null,null,null,null,null,null,null,null,null,null,null,null,null,null,null,null,null,null,"高瀬中"]
[null,null,null,null,null,null,null,null,null,null,null,null,null,null,null,null,null,null,null,null,null,null,null,null,"鷹巣中","055120","ﾀｶﾉｽﾁｭｳ"]
[null,null,null,null,null,null,null,null,null,null,null,null,null,null,null,null,null,null,null,null,null,null,null,null,"鷹巣南中","055121","ﾀｶﾉｽﾐﾅﾐﾁｭｳ"]
[null,null,null,null,null,null,null,null,null,null,null,null,null,null,null,null,null,null,null,null,null,null,null,null,"田代中","056004","ﾀｼﾛﾁｮｳﾘﾂ ﾀｼﾛﾁｭｳ"]
[null,null,null,null,null,null,null,null,null,null,null,null,null,null,null,null,null,null,null,null,null,null,null,null,"鳥海中","056011","ﾁｮｳｶｲﾁｭｳ"]
[null,null,null,null,null,null,null,null,null,null,null,null,null,null,null,null,null,null,null,null,null,null,null,null,"町立十和田中"]
[null,null,null,null,null,null,null,null,null,null,null,null,null,null,null,null,null,null,null,null,null,null,null,null,"土崎中","055005","ﾂﾁｻﾞｷﾁｭｳ"]
[null,null,null,null,null,null,null,null,null,null,null,null,null,null,null,null,null,null,null,null,null,null,null,null,"出羽中"]
[null,null,null,null,null,null,null,null,null,null,null,null,null,null,null,null,null,null,null,null,null,null,null,null,"天王中"]
[null,null,null,null,null,null,null,null,null,null,null,null,null,null,null,null,null,null,null,null,null,null,null,null,"天王南中","056005","ﾃﾝﾉｳﾐﾅﾐﾁｭｳ"]
[null,null,null,null,null,null,null,null,null,null,null,null,null,null,null,null,null,null,null,null,null,null,null,null,"常盤中"]
[null,null,null,null,null,null,null,null,null,null,null,null,null,null,null,null,null,null,null,null,null,null,null,null,"豊岩中"]
[null,null,null,null,null,null,null,null,null,null,null,null,null,null,null,null,null,null,null,null,null,null,null,null,"中仙中"]
[null,null,null,null,null,null,null,null,null,null,null,null,null,null,null,null,null,null,null,null,null,null,null,null,"南外中","055234","ﾅﾝｶﾞｲﾁｭｳ"]
[null,null,null,null,null,null,null,null,null,null,null,null,null,null,null,null,null,null,null,null,null,null,null,null,"仁賀保中"]
[null,null,null,null,null,null,null,null,null,null,null,null,null,null,null,null,null,null,null,null,null,null,null,null,"西仙北西中"]
[null,null,null,null,null,null,null,null,null,null,null,null,null,null,null,null,null,null,null,null,null,null,null,null,"西仙北東中"]
[null,null,null,null,null,null,null,null,null,null,null,null,null,null,null,null,null,null,null,null,null,null,null,null,"西目中"]
[null,null,null,null,null,null,null,null,null,null,null,null,null,null,null,null,null,null,null,null,null,null,null,null,"二ツ井中"]
[null,null,null,null,null,null,null,null,null,null,null,null,null,null,null,null,null,null,null,null,null,null,null,null,"能代一中","055030","ﾉｼﾛｲｯﾁｭｳ"]
[null,null,null,null,null,null,null,null,null,null,null,null,null,null,null,null,null,null,null,null,null,null,null,null,"能代第一中"]
[null,null,null,null,null,null,null,null,null,null,null,null,null,null,null,null,null,null,null,null,null,null,null,null,"能代第二中"]
[null,null,null,null,null,null,null,null,null,null,null,null,null,null,null,null,null,null,null,null,null,null,null,null,"能代東中","055038","ﾉｼﾛﾋｶﾞｼﾁｭｳ"]
[null,null,null,null,null,null,null,null,null,null,null,null,null,null,null,null,null,null,null,null,null,null,null,null,"能代南中","055033","ﾉｼﾛﾐﾅﾐﾁｭｳ"]
[null,null,null,null,null,null,null,null,null,null,null,null,null,null,null,null,null,null,null,null,null,null,null,null,"八幡平中","055109","ﾊﾁﾏﾝﾀｲﾁｭｳ"]
[null,null,null,null,null,null,null,null,null,null,null,null,null,null,null,null,null,null,null,null,null,null,null,null,"八森中"]
[null,null,null,null,null,null,null,null,null,null,null,null,null,null,null,null,null,null,null,null,null,null,null,null,"八竜中"]
[null,null,null,null,null,null,null,null,null,null,null,null,null,null,null,null,null,null,null,null,null,null,null,null,"八郎潟中"]
[null,null,null,null,null,null,null,null,null,null,null,null,null,null,null,null,null,null,null,null,null,null,null,null,"花岡中"]
[null,null,null,null,null,null,null,null,null,null,null,null,null,null,null,null,null,null,null,null,null,null,null,null,"花輪一中","055105","ﾊﾅﾜｲｯﾁｭｳ"]
[null,null,null,null,null,null,null,null,null,null,null,null,null,null,null,null,null,null,null,null,null,null,null,null,"花輪第一中"]
[null,null,null,null,null,null,null,null,null,null,null,null,null,null,null,null,null,null,null,null,null,null,null,null,"花輪第二中"]
[null,null,null,null,null,null,null,null,null,null,null,null,null,null,null,null,null,null,null,null,null,null,null,null,"花輪二中","055106","ﾊﾅﾜﾆﾁｭｳ"]
[null,null,null,null,null,null,null,null,null,null,null,null,null,null,null,null,null,null,null,null,null,null,null,null,"払戸中"]
[null,null,null,null,null,null,null,null,null,null,null,null,null,null,null,null,null,null,null,null,null,null,null,null,"東成瀬中"]
[null,null,null,null,null,null,null,null,null,null,null,null,null,null,null,null,null,null,null,null,null,null,null,null,"東由利中","055193","ﾋｶﾞｼﾕﾘﾁｭｳ"]
[null,null,null,null,null,null,null,null,null,null,null,null,null,null,null,null,null,null,null,null,null,null,null,null,"比内中","055122","ﾋﾅｲﾁｭｳ"]
[null,null,null,null,null,null,null,null,null,null,null,null,null,null,null,null,null,null,null,null,null,null,null,null,"檜木内中","055235","ﾋﾉｷﾅｲﾁｭｳ"]
[null,null,null,null,null,null,null,null,null,null,null,null,null,null,null,null,null,null,null,null,null,null,null,null,"平鹿中","056009","ﾋﾗｶﾁｭｳ"]
[null,null,null,null,null,null,null,null,null,null,null,null,null,null,null,null,null,null,null,null,null,null,null,null,"藤里中"]
[null,null,null,null,null,null,null,null,null,null,null,null,null,null,null,null,null,null,null,null,null,null,null,null,"二ッ井中","055151","ﾌﾀﾂｲﾁｭｳ"]
[null,null,null,null,null,null,null,null,null,null,null,null,null,null,null,null,null,null,null,null,null,null,null,null,"平和中"]
[null,null,null,null,null,null,null,null,null,null,null,null,null,null,null,null,null,null,null,null,null,null,null,null,"豊成中","055226","ﾎｳｾｲﾁｭｳ"]
[null,null,null,null,null,null,null,null,null,null,null,null,null,null,null,null,null,null,null,null,null,null,null,null,"本荘北中"]
[null,null,null,null,null,null,null,null,null,null,null,null,null,null,null,null,null,null,null,null,null,null,null,null,"本荘南中"]
[null,null,null,null,null,null,null,null,null,null,null,null,null,null,null,null,null,null,null,null,null,null,null,null,"増田中","055135","ﾏｽﾀﾞﾁｭｳ"]
[null,null,null,null,null,null,null,null,null,null,null,null,null,null,null,null,null,null,null,null,null,null,null,null,"皆瀬中"]
[null,null,null,null,null,null,null,null,null,null,null,null,null,null,null,null,null,null,null,null,null,null,null,null,"峰浜中","055156","ﾐﾈﾊﾏﾁｭｳ"]
[null,null,null,null,null,null,null,null,null,null,null,null,null,null,null,null,null,null,null,null,null,null,null,null,"三輪中","055208","ﾐﾜﾁｭｳ"]
[null,null,null,null,null,null,null,null,null,null,null,null,null,null,null,null,null,null,null,null,null,null,null,null,"森吉中","055123","ﾓﾘﾖｼﾁｭｳ"]
[null,null,null,null,null,null,null,null,null,null,null,null,null,null,null,null,null,null,null,null,null,null,null,null,"矢島中","055189","ﾔｼﾏﾁｭｳ"]
[null,null,null,null,null,null,null,null,null,null,null,null,null,null,null,null,null,null,null,null,null,null,null,null,"矢立中"]
[null,null,null,null,null,null,null,null,null,null,null,null,null,null,null,null,null,null,null,null,null,null,null,null,"山田中"]
[null,null,null,null,null,null,null,null,null,null,null,null,null,null,null,null,null,null,null,null,null,null,null,null,"山本中","055154","ﾔﾏﾓﾄﾁｭｳ"]
[null,null,null,null,null,null,null,null,null,null,null,null,null,null,null,null,null,null,null,null,null,null,null,null,"雄和中"]
[null,null,null,null,null,null,null,null,null,null,null,null,null,null,null,null,null,null,null,null,null,null,null,null,"湯沢北中","055094","ﾕｻﾞﾜｷﾀﾁｭｳ"]
[null,null,null,null,null,null,null,null,null,null,null,null,null,null,null,null,null,null,null,null,null,null,null,null,"湯沢南中","055090","ﾕｻﾞﾜﾐﾅﾐﾁｭｳ"]
[null,null,null,null,null,null,null,null,null,null,null,null,null,null,null,null,null,null,null,null,null,null,null,null,"由利中","055192","ﾕﾘﾁｭｳ"]
[null,null,null,null,null,null,null,null,null,null,null,null,null,null,null,null,null,null,null,null,null,null,null,null,"横手清陵学院中"]
[null,null,null,null,null,null,null,null,null,null,null,null,null,null,null,null,null,null,null,null,null,null,null,null,"横手西中"]
[null,null,null,null,null,null,null,null,null,null,null,null,null,null,null,null,null,null,null,null,null,null,null,null,"横手南中","055045","ﾖｺﾃﾐﾅﾐﾁｭｳ"]
[null,null,null,null,null,null,null,null,null,null,null,null,null,null,null,null,null,null,null,null,null,null,null,null,"六郷中","055225","ﾛｸｺﾞｳﾁｭｳ"]
[null,null,null,null,null,null,null,null,null,null,null,null,null,null,null,null,null,null,null,null,null,null,null,null,"大館国際情報中"]
[null,null,null,null,null,null,null,null,null,null,null,null,null,null,null,null,null,null,null,null,null,null,null,null,"本荘東中"]